{"text_format":"3","workbook":"xlsx","n_sheets":6,"sheets":["AW24 MAP POLICY","PRICE LIST","ORDER FORM","UPC","Sheet2","IMPORT"],"not_rendered":{"images":5,"macros":1,"defined_names":4},"read":"whole","date_system":"1900"}

{"sheet":"AW24 MAP POLICY","index":0,"n_rows":1,"n_cols":2,"rows_kept":1}
[null,"V.1_10.30.2023"]

{"sheet":"PRICE LIST","index":1,"n_rows":97,"n_cols":9,"rows_kept":97,"merged":[[4,4,4,5],[7,0,8,8],[7,11,7,12],[9,11,9,12],[10,0,10,8],[11,0,11,8],[14,0,14,8],[17,0,17,8],[22,0,22,8],[26,0,26,8],[30,0,30,8],[33,0,33,8],[34,0,34,8],[37,0,37,8],[40,0,40,8],[41,0,41,8],[44,0,44,8],[47,0,47,8],[48,0,48,8],[51,0,51,8],[56,0,56,8],[59,0,59,8],[62,0,62,8],[65,0,65,8],[70,0,70,8],[71,0,71,8],[74,0,74,8],[79,0,79,8],[80,0,80,8],[83,0,83,8],[86,0,86,8],[87,0,87,8],[90,0,90,8],[94,0,94,8]]}
[{"$nulls":8},"V.1_10.30.2023"]
[null,null,"For any inquiries or questions, please contact us  by:"]
[null,null,"E: sales@oscnainc.com"]
[null,null,"T: 1.905.940.9511 "]
[]
[]
[]
["A U T U M N  /  W I N T E R  2 0 2 4  -   U S   P R I C E  L I S T"]
[]
["PAGE #",null,"STYLE CODE","M/W","DESCRIPTION","SOCK HEIGHT","TECHNOLOGY","WHOLESALE","MSRP"]
["ALPINE SKI"]
[" SKI MIDWEIGHT PLUS"]
[5,"New",710368,"Mens","Ski Midweight Plus","Knee","Merino",{"v":17,"d":"$17.00"},{"v":33.99,"d":"$33.99"}]
[5,"New",710369,"Womens","Ski Midweight Plus","Knee","Merino",{"v":17,"d":"$17.00"},{"v":33.99,"d":"$33.99"}]
[" SKI MIDWEIGHT  "]
[6,"New",710370,"Mens","Ski Midweight","Knee","Merino",{"v":15.5,"d":"$15.50"},{"v":30.99,"d":"$30.99"}]
[6,"New",710371,"Womens","Ski Midweight","Knee","Merino",{"v":15.5,"d":"$15.50"},{"v":30.99,"d":"$30.99"}]
[" SKI LIGHTWEIGHT "]
[7,"New Color",710550,"Mens","Ski Lightweight","Knee","Merino",{"v":15,"d":"$15.00"},{"v":29.99,"d":"$29.99"}]
[7,"New Color",710212,"Mens","Ski Lightweight Pattern","Knee","Merino",{"v":15,"d":"$15.00"},{"v":29.99,"d":"$29.99"}]
[7,"New Color",710637,"Womens","Ski Lightweight","Knee","Merino",{"v":15,"d":"$15.00"},{"v":29.99,"d":"$29.99"}]
[7,"New Color",710213,"Womens","Ski Lightweight Pattern","Knee","Merino",{"v":15,"d":"$15.00"},{"v":29.99,"d":"$29.99"}]
[" SPECIAL BOOT FIT"]
[8,"New",710374,"Mens","Easy On","Knee","Merino",{"v":16,"d":"$16.00"},{"v":31.99,"d":"$31.99"}]
[8,"New Color",710103,"Womens","Easy On","Knee","Merino",{"v":16,"d":"$16.00"},{"v":31.99,"d":"$31.99"}]
[9,null,710073,"Unisex","Retro Fit","Knee","Merino",{"v":16,"d":"$16.00"},{"v":31.99,"d":"$31.99"}]
["RACE"]
[9,null,710547,"Unisex","Ultra Fit","Knee","Merino",{"v":16,"d":"$16.00"},{"v":31.99,"d":"$31.99"}]
[10,null,710044,"Mens","Race","Knee","Polypro",{"v":14.5,"d":"$14.50"},{"v":28.99,"d":"$28.99"}]
[10,null,710043,"Womens","Race","Knee","Polypro",{"v":14.5,"d":"$14.50"},{"v":28.99,"d":"$28.99"}]
["JUNIOR - KIDS"]
[11,null,710558,"Junior","Junior Racer","Knee","Merino",{"v":12,"d":"$12.00"},{"v":23.99,"d":"$23.99"}]
[11,null,710289,"Kids","Kids Ski 2 Pack","Knee","Merino",{"v":16,"d":"$16.00"},{"v":31.99,"d":"$31.99"}]
["NORDIC SKI"]
["RACE"]
[12,null,710546,"Mens","Nordic Race","Crew","Merino",{"v":16,"d":"$16.00"},{"v":31.99,"d":"$31.99"}]
[12,null,710074,"Womens","Nordic Race","Crew","Merino",{"v":16,"d":"$16.00"},{"v":31.99,"d":"$31.99"}]
["X COUNTRY"]
[13,null,710559,"Mens","Cross Country","Crew","Merino",{"v":14,"d":"$14.00"},{"v":27.99,"d":"$27.99"}]
[13,null,710566,"Womens","Cross Country","Crew","Merino",{"v":14,"d":"$14.00"},{"v":27.99,"d":"$27.99"}]
["EXPLORER"]
["HEAVYWEIGHT - MERINO PERFORMANCE    "]
[15,null,710153,"Unisex","Explorer Heavyweight  Knee","Knee","Merino",{"v":21,"d":"$21.00"},{"v":41.99,"d":"$41.99"}]
[15,null,710151,"Unisex","Explorer Heavyweight  ","Crew","Merino",{"v":19.5,"d":"$19.50"},{"v":38.99,"d":"$38.99"}]
["HEAVYWEIGHT - MERINO COMFORT"]
[16,null,710278,"Mens","Explorer Heavyweight  ","Crew","Merino",{"v":19.5,"d":"$19.50"},{"v":38.99,"d":"$38.99"}]
[16,null,710623,"Womens","Explorer Heavyweight  ","Crew","Merino",{"v":19.5,"d":"$19.50"},{"v":38.99,"d":"$38.99"}]
["HIKE"]
["MIDWEIGHT - MERINO PERFORMANCE    "]
[19,null,710169,"Mens","Hike Midweight ","Crew","Merino",{"v":14,"d":"$14.00"},{"v":27.99,"d":"$27.99"}]
[19,null,710644,"Womens","Hike Midweight ","Crew","Merino",{"v":14,"d":"$14.00"},{"v":27.99,"d":"$27.99"}]
["LIGHTWEIGHT - MERINO PERFORMANCE    "]
[20,null,710152,"Mens","Hike Lightweight","Crew","Merino",{"v":13.5,"d":"$13.50"},{"v":26.99,"d":"$26.99"}]
[20,null,710652,"Womens","Hike Lightweight","Crew","Merino",{"v":13.5,"d":"$13.50"},{"v":26.99,"d":"$26.99"}]
[21,null,710528,"Mens","Hike Lightweight","3/4 Crew","Merino",{"v":12.5,"d":"$12.50"},{"v":24.99,"d":"$24.99"}]
[21,null,710608,"Womens","Hike Lightweight","3/4 Crew","Merino",{"v":12.5,"d":"$12.50"},{"v":24.99,"d":"$24.99"}]
["MIDWEIGHT - MERINO COMFORT"]
[22,null,710596,"Mens"," Hike Midweight ","Crew","Merino",{"v":14,"d":"$14.00"},{"v":27.99,"d":"$27.99"}]
[22,null,710627,"Womens"," Hike Midweight ","Crew","Merino",{"v":14,"d":"$14.00"},{"v":27.99,"d":"$27.99"}]
["LIGHTWEIGHT - MERINO COMFORT"]
[23,null,710366,"Mens","Hike Lightweight","Crew","Merino",{"v":13.5,"d":"$13.50"},{"v":26.99,"d":"$26.99"}]
[23,null,710367,"Womens","Hike Lightweight","Crew","Merino",{"v":13.5,"d":"$13.50"},{"v":26.99,"d":"$26.99"}]
["LIGHTWEIGHT T2 -  COOLMAX PERFORMANCE"]
[24,null,710132,"Mens","Hike Lightweight","Crew","Coolmax®",{"v":14,"d":"$14.00"},{"v":27.99,"d":"$27.99"}]
[24,null,710136,"Womens","Hike Lightweight","Crew","Coolmax®",{"v":14,"d":"$14.00"},{"v":27.99,"d":"$27.99"}]
["ULTRA LIGHT T2 - MERINO PERFORMANCE    "]
[26,null,710099,"Mens","Hike Ultra Light","Crew","Merino",{"v":12.5,"d":"$12.50"},{"v":24.99,"d":"$24.99"}]
[26,null,710101,"Womens","Hike Ultra Light","Crew","Merino",{"v":12.5,"d":"$12.50"},{"v":24.99,"d":"$24.99"}]
[27,null,710259,"Mens","Hike Ultra Light","Low","Merino",{"v":11,"d":"$11.00"},{"v":21.99,"d":"$21.99"}]
[27,null,710260,"Womens","Hike Ultra Light","Low","Merino",{"v":11,"d":"$11.00"},{"v":21.99,"d":"$21.99"}]
["TRAIL RUN"]
["LIGHTWEIGHT T2 - MERINO SPORT"]
[29,null,710199,"Mens","Trail Run Lightweight","3/4 Crew","Merino",{"v":12,"d":"$12.00"},{"v":23.99,"d":"$23.99"}]
[29,null,710200,"Womens","Trail Run Lightweight","3/4 Crew","Merino",{"v":12,"d":"$12.00"},{"v":23.99,"d":"$23.99"}]
["ULTRA LIGHT T2 - MERINO SPORT"]
[30,null,710201,"Mens","Trail Run Ultralight","3/4 Crew","Merino",{"v":11.5,"d":"$11.50"},{"v":22.99,"d":"$22.99"}]
[30,null,710202,"Womens","Trail Run Ultralight","3/4 Crew","Merino",{"v":11.5,"d":"$11.50"},{"v":22.99,"d":"$22.99"}]
[31,null,710203,"Mens","Trail Run Ultralight","Low","Merino",{"v":11,"d":"$11.00"},{"v":21.99,"d":"$21.99"}]
[31,null,710204,"Womens","Trail Run Ultralight","Low","Merino",{"v":11,"d":"$11.00"},{"v":21.99,"d":"$21.99"}]
["LINERS"]
["COOLMAX®  PERFORMANCE "]
[35,null,710539,"Mens","Liner 2 Pair Pack","Crew","Coolmax®",{"v":14,"d":"$14.00"},{"v":27.99,"d":"$27.99"}]
[35,null,710605,"Womens","Liner 2 Pair Pack","Crew","Coolmax®",{"v":14,"d":"$14.00"},{"v":27.99,"d":"$27.99"}]
["  MERINO PERFORMANCE    "]
[36,null,"710028","Mens","Liner","Crew","Merino",{"v":10.5,"d":"$10.50"},{"v":20.99,"d":"$20.99"}]
[36,null,"710027","Womens","Liner","Crew","Merino",{"v":10.5,"d":"$10.50"},{"v":20.99,"d":"$20.99"}]
["STORMSOCK"]
["HEAVYWEIGHT - STORM PERFORMANCE"]
[39,null,710075,"Unisex","Heavyweight Performance Fit Knee","Knee","Waterproof",{"v":34,"d":"$34.00"},{"v":67.99,"d":"$67.99"}]
[39,null,710076,"Unisex","Heavyweight Performance Fit Boot/Crew","Crew","Waterproof",{"v":32.5,"d":"$32.50"},{"v":64.99,"d":"$64.99"}]
["MIDWEIGHT - STORM PERFORMANCE"]
[40,null,710086,"Unisex","Midweight Performance Fit Knee","Knee","Waterproof",{"v":31.5,"d":"$31.50"},{"v":62.99,"d":"$62.99"}]
[40,null,710087,"Unisex","Midweight Performance Fit Boot/Crew","Crew","Waterproof",{"v":30,"d":"$30.00"},{"v":59.99,"d":"$59.99"}]
[41,null,710088,"Unisex","Midweight Performance Fit Ankle","Ankle","Waterproof",{"v":27.5,"d":"$27.50"},{"v":54.99,"d":"$54.99"}]
["LIGHTWEIGHT - STORM PERFORMANCE"]
[42,null,710089,"Unisex","Lightweight Performance Fit Boot/Crew","Crew","Waterproof",{"v":27.5,"d":"$27.50"},{"v":54.99,"d":"$54.99"}]
[42,null,710090,"Unisex","Lightweight Performance Fit Ankle","Ankle","Waterproof",{"v":25,"d":"$25.00"},{"v":49.99,"d":"$49.99"}]

{"sheet":"ORDER FORM","index":2,"n_rows":128,"n_cols":21,"rows_kept":128,"merged":[[6,3,9,3],[6,7,9,10],[6,14,6,17],[8,14,8,17],[10,14,10,17],[11,7,11,10],[12,3,14,3],[12,7,12,10],[12,14,12,17],[13,7,13,10],[14,7,14,10],[14,14,14,17],[16,7,16,11]]}
[null,"Bridgedale",{"$nulls":15},"V.1_10.31.2023"]
[{"$nulls":3},"Please submit orders to:\nE: sales@oscnainc.com\nT: 1.905.940.9511 \n",{"$nulls":3},{"$f":"IMPORT!J1","v":""}]
[{"$nulls":18},{"$f":"LOWER(R3)","v":""}]
[]
[]
[]
[null,"BILL TO",{"$nulls":4},"SHIP TO",{"$nulls":6},"PO #"]
[]
[{"$nulls":13},"SHIP DATE"]
[]
[{"$nulls":13},"DOLLARS",{"$f":"IF(R128=0,\"\",R128)","v":""}]
[null,"SALES REP",{"$nulls":4},"BUYER"]
[null,"COMMENTS",{"$nulls":4},"PHONE",{"$nulls":6},"TERMS"]
[{"$nulls":6},"EMAIL"]
[{"$nulls":6},"FAX",{"$nulls":6},"DISCOUNT"]
[]
[null,"        A U T U M N /  W I N T E R   2 0 2 4  -   U S  O R D E R   F O R M",{"$nulls":5},"*Order must be multiples of three (3)*"]
[{"$f":"B18&G18","v":"STYLE CODECOLOR CODE"},"STYLE CODE","GENDER","SKI","SOCK HEIGHT","TECHNOLOGY","COLOR CODE","COLOR NAME","S","M","L","XL",null,"WHLS","MSRP",{"$f":"IF(O18=\"MSRP\",\"QTY\",Q18)","v":"QTY"},{"$f":"IFERROR(IF(O18=\"MSRP\",SUM(INDIRECT(\"P\"&(ROW()+1)&\":\"&ADDRESS(ROW()+MATCH(TRUE,INDEX($O$96:$O$127=\"MSRP\",0),0)-1,16))),SUM(I18:L18)),IF(O18=\"MSRP\",SUM(INDIRECT(\"P\"&(ROW()+1)&\":\"&ADDRESS(ROW()+MATCH(TRUE,INDEX($O$95:$O$127=\"MSRP\",0),0)-1,16))),SUM(I18:L18)))","v":0},"EXT",{"$f":"IF(O18=\"MSRP\",0,Q18)","v":0}]
["710368038",710368,"Mens","Ski Midweight Plus","Knee","Merino","038","Gunmetal/Stone",{"$nulls":5},{"v":17,"d":"$17.00"},{"v":33.99,"d":"$33.99"},0,0,{"$f":"IFERROR(Q19*N19,\"\")","v":{"v":0,"d":"$0.00"}},0]
["710369141",710369,"Womens","Ski Midweight Plus","Knee","Merino","141","Dark Purple",{"$nulls":5},{"v":17,"d":"$17.00"},{"v":33.99,"d":"$33.99"},0,0,{"v":0,"d":"$0.00"},0]
["710370010",710370,"Mens","Ski Midweight","Knee","Merino","010","Black",{"$nulls":5},{"v":15.5,"d":"$15.50"},{"v":30.99,"d":"$30.99"},0,0,{"v":0,"d":"$0.00"},0]
[{"$f":"B22&G22","v":"710370319"},710370,"Mens","Ski Midweight","Knee","Merino","319","Graphite/Bungee",{"$nulls":5},{"v":15.5,"d":"$15.50"},{"v":30.99,"d":"$30.99"},0,0,{"v":0,"d":"$0.00"},0]
["710370387",710370,"Mens","Ski Midweight","Knee","Merino","387","Navy/Petrol",{"$nulls":5},{"v":15.5,"d":"$15.50"},{"v":30.99,"d":"$30.99"},0,0,{"v":0,"d":"$0.00"},0]
["710371010",710371,"Womens","Ski Midweight","Knee","Merino","010","Black/White",{"$nulls":5},{"v":15.5,"d":"$15.50"},{"v":30.99,"d":"$30.99"},0,0,{"v":0,"d":"$0.00"},0]
["710371016",710371,"Womens","Ski Midweight","Knee","Merino","016","Black/Purple",{"$nulls":5},{"v":15.5,"d":"$15.50"},{"v":30.99,"d":"$30.99"},0,0,{"v":0,"d":"$0.00"},0]
["710371212",710371,"Womens","Ski Midweight","Knee","Merino","212","Dark Denim/Aqua",{"$nulls":5},{"v":15.5,"d":"$15.50"},{"v":30.99,"d":"$30.99"},0,0,{"v":0,"d":"$0.00"},0]
["710550223",710550,"Mens","Ski Lightweight","Knee","Merino","223","Graphite/Red",{"$nulls":5},{"v":15,"d":"$15.00"},{"v":29.99,"d":"$29.99"},0,0,{"v":0,"d":"$0.00"},0]
["710550816",710550,"Mens","Ski Lightweight","Knee","Merino","816","Black/Grey",{"$nulls":5},{"v":15,"d":"$15.00"},{"v":29.99,"d":"$29.99"},0,0,{"v":0,"d":"$0.00"},0]
["710212319",710212,"Mens","Ski Lightweight - Pattern","Knee","Merino","319","Graphite/Bungee",{"$nulls":5},{"v":15,"d":"$15.00"},{"v":29.99,"d":"$29.99"},0,0,{"v":0,"d":"$0.00"},0]
["710212420",710212,"Mens","Ski Lightweight - Pattern","Knee","Merino","420","Navy",{"$nulls":5},{"v":15,"d":"$15.00"},{"v":29.99,"d":"$29.99"},0,0,{"v":0,"d":"$0.00"},0]
["710637388",710637,"Womens","Ski Lightweight","Knee","Merino","388","Graphite/Pink",{"$nulls":5},{"v":15,"d":"$15.00"},{"v":29.99,"d":"$29.99"},0,0,{"v":0,"d":"$0.00"},0]
["710637389",710637,"Womens","Ski Lightweight","Knee","Merino","389","Grey/Nature",{"$nulls":5},{"v":15,"d":"$15.00"},{"v":29.99,"d":"$29.99"},0,0,{"v":0,"d":"$0.00"},0]
["710213007",710213,"Womens","Ski Lightweight - Pattern","Knee","Merino","007","Black/Blue",{"$nulls":5},{"v":15,"d":"$15.00"},{"v":29.99,"d":"$29.99"},0,0,{"v":0,"d":"$0.00"},0]
["710213321",710213,"Womens","Ski Lightweight - Pattern","Knee","Merino","321","Denim/Pink",{"$nulls":5},{"v":15,"d":"$15.00"},{"v":29.99,"d":"$29.99"},0,0,{"v":0,"d":"$0.00"},0]
["710374119",710374,"Mens","Ski Easy On","Knee","Merino","119","Denim/Blue",{"$nulls":5},{"v":16,"d":"$16.00"},{"v":31.99,"d":"$31.99"},0,0,{"$f":"IFERROR(Q35*N35,\"\")","v":{"v":0,"d":"$0.00"}},{"$f":"IF(O35=\"MSRP\",0,Q35)","v":0}]
["710374223",710374,"Mens","Ski Easy On","Knee","Merino","223","Graphite/Red",{"$nulls":5},{"v":16,"d":"$16.00"},{"v":31.99,"d":"$31.99"},0,0,{"v":0,"d":"$0.00"},0]
["710374816",710374,"Mens","Ski Easy On","Knee","Merino","816","Black/Grey",{"$nulls":5},{"v":16,"d":"$16.00"},{"v":31.99,"d":"$31.99"},0,0,{"v":0,"d":"$0.00"},0]
["710103388",710103,"Womens","Ski Easy On","Knee","Merino","388","Graphite/Pink",{"$nulls":5},{"v":16,"d":"$16.00"},{"v":31.99,"d":"$31.99"},0,0,{"v":0,"d":"$0.00"},{"$f":"IF(O38=\"MSRP\",0,Q38)","v":0}]
["710103392",710103,"Womens","Ski Easy On","Knee","Merino","392","Navy/Royal",{"$nulls":5},{"v":16,"d":"$16.00"},{"v":31.99,"d":"$31.99"},{"$f":"IF(O39=\"MSRP\",\"QTY\",Q39)","v":0},0,{"$f":"IFERROR(Q39*N39,\"\")","v":{"v":0,"d":"$0.00"}},{"$f":"IF(O39=\"MSRP\",0,Q39)","v":0}]
["710103813",710103,"Womens","Ski Easy On","Knee","Merino","813","Grey/Lilac",{"$nulls":5},{"v":16,"d":"$16.00"},{"v":31.99,"d":"$31.99"},0,0,{"v":0,"d":"$0.00"},0]
["710073105",710073,"Unisex","Retro Fit","Knee","Merino","105","Black/Silver",{"$nulls":5},{"v":16,"d":"$16.00"},{"v":31.99,"d":"$31.99"},0,0,{"v":0,"d":"$0.00"},0]
["710547009",710547,"Unisex","Ultra Fit","Knee","Merino","009","Black/Orange",{"$nulls":5},{"v":16,"d":"$16.00"},{"v":31.99,"d":"$31.99"},0,0,{"v":0,"d":"$0.00"},0]
["710044009",710044,"Mens","Race","Knee","Polypro","009","Black/Orange",{"$nulls":5},{"v":14.5,"d":"$14.50"},{"v":28.99,"d":"$28.99"},0,0,{"v":0,"d":"$0.00"},0]
["710043317",710043,"Womens","Race","Knee","Polypro","317","Black/Pink",{"$nulls":5},{"v":14.5,"d":"$14.50"},{"v":28.99,"d":"$28.99"},0,0,{"v":0,"d":"$0.00"},0]
["710558322",710558,"Junior","Junior Racer","Knee","Merino","322","Denim/Flame",{"$nulls":5},{"v":12,"d":"$12.00"},{"v":23.99,"d":"$23.99"},0,0,{"$f":"IFERROR(Q45*N45,\"\")","v":{"v":0,"d":"$0.00"}},0]
["710558323",710558,"Junior","Junior Racer","Knee","Merino","323","Grey/Neon",{"$nulls":5},{"v":12,"d":"$12.00"},{"v":23.99,"d":"$23.99"},{"$f":"IF(O46=\"MSRP\",\"QTY\",Q46)","v":0},0,{"$f":"IFERROR(Q46*N46,\"\")","v":{"v":0,"d":"$0.00"}},{"$f":"IF(O46=\"MSRP\",0,Q46)","v":0}]
["710289285",710289,"Kids","Kids Ski 2 Pair Pack","Knee","Merino","285","Blue/Yellow",{"$nulls":5},{"v":16,"d":"$16.00"},{"v":31.99,"d":"$31.99"},{"$f":"IF(O47=\"MSRP\",\"QTY\",Q47)","v":0},0,{"v":0,"d":"$0.00"},{"$f":"IF(O47=\"MSRP\",0,Q47)","v":0}]
["710289286",710289,"Kids","Kids Ski 2 Pair Pack","Knee","Merino","286","White/Purple",{"$nulls":5},{"v":16,"d":"$16.00"},{"v":31.99,"d":"$31.99"},0,0,{"v":0,"d":"$0.00"},0]
["710289614",710289,"Kids","Kids Ski 2 Pair Pack","Knee","Merino","614","White/Blue",{"$nulls":5},{"v":16,"d":"$16.00"},{"v":31.99,"d":"$31.99"},0,0,{"v":0,"d":"$0.00"},0]
["710546850",710546,"Mens","Nordic Race","Crew","Merino","850","Black/Stone",{"$nulls":5},{"v":16,"d":"$16.00"},{"v":31.99,"d":"$31.99"},0,{"$f":"IFERROR(IF(O50=\"MSRP\",SUM(INDIRECT(\"P\"&(ROW()+1)&\":\"&ADDRESS(ROW()+MATCH(TRUE,INDEX($O$96:$O$127=\"MSRP\",0),0)-1,16))),SUM(I50:L50)),IF(O50=\"MSRP\",SUM(INDIRECT(\"P\"&(ROW()+1)&\":\"&ADDRESS(ROW()+MATCH(TRUE,INDEX($O$95:$O$127=\"MSRP\",0),0)-1,16))),SUM(I50:L50)))","v":0},{"v":0,"d":"$0.00"},0]
["710074850",710074,"Womens","Nordic Race","Crew","Merino","850","Black/Stone",{"$nulls":5},{"v":16,"d":"$16.00"},{"v":31.99,"d":"$31.99"},0,0,{"v":0,"d":"$0.00"},0,null," "]
[{"$f":"B52&G52","v":"710559845"},710559,"Mens","Cross Country","Crew","Merino","845","Black",{"$nulls":5},{"v":14,"d":"$14.00"},{"v":27.99,"d":"$27.99"},0,0,{"v":0,"d":"$0.00"},0]
["710566845",710566,"Womens","Cross Country","Crew","Merino","845","Black",{"$nulls":5},{"v":14,"d":"$14.00"},{"v":27.99,"d":"$27.99"},0,0,{"v":0,"d":"$0.00"},0]
[{"$f":"B54&G54","v":"STYLE CODECOLOR CODE"},"STYLE CODE","GENDER","EXPLORER","SOCK HEIGHT","TECHNOLOGY","COLOR CODE","COLOR NAME","S","M","L","XL",null,"WHLS","MSRP",{"$f":"IF(O54=\"MSRP\",\"QTY\",Q54)","v":"QTY"},0,"EXT",{"$f":"IF(O54=\"MSRP\",0,Q54)","v":0}]
["710153818",710153,"Mens","Explorer Heavyweight","Knee","Merino","818","Black",{"$nulls":5},{"v":21,"d":"$21.00"},{"v":41.99,"d":"$41.99"},{"$f":"IF(O55=\"MSRP\",\"QTY\",Q55)","v":0},0,{"$f":"IFERROR(Q55*N55,\"\")","v":{"v":0,"d":"$0.00"}},{"$f":"IF(O55=\"MSRP\",0,Q55)","v":0}]
["710151445",710151,"Unisex","Explorer Heavyweight","Crew","Merino","445","Navy",{"$nulls":5},{"v":19.5,"d":"$19.50"},{"v":38.99,"d":"$38.99"},{"$f":"IF(O56=\"MSRP\",\"QTY\",Q56)","v":0},0,{"v":0,"d":"$0.00"},{"$f":"IF(O56=\"MSRP\",0,Q56)","v":0}]
["710151818",710151,"Unisex","Explorer Heavyweight","Crew","Merino","818","Black",{"$nulls":5},{"v":19.5,"d":"$19.50"},{"v":38.99,"d":"$38.99"},{"$f":"IF(O57=\"MSRP\",\"QTY\",Q57)","v":0},0,{"v":0,"d":"$0.00"},{"$f":"IF(O57=\"MSRP\",0,Q57)","v":0}]
["710278280",710278,"Mens","Explorer Heavyweight","Crew","Merino","280","Anthracite",{"$nulls":5},{"v":19.5,"d":"$19.50"},{"v":38.99,"d":"$38.99"},{"$f":"IF(O58=\"MSRP\",\"QTY\",Q58)","v":0},0,{"v":0,"d":"$0.00"},0]
["710623801",710623,"Womens","Explorer Heavyweight","Crew","Merino","801","Grey",{"$nulls":5},{"v":19.5,"d":"$19.50"},{"v":38.99,"d":"$38.99"},{"$f":"IF(O59=\"MSRP\",\"QTY\",Q59)","v":0},0,{"v":0,"d":"$0.00"},0]
["STYLE CODECOLOR CODE","STYLE CODE","GENDER","HIKE","SOCK HEIGHT","TECHNOLOGY","COLOR CODE","COLOR NAME","S","M","L","XL",null,"WHLS","MSRP",{"$f":"IF(O60=\"MSRP\",\"QTY\",Q60)","v":"QTY"},0,"EXT",{"$f":"IF(O60=\"MSRP\",0,Q60)","v":0}]
["710169846",710169,"Mens","Hike Midweight","Crew","Merino","846","Black",{"$nulls":5},{"v":14,"d":"$14.00"},{"v":27.99,"d":"$27.99"},0,0,{"$f":"IFERROR(Q61*N61,\"\")","v":{"v":0,"d":"$0.00"}},0]
["710169866",710169,"Mens","Hike Midweight","Crew","Merino","866","Gunmetal ",{"$nulls":5},{"v":14,"d":"$14.00"},{"v":27.99,"d":"$27.99"},0,0,{"v":0,"d":"$0.00"},0]
["710644401",710644,"Womens","Hike Midweight","Crew","Merino","401","Blue Sky",{"$nulls":5},{"v":14,"d":"$14.00"},{"v":27.99,"d":"$27.99"},0,0,{"v":0,"d":"$0.00"},0]
["710644809",710644,"Womens","Hike Midweight","Crew","Merino","809","Silver Grey",{"$nulls":5},{"v":14,"d":"$14.00"},{"v":27.99,"d":"$27.99"},0,0,{"v":0,"d":"$0.00"},0]
["710152124",710152,"Mens","Hike Lightweight","Crew","Merino","124","Grey Heather",{"$nulls":5},{"v":13.5,"d":"$13.50"},{"v":26.99,"d":"$26.99"},0,0,{"$f":"IFERROR(Q65*N65,\"\")","v":{"v":0,"d":"$0.00"}},{"$f":"IF(O65=\"MSRP\",0,Q65)","v":0}]
["710152845",710152,"Mens","Hike Lightweight","Crew","Merino","845","Black",{"$nulls":5},{"v":13.5,"d":"$13.50"},{"v":26.99,"d":"$26.99"},0,0,{"$f":"IFERROR(Q66*N66,\"\")","v":{"v":0,"d":"$0.00"}},{"$f":"IF(O66=\"MSRP\",0,Q66)","v":0}]
["710652370",710652,"Womens","Hike Lightweight","Crew","Merino",370,"Berry",{"$nulls":5},{"v":13.5,"d":"$13.50"},{"v":26.99,"d":"$26.99"},0,0,{"$f":"IFERROR(Q67*N67,\"\")","v":{"v":0,"d":"$0.00"}},{"$f":"IF(O67=\"MSRP\",0,Q67)","v":0}]
["710652435",710652,"Womens","Hike Lightweight","Crew","Merino",435,"Denim",{"$nulls":5},{"v":13.5,"d":"$13.50"},{"v":26.99,"d":"$26.99"},0,0,{"$f":"IFERROR(Q68*N68,\"\")","v":{"v":0,"d":"$0.00"}},{"$f":"IF(O68=\"MSRP\",0,Q68)","v":0}]
["710528810",710528,"Mens","Hike Lightweight","3/4 Crew","Merino",810,"Silver/Navy",{"$nulls":5},{"v":12.5,"d":"$12.50"},{"v":24.99,"d":"$24.99"},{"$f":"IF(O69=\"MSRP\",\"QTY\",Q69)","v":0},0,{"$f":"IFERROR(Q69*N69,\"\")","v":{"v":0,"d":"$0.00"}},{"$f":"IF(O69=\"MSRP\",0,Q69)","v":0}]
["710528822",710528,"Mens","Hike Lightweight","3/4 Crew","Merino",822,"Black/Silver",{"$nulls":5},{"v":12.5,"d":"$12.50"},{"v":24.99,"d":"$24.99"},{"$f":"IF(O70=\"MSRP\",\"QTY\",Q70)","v":0},0,{"$f":"IFERROR(Q70*N70,\"\")","v":{"v":0,"d":"$0.00"}},{"$f":"IF(O70=\"MSRP\",0,Q70)","v":0}]
["710608814",710608,"Womens","Hike Lightweight","3/4 Crew","Merino","814","Heather/Damson",{"$nulls":5},{"v":12.5,"d":"$12.50"},{"v":24.99,"d":"$24.99"},0,0,{"$f":"IFERROR(Q71*N71,\"\")","v":{"v":0,"d":"$0.00"}},0]
[{"$f":"B72&G72","v":"710596017"},710596,"Mens","Hike Midweight","Crew","Merino","017","Stone Grey",{"$nulls":5},{"v":14,"d":"$14.00"},{"v":27.99,"d":"$27.99"},{"$f":"IF(O72=\"MSRP\",\"QTY\",Q72)","v":0},0,{"$f":"IFERROR(Q72*N72,\"\")","v":{"v":0,"d":"$0.00"}},{"$f":"IF(O72=\"MSRP\",0,Q72)","v":0}]
["710596420",710596,"Mens","Hike Midweight","Crew","Merino","420","Navy",{"$nulls":5},{"v":14,"d":"$14.00"},{"v":27.99,"d":"$27.99"},{"$f":"IF(O73=\"MSRP\",\"QTY\",Q73)","v":0},0,{"$f":"IFERROR(Q73*N73,\"\")","v":{"v":0,"d":"$0.00"}},{"$f":"IF(O73=\"MSRP\",0,Q73)","v":0}]
["710596832",710596,"Mens","Hike Midweight","Crew","Merino","832","Charcoal",{"$nulls":5},{"v":14,"d":"$14.00"},{"v":27.99,"d":"$27.99"},{"$f":"IF(O74=\"MSRP\",\"QTY\",Q74)","v":0},0,{"v":0,"d":"$0.00"},{"$f":"IF(O74=\"MSRP\",0,Q74)","v":0}]
["710627436",710627,"Womens","Hike Midweight","Crew","Merino","436","Blue",{"$nulls":5},{"v":14,"d":"$14.00"},{"v":27.99,"d":"$27.99"},{"$f":"IF(O75=\"MSRP\",\"QTY\",Q75)","v":0},0,{"v":0,"d":"$0.00"},{"$f":"IF(O75=\"MSRP\",0,Q75)","v":0}]
["710627926",710627,"Womens","Hike Midweight","Crew","Merino","926","Natural",{"$nulls":5},{"v":14,"d":"$14.00"},{"v":27.99,"d":"$27.99"},{"$f":"IF(O76=\"MSRP\",\"QTY\",Q76)","v":0},0,{"v":0,"d":"$0.00"},{"$f":"IF(O76=\"MSRP\",0,Q76)","v":0}]
["710366927",710366,"Mens","Hike Lightweight","Crew","Merino","927","Taupe",{"$nulls":5},{"v":13.5,"d":"$13.50"},{"v":26.99,"d":"$26.99"},{"$f":"IF(O77=\"MSRP\",\"QTY\",Q77)","v":0},0,{"v":0,"d":"$0.00"},{"$f":"IF(O77=\"MSRP\",0,Q77)","v":0}]
["710366826",710366,"Mens","Hike Lightweight","Crew","Merino","826","Dark Grey",{"$nulls":5},{"v":13.5,"d":"$13.50"},{"v":26.99,"d":"$26.99"},0,0,{"v":0,"d":"$0.00"},0]
["710366445",710366,"Mens","Hike Lightweight","Crew","Merino","445","Navy",{"$nulls":5},{"v":13.5,"d":"$13.50"},{"v":26.99,"d":"$26.99"},{"$f":"IF(O79=\"MSRP\",\"QTY\",Q79)","v":0},0,{"v":0,"d":"$0.00"},{"$f":"IF(O79=\"MSRP\",0,Q79)","v":0}]
["710367386",710367,"Womens","Hike Lightweight","Crew","Merino","386","Taupe/Red",{"$nulls":5},{"v":13.5,"d":"$13.50"},{"v":26.99,"d":"$26.99"},0,0,{"v":0,"d":"$0.00"},0]
["710367017",710367,"Womens","Hike Lightweight","Crew","Merino","017","Stone Grey",{"$nulls":5},{"v":13.5,"d":"$13.50"},{"v":26.99,"d":"$26.99"},0,0,{"v":0,"d":"$0.00"},0]
["710367420",710367,"Womens","Hike Lightweight","Crew","Merino","420","Navy",{"$nulls":5},{"v":13.5,"d":"$13.50"},{"v":26.99,"d":"$26.99"},{"$f":"IF(O82=\"MSRP\",\"QTY\",Q82)","v":0},{"$f":"IFERROR(IF(O82=\"MSRP\",SUM(INDIRECT(\"P\"&(ROW()+1)&\":\"&ADDRESS(ROW()+MATCH(TRUE,INDEX($O$96:$O$127=\"MSRP\",0),0)-1,16))),SUM(I82:L82)),IF(O82=\"MSRP\",SUM(INDIRECT(\"P\"&(ROW()+1)&\":\"&ADDRESS(ROW()+MATCH(TRUE,INDEX($O$95:$O$127=\"MSRP\",0),0)-1,16))),SUM(I82:L82)))","v":0},{"v":0,"d":"$0.00"},{"$f":"IF(O82=\"MSRP\",0,Q82)","v":0}]
["710132042",710132,"Mens","Hike Lightweight T2","Crew","Coolmax®","042","Navy/Red",{"$nulls":5},{"v":14,"d":"$14.00"},{"v":27.99,"d":"$27.99"},0,0,{"$f":"IFERROR(Q83*N83,\"\")","v":{"v":0,"d":"$0.00"}},0]
["710132137",710132,"Mens","Hike Lightweight T2","Crew","Coolmax®","137","Black/Lime",{"$nulls":5},{"v":14,"d":"$14.00"},{"v":27.99,"d":"$27.99"},0,0,{"v":0,"d":"$0.00"},0]
["710136168",710136,"Womens","Hike Lightweight T2","Crew","Coolmax®","168","Graphite/Mint",{"$nulls":5},{"v":14,"d":"$14.00"},{"v":27.99,"d":"$27.99"},0,0,{"v":0,"d":"$0.00"},0]
["710136259",710136,"Womens","Hike Lightweight T2","Crew","Coolmax®","259","Teal",{"$nulls":5},{"v":14,"d":"$14.00"},{"v":27.99,"d":"$27.99"},0,0,{"v":0,"d":"$0.00"},0]
[{"$f":"B87&G87","v":"710099445"},710099,"Mens","Hike Ultra Light T2","Crew","Merino","445","Navy",{"$nulls":5},{"v":12.5,"d":"$12.50"},{"v":24.99,"d":"$24.99"},0,0,{"v":0,"d":"$0.00"},0]
["710099845",710099,"Mens","Hike Ultra Light T2","Crew","Merino","845","Black",{"$nulls":5},{"v":12.5,"d":"$12.50"},{"v":24.99,"d":"$24.99"},0,0,{"v":0,"d":"$0.00"},0]
["710101390 ",710101,"Womens","Hike Ultra Light T2","Crew","Merino","390 ","Aubergine",{"$nulls":5},{"v":12.5,"d":"$12.50"},{"v":24.99,"d":"$24.99"},0,0,{"v":0,"d":"$0.00"},0]
["710101435",710101,"Womens","Hike Ultra Light T2","Crew","Merino","435","Denim",{"$nulls":5},{"v":12.5,"d":"$12.50"},{"v":24.99,"d":"$24.99"},{"$f":"IF(O90=\"MSRP\",\"QTY\",Q90)","v":0},0,{"$f":"IFERROR(Q90*N90,\"\")","v":{"v":0,"d":"$0.00"}},{"$f":"IF(O90=\"MSRP\",0,Q90)","v":0}]
["710259042",710259,"Mens","Hike Ultra Light T2","Low","Merino","042","Navy/Red",{"$nulls":5},{"v":11,"d":"$11.00"},{"v":21.99,"d":"$21.99"},{"$f":"IF(O91=\"MSRP\",\"QTY\",Q91)","v":0},0,{"v":0,"d":"$0.00"},{"$f":"IF(O91=\"MSRP\",0,Q91)","v":0}]
["710259265",710259,"Mens","Hike Ultra Light T2","Low","Merino","265","Anthracite/Orange",{"$nulls":5},{"v":11,"d":"$11.00"},{"v":21.99,"d":"$21.99"},0,0,{"v":0,"d":"$0.00"},0]
["710260263",710260,"Womens","Hike Ultra Light T2","Low","Merino","263","Navy/Candy",{"$nulls":5},{"v":11,"d":"$11.00"},{"v":21.99,"d":"$21.99"},0,0,{"v":0,"d":"$0.00"},0]
["710260264",710260,"Womens","Hike Ultra Light T2","Low","Merino","264","Mid Grey/Surf",{"$nulls":5},{"v":11,"d":"$11.00"},{"v":21.99,"d":"$21.99"},0,0,{"v":0,"d":"$0.00"},0]
[null,"STYLE CODE","GENDER","TRAIL RUN","SOCK HEIGHT","TECHNOLOGY","COLOR CODE","COLOR NAME","S","M","L","XL",null,"WHLS","MSRP",{"$f":"IF(O95=\"MSRP\",\"QTY\",Q95)","v":"QTY"},0,"EXT",{"$f":"IF(O95=\"MSRP\",0,Q95)","v":0}]
[{"$f":"B96&G96","v":"710199436"},710199,"Mens","Trail Run Lightweight","3/4 Crew","Merino","436","Blue",{"$nulls":5},{"v":12,"d":"$12.00"},{"v":23.99,"d":"$23.99"},{"$f":"IF(O96=\"MSRP\",\"QTY\",Q96)","v":0},0,{"$f":"IFERROR(Q96*N96,\"\")","v":{"v":0,"d":"$0.00"}},{"$f":"IF(O96=\"MSRP\",0,Q96)","v":0}]
["710199845",710199,"Mens","Trail Run Lightweight","3/4 Crew","Merino","845","Black",{"$nulls":5},{"v":12,"d":"$12.00"},{"v":23.99,"d":"$23.99"},0,0,{"v":0,"d":"$0.00"},0]
["710199866",710199,"Mens","Trail Run Lightweight","3/4 Crew","Merino","866","Gunmetal",{"$nulls":5},{"v":12,"d":"$12.00"},{"v":23.99,"d":"$23.99"},0,0,{"v":0,"d":"$0.00"},{"$f":"IF(O98=\"MSRP\",0,Q98)","v":0}]
["710200259",710200,"Womens","Trail Run Lightweight","3/4 Crew","Merino","259","Teal",{"$nulls":5},{"v":12,"d":"$12.00"},{"v":23.99,"d":"$23.99"},0,0,{"v":0,"d":"$0.00"},{"$f":"IF(O99=\"MSRP\",0,Q99)","v":0}]
["710200260",710200,"Womens","Trail Run Lightweight","3/4 Crew","Merino","260","Charcoal/Purple",{"$nulls":5},{"v":12,"d":"$12.00"},{"v":23.99,"d":"$23.99"},0,0,{"v":0,"d":"$0.00"},0]
["710201436",710201,"Mens","Trail Run Ultralight","3/4 Crew","Merino","436","Blue",{"$nulls":5},{"v":11.5,"d":"$11.50"},{"v":22.99,"d":"$22.99"},0,0,{"v":0,"d":"$0.00"},{"$f":"IF(O101=\"MSRP\",0,Q101)","v":0}]
["710201866",710201,"Mens","Trail Run Ultralight","3/4 Crew","Merino","866","Gunmetal",{"$nulls":5},{"v":11.5,"d":"$11.50"},{"v":22.99,"d":"$22.99"},0,0,{"v":0,"d":"$0.00"},{"$f":"IF(O102=\"MSRP\",0,Q102)","v":0}]
["710202195",710202,"Womens","Trail Run Ultralight","3/4 Crew","Merino","195","Damson",{"$nulls":5},{"v":11.5,"d":"$11.50"},{"v":22.99,"d":"$22.99"},0,0,{"v":0,"d":"$0.00"},{"$f":"IF(O103=\"MSRP\",0,Q103)","v":0}]
["710202259",710202,"Womens","Trail Run Ultralight","3/4 Crew","Merino","259","Teal",{"$nulls":5},{"v":11.5,"d":"$11.50"},{"v":22.99,"d":"$22.99"},0,0,{"v":0,"d":"$0.00"},{"$f":"IF(O104=\"MSRP\",0,Q104)","v":0}]
["710202260",710202,"Womens","Trail Run Ultralight","3/4 Crew","Merino","260","Charcoal/Purple",{"$nulls":5},{"v":11.5,"d":"$11.50"},{"v":22.99,"d":"$22.99"},0,0,{"v":0,"d":"$0.00"},{"$f":"IF(O105=\"MSRP\",0,Q105)","v":0}]
["710203325",710203,"Mens","Trail Run Ultralight","Low","Merino","325","Red",{"$nulls":5},{"v":11,"d":"$11.00"},{"v":21.99,"d":"$21.99"},0,0,{"v":0,"d":"$0.00"},0]
["710203436",710203,"Mens","Trail Run Ultralight","Low","Merino","436","Blue",{"$nulls":5},{"v":11,"d":"$11.00"},{"v":21.99,"d":"$21.99"},0,0,{"v":0,"d":"$0.00"},0]
["710203866",710203,"Mens","Trail Run Ultralight","Low","Merino","866","Gunmetal",{"$nulls":5},{"v":11,"d":"$11.00"},{"v":21.99,"d":"$21.99"},0,0,{"v":0,"d":"$0.00"},{"$f":"IF(O108=\"MSRP\",0,Q108)","v":0}]
["710204195",710204,"Womens","Trail Run Ultralight","Low","Merino","195","Damson",{"$nulls":5},{"v":11,"d":"$11.00"},{"v":21.99,"d":"$21.99"},0,0,{"v":0,"d":"$0.00"},{"$f":"IF(O109=\"MSRP\",0,Q109)","v":0}]
["710204259",710204,"Womens","Trail Run Ultralight","Low","Merino","259","Teal",{"$nulls":5},{"v":11,"d":"$11.00"},{"v":21.99,"d":"$21.99"},0,{"$f":"IFERROR(IF(O110=\"MSRP\",SUM(INDIRECT(\"P\"&(ROW()+1)&\":\"&ADDRESS(ROW()+MATCH(TRUE,INDEX($O$96:$O$127=\"MSRP\",0),0)-1,16))),SUM(I110:L110)),IF(O110=\"MSRP\",SUM(INDIRECT(\"P\"&(ROW()+1)&\":\"&ADDRESS(ROW()+MATCH(TRUE,INDEX($O$95:$O$127=\"MSRP\",0),0)-1,16))),SUM(I110:L110)))","v":0},{"v":0,"d":"$0.00"},0]
["710204260",710204,"Womens","Trail Run Ultralight","Low","Merino","260","Charcoal/Purple",{"$nulls":5},{"v":11,"d":"$11.00"},{"v":21.99,"d":"$21.99"},0,0,{"v":0,"d":"$0.00"},0]
[{"$f":"B112&G112","v":"STYLE CODECOLOR CODE"},"STYLE CODE","GENDER","LINERS","SOCK HEIGHT","TECHNOLOGY","COLOR CODE","COLOR NAME","S","M","L","XL",null,"WHLS","MSRP",{"$f":"IF(O112=\"MSRP\",\"QTY\",Q112)","v":"QTY"},0,"EXT",{"$f":"IF(O112=\"MSRP\",0,Q112)","v":0}]
["710539806",710539,"Mens","Liner 2 Pair Pack","Crew","Coolmax®","806","Grey",{"$nulls":5},{"v":14,"d":"$14.00"},{"v":27.99,"d":"$27.99"},{"$f":"IF(O113=\"MSRP\",\"QTY\",Q113)","v":0},0,{"$f":"IFERROR(Q113*N113,\"\")","v":{"v":0,"d":"$0.00"}},{"$f":"IF(O113=\"MSRP\",0,Q113)","v":0}]
["710539846",710539,"Mens","Liner 2 Pair Pack","Crew","Coolmax®","846","Black",{"$nulls":5},{"v":14,"d":"$14.00"},{"v":27.99,"d":"$27.99"},{"$f":"IF(O114=\"MSRP\",\"QTY\",Q114)","v":0},0,{"$f":"IFERROR(Q114*N114,\"\")","v":{"v":0,"d":"$0.00"}},{"$f":"IF(O114=\"MSRP\",0,Q114)","v":0}]
["710539621",710539,"Mens","Liner 2 Pair Pack","Crew","Coolmax®","621","White",{"$nulls":5},{"v":14,"d":"$14.00"},{"v":27.99,"d":"$27.99"},{"$f":"IF(O115=\"MSRP\",\"QTY\",Q115)","v":0},0,{"$f":"IFERROR(Q115*N115,\"\")","v":{"v":0,"d":"$0.00"}},{"$f":"IF(O115=\"MSRP\",0,Q115)","v":0}]
["710605445",710605,"Womens","Liner 2 Pair Pack","Crew","Coolmax®","445","Navy",{"$nulls":5},{"v":14,"d":"$14.00"},{"v":27.99,"d":"$27.99"},{"$f":"IF(O116=\"MSRP\",\"QTY\",Q116)","v":0},0,{"$f":"IFERROR(Q116*N116,\"\")","v":{"v":0,"d":"$0.00"}},{"$f":"IF(O116=\"MSRP\",0,Q116)","v":0}]
["710028035","710028","Mens","Liner","Crew","Merino","035","Black/Light Grey",{"$nulls":5},{"v":10.5,"d":"$10.50"},{"v":20.99,"d":"$20.99"},0,0,{"$f":"IFERROR(Q117*N117,\"\")","v":{"v":0,"d":"$0.00"}},{"$f":"IF(O117=\"MSRP\",0,Q117)","v":0}]
["710027126","710027","Womens","Liner","Crew","Merino","126","Dark Grey/Blue",{"$nulls":5},{"v":10.5,"d":"$10.50"},{"v":20.99,"d":"$20.99"},{"$f":"IF(O118=\"MSRP\",\"QTY\",Q118)","v":0},0,{"$f":"IFERROR(Q118*N118,\"\")","v":{"v":0,"d":"$0.00"}},{"$f":"IF(O118=\"MSRP\",0,Q118)","v":0}]
["STYLE CODECOLOR CODE","STYLE CODE","GENDER","STORM SOCK","SOCK HEIGHT","TECHNOLOGY","COLOR CODE","COLOR NAME","S","M","L","XL",null,"WHLS","MSRP",{"$f":"IF(O119=\"MSRP\",\"QTY\",Q119)","v":"QTY"},0,"EXT",{"$f":"IF(O119=\"MSRP\",0,Q119)","v":0}]
["710075845","710075","Unisex","Heavyweight","Knee","Waterproof","845","Black/Red",{"$nulls":5},{"v":34,"d":"$34.00"},{"v":67.99,"d":"$67.99"},0,0,{"$f":"IFERROR(Q120*N120,\"\")","v":{"v":0,"d":"$0.00"}},{"$f":"IF(O120=\"MSRP\",0,Q120)","v":0}]
["710076845","710076","Unisex","Heavyweight","Crew","Waterproof","845","Black/Red",{"$nulls":5},{"v":32.5,"d":"$32.50"},{"v":64.99,"d":"$64.99"},0,0,{"$f":"IFERROR(Q121*N121,\"\")","v":{"v":0,"d":"$0.00"}},0]
["710086845","710086","Unisex","Midweight","Knee","Waterproof","845","Black/Blue",{"$nulls":5},{"v":31.5,"d":"$31.50"},{"v":62.99,"d":"$62.99"},0,0,{"v":0,"d":"$0.00"},0]
["710087845","710087","Unisex","Midweight","Crew","Waterproof","845","Black/Blue",{"$nulls":5},{"v":30,"d":"$30.00"},{"v":59.99,"d":"$59.99"},0,0,{"v":0,"d":"$0.00"},0]
["710088845","710088","Unisex","Midweight","Ankle","Waterproof","845","Black/Blue",{"$nulls":5},{"v":27.5,"d":"$27.50"},{"v":54.99,"d":"$54.99"},0,0,{"v":0,"d":"$0.00"},0]
["710089826","710089","Unisex","Lightweight","Crew","Waterproof","826","Dark Grey/Lime",{"$nulls":5},{"v":27.5,"d":"$27.50"},{"v":54.99,"d":"$54.99"},0,0,{"v":0,"d":"$0.00"},0]
["710090845","710090","Unisex","Lightweight","Ankle","Waterproof","845","Black/Mid Grey",{"$nulls":5},{"v":25,"d":"$25.00"},{"v":49.99,"d":"$49.99"},{"$f":"IF(O126=\"MSRP\",\"QTY\",Q126)","v":0},0,{"$f":"IFERROR(Q126*N126,\"\")","v":{"v":0,"d":"$0.00"}},{"$f":"IF(O126=\"MSRP\",0,Q126)","v":0}]
[]
[{"$nulls":14},"Totals",{"$f":"SUM(P19:P126)","v":{"v":0,"d":"0 "}},null,{"$f":"SUM(R19:R126)","v":{"v":0,"d":"$0.00"}}]

{"sheet":"UPC","index":3,"n_rows":335,"n_cols":5,"rows_kept":335,"merged":[[0,0,2,1]]}
[{"$nulls":4},"REV: V.1_10.31.2023"]
[]
[]
[]
["Product Code","Description","Color","Size","UPC"]
[710368,"Ski MW Plus","038 Gunmetal/Stone","M","610306173737"]
[710368,"Ski MW Plus","038 Gunmetal/Stone","L","610306173744"]
[710368,"Ski MW Plus","038 Gunmetal/Stone","XL","610306173751"]
[710369,"Ski MW Plus Wmn","141 Dark Purple","S","610306173874"]
[710369,"Ski MW Plus Wmn","141 Dark Purple","M","610306173881"]
[710369,"Ski MW Plus Wmn","141 Dark Purple","L","610306173898"]
[710370,"Ski MW","010 Black/White","M","610306173942"]
[710370,"Ski MW","010 Black/White","L","610306173959"]
[710370,"Ski MW","010 Black/White","XL","610306173966"]
[710370,"Ski MW","319 Graphite/Bungee","M","610306174024"]
[710370,"Ski MW","319 Graphite/Bungee","L","610306174031"]
[710370,"Ski MW","319 Graphite/Bungee","XL","610306174048"]
[710370,"Ski MW","387 Navy/Petrol","M","610306174062"]
[710370,"Ski MW","387 Navy/Petrol","L","610306174079"]
[710370,"Ski MW","387 Navy/Petrol","XL","610306174086"]
[710371,"Ski MW Wmn","010 Black/White","S","610306174093"]
[710371,"Ski MW Wmn","010 Black/White","M","610306174109"]
[710371,"Ski MW Wmn","010 Black/White","L","610306174116"]
[710371,"Ski MW Wmn","016 Black/Purple","S","610306174123"]
[710371,"Ski MW Wmn","016 Black/Purple","M","610306174130"]
[710371,"Ski MW Wmn","016 Black/Purple","L","610306174147"]
[710371,"Ski MW Wmn","212 Dark Denim/Aqua","S","610306174154"]
[710371,"Ski MW Wmn","212 Dark Denim/Aqua","M","610306174161"]
[710371,"Ski MW Wmn","212 Dark Denim/Aqua","L","610306174178"]
[710550,"Ski LW","223 Graphite/Red","M","610306174192"]
[710550,"Ski LW","223 Graphite/Red","L","610306174208"]
[710550,"Ski LW","223 Graphite/Red","XL","610306174215"]
[710550,"Ski LW","816 Black/Grey","M","610306174239"]
[710550,"Ski LW","816 Black/Grey","L","610306174246"]
[710550,"Ski LW","816 Black/Grey","XL","610306174253"]
[710212,"Ski LW - Pattern","319 Graphite/Bungee","M","610306169280"]
[710212,"Ski LW - Pattern","319 Graphite/Bungee","L","610306169297"]
[710212,"Ski LW - Pattern","319 Graphite/Bungee","XL","610306169303"]
[710212,"Ski LW - Pattern","420 Navy","M","610306174338"]
[710212,"Ski LW - Pattern","420 Navy","L","610306174345"]
[710212,"Ski LW - Pattern","420 Navy","XL","610306174352"]
[710637,"Ski LW Wmn","388 Graphite/Pink","S","610306174260"]
[710637,"Ski LW Wmn","388 Graphite/Pink","M","610306174277"]
[710637,"Ski LW Wmn","388 Graphite/Pink","L","610306174284"]
[710637,"Ski LW Wmn","389 Grey/Nature","S","610306174291"]
[710637,"Ski LW Wmn","389 Grey/Nature","M","610306174307"]
[710637,"Ski LW Wmn","389 Grey/Nature","L","610306174314"]
[710213,"Ski LW Wmn - Pattern","007 Black/Blue","S","610306174369"]
[710213,"Ski LW Wmn - Pattern","007 Black/Blue","M","610306174376"]
[710213,"Ski LW Wmn - Pattern","007 Black/Blue","L","610306174383"]
[710213,"Ski LW Wmn - Pattern","321 Dark Denim/Pink","S","610306169358"]
[710213,"Ski LW Wmn - Pattern","321 Dark Denim/Pink","M","610306169365"]
[710213,"Ski LW Wmn - Pattern","321 Dark Denim/Pink","L","610306169372"]
[710374,"Ski Easy On","119 Denim/Blue","M","610306174406"]
[710374,"Ski Easy On","119 Denim/Blue","L","610306174413"]
[710374,"Ski Easy On","119 Denim/Blue","XL","610306174420"]
[710374,"Ski Easy On","223 Graphite/Red","M","610306174444"]
[710374,"Ski Easy On","223 Graphite/Red","L","610306174451"]
[710374,"Ski Easy On","223 Graphite/Red","XL","610306174468"]
[710374,"Ski Easy On","816 Black/Grey","M","610306174482"]
[710374,"Ski Easy On","816 Black/Grey","L","610306174499"]
[710374,"Ski Easy On","816 Black/Grey","XL","610306174505"]
[710103,"Ski Easy On Wmn","388 Graphite/Pink","S","610306174512"]
[710103,"Ski Easy On Wmn","388 Graphite/Pink","M","610306174529"]
[710103,"Ski Easy On Wmn","388 Graphite/Pink","L","610306174536"]
[710103,"Ski Easy On Wmn","392 Navy/Royal","S","610306174543"]
[710103,"Ski Easy On Wmn","392 Navy/Royal","M","610306174550"]
[710103,"Ski Easy On Wmn","392 Navy/Royal","L","610306174567"]
[710103,"Ski Easy On Wmn","035 Black/Lt Grey","S","610306143761"]
[710103,"Ski Easy On Wmn","035 Black/Lt Grey","M","610306143778"]
[710103,"Ski Easy On Wmn","035 Black/Lt Grey","L","610306143785"]
["710073","Ski Retro Fit","040 Stone/Grey","S","610306169167"]
["710073","Ski Retro Fit","040 Stone/Grey","M","610306169174"]
["710073","Ski Retro Fit","040 Stone/Grey","L","610306169181"]
["710073","Ski Retro Fit","040 Stone/Grey","XL","610306169198"]
["710073","Ski Retro Fit","105 Black/Silver","S",610306140166]
["710073","Ski Retro Fit","105 Black/Silver","M","610306140173"]
["710073","Ski Retro Fit","105 Black/Silver","L","610306140180"]
["710073","Ski Retro Fit","105 Black/Silver","XL","610306140197"]
["710547","Ski Ultra Fit","009 Black/Orange","S","610306139887"]
["710547","Ski Ultra Fit","009 Black/Orange","M","610306139894"]
["710547","Ski Ultra Fit","009 Black/Orange","L","610306139900"]
["710547","Ski Ultra Fit","009 Black/Orange","XL","610306139917"]
["710044","Ski Race","009 Black/Orange","M","610306140289"]
["710044","Ski Race","009 Black/Orange","L","610306140296"]
["710044","Ski Race","009 Black/Orange","XL","610306140302"]
["710043","Ski Race Wmn","317 Black/Pink","S","610306140319"]
["710043","Ski Race Wmn","317 Black/Pink","M","610306140326"]
["710043","Ski Race Wmn","317 Black/Pink","L","610306140333"]
["710558","Ski Junior Racer","322 Denim/Flame","M","610306169495"]
["710558","Ski Junior Racer","322 Denim/Flame","L","610306169501"]
["710558","Ski Junior Racer","322 Denim/Flame","XL","610306169518"]
["710558","Ski Junior Racer","323 Grey/Neon","M","610306169525"]
["710558","Ski Junior Racer","323 Grey/Neon","L","610306169532"]
["710558","Ski Junior Racer","323 Grey/Neon","XL","610306169549"]
[710289,"Kid's Merino Ski 2 Pack","285 Blue/Yellow","S","610306168368"]
[710289,"Kid's Merino Ski 2 Pack","285 Blue/Yellow","M","610306168375"]
[710289,"Kid's Merino Ski 2 Pack","285 Blue/Yellow","L","610306168382"]
[710289,"Kid's Merino Ski 2 Pack","286 White/Purple","S","610306168399"]
[710289,"Kid's Merino Ski 2 Pack","286 White/Purple","M","610306168405"]
[710289,"Kid's Merino Ski 2 Pack","286 White/Purple","L","610306168412"]
[710289,"Kid's Merino Ski 2 Pack","614 White/Blue","S","610306168429"]
[710289,"Kid's Merino Ski 2 Pack","614 White/Blue","M","610306168436"]
[710289,"Kid's Merino Ski 2 Pack","614 White/Blue","L","610306168443"]
["710546","Ski Nordic Race","850 Black/Stone","M","610306139948"]
["710546","Ski Nordic Race","850 Black/Stone","L","610306139955"]
["710546","Ski Nordic Race","850 Black/Stone","XL","610306139962"]
["710074","Ski Nordic Race Wmn","850 Black/Stone","S","610306139979"]
["710074","Ski Nordic Race Wmn","850 Black/Stone","M","610306139986"]
["710074","Ski Nordic Race Wmn","850 Black/Stone","L","610306139993"]
["710559","Ski Cross Country","845 Black","M","610306140012"]
["710559","Ski Cross Country","845 Black","L","610306140029"]
["710559","Ski Cross Country","845 Black","XL","610306140036"]
["710566","Ski Cross Country Wmn","845 Black","S","610306140074"]
["710566","Ski Cross Country Wmn","845 Black","M","610306140081"]
["710566","Ski Cross Country Wmn","845 Black","L","610306140098"]
["710153","Explorer HW Performance Knee","818 Black","M","610306135728"]
["710153","Explorer HW Performance Knee","818 Black","L","610306135735"]
["710153","Explorer HW Performance Knee","818 Black","XL","610306135742"]
["710151","Explorer HW Performance Boot","445 Navy","M","610306142078"]
["710151","Explorer HW Performance Boot","445 Navy","L","610306142085"]
["710151","Explorer HW Performance Boot","445 Navy","XL","610306142092"]
["710151","Explorer HW Performance Boot","818 Black","M","610306135872"]
["710151","Explorer HW Performance Boot","818 Black","L","610306135889"]
["710151","Explorer HW Performance Boot","818 Black","XL","610306135896"]
[710278,"Explorer HW Comfort Boot","280 Anthracite","M","610306165992"]
[710278,"Explorer HW Comfort Boot","280 Anthracite","L","610306166005"]
[710278,"Explorer HW Comfort Boot","280 Anthracite","XL","610306166012"]
["710623","Explorer HW Comfort Boot Wmn","801 Grey","S","610306137159"]
["710623","Explorer HW Comfort Boot Wmn","801 Grey","M","610306137166"]
["710623","Explorer HW Comfort Boot Wmn","801 Grey","L","610306137173"]
["710169","Hike MW Performance Boot Original","846 Black","M","610306136039"]
["710169","Hike MW Performance Boot Original","846 Black","L","610306136046"]
["710169","Hike MW Performance Boot Original","846 Black","XL","610306136053"]
["710169","Hike MW Performance Boot Original","866 Gunmetal","M","610306136077"]
["710169","Hike MW Performance Boot Original","866 Gunmetal","L","610306136084"]
["710169","Hike MW Performance Boot Original","866 Gunmetal","XL","610306136091"]
["710644","Hike MW Performance Boot Wmn Original","401 Blue/Sky","S","610306136169"]
["710644","Hike MW Performance Boot Wmn Original","401 Blue/Sky","M","610306136176"]
["710644","Hike MW Performance Boot Wmn Original","401 Blue/Sky","L","610306136183"]
["710644","Hike MW Performance Boot Wmn Original","809 Silver Grey","S","610306136190"]
["710644","Hike MW Performance Boot Wmn Original","809 Silver Grey","M","610306136206"]
["710644","Hike MW Performance Boot Wmn Original","809 Silver Grey","L","610306136213"]
["710152","Hike LW Performance Boot Original","124 Grey Heather","M","610306142443"]
["710152","Hike LW Performance Boot Original","124 Grey Heather","L","610306142450"]
["710152","Hike LW Performance Boot Original","124 Grey Heather","XL","610306142467"]
["710152","Hike LW Performance Boot Original","433 Navy/Grey","M","610306136428"]
["710152","Hike LW Performance Boot Original","433 Navy/Grey","L","610306136435"]
["710152","Hike LW Performance Boot Original","433 Navy/Grey","XL","610306136442"]
["710152","Hike LW Performance Boot Original","845 Black","M","610306136466"]
["710152","Hike LW Performance Boot Original","845 Black","L","610306136473"]
["710152","Hike LW Performance Boot Original","845 Black","XL","610306136480"]
["710652","Hike LW Performance Boot Wmn Original","370 Berry","S","610306136565"]
["710652","Hike LW Performance Boot Wmn Original","370 Berry","M","610306136572"]
["710652","Hike LW Performance Boot Wmn Original","370 Berry","L","610306136589"]
["710652","Hike LW Performance Boot Wmn Original","435 Denim","S","610306164247"]
["710652","Hike LW Performance Boot Wmn Original","435 Denim","M","610306164254"]
["710652","Hike LW Performance Boot Wmn Original","435 Denim","L","610306164261"]
["710528","Hike LW Performance ¾ Crew Original","810 Silver/Navy","M","610306136633"]
["710528","Hike LW Performance ¾ Crew Original","810 Silver/Navy","L","610306136640"]
["710528","Hike LW Performance ¾ Crew Original","822 Black/Silver","M","610306136671"]
["710528","Hike LW Performance ¾ Crew Original","822 Black/Silver","L","610306136688"]
["710528","Hike LW Performance ¾ Crew Original","822 Black/Silver","XL","610306136695"]
["710608","Hike LW Performance ¾ Crew Wmn Original","814 Heather/Damson","S","610306136749"]
["710608","Hike LW Performance ¾ Crew Wmn Original","814 Heather/Damson","M","610306136756"]
["710608","Hike LW Performance ¾ Crew Wmn Original","814 Heather/Damson","L","610306136763"]
["710132","Hike Lightweight Coolmax® Performance Boot","042 Navy/Red","M","610306147202"]
["710132","Hike Lightweight Coolmax® Performance Boot","042 Navy/Red","L","610306147219"]
["710132","Hike Lightweight Coolmax® Performance Boot","042 Navy/Red","XL","610306147226"]
["710132","Hike Lightweight Coolmax® Performance Boot","137 Black/Lime","M","610306147165"]
["710132","Hike Lightweight Coolmax® Performance Boot","137 Black/Lime","L","610306147172"]
["710132","Hike Lightweight Coolmax® Performance Boot","137 Black/Lime","XL","610306147189"]
["710136","Hike Lightweight Coolmax® Performance Boot Wmns","168 Graphite/Mint","S","610306147639"]
["710136","Hike Lightweight Coolmax® Performance Boot Wmns","168 Graphite/Mint","M","610306147646"]
["710136","Hike Lightweight Coolmax® Performance Boot Wmns","168 Graphite/Mint","L","610306147653"]
["710136","Hike Lightweight Coolmax® Performance Boot Wmns","259 Teal","S","610306164339"]
["710136","Hike Lightweight Coolmax® Performance Boot Wmns","259 Teal","M","610306164346"]
["710136","Hike Lightweight Coolmax® Performance Boot Wmns","259 Teal","L","610306164353"]
["710099","Hike UL Performance Crew Original","445 Navy","M","610306142894"]
["710099","Hike UL Performance Crew Original","445 Navy","L","610306142900"]
["710099","Hike UL Performance Crew Original","445 Navy","XL","610306142917"]
["710099","Hike UL Performance Crew Original","845 Black","M","610306142931"]
["710099","Hike UL Performance Crew Original","845 Black","L","610306142948"]
["710099","Hike UL Performance Crew Original","845 Black","XL","610306142955"]
["710101","Hike UL Performance Crew Wmn Original","390 Aubergine","S","610306143129"]
["710101","Hike UL Performance Crew Wmn Original","390 Aubergine","M","610306143136"]
["710101","Hike UL Performance Crew Wmn Original","390 Aubergine","L","610306143143"]
["710101","Hike UL Performance Crew Wmn Original","435 Denim","S","610306143068"]
["710101","Hike UL Performance Crew Wmn Original","435 Denim","M","610306143075"]
["710101","Hike UL Performance Crew Wmn Original","435 Denim","L","610306143082"]
[710288,"Hike UL Performance Crew Wmn Pattern","436 Blue","S","610306166586"]
[710288,"Hike UL Performance Crew Wmn Pattern","436 Blue","M","610306166593"]
[710288,"Hike UL Performance Crew Wmn Pattern","436 Blue","L","610306166609"]
[710259,"Hike UL T2 Merino Performance Low ","042 Navy/Red","M","610306163134"]
[710259,"Hike UL T2 Merino Performance Low ","042 Navy/Red","L","610306163141"]
[710259,"Hike UL T2 Merino Performance Low ","042 Navy/Red","XL","610306163158"]
[710259,"Hike UL T2 Merino Performance Low ","265 Anthracite/Orange","M","610306163097"]
[710259,"Hike UL T2 Merino Performance Low ","265 Anthracite/Orange","L","610306163103"]
[710259,"Hike UL T2 Merino Performance Low ","265 Anthracite/Orange","XL","610306163110"]
["710260","Hike UL T2 Merino Performance Low Wmns","263 Navy/Candy","S","610306163165"]
["710260","Hike UL T2 Merino Performance Low Wmns","263 Navy/Candy","M","610306163172"]
["710260","Hike UL T2 Merino Performance Low Wmns","263 Navy/Candy","L","610306163189"]
["710260","Hike UL T2 Merino Performance Low Wmns","264 Mid Grey/Surf","S","610306163196"]
["710260","Hike UL T2 Merino Performance Low Wmns","264 Mid Grey/Surf","M","610306163202"]
["710260","Hike UL T2 Merino Performance Low Wmns","264 Mid Grey/Surf","L","610306163219"]
["710596","Hike MW Comfort Boot Original","017 Stone Grey","M","610306137197"]
["710596","Hike MW Comfort Boot Original","017 Stone Grey","L","610306137203"]
["710596","Hike MW Comfort Boot Original","017 Stone Grey","XL","610306137210"]
["710596","Hike MW Comfort Boot Original","420 Navy","M","610306137234"]
["710596","Hike MW Comfort Boot Original","420 Navy","L","610306137241"]
["710596","Hike MW Comfort Boot Original","420 Navy","XL","610306137258"]
["710596","Hike MW Comfort Boot Original","832 Charcoal","M","610306137319"]
["710596","Hike MW Comfort Boot Original","832 Charcoal","L","610306137326"]
["710596","Hike MW Comfort Boot Original","832 Charcoal","XL","610306137333"]
["710627","Hike MW Comfort Boot Wmn Original","436 Blue","S","610306137418"]
["710627","Hike MW Comfort Boot Wmn Original","436 Blue","M","610306137425"]
["710627","Hike MW Comfort Boot Wmn Original","436 Blue","L","610306137432"]
["710627","Hike MW Comfort Boot Wmn Original","926 Natural","S","610306137449"]
["710627","Hike MW Comfort Boot Wmn Original","926 Natural","M","610306137456"]
["710627","Hike MW Comfort Boot Wmn Original","926 Natural","L","610306137463"]
[710366,"Hike LW Merino Comfort","445 Navy","M","610306173126"]
[710366,"Hike LW Merino Comfort","445 Navy","L","610306173133"]
[710366,"Hike LW Merino Comfort","445 Navy","XL","610306173140"]
[710366,"Hike LW Merino Comfort","826 Dark Grey","M","610306173164"]
[710366,"Hike LW Merino Comfort","826 Dark Grey","L","610306173171"]
[710366,"Hike LW Merino Comfort","826 Dark Grey","XL","610306173188"]
[710366,"Hike LW Merino Comfort","927 Taupe","M","610306173201"]
[710366,"Hike LW Merino Comfort","927 Taupe","L","610306173218"]
[710366,"Hike LW Merino Comfort","927 Taupe","XL","610306173225"]
[710367,"Hike LW Merino Comfort Wmn","017 Stone Grey","S","610306173232"]
[710367,"Hike LW Merino Comfort Wmn","017 Stone Grey","M","610306173249"]
[710367,"Hike LW Merino Comfort Wmn","017 Stone Grey","L","610306173256"]
[710367,"Hike LW Merino Comfort Wmn","386 Taupe/Red","S","610306173270"]
[710367,"Hike LW Merino Comfort Wmn","386 Taupe/Red","M","610306173287"]
[710367,"Hike LW Merino Comfort Wmn","386 Taupe/Red","L","610306173294"]
[710367,"Hike LW Merino Comfort Wmn","420 Navy","S","610306173317"]
[710367,"Hike LW Merino Comfort Wmn","420 Navy","M","610306173324"]
[710367,"Hike LW Merino Comfort Wmn","420 Navy","L","610306173331"]
[710199,"Trail Run Lightweight - Merino","436 Blue","M",610306160294]
[710199,"Trail Run Lightweight - Merino","436 Blue","L",610306160300]
[710199,"Trail Run Lightweight - Merino","436 Blue","XL",610306160317]
[710199,"Trail Run Lightweight - Merino","845 Black","M",610306160331]
[710199,"Trail Run Lightweight - Merino","845 Black","L",610306160348]
[710199,"Trail Run Lightweight - Merino","845 Black","XL",610306160355]
[710199,"Trail Run Lightweight - Merino","866 Gunmetal","M",610306160416]
[710199,"Trail Run Lightweight - Merino","866 Gunmetal","L",610306160423]
[710199,"Trail Run Lightweight - Merino","866 Gunmetal","XL",610306160430]
[710200,"Trail Run Lightweight - Merino Wmns","259 Teal","S",610306160447]
[710200,"Trail Run Lightweight - Merino Wmns","259 Teal","M",610306160454]
[710200,"Trail Run Lightweight - Merino Wmns","259 Teal","L",610306160461]
[710200,"Trail Run Lightweight - Merino Wmns","260 Charcoal/Purple","S",610306160508]
[710200,"Trail Run Lightweight - Merino Wmns","260 Charcoal/Purple","M",610306160515]
[710200,"Trail Run Lightweight - Merino Wmns","260 Charcoal/Purple","L",610306160522]
[710201,"Trail Run Ultralight 3/4 Crew - Merino","436 Blue","M",610306160577]
[710201,"Trail Run Ultralight 3/4 Crew - Merino","436 Blue","L",610306160584]
[710201,"Trail Run Ultralight 3/4 Crew - Merino","436 Blue","XL",610306160591]
[710201,"Trail Run Ultralight 3/4 Crew - Merino","866 Gunmetal","M",610306160690]
[710201,"Trail Run Ultralight 3/4 Crew - Merino","866 Gunmetal","L",610306160706]
[710201,"Trail Run Ultralight 3/4 Crew - Merino","866 Gunmetal","XL",610306160713]
[710202,"Trail Run Ultralight 3/4 Crew - Merino Wmns","195 Damson","S",610306160751]
[710202,"Trail Run Ultralight 3/4 Crew - Merino Wmns","195 Damson","M",610306160768]
[710202,"Trail Run Ultralight 3/4 Crew - Merino Wmns","195 Damson","L",610306160775]
[710202,"Trail Run Ultralight 3/4 Crew - Merino Wmns","259 Teal","S",610306160720]
[710202,"Trail Run Ultralight 3/4 Crew - Merino Wmns","259 Teal","M",610306160737]
[710202,"Trail Run Ultralight 3/4 Crew - Merino Wmns","259 Teal","L",610306160744]
[710202,"Trail Run Ultralight 3/4 Crew - Merino Wmns","260 Charcoal/Purple","S",610306160782]
[710202,"Trail Run Ultralight 3/4 Crew - Merino Wmns","260 Charcoal/Purple","M",610306160799]
[710202,"Trail Run Ultralight 3/4 Crew - Merino Wmns","260 Charcoal/Purple","L",610306160805]
[710203,"Trail Run Ultralight Low - Merino","325 Red","M","610306160935"]
[710203,"Trail Run Ultralight Low - Merino","325 Red","L","610306160942"]
[710203,"Trail Run Ultralight Low - Merino","325 Red","XL","610306160959"]
[710203,"Trail Run Ultralight Low - Merino","436 Blue","M",610306160850]
[710203,"Trail Run Ultralight Low - Merino","436 Blue","L",610306160867]
[710203,"Trail Run Ultralight Low - Merino","436 Blue","XL",610306160874]
[710203,"Trail Run Ultralight Low - Merino","866 Gunmetal","M",610306160973]
[710203,"Trail Run Ultralight Low - Merino","866 Gunmetal","L",610306160980]
[710203,"Trail Run Ultralight Low - Merino","866 Gunmetal","XL",610306160997]
[710204,"Trail Run Ultralight Low - Merino Wmns","195 Damson","S",610306161031]
[710204,"Trail Run Ultralight Low - Merino Wmns","195 Damson","M",610306161048]
[710204,"Trail Run Ultralight Low - Merino Wmns","195 Damson","L",610306161055]
[710204,"Trail Run Ultralight Low - Merino Wmns","259 Teal","S",610306161000]
[710204,"Trail Run Ultralight Low - Merino Wmns","259 Teal","M",610306161017]
[710204,"Trail Run Ultralight Low - Merino Wmns","259 Teal","L",610306161024]
[710204,"Trail Run Ultralight Low - Merino Wmns","260 Charcoal/Purple","S",610306161062]
[710204,"Trail Run Ultralight Low - Merino Wmns","260 Charcoal/Purple","M",610306161079]
[710204,"Trail Run Ultralight Low - Merino Wmns","260 Charcoal/Purple","L",610306161086]
["710539","Liner Coolmax Boot 2pr pk Mens","806 Grey","S","610306138774"]
["710539","Liner Coolmax Boot 2pr pk Mens","806 Grey","M","610306138781"]
["710539","Liner Coolmax Boot 2pr pk Mens","806 Grey","L","610306138798"]
["710539","Liner Coolmax Boot 2pr pk Mens","806 Grey","XL","610306138804"]
["710539","Liner Coolmax Boot 2pr pk Mens","846 Black","S","610306138811"]
["710539","Liner Coolmax Boot 2pr pk Mens","846 Black","M","610306138828"]
["710539","Liner Coolmax Boot 2pr pk Mens","846 Black","L","610306138835"]
["710539","Liner Coolmax Boot 2pr pk Mens","846 Black","XL","610306138842"]
["710539","Liner Coolmax Boot 2pr pk Mens","621 White","S","610306143990"]
["710539","Liner Coolmax Boot 2pr pk Mens","621 White","M","610306144003"]
["710539","Liner Coolmax Boot 2pr pk Mens","621 White","L","610306144010"]
["710539","Liner Coolmax Boot 2pr pk Mens","621 White","XL","610306144027"]
["710605","Liner Coolmax Boot 2pr pk Wmn","445 Navy","S","610306138880"]
["710605","Liner Coolmax Boot 2pr pk Wmn","445 Navy","M","610306138897"]
["710605","Liner Coolmax Boot 2pr pk Wmn","445 Navy","L","610306138903"]
["710028","Everyday Sock Performance Boot","035 Black/Lt Grey","M","610306138712"]
["710028","Everyday Sock Performance Boot","035 Black/Lt Grey","L","610306138729"]
["710028","Everyday Sock Performance Boot","035 Black/Lt Grey","XL","610306138736"]
["710027","Everyday Sock Performance Boot Wmn","126 Dk Grey/Blue","S","610306143242"]
["710027","Everyday Sock Performance Boot Wmn","126 Dk Grey/Blue","M","610306143259"]
["710027","Everyday Sock Performance Boot Wmn","126 Dk Grey/Blue","L","610306143266"]
["710075","Storm Sock HW Knee","845 Black/Red","S","610306140852"]
["710075","Storm Sock HW Knee","845 Black/Red","M","610306140869"]
["710075","Storm Sock HW Knee","845 Black/Red","L","610306140876"]
["710075","Storm Sock HW Knee","845 Black/Red","XL","610306140883"]
["710076","Storm Sock HW Boot","845 Black/Red","S","610306140937"]
["710076","Storm Sock HW Boot","845 Black/Red","M","610306140944"]
["710076","Storm Sock HW Boot","845 Black/Red","L","610306140951"]
["710076","Storm Sock HW Boot","845 Black/Red","XL","610306140968"]
["710086","Storm Sock MW Knee","845 Black/Blue","S","610306141019"]
["710086","Storm Sock MW Knee","845 Black/Blue","M","610306141026"]
["710086","Storm Sock MW Knee","845 Black/Blue","L","610306141033"]
["710086","Storm Sock MW Knee","845 Black/Blue","XL","610306141040"]
["710087","Storm Sock MW Boot","845 Black/Blue","S","610306141095"]
["710087","Storm Sock MW Boot","845 Black/Blue","M","610306141101"]
["710087","Storm Sock MW Boot","845 Black/Blue","L","610306141118"]
["710087","Storm Sock MW Boot","845 Black/Blue","XL","610306141125"]
["710088","Storm Sock MW Ankle","845 Black/Blue","S","610306141170"]
["710088","Storm Sock MW Ankle","845 Black/Blue","M","610306141187"]
["710088","Storm Sock MW Ankle","845 Black/Blue","L","610306141194"]
["710088","Storm Sock MW Ankle","845 Black/Blue","XL","610306141200"]
["710089","Storm Sock LW Boot","826 Dark Grey","S","610306141255"]
["710089","Storm Sock LW Boot","826 Dark Grey","M","610306141262"]
["710089","Storm Sock LW Boot","826 Dark Grey","L","610306141279"]
["710089","Storm Sock LW Boot","826 Dark Grey","XL","610306141286"]
["710090","Storm Sock LW Ankle","845 Black/Mid Grey","S","610306141293"]
["710090","Storm Sock LW Ankle","845 Black/Mid Grey","M","610306141309"]
["710090","Storm Sock LW Ankle","845 Black/Mid Grey","L","610306141316"]
["710090","Storm Sock LW Ankle","845 Black/Mid Grey","XL","610306141323"]

{"sheet":"Sheet2","index":4,"n_rows":1,"n_cols":1,"rows_kept":1,"hidden":true}
["socks2021"]

{"sheet":"IMPORT","index":5,"n_rows":1039,"n_cols":11,"rows_kept":1039,"hidden":true}
["ENTER ACCOUNT #","UPLOADUSD","SELLINGPERIOD","2021 Spring/Summer",{"$nulls":5},{"$f":"IF(SUM(J3:J1039)<>SUM('ORDER FORM'!P96:P125),\"ERROR\",\"\")","v":""}]
["Account #","Customer Po","SellingPeriod","Ship Date","Style Code","Color Code","Size","UPC Type","UPC","quantity","price"]
[{"$f":"IF(IF($B$1=0,\"ENTER ACCOUNT\",$B$1)=\"\",\"UPLOADUSD\",IF($B$1=0,\"ENTER ACCOUNT\",$B$1))","v":"UPLOADUSD"},{"$f":"IF('ORDER FORM'!$O$7=\"\",\"ENTER-PO\",'ORDER FORM'!$O$7)","v":"ENTER-PO"},{"$f":"$D$1","v":"2021 Spring/Summer"},{"$f":"IF('ORDER FORM'!$O$9=\"\",TODAY(),'ORDER FORM'!$O$9)","v":"2023-11-02"},710026,"041","M","2","610306137616",{"$f":"IF(IFERROR(INDEX('ORDER FORM'!$I$96:$L$125,MATCH(CONCATENATE(E3,F3),'ORDER FORM'!$A$96:$A$125,0),MATCH(G3,'ORDER FORM'!$I$119:$L$119,0)),\"\")=0,\"\",IFERROR(INDEX('ORDER FORM'!$I$96:$L$125,MATCH(CONCATENATE(E3,F3),'ORDER FORM'!$A$96:A$125,0),MATCH(G3,'ORDER FORM'!$I$119:$L$119,0)),\"\"))","v":""},{"$f":"IFERROR(IFERROR(INDEX('ORDER FORM'!N:N,MATCH(IMPORT!E3,'ORDER FORM'!B:B,0)),INDEX('ORDER FORM'!N:N,MATCH(TRIM(IMPORT!E3),'ORDER FORM'!B:B,0))),\"\")","v":""}]
[{"$f":"IF(IF($B$1=0,\"ENTER ACCOUNT\",$B$1)=\"\",\"UPLOADUSD\",IF($B$1=0,\"ENTER ACCOUNT\",$B$1))","v":"UPLOADUSD"},{"$f":"IF('ORDER FORM'!$O$7=\"\",\"ENTER-PO\",'ORDER FORM'!$O$7)","v":"ENTER-PO"},{"$f":"$D$1","v":"2021 Spring/Summer"},{"$f":"IF('ORDER FORM'!$O$9=\"\",TODAY(),'ORDER FORM'!$O$9)","v":"2023-11-02"},710026,"041","L","2","610306137623",{"$f":"IF(IFERROR(INDEX('ORDER FORM'!$I$96:$L$125,MATCH(CONCATENATE(E4,F4),'ORDER FORM'!$A$96:$A$125,0),MATCH(G4,'ORDER FORM'!$I$119:$L$119,0)),\"\")=0,\"\",IFERROR(INDEX('ORDER FORM'!$I$96:$L$125,MATCH(CONCATENATE(E4,F4),'ORDER FORM'!$A$96:A$125,0),MATCH(G4,'ORDER FORM'!$I$119:$L$119,0)),\"\"))","v":""},{"$f":"IFERROR(IFERROR(INDEX('ORDER FORM'!N:N,MATCH(IMPORT!E4,'ORDER FORM'!B:B,0)),INDEX('ORDER FORM'!N:N,MATCH(TRIM(IMPORT!E4),'ORDER FORM'!B:B,0))),\"\")","v":""}]
["UPLOADUSD",{"$f":"IF('ORDER FORM'!$O$7=\"\",\"ENTER-PO\",'ORDER FORM'!$O$7)","v":"ENTER-PO"},"2021 Spring/Summer",{"$f":"IF('ORDER FORM'!$O$9=\"\",TODAY(),'ORDER FORM'!$O$9)","v":"2023-11-02"},710026,"041","XL","2","610306137630",{"$f":"IF(IFERROR(INDEX('ORDER FORM'!$I$96:$L$125,MATCH(CONCATENATE(E5,F5),'ORDER FORM'!$A$96:$A$125,0),MATCH(G5,'ORDER FORM'!$I$119:$L$119,0)),\"\")=0,\"\",IFERROR(INDEX('ORDER FORM'!$I$96:$L$125,MATCH(CONCATENATE(E5,F5),'ORDER FORM'!$A$96:A$125,0),MATCH(G5,'ORDER FORM'!$I$119:$L$119,0)),\"\"))","v":""},{"$f":"IFERROR(IFERROR(INDEX('ORDER FORM'!N:N,MATCH(IMPORT!E5,'ORDER FORM'!B:B,0)),INDEX('ORDER FORM'!N:N,MATCH(TRIM(IMPORT!E5),'ORDER FORM'!B:B,0))),\"\")","v":""}]
["UPLOADUSD",{"$f":"IF('ORDER FORM'!$O$7=\"\",\"ENTER-PO\",'ORDER FORM'!$O$7)","v":"ENTER-PO"},"2021 Spring/Summer",{"$f":"IF('ORDER FORM'!$O$9=\"\",TODAY(),'ORDER FORM'!$O$9)","v":"2023-11-02"},"710026","828","M","2","610306137647",{"$f":"IF(IFERROR(INDEX('ORDER FORM'!$I$96:$L$125,MATCH(CONCATENATE(E6,F6),'ORDER FORM'!$A$96:$A$125,0),MATCH(G6,'ORDER FORM'!$I$119:$L$119,0)),\"\")=0,\"\",IFERROR(INDEX('ORDER FORM'!$I$96:$L$125,MATCH(CONCATENATE(E6,F6),'ORDER FORM'!$A$96:A$125,0),MATCH(G6,'ORDER FORM'!$I$119:$L$119,0)),\"\"))","v":""},{"$f":"IFERROR(IFERROR(INDEX('ORDER FORM'!N:N,MATCH(IMPORT!E6,'ORDER FORM'!B:B,0)),INDEX('ORDER FORM'!N:N,MATCH(TRIM(IMPORT!E6),'ORDER FORM'!B:B,0))),\"\")","v":""}]
["UPLOADUSD",{"$f":"IF('ORDER FORM'!$O$7=\"\",\"ENTER-PO\",'ORDER FORM'!$O$7)","v":"ENTER-PO"},"2021 Spring/Summer",{"$f":"IF('ORDER FORM'!$O$9=\"\",TODAY(),'ORDER FORM'!$O$9)","v":"2023-11-02"},"710026","828","L","2","610306137654",{"$f":"IF(IFERROR(INDEX('ORDER FORM'!$I$96:$L$125,MATCH(CONCATENATE(E7,F7),'ORDER FORM'!$A$96:$A$125,0),MATCH(G7,'ORDER FORM'!$I$119:$L$119,0)),\"\")=0,\"\",IFERROR(INDEX('ORDER FORM'!$I$96:$L$125,MATCH(CONCATENATE(E7,F7),'ORDER FORM'!$A$96:A$125,0),MATCH(G7,'ORDER FORM'!$I$119:$L$119,0)),\"\"))","v":""},{"$f":"IFERROR(IFERROR(INDEX('ORDER FORM'!N:N,MATCH(IMPORT!E7,'ORDER FORM'!B:B,0)),INDEX('ORDER FORM'!N:N,MATCH(TRIM(IMPORT!E7),'ORDER FORM'!B:B,0))),\"\")","v":""}]
["UPLOADUSD",{"$f":"IF('ORDER FORM'!$O$7=\"\",\"ENTER-PO\",'ORDER FORM'!$O$7)","v":"ENTER-PO"},"2021 Spring/Summer",{"$f":"IF('ORDER FORM'!$O$9=\"\",TODAY(),'ORDER FORM'!$O$9)","v":"2023-11-02"},"710026","828","XL","2","610306137661",{"$f":"IF(IFERROR(INDEX('ORDER FORM'!$I$96:$L$125,MATCH(CONCATENATE(E8,F8),'ORDER FORM'!$A$96:$A$125,0),MATCH(G8,'ORDER FORM'!$I$119:$L$119,0)),\"\")=0,\"\",IFERROR(INDEX('ORDER FORM'!$I$96:$L$125,MATCH(CONCATENATE(E8,F8),'ORDER FORM'!$A$96:A$125,0),MATCH(G8,'ORDER FORM'!$I$119:$L$119,0)),\"\"))","v":""},{"$f":"IFERROR(IFERROR(INDEX('ORDER FORM'!N:N,MATCH(IMPORT!E8,'ORDER FORM'!B:B,0)),INDEX('ORDER FORM'!N:N,MATCH(TRIM(IMPORT!E8),'ORDER FORM'!B:B,0))),\"\")","v":""}]
["UPLOADUSD",{"$f":"IF('ORDER FORM'!$O$7=\"\",\"ENTER-PO\",'ORDER FORM'!$O$7)","v":"ENTER-PO"},"2021 Spring/Summer",{"$f":"IF('ORDER FORM'!$O$9=\"\",TODAY(),'ORDER FORM'!$O$9)","v":"2023-11-02"},710027,"065","S","2","610306138743",{"$f":"IF(IFERROR(INDEX('ORDER FORM'!$I$96:$L$125,MATCH(CONCATENATE(E9,F9),'ORDER FORM'!$A$96:$A$125,0),MATCH(G9,'ORDER FORM'!$I$119:$L$119,0)),\"\")=0,\"\",IFERROR(INDEX('ORDER FORM'!$I$96:$L$125,MATCH(CONCATENATE(E9,F9),'ORDER FORM'!$A$96:A$125,0),MATCH(G9,'ORDER FORM'!$I$119:$L$119,0)),\"\"))","v":""},{"$f":"IFERROR(IFERROR(INDEX('ORDER FORM'!N:N,MATCH(IMPORT!E9,'ORDER FORM'!B:B,0)),INDEX('ORDER FORM'!N:N,MATCH(TRIM(IMPORT!E9),'ORDER FORM'!B:B,0))),\"\")","v":{"v":10.5,"d":"10.50"}}]
["UPLOADUSD",{"$f":"IF('ORDER FORM'!$O$7=\"\",\"ENTER-PO\",'ORDER FORM'!$O$7)","v":"ENTER-PO"},"2021 Spring/Summer",{"$f":"IF('ORDER FORM'!$O$9=\"\",TODAY(),'ORDER FORM'!$O$9)","v":"2023-11-02"},710027,"065","M","2","610306138750",{"$f":"IF(IFERROR(INDEX('ORDER FORM'!$I$96:$L$125,MATCH(CONCATENATE(E10,F10),'ORDER FORM'!$A$96:$A$125,0),MATCH(G10,'ORDER FORM'!$I$119:$L$119,0)),\"\")=0,\"\",IFERROR(INDEX('ORDER FORM'!$I$96:$L$125,MATCH(CONCATENATE(E10,F10),'ORDER FORM'!$A$96:A$125,0),MATCH(G10,'ORDER FORM'!$I$119:$L$119,0)),\"\"))","v":""},{"$f":"IFERROR(IFERROR(INDEX('ORDER FORM'!N:N,MATCH(IMPORT!E10,'ORDER FORM'!B:B,0)),INDEX('ORDER FORM'!N:N,MATCH(TRIM(IMPORT!E10),'ORDER FORM'!B:B,0))),\"\")","v":{"v":10.5,"d":"10.50"}}]
["UPLOADUSD",{"$f":"IF('ORDER FORM'!$O$7=\"\",\"ENTER-PO\",'ORDER FORM'!$O$7)","v":"ENTER-PO"},"2021 Spring/Summer",{"$f":"IF('ORDER FORM'!$O$9=\"\",TODAY(),'ORDER FORM'!$O$9)","v":"2023-11-02"},710027,"065","L","2","610306138767",{"$f":"IF(IFERROR(INDEX('ORDER FORM'!$I$96:$L$125,MATCH(CONCATENATE(E11,F11),'ORDER FORM'!$A$96:$A$125,0),MATCH(G11,'ORDER FORM'!$I$119:$L$119,0)),\"\")=0,\"\",IFERROR(INDEX('ORDER FORM'!$I$96:$L$125,MATCH(CONCATENATE(E11,F11),'ORDER FORM'!$A$96:A$125,0),MATCH(G11,'ORDER FORM'!$I$119:$L$119,0)),\"\"))","v":""},{"$f":"IFERROR(IFERROR(INDEX('ORDER FORM'!N:N,MATCH(IMPORT!E11,'ORDER FORM'!B:B,0)),INDEX('ORDER FORM'!N:N,MATCH(TRIM(IMPORT!E11),'ORDER FORM'!B:B,0))),\"\")","v":{"v":10.5,"d":"10.50"}}]
["UPLOADUSD",{"$f":"IF('ORDER FORM'!$O$7=\"\",\"ENTER-PO\",'ORDER FORM'!$O$7)","v":"ENTER-PO"},"2021 Spring/Summer",{"$f":"IF('ORDER FORM'!$O$9=\"\",TODAY(),'ORDER FORM'!$O$9)","v":"2023-11-02"},710027,"126","S","2","610306143242",{"$f":"IF(IFERROR(INDEX('ORDER FORM'!$I$96:$L$125,MATCH(CONCATENATE(E12,F12),'ORDER FORM'!$A$96:$A$125,0),MATCH(G12,'ORDER FORM'!$I$119:$L$119,0)),\"\")=0,\"\",IFERROR(INDEX('ORDER FORM'!$I$96:$L$125,MATCH(CONCATENATE(E12,F12),'ORDER FORM'!$A$96:A$125,0),MATCH(G12,'ORDER FORM'!$I$119:$L$119,0)),\"\"))","v":""},{"$f":"IFERROR(IFERROR(INDEX('ORDER FORM'!N:N,MATCH(IMPORT!E12,'ORDER FORM'!B:B,0)),INDEX('ORDER FORM'!N:N,MATCH(TRIM(IMPORT!E12),'ORDER FORM'!B:B,0))),\"\")","v":{"v":10.5,"d":"10.50"}}]
["UPLOADUSD",{"$f":"IF('ORDER FORM'!$O$7=\"\",\"ENTER-PO\",'ORDER FORM'!$O$7)","v":"ENTER-PO"},"2021 Spring/Summer",{"$f":"IF('ORDER FORM'!$O$9=\"\",TODAY(),'ORDER FORM'!$O$9)","v":"2023-11-02"},710027,"126","M","2","610306143259",{"$f":"IF(IFERROR(INDEX('ORDER FORM'!$I$96:$L$125,MATCH(CONCATENATE(E13,F13),'ORDER FORM'!$A$96:$A$125,0),MATCH(G13,'ORDER FORM'!$I$119:$L$119,0)),\"\")=0,\"\",IFERROR(INDEX('ORDER FORM'!$I$96:$L$125,MATCH(CONCATENATE(E13,F13),'ORDER FORM'!$A$96:A$125,0),MATCH(G13,'ORDER FORM'!$I$119:$L$119,0)),\"\"))","v":""},{"$f":"IFERROR(IFERROR(INDEX('ORDER FORM'!N:N,MATCH(IMPORT!E13,'ORDER FORM'!B:B,0)),INDEX('ORDER FORM'!N:N,MATCH(TRIM(IMPORT!E13),'ORDER FORM'!B:B,0))),\"\")","v":{"v":10.5,"d":"10.50"}}]
["UPLOADUSD",{"$f":"IF('ORDER FORM'!$O$7=\"\",\"ENTER-PO\",'ORDER FORM'!$O$7)","v":"ENTER-PO"},"2021 Spring/Summer",{"$f":"IF('ORDER FORM'!$O$9=\"\",TODAY(),'ORDER FORM'!$O$9)","v":"2023-11-02"},710027,"126","L","2","610306143266",{"$f":"IF(IFERROR(INDEX('ORDER FORM'!$I$96:$L$125,MATCH(CONCATENATE(E14,F14),'ORDER FORM'!$A$96:$A$125,0),MATCH(G14,'ORDER FORM'!$I$119:$L$119,0)),\"\")=0,\"\",IFERROR(INDEX('ORDER FORM'!$I$96:$L$125,MATCH(CONCATENATE(E14,F14),'ORDER FORM'!$A$96:A$125,0),MATCH(G14,'ORDER FORM'!$I$119:$L$119,0)),\"\"))","v":""},{"$f":"IFERROR(IFERROR(INDEX('ORDER FORM'!N:N,MATCH(IMPORT!E14,'ORDER FORM'!B:B,0)),INDEX('ORDER FORM'!N:N,MATCH(TRIM(IMPORT!E14),'ORDER FORM'!B:B,0))),\"\")","v":{"v":10.5,"d":"10.50"}}]
["UPLOADUSD",{"$f":"IF('ORDER FORM'!$O$7=\"\",\"ENTER-PO\",'ORDER FORM'!$O$7)","v":"ENTER-PO"},"2021 Spring/Summer",{"$f":"IF('ORDER FORM'!$O$9=\"\",TODAY(),'ORDER FORM'!$O$9)","v":"2023-11-02"},710027,"371","S","2","610306143273",{"$f":"IF(IFERROR(INDEX('ORDER FORM'!$I$96:$L$125,MATCH(CONCATENATE(E15,F15),'ORDER FORM'!$A$96:$A$125,0),MATCH(G15,'ORDER FORM'!$I$119:$L$119,0)),\"\")=0,\"\",IFERROR(INDEX('ORDER FORM'!$I$96:$L$125,MATCH(CONCATENATE(E15,F15),'ORDER FORM'!$A$96:A$125,0),MATCH(G15,'ORDER FORM'!$I$119:$L$119,0)),\"\"))","v":""},{"$f":"IFERROR(IFERROR(INDEX('ORDER FORM'!N:N,MATCH(IMPORT!E15,'ORDER FORM'!B:B,0)),INDEX('ORDER FORM'!N:N,MATCH(TRIM(IMPORT!E15),'ORDER FORM'!B:B,0))),\"\")","v":{"v":10.5,"d":"10.50"}}]
["UPLOADUSD",{"$f":"IF('ORDER FORM'!$O$7=\"\",\"ENTER-PO\",'ORDER FORM'!$O$7)","v":"ENTER-PO"},"2021 Spring/Summer",{"$f":"IF('ORDER FORM'!$O$9=\"\",TODAY(),'ORDER FORM'!$O$9)","v":"2023-11-02"},710027,"371","M","2","610306143280",{"$f":"IF(IFERROR(INDEX('ORDER FORM'!$I$96:$L$125,MATCH(CONCATENATE(E16,F16),'ORDER FORM'!$A$96:$A$125,0),MATCH(G16,'ORDER FORM'!$I$119:$L$119,0)),\"\")=0,\"\",IFERROR(INDEX('ORDER FORM'!$I$96:$L$125,MATCH(CONCATENATE(E16,F16),'ORDER FORM'!$A$96:A$125,0),MATCH(G16,'ORDER FORM'!$I$119:$L$119,0)),\"\"))","v":""},{"$f":"IFERROR(IFERROR(INDEX('ORDER FORM'!N:N,MATCH(IMPORT!E16,'ORDER FORM'!B:B,0)),INDEX('ORDER FORM'!N:N,MATCH(TRIM(IMPORT!E16),'ORDER FORM'!B:B,0))),\"\")","v":{"v":10.5,"d":"10.50"}}]
["UPLOADUSD",{"$f":"IF('ORDER FORM'!$O$7=\"\",\"ENTER-PO\",'ORDER FORM'!$O$7)","v":"ENTER-PO"},"2021 Spring/Summer",{"$f":"IF('ORDER FORM'!$O$9=\"\",TODAY(),'ORDER FORM'!$O$9)","v":"2023-11-02"},710027,"371","L","2","610306143297",{"$f":"IF(IFERROR(INDEX('ORDER FORM'!$I$96:$L$125,MATCH(CONCATENATE(E17,F17),'ORDER FORM'!$A$96:$A$125,0),MATCH(G17,'ORDER FORM'!$I$119:$L$119,0)),\"\")=0,\"\",IFERROR(INDEX('ORDER FORM'!$I$96:$L$125,MATCH(CONCATENATE(E17,F17),'ORDER FORM'!$A$96:A$125,0),MATCH(G17,'ORDER FORM'!$I$119:$L$119,0)),\"\"))","v":""},{"$f":"IFERROR(IFERROR(INDEX('ORDER FORM'!N:N,MATCH(IMPORT!E17,'ORDER FORM'!B:B,0)),INDEX('ORDER FORM'!N:N,MATCH(TRIM(IMPORT!E17),'ORDER FORM'!B:B,0))),\"\")","v":{"v":10.5,"d":"10.50"}}]
["UPLOADUSD",{"$f":"IF('ORDER FORM'!$O$7=\"\",\"ENTER-PO\",'ORDER FORM'!$O$7)","v":"ENTER-PO"},"2021 Spring/Summer",{"$f":"IF('ORDER FORM'!$O$9=\"\",TODAY(),'ORDER FORM'!$O$9)","v":"2023-11-02"},710028,"035","S","2","610306138705",{"$f":"IF(IFERROR(INDEX('ORDER FORM'!$I$96:$L$125,MATCH(CONCATENATE(E18,F18),'ORDER FORM'!$A$96:$A$125,0),MATCH(G18,'ORDER FORM'!$I$119:$L$119,0)),\"\")=0,\"\",IFERROR(INDEX('ORDER FORM'!$I$96:$L$125,MATCH(CONCATENATE(E18,F18),'ORDER FORM'!$A$96:A$125,0),MATCH(G18,'ORDER FORM'!$I$119:$L$119,0)),\"\"))","v":""},{"$f":"IFERROR(IFERROR(INDEX('ORDER FORM'!N:N,MATCH(IMPORT!E18,'ORDER FORM'!B:B,0)),INDEX('ORDER FORM'!N:N,MATCH(TRIM(IMPORT!E18),'ORDER FORM'!B:B,0))),\"\")","v":{"v":10.5,"d":"10.50"}}]
["UPLOADUSD",{"$f":"IF('ORDER FORM'!$O$7=\"\",\"ENTER-PO\",'ORDER FORM'!$O$7)","v":"ENTER-PO"},"2021 Spring/Summer",{"$f":"IF('ORDER FORM'!$O$9=\"\",TODAY(),'ORDER FORM'!$O$9)","v":"2023-11-02"},710028,"035","M","2","610306138712",{"$f":"IF(IFERROR(INDEX('ORDER FORM'!$I$96:$L$125,MATCH(CONCATENATE(E19,F19),'ORDER FORM'!$A$96:$A$125,0),MATCH(G19,'ORDER FORM'!$I$119:$L$119,0)),\"\")=0,\"\",IFERROR(INDEX('ORDER FORM'!$I$96:$L$125,MATCH(CONCATENATE(E19,F19),'ORDER FORM'!$A$96:A$125,0),MATCH(G19,'ORDER FORM'!$I$119:$L$119,0)),\"\"))","v":""},{"$f":"IFERROR(IFERROR(INDEX('ORDER FORM'!N:N,MATCH(IMPORT!E19,'ORDER FORM'!B:B,0)),INDEX('ORDER FORM'!N:N,MATCH(TRIM(IMPORT!E19),'ORDER FORM'!B:B,0))),\"\")","v":{"v":10.5,"d":"10.50"}}]
["UPLOADUSD",{"$f":"IF('ORDER FORM'!$O$7=\"\",\"ENTER-PO\",'ORDER FORM'!$O$7)","v":"ENTER-PO"},"2021 Spring/Summer",{"$f":"IF('ORDER FORM'!$O$9=\"\",TODAY(),'ORDER FORM'!$O$9)","v":"2023-11-02"},710028,"035","L","2","610306138729",{"$f":"IF(IFERROR(INDEX('ORDER FORM'!$I$96:$L$125,MATCH(CONCATENATE(E20,F20),'ORDER FORM'!$A$96:$A$125,0),MATCH(G20,'ORDER FORM'!$I$119:$L$119,0)),\"\")=0,\"\",IFERROR(INDEX('ORDER FORM'!$I$96:$L$125,MATCH(CONCATENATE(E20,F20),'ORDER FORM'!$A$96:A$125,0),MATCH(G20,'ORDER FORM'!$I$119:$L$119,0)),\"\"))","v":""},{"$f":"IFERROR(IFERROR(INDEX('ORDER FORM'!N:N,MATCH(IMPORT!E20,'ORDER FORM'!B:B,0)),INDEX('ORDER FORM'!N:N,MATCH(TRIM(IMPORT!E20),'ORDER FORM'!B:B,0))),\"\")","v":{"v":10.5,"d":"10.50"}}]
["UPLOADUSD",{"$f":"IF('ORDER FORM'!$O$7=\"\",\"ENTER-PO\",'ORDER FORM'!$O$7)","v":"ENTER-PO"},"2021 Spring/Summer",{"$f":"IF('ORDER FORM'!$O$9=\"\",TODAY(),'ORDER FORM'!$O$9)","v":"2023-11-02"},710028,"035","XL","2","610306138736",{"$f":"IF(IFERROR(INDEX('ORDER FORM'!$I$96:$L$125,MATCH(CONCATENATE(E21,F21),'ORDER FORM'!$A$96:$A$125,0),MATCH(G21,'ORDER FORM'!$I$119:$L$119,0)),\"\")=0,\"\",IFERROR(INDEX('ORDER FORM'!$I$96:$L$125,MATCH(CONCATENATE(E21,F21),'ORDER FORM'!$A$96:A$125,0),MATCH(G21,'ORDER FORM'!$I$119:$L$119,0)),\"\"))","v":""},{"$f":"IFERROR(IFERROR(INDEX('ORDER FORM'!N:N,MATCH(IMPORT!E21,'ORDER FORM'!B:B,0)),INDEX('ORDER FORM'!N:N,MATCH(TRIM(IMPORT!E21),'ORDER FORM'!B:B,0))),\"\")","v":{"v":10.5,"d":"10.50"}}]
["UPLOADUSD",{"$f":"IF('ORDER FORM'!$O$7=\"\",\"ENTER-PO\",'ORDER FORM'!$O$7)","v":"ENTER-PO"},"2021 Spring/Summer",{"$f":"IF('ORDER FORM'!$O$9=\"\",TODAY(),'ORDER FORM'!$O$9)","v":"2023-11-02"},710028,"132","S","2","610306143204",{"$f":"IF(IFERROR(INDEX('ORDER FORM'!$I$96:$L$125,MATCH(CONCATENATE(E22,F22),'ORDER FORM'!$A$96:$A$125,0),MATCH(G22,'ORDER FORM'!$I$119:$L$119,0)),\"\")=0,\"\",IFERROR(INDEX('ORDER FORM'!$I$96:$L$125,MATCH(CONCATENATE(E22,F22),'ORDER FORM'!$A$96:A$125,0),MATCH(G22,'ORDER FORM'!$I$119:$L$119,0)),\"\"))","v":""},{"$f":"IFERROR(IFERROR(INDEX('ORDER FORM'!N:N,MATCH(IMPORT!E22,'ORDER FORM'!B:B,0)),INDEX('ORDER FORM'!N:N,MATCH(TRIM(IMPORT!E22),'ORDER FORM'!B:B,0))),\"\")","v":{"v":10.5,"d":"10.50"}}]
["UPLOADUSD",{"$f":"IF('ORDER FORM'!$O$7=\"\",\"ENTER-PO\",'ORDER FORM'!$O$7)","v":"ENTER-PO"},"2021 Spring/Summer",{"$f":"IF('ORDER FORM'!$O$9=\"\",TODAY(),'ORDER FORM'!$O$9)","v":"2023-11-02"},710028,"132","M","2","610306143211",{"$f":"IF(IFERROR(INDEX('ORDER FORM'!$I$96:$L$125,MATCH(CONCATENATE(E23,F23),'ORDER FORM'!$A$96:$A$125,0),MATCH(G23,'ORDER FORM'!$I$119:$L$119,0)),\"\")=0,\"\",IFERROR(INDEX('ORDER FORM'!$I$96:$L$125,MATCH(CONCATENATE(E23,F23),'ORDER FORM'!$A$96:A$125,0),MATCH(G23,'ORDER FORM'!$I$119:$L$119,0)),\"\"))","v":""},{"$f":"IFERROR(IFERROR(INDEX('ORDER FORM'!N:N,MATCH(IMPORT!E23,'ORDER FORM'!B:B,0)),INDEX('ORDER FORM'!N:N,MATCH(TRIM(IMPORT!E23),'ORDER FORM'!B:B,0))),\"\")","v":{"v":10.5,"d":"10.50"}}]
["UPLOADUSD",{"$f":"IF('ORDER FORM'!$O$7=\"\",\"ENTER-PO\",'ORDER FORM'!$O$7)","v":"ENTER-PO"},"2021 Spring/Summer",{"$f":"IF('ORDER FORM'!$O$9=\"\",TODAY(),'ORDER FORM'!$O$9)","v":"2023-11-02"},710028,"132","L","2","610306143228",{"$f":"IF(IFERROR(INDEX('ORDER FORM'!$I$96:$L$125,MATCH(CONCATENATE(E24,F24),'ORDER FORM'!$A$96:$A$125,0),MATCH(G24,'ORDER FORM'!$I$119:$L$119,0)),\"\")=0,\"\",IFERROR(INDEX('ORDER FORM'!$I$96:$L$125,MATCH(CONCATENATE(E24,F24),'ORDER FORM'!$A$96:A$125,0),MATCH(G24,'ORDER FORM'!$I$119:$L$119,0)),\"\"))","v":""},{"$f":"IFERROR(IFERROR(INDEX('ORDER FORM'!N:N,MATCH(IMPORT!E24,'ORDER FORM'!B:B,0)),INDEX('ORDER FORM'!N:N,MATCH(TRIM(IMPORT!E24),'ORDER FORM'!B:B,0))),\"\")","v":{"v":10.5,"d":"10.50"}}]
["UPLOADUSD",{"$f":"IF('ORDER FORM'!$O$7=\"\",\"ENTER-PO\",'ORDER FORM'!$O$7)","v":"ENTER-PO"},"2021 Spring/Summer",{"$f":"IF('ORDER FORM'!$O$9=\"\",TODAY(),'ORDER FORM'!$O$9)","v":"2023-11-02"},710028,"132","XL","2","610306143235",{"$f":"IF(IFERROR(INDEX('ORDER FORM'!$I$96:$L$125,MATCH(CONCATENATE(E25,F25),'ORDER FORM'!$A$96:$A$125,0),MATCH(G25,'ORDER FORM'!$I$119:$L$119,0)),\"\")=0,\"\",IFERROR(INDEX('ORDER FORM'!$I$96:$L$125,MATCH(CONCATENATE(E25,F25),'ORDER FORM'!$A$96:A$125,0),MATCH(G25,'ORDER FORM'!$I$119:$L$119,0)),\"\"))","v":""},{"$f":"IFERROR(IFERROR(INDEX('ORDER FORM'!N:N,MATCH(IMPORT!E25,'ORDER FORM'!B:B,0)),INDEX('ORDER FORM'!N:N,MATCH(TRIM(IMPORT!E25),'ORDER FORM'!B:B,0))),\"\")","v":{"v":10.5,"d":"10.50"}}]
["UPLOADUSD",{"$f":"IF('ORDER FORM'!$O$7=\"\",\"ENTER-PO\",'ORDER FORM'!$O$7)","v":"ENTER-PO"},"2021 Spring/Summer",{"$f":"IF('ORDER FORM'!$O$9=\"\",TODAY(),'ORDER FORM'!$O$9)","v":"2023-11-02"},710028,"841","S","2","610306143167",{"$f":"IF(IFERROR(INDEX('ORDER FORM'!$I$96:$L$125,MATCH(CONCATENATE(E26,F26),'ORDER FORM'!$A$96:$A$125,0),MATCH(G26,'ORDER FORM'!$I$119:$L$119,0)),\"\")=0,\"\",IFERROR(INDEX('ORDER FORM'!$I$96:$L$125,MATCH(CONCATENATE(E26,F26),'ORDER FORM'!$A$96:A$125,0),MATCH(G26,'ORDER FORM'!$I$119:$L$119,0)),\"\"))","v":""},{"$f":"IFERROR(IFERROR(INDEX('ORDER FORM'!N:N,MATCH(IMPORT!E26,'ORDER FORM'!B:B,0)),INDEX('ORDER FORM'!N:N,MATCH(TRIM(IMPORT!E26),'ORDER FORM'!B:B,0))),\"\")","v":{"v":10.5,"d":"10.50"}}]
["UPLOADUSD",{"$f":"IF('ORDER FORM'!$O$7=\"\",\"ENTER-PO\",'ORDER FORM'!$O$7)","v":"ENTER-PO"},"2021 Spring/Summer",{"$f":"IF('ORDER FORM'!$O$9=\"\",TODAY(),'ORDER FORM'!$O$9)","v":"2023-11-02"},710028,"841","M","2","610306143174",{"$f":"IF(IFERROR(INDEX('ORDER FORM'!$I$96:$L$125,MATCH(CONCATENATE(E27,F27),'ORDER FORM'!$A$96:$A$125,0),MATCH(G27,'ORDER FORM'!$I$119:$L$119,0)),\"\")=0,\"\",IFERROR(INDEX('ORDER FORM'!$I$96:$L$125,MATCH(CONCATENATE(E27,F27),'ORDER FORM'!$A$96:A$125,0),MATCH(G27,'ORDER FORM'!$I$119:$L$119,0)),\"\"))","v":""},{"$f":"IFERROR(IFERROR(INDEX('ORDER FORM'!N:N,MATCH(IMPORT!E27,'ORDER FORM'!B:B,0)),INDEX('ORDER FORM'!N:N,MATCH(TRIM(IMPORT!E27),'ORDER FORM'!B:B,0))),\"\")","v":{"v":10.5,"d":"10.50"}}]
["UPLOADUSD",{"$f":"IF('ORDER FORM'!$O$7=\"\",\"ENTER-PO\",'ORDER FORM'!$O$7)","v":"ENTER-PO"},"2021 Spring/Summer",{"$f":"IF('ORDER FORM'!$O$9=\"\",TODAY(),'ORDER FORM'!$O$9)","v":"2023-11-02"},710028,"841","L","2","610306143181",{"$f":"IF(IFERROR(INDEX('ORDER FORM'!$I$96:$L$125,MATCH(CONCATENATE(E28,F28),'ORDER FORM'!$A$96:$A$125,0),MATCH(G28,'ORDER FORM'!$I$119:$L$119,0)),\"\")=0,\"\",IFERROR(INDEX('ORDER FORM'!$I$96:$L$125,MATCH(CONCATENATE(E28,F28),'ORDER FORM'!$A$96:A$125,0),MATCH(G28,'ORDER FORM'!$I$119:$L$119,0)),\"\"))","v":""},{"$f":"IFERROR(IFERROR(INDEX('ORDER FORM'!N:N,MATCH(IMPORT!E28,'ORDER FORM'!B:B,0)),INDEX('ORDER FORM'!N:N,MATCH(TRIM(IMPORT!E28),'ORDER FORM'!B:B,0))),\"\")","v":{"v":10.5,"d":"10.50"}}]
["UPLOADUSD",{"$f":"IF('ORDER FORM'!$O$7=\"\",\"ENTER-PO\",'ORDER FORM'!$O$7)","v":"ENTER-PO"},"2021 Spring/Summer",{"$f":"IF('ORDER FORM'!$O$9=\"\",TODAY(),'ORDER FORM'!$O$9)","v":"2023-11-02"},710028,"841","XL","2","610306143198",{"$f":"IF(IFERROR(INDEX('ORDER FORM'!$I$96:$L$125,MATCH(CONCATENATE(E29,F29),'ORDER FORM'!$A$96:$A$125,0),MATCH(G29,'ORDER FORM'!$I$119:$L$119,0)),\"\")=0,\"\",IFERROR(INDEX('ORDER FORM'!$I$96:$L$125,MATCH(CONCATENATE(E29,F29),'ORDER FORM'!$A$96:A$125,0),MATCH(G29,'ORDER FORM'!$I$119:$L$119,0)),\"\"))","v":""},{"$f":"IFERROR(IFERROR(INDEX('ORDER FORM'!N:N,MATCH(IMPORT!E29,'ORDER FORM'!B:B,0)),INDEX('ORDER FORM'!N:N,MATCH(TRIM(IMPORT!E29),'ORDER FORM'!B:B,0))),\"\")","v":{"v":10.5,"d":"10.50"}}]
["UPLOADUSD",{"$f":"IF('ORDER FORM'!$O$7=\"\",\"ENTER-PO\",'ORDER FORM'!$O$7)","v":"ENTER-PO"},"2021 Spring/Summer",{"$f":"IF('ORDER FORM'!$O$9=\"\",TODAY(),'ORDER FORM'!$O$9)","v":"2023-11-02"},710029,"068","M","2","610306139825",{"$f":"IF(IFERROR(INDEX('ORDER FORM'!$I$96:$L$125,MATCH(CONCATENATE(E30,F30),'ORDER FORM'!$A$96:$A$125,0),MATCH(G30,'ORDER FORM'!$I$119:$L$119,0)),\"\")=0,\"\",IFERROR(INDEX('ORDER FORM'!$I$96:$L$125,MATCH(CONCATENATE(E30,F30),'ORDER FORM'!$A$96:A$125,0),MATCH(G30,'ORDER FORM'!$I$119:$L$119,0)),\"\"))","v":""},{"$f":"IFERROR(IFERROR(INDEX('ORDER FORM'!N:N,MATCH(IMPORT!E30,'ORDER FORM'!B:B,0)),INDEX('ORDER FORM'!N:N,MATCH(TRIM(IMPORT!E30),'ORDER FORM'!B:B,0))),\"\")","v":""}]
["UPLOADUSD",{"$f":"IF('ORDER FORM'!$O$7=\"\",\"ENTER-PO\",'ORDER FORM'!$O$7)","v":"ENTER-PO"},"2021 Spring/Summer",{"$f":"IF('ORDER FORM'!$O$9=\"\",TODAY(),'ORDER FORM'!$O$9)","v":"2023-11-02"},710029,"068","L","2","610306139832",{"$f":"IF(IFERROR(INDEX('ORDER FORM'!$I$96:$L$125,MATCH(CONCATENATE(E31,F31),'ORDER FORM'!$A$96:$A$125,0),MATCH(G31,'ORDER FORM'!$I$119:$L$119,0)),\"\")=0,\"\",IFERROR(INDEX('ORDER FORM'!$I$96:$L$125,MATCH(CONCATENATE(E31,F31),'ORDER FORM'!$A$96:A$125,0),MATCH(G31,'ORDER FORM'!$I$119:$L$119,0)),\"\"))","v":""},{"$f":"IFERROR(IFERROR(INDEX('ORDER FORM'!N:N,MATCH(IMPORT!E31,'ORDER FORM'!B:B,0)),INDEX('ORDER FORM'!N:N,MATCH(TRIM(IMPORT!E31),'ORDER FORM'!B:B,0))),\"\")","v":""}]
["UPLOADUSD",{"$f":"IF('ORDER FORM'!$O$7=\"\",\"ENTER-PO\",'ORDER FORM'!$O$7)","v":"ENTER-PO"},"2021 Spring/Summer",{"$f":"IF('ORDER FORM'!$O$9=\"\",TODAY(),'ORDER FORM'!$O$9)","v":"2023-11-02"},710029,"068","XL","2","610306139849",{"$f":"IF(IFERROR(INDEX('ORDER FORM'!$I$96:$L$125,MATCH(CONCATENATE(E32,F32),'ORDER FORM'!$A$96:$A$125,0),MATCH(G32,'ORDER FORM'!$I$119:$L$119,0)),\"\")=0,\"\",IFERROR(INDEX('ORDER FORM'!$I$96:$L$125,MATCH(CONCATENATE(E32,F32),'ORDER FORM'!$A$96:A$125,0),MATCH(G32,'ORDER FORM'!$I$119:$L$119,0)),\"\"))","v":""},{"$f":"IFERROR(IFERROR(INDEX('ORDER FORM'!N:N,MATCH(IMPORT!E32,'ORDER FORM'!B:B,0)),INDEX('ORDER FORM'!N:N,MATCH(TRIM(IMPORT!E32),'ORDER FORM'!B:B,0))),\"\")","v":""}]
["UPLOADUSD",{"$f":"IF('ORDER FORM'!$O$7=\"\",\"ENTER-PO\",'ORDER FORM'!$O$7)","v":"ENTER-PO"},"2021 Spring/Summer",{"$f":"IF('ORDER FORM'!$O$9=\"\",TODAY(),'ORDER FORM'!$O$9)","v":"2023-11-02"},710029,"070","M","2","610306139856",{"$f":"IF(IFERROR(INDEX('ORDER FORM'!$I$96:$L$125,MATCH(CONCATENATE(E33,F33),'ORDER FORM'!$A$96:$A$125,0),MATCH(G33,'ORDER FORM'!$I$119:$L$119,0)),\"\")=0,\"\",IFERROR(INDEX('ORDER FORM'!$I$96:$L$125,MATCH(CONCATENATE(E33,F33),'ORDER FORM'!$A$96:A$125,0),MATCH(G33,'ORDER FORM'!$I$119:$L$119,0)),\"\"))","v":""},{"$f":"IFERROR(IFERROR(INDEX('ORDER FORM'!N:N,MATCH(IMPORT!E33,'ORDER FORM'!B:B,0)),INDEX('ORDER FORM'!N:N,MATCH(TRIM(IMPORT!E33),'ORDER FORM'!B:B,0))),\"\")","v":""}]
["UPLOADUSD",{"$f":"IF('ORDER FORM'!$O$7=\"\",\"ENTER-PO\",'ORDER FORM'!$O$7)","v":"ENTER-PO"},"2021 Spring/Summer",{"$f":"IF('ORDER FORM'!$O$9=\"\",TODAY(),'ORDER FORM'!$O$9)","v":"2023-11-02"},710029,"070","L","2","610306139863",{"$f":"IF(IFERROR(INDEX('ORDER FORM'!$I$96:$L$125,MATCH(CONCATENATE(E34,F34),'ORDER FORM'!$A$96:$A$125,0),MATCH(G34,'ORDER FORM'!$I$119:$L$119,0)),\"\")=0,\"\",IFERROR(INDEX('ORDER FORM'!$I$96:$L$125,MATCH(CONCATENATE(E34,F34),'ORDER FORM'!$A$96:A$125,0),MATCH(G34,'ORDER FORM'!$I$119:$L$119,0)),\"\"))","v":""},{"$f":"IFERROR(IFERROR(INDEX('ORDER FORM'!N:N,MATCH(IMPORT!E34,'ORDER FORM'!B:B,0)),INDEX('ORDER FORM'!N:N,MATCH(TRIM(IMPORT!E34),'ORDER FORM'!B:B,0))),\"\")","v":""}]
["UPLOADUSD",{"$f":"IF('ORDER FORM'!$O$7=\"\",\"ENTER-PO\",'ORDER FORM'!$O$7)","v":"ENTER-PO"},"2021 Spring/Summer",{"$f":"IF('ORDER FORM'!$O$9=\"\",TODAY(),'ORDER FORM'!$O$9)","v":"2023-11-02"},710029,"070","XL","2","610306139870",{"$f":"IF(IFERROR(INDEX('ORDER FORM'!$I$96:$L$125,MATCH(CONCATENATE(E35,F35),'ORDER FORM'!$A$96:$A$125,0),MATCH(G35,'ORDER FORM'!$I$119:$L$119,0)),\"\")=0,\"\",IFERROR(INDEX('ORDER FORM'!$I$96:$L$125,MATCH(CONCATENATE(E35,F35),'ORDER FORM'!$A$96:A$125,0),MATCH(G35,'ORDER FORM'!$I$119:$L$119,0)),\"\"))","v":""},{"$f":"IFERROR(IFERROR(INDEX('ORDER FORM'!N:N,MATCH(IMPORT!E35,'ORDER FORM'!B:B,0)),INDEX('ORDER FORM'!N:N,MATCH(TRIM(IMPORT!E35),'ORDER FORM'!B:B,0))),\"\")","v":""}]
["UPLOADUSD",{"$f":"IF('ORDER FORM'!$O$7=\"\",\"ENTER-PO\",'ORDER FORM'!$O$7)","v":"ENTER-PO"},"2021 Spring/Summer",{"$f":"IF('ORDER FORM'!$O$9=\"\",TODAY(),'ORDER FORM'!$O$9)","v":"2023-11-02"},710032,"116","S","2","610306141378",{"$f":"IF(IFERROR(INDEX('ORDER FORM'!$I$96:$L$125,MATCH(CONCATENATE(E36,F36),'ORDER FORM'!$A$96:$A$125,0),MATCH(G36,'ORDER FORM'!$I$119:$L$119,0)),\"\")=0,\"\",IFERROR(INDEX('ORDER FORM'!$I$96:$L$125,MATCH(CONCATENATE(E36,F36),'ORDER FORM'!$A$96:A$125,0),MATCH(G36,'ORDER FORM'!$I$119:$L$119,0)),\"\"))","v":""},{"$f":"IFERROR(IFERROR(INDEX('ORDER FORM'!N:N,MATCH(IMPORT!E36,'ORDER FORM'!B:B,0)),INDEX('ORDER FORM'!N:N,MATCH(TRIM(IMPORT!E36),'ORDER FORM'!B:B,0))),\"\")","v":""}]
["UPLOADUSD",{"$f":"IF('ORDER FORM'!$O$7=\"\",\"ENTER-PO\",'ORDER FORM'!$O$7)","v":"ENTER-PO"},"2021 Spring/Summer",{"$f":"IF('ORDER FORM'!$O$9=\"\",TODAY(),'ORDER FORM'!$O$9)","v":"2023-11-02"},710032,"116","M","2","610306141385",{"$f":"IF(IFERROR(INDEX('ORDER FORM'!$I$96:$L$125,MATCH(CONCATENATE(E37,F37),'ORDER FORM'!$A$96:$A$125,0),MATCH(G37,'ORDER FORM'!$I$119:$L$119,0)),\"\")=0,\"\",IFERROR(INDEX('ORDER FORM'!$I$96:$L$125,MATCH(CONCATENATE(E37,F37),'ORDER FORM'!$A$96:A$125,0),MATCH(G37,'ORDER FORM'!$I$119:$L$119,0)),\"\"))","v":""},{"$f":"IFERROR(IFERROR(INDEX('ORDER FORM'!N:N,MATCH(IMPORT!E37,'ORDER FORM'!B:B,0)),INDEX('ORDER FORM'!N:N,MATCH(TRIM(IMPORT!E37),'ORDER FORM'!B:B,0))),\"\")","v":""}]
["UPLOADUSD",{"$f":"IF('ORDER FORM'!$O$7=\"\",\"ENTER-PO\",'ORDER FORM'!$O$7)","v":"ENTER-PO"},"2021 Spring/Summer",{"$f":"IF('ORDER FORM'!$O$9=\"\",TODAY(),'ORDER FORM'!$O$9)","v":"2023-11-02"},710032,"116","L","2","610306141392",{"$f":"IF(IFERROR(INDEX('ORDER FORM'!$I$96:$L$125,MATCH(CONCATENATE(E38,F38),'ORDER FORM'!$A$96:$A$125,0),MATCH(G38,'ORDER FORM'!$I$119:$L$119,0)),\"\")=0,\"\",IFERROR(INDEX('ORDER FORM'!$I$96:$L$125,MATCH(CONCATENATE(E38,F38),'ORDER FORM'!$A$96:A$125,0),MATCH(G38,'ORDER FORM'!$I$119:$L$119,0)),\"\"))","v":""},{"$f":"IFERROR(IFERROR(INDEX('ORDER FORM'!N:N,MATCH(IMPORT!E38,'ORDER FORM'!B:B,0)),INDEX('ORDER FORM'!N:N,MATCH(TRIM(IMPORT!E38),'ORDER FORM'!B:B,0))),\"\")","v":""}]
["UPLOADUSD",{"$f":"IF('ORDER FORM'!$O$7=\"\",\"ENTER-PO\",'ORDER FORM'!$O$7)","v":"ENTER-PO"},"2021 Spring/Summer",{"$f":"IF('ORDER FORM'!$O$9=\"\",TODAY(),'ORDER FORM'!$O$9)","v":"2023-11-02"},710032,"116","XL","2","610306141408",{"$f":"IF(IFERROR(INDEX('ORDER FORM'!$I$96:$L$125,MATCH(CONCATENATE(E39,F39),'ORDER FORM'!$A$96:$A$125,0),MATCH(G39,'ORDER FORM'!$I$119:$L$119,0)),\"\")=0,\"\",IFERROR(INDEX('ORDER FORM'!$I$96:$L$125,MATCH(CONCATENATE(E39,F39),'ORDER FORM'!$A$96:A$125,0),MATCH(G39,'ORDER FORM'!$I$119:$L$119,0)),\"\"))","v":""},{"$f":"IFERROR(IFERROR(INDEX('ORDER FORM'!N:N,MATCH(IMPORT!E39,'ORDER FORM'!B:B,0)),INDEX('ORDER FORM'!N:N,MATCH(TRIM(IMPORT!E39),'ORDER FORM'!B:B,0))),\"\")","v":""}]
["UPLOADUSD",{"$f":"IF('ORDER FORM'!$O$7=\"\",\"ENTER-PO\",'ORDER FORM'!$O$7)","v":"ENTER-PO"},"2021 Spring/Summer",{"$f":"IF('ORDER FORM'!$O$9=\"\",TODAY(),'ORDER FORM'!$O$9)","v":"2023-11-02"},710043,"317","S","2","610306140319",{"$f":"IF(IFERROR(INDEX('ORDER FORM'!$I$96:$L$125,MATCH(CONCATENATE(E40,F40),'ORDER FORM'!$A$96:$A$125,0),MATCH(G40,'ORDER FORM'!$I$119:$L$119,0)),\"\")=0,\"\",IFERROR(INDEX('ORDER FORM'!$I$96:$L$125,MATCH(CONCATENATE(E40,F40),'ORDER FORM'!$A$96:A$125,0),MATCH(G40,'ORDER FORM'!$I$119:$L$119,0)),\"\"))","v":""},{"$f":"IFERROR(IFERROR(INDEX('ORDER FORM'!N:N,MATCH(IMPORT!E40,'ORDER FORM'!B:B,0)),INDEX('ORDER FORM'!N:N,MATCH(TRIM(IMPORT!E40),'ORDER FORM'!B:B,0))),\"\")","v":{"v":14.5,"d":"14.50"}}]
["UPLOADUSD",{"$f":"IF('ORDER FORM'!$O$7=\"\",\"ENTER-PO\",'ORDER FORM'!$O$7)","v":"ENTER-PO"},"2021 Spring/Summer",{"$f":"IF('ORDER FORM'!$O$9=\"\",TODAY(),'ORDER FORM'!$O$9)","v":"2023-11-02"},710043,"317","M","2","610306140326",{"$f":"IF(IFERROR(INDEX('ORDER FORM'!$I$96:$L$125,MATCH(CONCATENATE(E41,F41),'ORDER FORM'!$A$96:$A$125,0),MATCH(G41,'ORDER FORM'!$I$119:$L$119,0)),\"\")=0,\"\",IFERROR(INDEX('ORDER FORM'!$I$96:$L$125,MATCH(CONCATENATE(E41,F41),'ORDER FORM'!$A$96:A$125,0),MATCH(G41,'ORDER FORM'!$I$119:$L$119,0)),\"\"))","v":""},{"$f":"IFERROR(IFERROR(INDEX('ORDER FORM'!N:N,MATCH(IMPORT!E41,'ORDER FORM'!B:B,0)),INDEX('ORDER FORM'!N:N,MATCH(TRIM(IMPORT!E41),'ORDER FORM'!B:B,0))),\"\")","v":{"v":14.5,"d":"14.50"}}]
["UPLOADUSD",{"$f":"IF('ORDER FORM'!$O$7=\"\",\"ENTER-PO\",'ORDER FORM'!$O$7)","v":"ENTER-PO"},"2021 Spring/Summer",{"$f":"IF('ORDER FORM'!$O$9=\"\",TODAY(),'ORDER FORM'!$O$9)","v":"2023-11-02"},710043,"317","L","2","610306140333",{"$f":"IF(IFERROR(INDEX('ORDER FORM'!$I$96:$L$125,MATCH(CONCATENATE(E42,F42),'ORDER FORM'!$A$96:$A$125,0),MATCH(G42,'ORDER FORM'!$I$119:$L$119,0)),\"\")=0,\"\",IFERROR(INDEX('ORDER FORM'!$I$96:$L$125,MATCH(CONCATENATE(E42,F42),'ORDER FORM'!$A$96:A$125,0),MATCH(G42,'ORDER FORM'!$I$119:$L$119,0)),\"\"))","v":""},{"$f":"IFERROR(IFERROR(INDEX('ORDER FORM'!N:N,MATCH(IMPORT!E42,'ORDER FORM'!B:B,0)),INDEX('ORDER FORM'!N:N,MATCH(TRIM(IMPORT!E42),'ORDER FORM'!B:B,0))),\"\")","v":{"v":14.5,"d":"14.50"}}]
["UPLOADUSD",{"$f":"IF('ORDER FORM'!$O$7=\"\",\"ENTER-PO\",'ORDER FORM'!$O$7)","v":"ENTER-PO"},"2021 Spring/Summer",{"$f":"IF('ORDER FORM'!$O$9=\"\",TODAY(),'ORDER FORM'!$O$9)","v":"2023-11-02"},710044,"009","S","2","610306140272",{"$f":"IF(IFERROR(INDEX('ORDER FORM'!$I$96:$L$125,MATCH(CONCATENATE(E43,F43),'ORDER FORM'!$A$96:$A$125,0),MATCH(G43,'ORDER FORM'!$I$119:$L$119,0)),\"\")=0,\"\",IFERROR(INDEX('ORDER FORM'!$I$96:$L$125,MATCH(CONCATENATE(E43,F43),'ORDER FORM'!$A$96:A$125,0),MATCH(G43,'ORDER FORM'!$I$119:$L$119,0)),\"\"))","v":""},{"$f":"IFERROR(IFERROR(INDEX('ORDER FORM'!N:N,MATCH(IMPORT!E43,'ORDER FORM'!B:B,0)),INDEX('ORDER FORM'!N:N,MATCH(TRIM(IMPORT!E43),'ORDER FORM'!B:B,0))),\"\")","v":{"v":14.5,"d":"14.50"}}]
["UPLOADUSD",{"$f":"IF('ORDER FORM'!$O$7=\"\",\"ENTER-PO\",'ORDER FORM'!$O$7)","v":"ENTER-PO"},"2021 Spring/Summer",{"$f":"IF('ORDER FORM'!$O$9=\"\",TODAY(),'ORDER FORM'!$O$9)","v":"2023-11-02"},710044,"009","M","2","610306140289",{"$f":"IF(IFERROR(INDEX('ORDER FORM'!$I$96:$L$125,MATCH(CONCATENATE(E44,F44),'ORDER FORM'!$A$96:$A$125,0),MATCH(G44,'ORDER FORM'!$I$119:$L$119,0)),\"\")=0,\"\",IFERROR(INDEX('ORDER FORM'!$I$96:$L$125,MATCH(CONCATENATE(E44,F44),'ORDER FORM'!$A$96:A$125,0),MATCH(G44,'ORDER FORM'!$I$119:$L$119,0)),\"\"))","v":""},{"$f":"IFERROR(IFERROR(INDEX('ORDER FORM'!N:N,MATCH(IMPORT!E44,'ORDER FORM'!B:B,0)),INDEX('ORDER FORM'!N:N,MATCH(TRIM(IMPORT!E44),'ORDER FORM'!B:B,0))),\"\")","v":{"v":14.5,"d":"14.50"}}]
["UPLOADUSD",{"$f":"IF('ORDER FORM'!$O$7=\"\",\"ENTER-PO\",'ORDER FORM'!$O$7)","v":"ENTER-PO"},"2021 Spring/Summer",{"$f":"IF('ORDER FORM'!$O$9=\"\",TODAY(),'ORDER FORM'!$O$9)","v":"2023-11-02"},710044,"009","L","2","610306140296",{"$f":"IF(IFERROR(INDEX('ORDER FORM'!$I$96:$L$125,MATCH(CONCATENATE(E45,F45),'ORDER FORM'!$A$96:$A$125,0),MATCH(G45,'ORDER FORM'!$I$119:$L$119,0)),\"\")=0,\"\",IFERROR(INDEX('ORDER FORM'!$I$96:$L$125,MATCH(CONCATENATE(E45,F45),'ORDER FORM'!$A$96:A$125,0),MATCH(G45,'ORDER FORM'!$I$119:$L$119,0)),\"\"))","v":""},{"$f":"IFERROR(IFERROR(INDEX('ORDER FORM'!N:N,MATCH(IMPORT!E45,'ORDER FORM'!B:B,0)),INDEX('ORDER FORM'!N:N,MATCH(TRIM(IMPORT!E45),'ORDER FORM'!B:B,0))),\"\")","v":{"v":14.5,"d":"14.50"}}]
["UPLOADUSD",{"$f":"IF('ORDER FORM'!$O$7=\"\",\"ENTER-PO\",'ORDER FORM'!$O$7)","v":"ENTER-PO"},"2021 Spring/Summer",{"$f":"IF('ORDER FORM'!$O$9=\"\",TODAY(),'ORDER FORM'!$O$9)","v":"2023-11-02"},710044,"009","XL","2","610306140302",{"$f":"IF(IFERROR(INDEX('ORDER FORM'!$I$96:$L$125,MATCH(CONCATENATE(E46,F46),'ORDER FORM'!$A$96:$A$125,0),MATCH(G46,'ORDER FORM'!$I$119:$L$119,0)),\"\")=0,\"\",IFERROR(INDEX('ORDER FORM'!$I$96:$L$125,MATCH(CONCATENATE(E46,F46),'ORDER FORM'!$A$96:A$125,0),MATCH(G46,'ORDER FORM'!$I$119:$L$119,0)),\"\"))","v":""},{"$f":"IFERROR(IFERROR(INDEX('ORDER FORM'!N:N,MATCH(IMPORT!E46,'ORDER FORM'!B:B,0)),INDEX('ORDER FORM'!N:N,MATCH(TRIM(IMPORT!E46),'ORDER FORM'!B:B,0))),\"\")","v":{"v":14.5,"d":"14.50"}}]
["UPLOADUSD",{"$f":"IF('ORDER FORM'!$O$7=\"\",\"ENTER-PO\",'ORDER FORM'!$O$7)","v":"ENTER-PO"},"2021 Spring/Summer",{"$f":"IF('ORDER FORM'!$O$9=\"\",TODAY(),'ORDER FORM'!$O$9)","v":"2023-11-02"},710068,"806","M","2","610306140104",{"$f":"IF(IFERROR(INDEX('ORDER FORM'!$I$96:$L$125,MATCH(CONCATENATE(E47,F47),'ORDER FORM'!$A$96:$A$125,0),MATCH(G47,'ORDER FORM'!$I$119:$L$119,0)),\"\")=0,\"\",IFERROR(INDEX('ORDER FORM'!$I$96:$L$125,MATCH(CONCATENATE(E47,F47),'ORDER FORM'!$A$96:A$125,0),MATCH(G47,'ORDER FORM'!$I$119:$L$119,0)),\"\"))","v":""},{"$f":"IFERROR(IFERROR(INDEX('ORDER FORM'!N:N,MATCH(IMPORT!E47,'ORDER FORM'!B:B,0)),INDEX('ORDER FORM'!N:N,MATCH(TRIM(IMPORT!E47),'ORDER FORM'!B:B,0))),\"\")","v":""}]
["UPLOADUSD",{"$f":"IF('ORDER FORM'!$O$7=\"\",\"ENTER-PO\",'ORDER FORM'!$O$7)","v":"ENTER-PO"},"2021 Spring/Summer",{"$f":"IF('ORDER FORM'!$O$9=\"\",TODAY(),'ORDER FORM'!$O$9)","v":"2023-11-02"},710068,"806","L","2","610306140111",{"$f":"IF(IFERROR(INDEX('ORDER FORM'!$I$96:$L$125,MATCH(CONCATENATE(E48,F48),'ORDER FORM'!$A$96:$A$125,0),MATCH(G48,'ORDER FORM'!$I$119:$L$119,0)),\"\")=0,\"\",IFERROR(INDEX('ORDER FORM'!$I$96:$L$125,MATCH(CONCATENATE(E48,F48),'ORDER FORM'!$A$96:A$125,0),MATCH(G48,'ORDER FORM'!$I$119:$L$119,0)),\"\"))","v":""},{"$f":"IFERROR(IFERROR(INDEX('ORDER FORM'!N:N,MATCH(IMPORT!E48,'ORDER FORM'!B:B,0)),INDEX('ORDER FORM'!N:N,MATCH(TRIM(IMPORT!E48),'ORDER FORM'!B:B,0))),\"\")","v":""}]
["UPLOADUSD",{"$f":"IF('ORDER FORM'!$O$7=\"\",\"ENTER-PO\",'ORDER FORM'!$O$7)","v":"ENTER-PO"},"2021 Spring/Summer",{"$f":"IF('ORDER FORM'!$O$9=\"\",TODAY(),'ORDER FORM'!$O$9)","v":"2023-11-02"},710068,"806","XL","2","610306140128",{"$f":"IF(IFERROR(INDEX('ORDER FORM'!$I$96:$L$125,MATCH(CONCATENATE(E49,F49),'ORDER FORM'!$A$96:$A$125,0),MATCH(G49,'ORDER FORM'!$I$119:$L$119,0)),\"\")=0,\"\",IFERROR(INDEX('ORDER FORM'!$I$96:$L$125,MATCH(CONCATENATE(E49,F49),'ORDER FORM'!$A$96:A$125,0),MATCH(G49,'ORDER FORM'!$I$119:$L$119,0)),\"\"))","v":""},{"$f":"IFERROR(IFERROR(INDEX('ORDER FORM'!N:N,MATCH(IMPORT!E49,'ORDER FORM'!B:B,0)),INDEX('ORDER FORM'!N:N,MATCH(TRIM(IMPORT!E49),'ORDER FORM'!B:B,0))),\"\")","v":""}]
["UPLOADUSD",{"$f":"IF('ORDER FORM'!$O$7=\"\",\"ENTER-PO\",'ORDER FORM'!$O$7)","v":"ENTER-PO"},"2021 Spring/Summer",{"$f":"IF('ORDER FORM'!$O$9=\"\",TODAY(),'ORDER FORM'!$O$9)","v":"2023-11-02"},710069,"413","S","2","610306140135",{"$f":"IF(IFERROR(INDEX('ORDER FORM'!$I$96:$L$125,MATCH(CONCATENATE(E50,F50),'ORDER FORM'!$A$96:$A$125,0),MATCH(G50,'ORDER FORM'!$I$119:$L$119,0)),\"\")=0,\"\",IFERROR(INDEX('ORDER FORM'!$I$96:$L$125,MATCH(CONCATENATE(E50,F50),'ORDER FORM'!$A$96:A$125,0),MATCH(G50,'ORDER FORM'!$I$119:$L$119,0)),\"\"))","v":""},{"$f":"IFERROR(IFERROR(INDEX('ORDER FORM'!N:N,MATCH(IMPORT!E50,'ORDER FORM'!B:B,0)),INDEX('ORDER FORM'!N:N,MATCH(TRIM(IMPORT!E50),'ORDER FORM'!B:B,0))),\"\")","v":""}]
["UPLOADUSD",{"$f":"IF('ORDER FORM'!$O$7=\"\",\"ENTER-PO\",'ORDER FORM'!$O$7)","v":"ENTER-PO"},"2021 Spring/Summer",{"$f":"IF('ORDER FORM'!$O$9=\"\",TODAY(),'ORDER FORM'!$O$9)","v":"2023-11-02"},710069,"413","M","2","610306140142",{"$f":"IF(IFERROR(INDEX('ORDER FORM'!$I$96:$L$125,MATCH(CONCATENATE(E51,F51),'ORDER FORM'!$A$96:$A$125,0),MATCH(G51,'ORDER FORM'!$I$119:$L$119,0)),\"\")=0,\"\",IFERROR(INDEX('ORDER FORM'!$I$96:$L$125,MATCH(CONCATENATE(E51,F51),'ORDER FORM'!$A$96:A$125,0),MATCH(G51,'ORDER FORM'!$I$119:$L$119,0)),\"\"))","v":""},{"$f":"IFERROR(IFERROR(INDEX('ORDER FORM'!N:N,MATCH(IMPORT!E51,'ORDER FORM'!B:B,0)),INDEX('ORDER FORM'!N:N,MATCH(TRIM(IMPORT!E51),'ORDER FORM'!B:B,0))),\"\")","v":""}]
["UPLOADUSD",{"$f":"IF('ORDER FORM'!$O$7=\"\",\"ENTER-PO\",'ORDER FORM'!$O$7)","v":"ENTER-PO"},"2021 Spring/Summer",{"$f":"IF('ORDER FORM'!$O$9=\"\",TODAY(),'ORDER FORM'!$O$9)","v":"2023-11-02"},710069,"413","L","2","610306140159",{"$f":"IF(IFERROR(INDEX('ORDER FORM'!$I$96:$L$125,MATCH(CONCATENATE(E52,F52),'ORDER FORM'!$A$96:$A$125,0),MATCH(G52,'ORDER FORM'!$I$119:$L$119,0)),\"\")=0,\"\",IFERROR(INDEX('ORDER FORM'!$I$96:$L$125,MATCH(CONCATENATE(E52,F52),'ORDER FORM'!$A$96:A$125,0),MATCH(G52,'ORDER FORM'!$I$119:$L$119,0)),\"\"))","v":""},{"$f":"IFERROR(IFERROR(INDEX('ORDER FORM'!N:N,MATCH(IMPORT!E52,'ORDER FORM'!B:B,0)),INDEX('ORDER FORM'!N:N,MATCH(TRIM(IMPORT!E52),'ORDER FORM'!B:B,0))),\"\")","v":""}]
["UPLOADUSD",{"$f":"IF('ORDER FORM'!$O$7=\"\",\"ENTER-PO\",'ORDER FORM'!$O$7)","v":"ENTER-PO"},"2021 Spring/Summer",{"$f":"IF('ORDER FORM'!$O$9=\"\",TODAY(),'ORDER FORM'!$O$9)","v":"2023-11-02"},710073,"007","S","2","610306143884",{"$f":"IF(IFERROR(INDEX('ORDER FORM'!$I$96:$L$125,MATCH(CONCATENATE(E53,F53),'ORDER FORM'!$A$96:$A$125,0),MATCH(G53,'ORDER FORM'!$I$119:$L$119,0)),\"\")=0,\"\",IFERROR(INDEX('ORDER FORM'!$I$96:$L$125,MATCH(CONCATENATE(E53,F53),'ORDER FORM'!$A$96:A$125,0),MATCH(G53,'ORDER FORM'!$I$119:$L$119,0)),\"\"))","v":""},{"$f":"IFERROR(IFERROR(INDEX('ORDER FORM'!N:N,MATCH(IMPORT!E53,'ORDER FORM'!B:B,0)),INDEX('ORDER FORM'!N:N,MATCH(TRIM(IMPORT!E53),'ORDER FORM'!B:B,0))),\"\")","v":{"v":16,"d":"16.00"}}]
["UPLOADUSD",{"$f":"IF('ORDER FORM'!$O$7=\"\",\"ENTER-PO\",'ORDER FORM'!$O$7)","v":"ENTER-PO"},"2021 Spring/Summer",{"$f":"IF('ORDER FORM'!$O$9=\"\",TODAY(),'ORDER FORM'!$O$9)","v":"2023-11-02"},710073,"007","M","2","610306143891",{"$f":"IF(IFERROR(INDEX('ORDER FORM'!$I$96:$L$125,MATCH(CONCATENATE(E54,F54),'ORDER FORM'!$A$96:$A$125,0),MATCH(G54,'ORDER FORM'!$I$119:$L$119,0)),\"\")=0,\"\",IFERROR(INDEX('ORDER FORM'!$I$96:$L$125,MATCH(CONCATENATE(E54,F54),'ORDER FORM'!$A$96:A$125,0),MATCH(G54,'ORDER FORM'!$I$119:$L$119,0)),\"\"))","v":""},{"$f":"IFERROR(IFERROR(INDEX('ORDER FORM'!N:N,MATCH(IMPORT!E54,'ORDER FORM'!B:B,0)),INDEX('ORDER FORM'!N:N,MATCH(TRIM(IMPORT!E54),'ORDER FORM'!B:B,0))),\"\")","v":{"v":16,"d":"16.00"}}]
["UPLOADUSD",{"$f":"IF('ORDER FORM'!$O$7=\"\",\"ENTER-PO\",'ORDER FORM'!$O$7)","v":"ENTER-PO"},"2021 Spring/Summer",{"$f":"IF('ORDER FORM'!$O$9=\"\",TODAY(),'ORDER FORM'!$O$9)","v":"2023-11-02"},710073,"007","L","2","610306143907",{"$f":"IF(IFERROR(INDEX('ORDER FORM'!$I$96:$L$125,MATCH(CONCATENATE(E55,F55),'ORDER FORM'!$A$96:$A$125,0),MATCH(G55,'ORDER FORM'!$I$119:$L$119,0)),\"\")=0,\"\",IFERROR(INDEX('ORDER FORM'!$I$96:$L$125,MATCH(CONCATENATE(E55,F55),'ORDER FORM'!$A$96:A$125,0),MATCH(G55,'ORDER FORM'!$I$119:$L$119,0)),\"\"))","v":""},{"$f":"IFERROR(IFERROR(INDEX('ORDER FORM'!N:N,MATCH(IMPORT!E55,'ORDER FORM'!B:B,0)),INDEX('ORDER FORM'!N:N,MATCH(TRIM(IMPORT!E55),'ORDER FORM'!B:B,0))),\"\")","v":{"v":16,"d":"16.00"}}]
["UPLOADUSD",{"$f":"IF('ORDER FORM'!$O$7=\"\",\"ENTER-PO\",'ORDER FORM'!$O$7)","v":"ENTER-PO"},"2021 Spring/Summer",{"$f":"IF('ORDER FORM'!$O$9=\"\",TODAY(),'ORDER FORM'!$O$9)","v":"2023-11-02"},710073,"007","XL","2","610306143914",{"$f":"IF(IFERROR(INDEX('ORDER FORM'!$I$96:$L$125,MATCH(CONCATENATE(E56,F56),'ORDER FORM'!$A$96:$A$125,0),MATCH(G56,'ORDER FORM'!$I$119:$L$119,0)),\"\")=0,\"\",IFERROR(INDEX('ORDER FORM'!$I$96:$L$125,MATCH(CONCATENATE(E56,F56),'ORDER FORM'!$A$96:A$125,0),MATCH(G56,'ORDER FORM'!$I$119:$L$119,0)),\"\"))","v":""},{"$f":"IFERROR(IFERROR(INDEX('ORDER FORM'!N:N,MATCH(IMPORT!E56,'ORDER FORM'!B:B,0)),INDEX('ORDER FORM'!N:N,MATCH(TRIM(IMPORT!E56),'ORDER FORM'!B:B,0))),\"\")","v":{"v":16,"d":"16.00"}}]
["UPLOADUSD",{"$f":"IF('ORDER FORM'!$O$7=\"\",\"ENTER-PO\",'ORDER FORM'!$O$7)","v":"ENTER-PO"},"2021 Spring/Summer",{"$f":"IF('ORDER FORM'!$O$9=\"\",TODAY(),'ORDER FORM'!$O$9)","v":"2023-11-02"},710073,"105","S","2","610306140166",{"$f":"IF(IFERROR(INDEX('ORDER FORM'!$I$96:$L$125,MATCH(CONCATENATE(E57,F57),'ORDER FORM'!$A$96:$A$125,0),MATCH(G57,'ORDER FORM'!$I$119:$L$119,0)),\"\")=0,\"\",IFERROR(INDEX('ORDER FORM'!$I$96:$L$125,MATCH(CONCATENATE(E57,F57),'ORDER FORM'!$A$96:A$125,0),MATCH(G57,'ORDER FORM'!$I$119:$L$119,0)),\"\"))","v":""},{"$f":"IFERROR(IFERROR(INDEX('ORDER FORM'!N:N,MATCH(IMPORT!E57,'ORDER FORM'!B:B,0)),INDEX('ORDER FORM'!N:N,MATCH(TRIM(IMPORT!E57),'ORDER FORM'!B:B,0))),\"\")","v":{"v":16,"d":"16.00"}}]
["UPLOADUSD",{"$f":"IF('ORDER FORM'!$O$7=\"\",\"ENTER-PO\",'ORDER FORM'!$O$7)","v":"ENTER-PO"},"2021 Spring/Summer",{"$f":"IF('ORDER FORM'!$O$9=\"\",TODAY(),'ORDER FORM'!$O$9)","v":"2023-11-02"},710073,"105","M","2","610306140173",{"$f":"IF(IFERROR(INDEX('ORDER FORM'!$I$96:$L$125,MATCH(CONCATENATE(E58,F58),'ORDER FORM'!$A$96:$A$125,0),MATCH(G58,'ORDER FORM'!$I$119:$L$119,0)),\"\")=0,\"\",IFERROR(INDEX('ORDER FORM'!$I$96:$L$125,MATCH(CONCATENATE(E58,F58),'ORDER FORM'!$A$96:A$125,0),MATCH(G58,'ORDER FORM'!$I$119:$L$119,0)),\"\"))","v":""},{"$f":"IFERROR(IFERROR(INDEX('ORDER FORM'!N:N,MATCH(IMPORT!E58,'ORDER FORM'!B:B,0)),INDEX('ORDER FORM'!N:N,MATCH(TRIM(IMPORT!E58),'ORDER FORM'!B:B,0))),\"\")","v":{"v":16,"d":"16.00"}}]
["UPLOADUSD",{"$f":"IF('ORDER FORM'!$O$7=\"\",\"ENTER-PO\",'ORDER FORM'!$O$7)","v":"ENTER-PO"},"2021 Spring/Summer",{"$f":"IF('ORDER FORM'!$O$9=\"\",TODAY(),'ORDER FORM'!$O$9)","v":"2023-11-02"},710073,"105","L","2","610306140180",{"$f":"IF(IFERROR(INDEX('ORDER FORM'!$I$96:$L$125,MATCH(CONCATENATE(E59,F59),'ORDER FORM'!$A$96:$A$125,0),MATCH(G59,'ORDER FORM'!$I$119:$L$119,0)),\"\")=0,\"\",IFERROR(INDEX('ORDER FORM'!$I$96:$L$125,MATCH(CONCATENATE(E59,F59),'ORDER FORM'!$A$96:A$125,0),MATCH(G59,'ORDER FORM'!$I$119:$L$119,0)),\"\"))","v":""},{"$f":"IFERROR(IFERROR(INDEX('ORDER FORM'!N:N,MATCH(IMPORT!E59,'ORDER FORM'!B:B,0)),INDEX('ORDER FORM'!N:N,MATCH(TRIM(IMPORT!E59),'ORDER FORM'!B:B,0))),\"\")","v":{"v":16,"d":"16.00"}}]
["UPLOADUSD",{"$f":"IF('ORDER FORM'!$O$7=\"\",\"ENTER-PO\",'ORDER FORM'!$O$7)","v":"ENTER-PO"},"2021 Spring/Summer",{"$f":"IF('ORDER FORM'!$O$9=\"\",TODAY(),'ORDER FORM'!$O$9)","v":"2023-11-02"},710073,"105","XL","2","610306140197",{"$f":"IF(IFERROR(INDEX('ORDER FORM'!$I$96:$L$125,MATCH(CONCATENATE(E60,F60),'ORDER FORM'!$A$96:$A$125,0),MATCH(G60,'ORDER FORM'!$I$119:$L$119,0)),\"\")=0,\"\",IFERROR(INDEX('ORDER FORM'!$I$96:$L$125,MATCH(CONCATENATE(E60,F60),'ORDER FORM'!$A$96:A$125,0),MATCH(G60,'ORDER FORM'!$I$119:$L$119,0)),\"\"))","v":""},{"$f":"IFERROR(IFERROR(INDEX('ORDER FORM'!N:N,MATCH(IMPORT!E60,'ORDER FORM'!B:B,0)),INDEX('ORDER FORM'!N:N,MATCH(TRIM(IMPORT!E60),'ORDER FORM'!B:B,0))),\"\")","v":{"v":16,"d":"16.00"}}]
["UPLOADUSD",{"$f":"IF('ORDER FORM'!$O$7=\"\",\"ENTER-PO\",'ORDER FORM'!$O$7)","v":"ENTER-PO"},"2021 Spring/Summer",{"$f":"IF('ORDER FORM'!$O$9=\"\",TODAY(),'ORDER FORM'!$O$9)","v":"2023-11-02"},710074,"850","S","2","610306139979",{"$f":"IF(IFERROR(INDEX('ORDER FORM'!$I$96:$L$125,MATCH(CONCATENATE(E61,F61),'ORDER FORM'!$A$96:$A$125,0),MATCH(G61,'ORDER FORM'!$I$119:$L$119,0)),\"\")=0,\"\",IFERROR(INDEX('ORDER FORM'!$I$96:$L$125,MATCH(CONCATENATE(E61,F61),'ORDER FORM'!$A$96:A$125,0),MATCH(G61,'ORDER FORM'!$I$119:$L$119,0)),\"\"))","v":""},{"$f":"IFERROR(IFERROR(INDEX('ORDER FORM'!N:N,MATCH(IMPORT!E61,'ORDER FORM'!B:B,0)),INDEX('ORDER FORM'!N:N,MATCH(TRIM(IMPORT!E61),'ORDER FORM'!B:B,0))),\"\")","v":{"v":16,"d":"16.00"}}]
["UPLOADUSD",{"$f":"IF('ORDER FORM'!$O$7=\"\",\"ENTER-PO\",'ORDER FORM'!$O$7)","v":"ENTER-PO"},"2021 Spring/Summer",{"$f":"IF('ORDER FORM'!$O$9=\"\",TODAY(),'ORDER FORM'!$O$9)","v":"2023-11-02"},710074,"850","M","2","610306139986",{"$f":"IF(IFERROR(INDEX('ORDER FORM'!$I$96:$L$125,MATCH(CONCATENATE(E62,F62),'ORDER FORM'!$A$96:$A$125,0),MATCH(G62,'ORDER FORM'!$I$119:$L$119,0)),\"\")=0,\"\",IFERROR(INDEX('ORDER FORM'!$I$96:$L$125,MATCH(CONCATENATE(E62,F62),'ORDER FORM'!$A$96:A$125,0),MATCH(G62,'ORDER FORM'!$I$119:$L$119,0)),\"\"))","v":""},{"$f":"IFERROR(IFERROR(INDEX('ORDER FORM'!N:N,MATCH(IMPORT!E62,'ORDER FORM'!B:B,0)),INDEX('ORDER FORM'!N:N,MATCH(TRIM(IMPORT!E62),'ORDER FORM'!B:B,0))),\"\")","v":{"v":16,"d":"16.00"}}]
["UPLOADUSD",{"$f":"IF('ORDER FORM'!$O$7=\"\",\"ENTER-PO\",'ORDER FORM'!$O$7)","v":"ENTER-PO"},"2021 Spring/Summer",{"$f":"IF('ORDER FORM'!$O$9=\"\",TODAY(),'ORDER FORM'!$O$9)","v":"2023-11-02"},710074,"850","L","2","610306139993",{"$f":"IF(IFERROR(INDEX('ORDER FORM'!$I$96:$L$125,MATCH(CONCATENATE(E63,F63),'ORDER FORM'!$A$96:$A$125,0),MATCH(G63,'ORDER FORM'!$I$119:$L$119,0)),\"\")=0,\"\",IFERROR(INDEX('ORDER FORM'!$I$96:$L$125,MATCH(CONCATENATE(E63,F63),'ORDER FORM'!$A$96:A$125,0),MATCH(G63,'ORDER FORM'!$I$119:$L$119,0)),\"\"))","v":""},{"$f":"IFERROR(IFERROR(INDEX('ORDER FORM'!N:N,MATCH(IMPORT!E63,'ORDER FORM'!B:B,0)),INDEX('ORDER FORM'!N:N,MATCH(TRIM(IMPORT!E63),'ORDER FORM'!B:B,0))),\"\")","v":{"v":16,"d":"16.00"}}]
["UPLOADUSD",{"$f":"IF('ORDER FORM'!$O$7=\"\",\"ENTER-PO\",'ORDER FORM'!$O$7)","v":"ENTER-PO"},"2021 Spring/Summer",{"$f":"IF('ORDER FORM'!$O$9=\"\",TODAY(),'ORDER FORM'!$O$9)","v":"2023-11-02"},710075,"738","S","2","610306140814",{"$f":"IF(IFERROR(INDEX('ORDER FORM'!$I$96:$L$125,MATCH(CONCATENATE(E64,F64),'ORDER FORM'!$A$96:$A$125,0),MATCH(G64,'ORDER FORM'!$I$119:$L$119,0)),\"\")=0,\"\",IFERROR(INDEX('ORDER FORM'!$I$96:$L$125,MATCH(CONCATENATE(E64,F64),'ORDER FORM'!$A$96:A$125,0),MATCH(G64,'ORDER FORM'!$I$119:$L$119,0)),\"\"))","v":""},{"$f":"IFERROR(IFERROR(INDEX('ORDER FORM'!N:N,MATCH(IMPORT!E64,'ORDER FORM'!B:B,0)),INDEX('ORDER FORM'!N:N,MATCH(TRIM(IMPORT!E64),'ORDER FORM'!B:B,0))),\"\")","v":{"v":34,"d":"34.00"}}]
["UPLOADUSD",{"$f":"IF('ORDER FORM'!$O$7=\"\",\"ENTER-PO\",'ORDER FORM'!$O$7)","v":"ENTER-PO"},"2021 Spring/Summer",{"$f":"IF('ORDER FORM'!$O$9=\"\",TODAY(),'ORDER FORM'!$O$9)","v":"2023-11-02"},710075,"738","M","2","610306140821",{"$f":"IF(IFERROR(INDEX('ORDER FORM'!$I$96:$L$125,MATCH(CONCATENATE(E65,F65),'ORDER FORM'!$A$96:$A$125,0),MATCH(G65,'ORDER FORM'!$I$119:$L$119,0)),\"\")=0,\"\",IFERROR(INDEX('ORDER FORM'!$I$96:$L$125,MATCH(CONCATENATE(E65,F65),'ORDER FORM'!$A$96:A$125,0),MATCH(G65,'ORDER FORM'!$I$119:$L$119,0)),\"\"))","v":""},{"$f":"IFERROR(IFERROR(INDEX('ORDER FORM'!N:N,MATCH(IMPORT!E65,'ORDER FORM'!B:B,0)),INDEX('ORDER FORM'!N:N,MATCH(TRIM(IMPORT!E65),'ORDER FORM'!B:B,0))),\"\")","v":{"v":34,"d":"34.00"}}]
["UPLOADUSD",{"$f":"IF('ORDER FORM'!$O$7=\"\",\"ENTER-PO\",'ORDER FORM'!$O$7)","v":"ENTER-PO"},"2021 Spring/Summer",{"$f":"IF('ORDER FORM'!$O$9=\"\",TODAY(),'ORDER FORM'!$O$9)","v":"2023-11-02"},710075,"738","L","2","610306140838",{"$f":"IF(IFERROR(INDEX('ORDER FORM'!$I$96:$L$125,MATCH(CONCATENATE(E66,F66),'ORDER FORM'!$A$96:$A$125,0),MATCH(G66,'ORDER FORM'!$I$119:$L$119,0)),\"\")=0,\"\",IFERROR(INDEX('ORDER FORM'!$I$96:$L$125,MATCH(CONCATENATE(E66,F66),'ORDER FORM'!$A$96:A$125,0),MATCH(G66,'ORDER FORM'!$I$119:$L$119,0)),\"\"))","v":""},{"$f":"IFERROR(IFERROR(INDEX('ORDER FORM'!N:N,MATCH(IMPORT!E66,'ORDER FORM'!B:B,0)),INDEX('ORDER FORM'!N:N,MATCH(TRIM(IMPORT!E66),'ORDER FORM'!B:B,0))),\"\")","v":{"v":34,"d":"34.00"}}]
["UPLOADUSD",{"$f":"IF('ORDER FORM'!$O$7=\"\",\"ENTER-PO\",'ORDER FORM'!$O$7)","v":"ENTER-PO"},"2021 Spring/Summer",{"$f":"IF('ORDER FORM'!$O$9=\"\",TODAY(),'ORDER FORM'!$O$9)","v":"2023-11-02"},710075,"738","XL","2","610306140845",{"$f":"IF(IFERROR(INDEX('ORDER FORM'!$I$96:$L$125,MATCH(CONCATENATE(E67,F67),'ORDER FORM'!$A$96:$A$125,0),MATCH(G67,'ORDER FORM'!$I$119:$L$119,0)),\"\")=0,\"\",IFERROR(INDEX('ORDER FORM'!$I$96:$L$125,MATCH(CONCATENATE(E67,F67),'ORDER FORM'!$A$96:A$125,0),MATCH(G67,'ORDER FORM'!$I$119:$L$119,0)),\"\"))","v":""},{"$f":"IFERROR(IFERROR(INDEX('ORDER FORM'!N:N,MATCH(IMPORT!E67,'ORDER FORM'!B:B,0)),INDEX('ORDER FORM'!N:N,MATCH(TRIM(IMPORT!E67),'ORDER FORM'!B:B,0))),\"\")","v":{"v":34,"d":"34.00"}}]
[{"$f":"IF(IF($B$1=0,\"ENTER ACCOUNT\",$B$1)=\"\",\"UPLOADUSD\",IF($B$1=0,\"ENTER ACCOUNT\",$B$1))","v":"UPLOADUSD"},{"$f":"IF('ORDER FORM'!$O$7=\"\",\"ENTER-PO\",'ORDER FORM'!$O$7)","v":"ENTER-PO"},{"$f":"$D$1","v":"2021 Spring/Summer"},{"$f":"IF('ORDER FORM'!$O$9=\"\",TODAY(),'ORDER FORM'!$O$9)","v":"2023-11-02"},710075,"845","S","2","610306140852",{"$f":"IF(IFERROR(INDEX('ORDER FORM'!$I$96:$L$125,MATCH(CONCATENATE(E68,F68),'ORDER FORM'!$A$96:$A$125,0),MATCH(G68,'ORDER FORM'!$I$119:$L$119,0)),\"\")=0,\"\",IFERROR(INDEX('ORDER FORM'!$I$96:$L$125,MATCH(CONCATENATE(E68,F68),'ORDER FORM'!$A$96:A$125,0),MATCH(G68,'ORDER FORM'!$I$119:$L$119,0)),\"\"))","v":""},{"$f":"IFERROR(IFERROR(INDEX('ORDER FORM'!N:N,MATCH(IMPORT!E68,'ORDER FORM'!B:B,0)),INDEX('ORDER FORM'!N:N,MATCH(TRIM(IMPORT!E68),'ORDER FORM'!B:B,0))),\"\")","v":{"v":34,"d":"34.00"}}]
["UPLOADUSD",{"$f":"IF('ORDER FORM'!$O$7=\"\",\"ENTER-PO\",'ORDER FORM'!$O$7)","v":"ENTER-PO"},"2021 Spring/Summer",{"$f":"IF('ORDER FORM'!$O$9=\"\",TODAY(),'ORDER FORM'!$O$9)","v":"2023-11-02"},710075,"845","M","2","610306140869",{"$f":"IF(IFERROR(INDEX('ORDER FORM'!$I$96:$L$125,MATCH(CONCATENATE(E69,F69),'ORDER FORM'!$A$96:$A$125,0),MATCH(G69,'ORDER FORM'!$I$119:$L$119,0)),\"\")=0,\"\",IFERROR(INDEX('ORDER FORM'!$I$96:$L$125,MATCH(CONCATENATE(E69,F69),'ORDER FORM'!$A$96:A$125,0),MATCH(G69,'ORDER FORM'!$I$119:$L$119,0)),\"\"))","v":""},{"$f":"IFERROR(IFERROR(INDEX('ORDER FORM'!N:N,MATCH(IMPORT!E69,'ORDER FORM'!B:B,0)),INDEX('ORDER FORM'!N:N,MATCH(TRIM(IMPORT!E69),'ORDER FORM'!B:B,0))),\"\")","v":{"v":34,"d":"34.00"}}]
["UPLOADUSD",{"$f":"IF('ORDER FORM'!$O$7=\"\",\"ENTER-PO\",'ORDER FORM'!$O$7)","v":"ENTER-PO"},"2021 Spring/Summer",{"$f":"IF('ORDER FORM'!$O$9=\"\",TODAY(),'ORDER FORM'!$O$9)","v":"2023-11-02"},710075,"845","L","2","610306140876",{"$f":"IF(IFERROR(INDEX('ORDER FORM'!$I$96:$L$125,MATCH(CONCATENATE(E70,F70),'ORDER FORM'!$A$96:$A$125,0),MATCH(G70,'ORDER FORM'!$I$119:$L$119,0)),\"\")=0,\"\",IFERROR(INDEX('ORDER FORM'!$I$96:$L$125,MATCH(CONCATENATE(E70,F70),'ORDER FORM'!$A$96:A$125,0),MATCH(G70,'ORDER FORM'!$I$119:$L$119,0)),\"\"))","v":""},{"$f":"IFERROR(IFERROR(INDEX('ORDER FORM'!N:N,MATCH(IMPORT!E70,'ORDER FORM'!B:B,0)),INDEX('ORDER FORM'!N:N,MATCH(TRIM(IMPORT!E70),'ORDER FORM'!B:B,0))),\"\")","v":{"v":34,"d":"34.00"}}]
["UPLOADUSD",{"$f":"IF('ORDER FORM'!$O$7=\"\",\"ENTER-PO\",'ORDER FORM'!$O$7)","v":"ENTER-PO"},"2021 Spring/Summer",{"$f":"IF('ORDER FORM'!$O$9=\"\",TODAY(),'ORDER FORM'!$O$9)","v":"2023-11-02"},710075,"845","XL","2","610306140883",{"$f":"IF(IFERROR(INDEX('ORDER FORM'!$I$96:$L$125,MATCH(CONCATENATE(E71,F71),'ORDER FORM'!$A$96:$A$125,0),MATCH(G71,'ORDER FORM'!$I$119:$L$119,0)),\"\")=0,\"\",IFERROR(INDEX('ORDER FORM'!$I$96:$L$125,MATCH(CONCATENATE(E71,F71),'ORDER FORM'!$A$96:A$125,0),MATCH(G71,'ORDER FORM'!$I$119:$L$119,0)),\"\"))","v":""},{"$f":"IFERROR(IFERROR(INDEX('ORDER FORM'!N:N,MATCH(IMPORT!E71,'ORDER FORM'!B:B,0)),INDEX('ORDER FORM'!N:N,MATCH(TRIM(IMPORT!E71),'ORDER FORM'!B:B,0))),\"\")","v":{"v":34,"d":"34.00"}}]
["UPLOADUSD",{"$f":"IF('ORDER FORM'!$O$7=\"\",\"ENTER-PO\",'ORDER FORM'!$O$7)","v":"ENTER-PO"},"2021 Spring/Summer",{"$f":"IF('ORDER FORM'!$O$9=\"\",TODAY(),'ORDER FORM'!$O$9)","v":"2023-11-02"},710076,"738","S","2","610306140890",{"$f":"IF(IFERROR(INDEX('ORDER FORM'!$I$96:$L$125,MATCH(CONCATENATE(E72,F72),'ORDER FORM'!$A$96:$A$125,0),MATCH(G72,'ORDER FORM'!$I$119:$L$119,0)),\"\")=0,\"\",IFERROR(INDEX('ORDER FORM'!$I$96:$L$125,MATCH(CONCATENATE(E72,F72),'ORDER FORM'!$A$96:A$125,0),MATCH(G72,'ORDER FORM'!$I$119:$L$119,0)),\"\"))","v":""},{"$f":"IFERROR(IFERROR(INDEX('ORDER FORM'!N:N,MATCH(IMPORT!E72,'ORDER FORM'!B:B,0)),INDEX('ORDER FORM'!N:N,MATCH(TRIM(IMPORT!E72),'ORDER FORM'!B:B,0))),\"\")","v":{"v":32.5,"d":"32.50"}}]
["UPLOADUSD",{"$f":"IF('ORDER FORM'!$O$7=\"\",\"ENTER-PO\",'ORDER FORM'!$O$7)","v":"ENTER-PO"},"2021 Spring/Summer",{"$f":"IF('ORDER FORM'!$O$9=\"\",TODAY(),'ORDER FORM'!$O$9)","v":"2023-11-02"},710076,"738","M","2","610306140906",{"$f":"IF(IFERROR(INDEX('ORDER FORM'!$I$96:$L$125,MATCH(CONCATENATE(E73,F73),'ORDER FORM'!$A$96:$A$125,0),MATCH(G73,'ORDER FORM'!$I$119:$L$119,0)),\"\")=0,\"\",IFERROR(INDEX('ORDER FORM'!$I$96:$L$125,MATCH(CONCATENATE(E73,F73),'ORDER FORM'!$A$96:A$125,0),MATCH(G73,'ORDER FORM'!$I$119:$L$119,0)),\"\"))","v":""},{"$f":"IFERROR(IFERROR(INDEX('ORDER FORM'!N:N,MATCH(IMPORT!E73,'ORDER FORM'!B:B,0)),INDEX('ORDER FORM'!N:N,MATCH(TRIM(IMPORT!E73),'ORDER FORM'!B:B,0))),\"\")","v":{"v":32.5,"d":"32.50"}}]
["UPLOADUSD",{"$f":"IF('ORDER FORM'!$O$7=\"\",\"ENTER-PO\",'ORDER FORM'!$O$7)","v":"ENTER-PO"},"2021 Spring/Summer",{"$f":"IF('ORDER FORM'!$O$9=\"\",TODAY(),'ORDER FORM'!$O$9)","v":"2023-11-02"},710076,"738","L","2","610306140913",{"$f":"IF(IFERROR(INDEX('ORDER FORM'!$I$96:$L$125,MATCH(CONCATENATE(E74,F74),'ORDER FORM'!$A$96:$A$125,0),MATCH(G74,'ORDER FORM'!$I$119:$L$119,0)),\"\")=0,\"\",IFERROR(INDEX('ORDER FORM'!$I$96:$L$125,MATCH(CONCATENATE(E74,F74),'ORDER FORM'!$A$96:A$125,0),MATCH(G74,'ORDER FORM'!$I$119:$L$119,0)),\"\"))","v":""},{"$f":"IFERROR(IFERROR(INDEX('ORDER FORM'!N:N,MATCH(IMPORT!E74,'ORDER FORM'!B:B,0)),INDEX('ORDER FORM'!N:N,MATCH(TRIM(IMPORT!E74),'ORDER FORM'!B:B,0))),\"\")","v":{"v":32.5,"d":"32.50"}}]
["UPLOADUSD",{"$f":"IF('ORDER FORM'!$O$7=\"\",\"ENTER-PO\",'ORDER FORM'!$O$7)","v":"ENTER-PO"},"2021 Spring/Summer",{"$f":"IF('ORDER FORM'!$O$9=\"\",TODAY(),'ORDER FORM'!$O$9)","v":"2023-11-02"},710076,"738","XL","2","610306140920",{"$f":"IF(IFERROR(INDEX('ORDER FORM'!$I$96:$L$125,MATCH(CONCATENATE(E75,F75),'ORDER FORM'!$A$96:$A$125,0),MATCH(G75,'ORDER FORM'!$I$119:$L$119,0)),\"\")=0,\"\",IFERROR(INDEX('ORDER FORM'!$I$96:$L$125,MATCH(CONCATENATE(E75,F75),'ORDER FORM'!$A$96:A$125,0),MATCH(G75,'ORDER FORM'!$I$119:$L$119,0)),\"\"))","v":""},{"$f":"IFERROR(IFERROR(INDEX('ORDER FORM'!N:N,MATCH(IMPORT!E75,'ORDER FORM'!B:B,0)),INDEX('ORDER FORM'!N:N,MATCH(TRIM(IMPORT!E75),'ORDER FORM'!B:B,0))),\"\")","v":{"v":32.5,"d":"32.50"}}]
["UPLOADUSD",{"$f":"IF('ORDER FORM'!$O$7=\"\",\"ENTER-PO\",'ORDER FORM'!$O$7)","v":"ENTER-PO"},"2021 Spring/Summer",{"$f":"IF('ORDER FORM'!$O$9=\"\",TODAY(),'ORDER FORM'!$O$9)","v":"2023-11-02"},710076,"845","S","2","610306140937",{"$f":"IF(IFERROR(INDEX('ORDER FORM'!$I$96:$L$125,MATCH(CONCATENATE(E76,F76),'ORDER FORM'!$A$96:$A$125,0),MATCH(G76,'ORDER FORM'!$I$119:$L$119,0)),\"\")=0,\"\",IFERROR(INDEX('ORDER FORM'!$I$96:$L$125,MATCH(CONCATENATE(E76,F76),'ORDER FORM'!$A$96:A$125,0),MATCH(G76,'ORDER FORM'!$I$119:$L$119,0)),\"\"))","v":""},{"$f":"IFERROR(IFERROR(INDEX('ORDER FORM'!N:N,MATCH(IMPORT!E76,'ORDER FORM'!B:B,0)),INDEX('ORDER FORM'!N:N,MATCH(TRIM(IMPORT!E76),'ORDER FORM'!B:B,0))),\"\")","v":{"v":32.5,"d":"32.50"}}]
["UPLOADUSD",{"$f":"IF('ORDER FORM'!$O$7=\"\",\"ENTER-PO\",'ORDER FORM'!$O$7)","v":"ENTER-PO"},"2021 Spring/Summer",{"$f":"IF('ORDER FORM'!$O$9=\"\",TODAY(),'ORDER FORM'!$O$9)","v":"2023-11-02"},710076,"845","M","2","610306140944",{"$f":"IF(IFERROR(INDEX('ORDER FORM'!$I$96:$L$125,MATCH(CONCATENATE(E77,F77),'ORDER FORM'!$A$96:$A$125,0),MATCH(G77,'ORDER FORM'!$I$119:$L$119,0)),\"\")=0,\"\",IFERROR(INDEX('ORDER FORM'!$I$96:$L$125,MATCH(CONCATENATE(E77,F77),'ORDER FORM'!$A$96:A$125,0),MATCH(G77,'ORDER FORM'!$I$119:$L$119,0)),\"\"))","v":""},{"$f":"IFERROR(IFERROR(INDEX('ORDER FORM'!N:N,MATCH(IMPORT!E77,'ORDER FORM'!B:B,0)),INDEX('ORDER FORM'!N:N,MATCH(TRIM(IMPORT!E77),'ORDER FORM'!B:B,0))),\"\")","v":{"v":32.5,"d":"32.50"}}]
["UPLOADUSD",{"$f":"IF('ORDER FORM'!$O$7=\"\",\"ENTER-PO\",'ORDER FORM'!$O$7)","v":"ENTER-PO"},"2021 Spring/Summer",{"$f":"IF('ORDER FORM'!$O$9=\"\",TODAY(),'ORDER FORM'!$O$9)","v":"2023-11-02"},710076,"845","L","2","610306140951",{"$f":"IF(IFERROR(INDEX('ORDER FORM'!$I$96:$L$125,MATCH(CONCATENATE(E78,F78),'ORDER FORM'!$A$96:$A$125,0),MATCH(G78,'ORDER FORM'!$I$119:$L$119,0)),\"\")=0,\"\",IFERROR(INDEX('ORDER FORM'!$I$96:$L$125,MATCH(CONCATENATE(E78,F78),'ORDER FORM'!$A$96:A$125,0),MATCH(G78,'ORDER FORM'!$I$119:$L$119,0)),\"\"))","v":""},{"$f":"IFERROR(IFERROR(INDEX('ORDER FORM'!N:N,MATCH(IMPORT!E78,'ORDER FORM'!B:B,0)),INDEX('ORDER FORM'!N:N,MATCH(TRIM(IMPORT!E78),'ORDER FORM'!B:B,0))),\"\")","v":{"v":32.5,"d":"32.50"}}]
["UPLOADUSD",{"$f":"IF('ORDER FORM'!$O$7=\"\",\"ENTER-PO\",'ORDER FORM'!$O$7)","v":"ENTER-PO"},"2021 Spring/Summer",{"$f":"IF('ORDER FORM'!$O$9=\"\",TODAY(),'ORDER FORM'!$O$9)","v":"2023-11-02"},710076,"845","XL","2","610306140968",{"$f":"IF(IFERROR(INDEX('ORDER FORM'!$I$96:$L$125,MATCH(CONCATENATE(E79,F79),'ORDER FORM'!$A$96:$A$125,0),MATCH(G79,'ORDER FORM'!$I$119:$L$119,0)),\"\")=0,\"\",IFERROR(INDEX('ORDER FORM'!$I$96:$L$125,MATCH(CONCATENATE(E79,F79),'ORDER FORM'!$A$96:A$125,0),MATCH(G79,'ORDER FORM'!$I$119:$L$119,0)),\"\"))","v":""},{"$f":"IFERROR(IFERROR(INDEX('ORDER FORM'!N:N,MATCH(IMPORT!E79,'ORDER FORM'!B:B,0)),INDEX('ORDER FORM'!N:N,MATCH(TRIM(IMPORT!E79),'ORDER FORM'!B:B,0))),\"\")","v":{"v":32.5,"d":"32.50"}}]
["UPLOADUSD",{"$f":"IF('ORDER FORM'!$O$7=\"\",\"ENTER-PO\",'ORDER FORM'!$O$7)","v":"ENTER-PO"},"2021 Spring/Summer",{"$f":"IF('ORDER FORM'!$O$9=\"\",TODAY(),'ORDER FORM'!$O$9)","v":"2023-11-02"},710086,"115","S","2","610306140975",{"$f":"IF(IFERROR(INDEX('ORDER FORM'!$I$96:$L$125,MATCH(CONCATENATE(E80,F80),'ORDER FORM'!$A$96:$A$125,0),MATCH(G80,'ORDER FORM'!$I$119:$L$119,0)),\"\")=0,\"\",IFERROR(INDEX('ORDER FORM'!$I$96:$L$125,MATCH(CONCATENATE(E80,F80),'ORDER FORM'!$A$96:A$125,0),MATCH(G80,'ORDER FORM'!$I$119:$L$119,0)),\"\"))","v":""},{"$f":"IFERROR(IFERROR(INDEX('ORDER FORM'!N:N,MATCH(IMPORT!E80,'ORDER FORM'!B:B,0)),INDEX('ORDER FORM'!N:N,MATCH(TRIM(IMPORT!E80),'ORDER FORM'!B:B,0))),\"\")","v":{"v":31.5,"d":"31.50"}}]
["UPLOADUSD",{"$f":"IF('ORDER FORM'!$O$7=\"\",\"ENTER-PO\",'ORDER FORM'!$O$7)","v":"ENTER-PO"},"2021 Spring/Summer",{"$f":"IF('ORDER FORM'!$O$9=\"\",TODAY(),'ORDER FORM'!$O$9)","v":"2023-11-02"},710086,"115","M","2","610306140982",{"$f":"IF(IFERROR(INDEX('ORDER FORM'!$I$96:$L$125,MATCH(CONCATENATE(E81,F81),'ORDER FORM'!$A$96:$A$125,0),MATCH(G81,'ORDER FORM'!$I$119:$L$119,0)),\"\")=0,\"\",IFERROR(INDEX('ORDER FORM'!$I$96:$L$125,MATCH(CONCATENATE(E81,F81),'ORDER FORM'!$A$96:A$125,0),MATCH(G81,'ORDER FORM'!$I$119:$L$119,0)),\"\"))","v":""},{"$f":"IFERROR(IFERROR(INDEX('ORDER FORM'!N:N,MATCH(IMPORT!E81,'ORDER FORM'!B:B,0)),INDEX('ORDER FORM'!N:N,MATCH(TRIM(IMPORT!E81),'ORDER FORM'!B:B,0))),\"\")","v":{"v":31.5,"d":"31.50"}}]
["UPLOADUSD",{"$f":"IF('ORDER FORM'!$O$7=\"\",\"ENTER-PO\",'ORDER FORM'!$O$7)","v":"ENTER-PO"},"2021 Spring/Summer",{"$f":"IF('ORDER FORM'!$O$9=\"\",TODAY(),'ORDER FORM'!$O$9)","v":"2023-11-02"},710086,"115","L","2","610306140999",{"$f":"IF(IFERROR(INDEX('ORDER FORM'!$I$96:$L$125,MATCH(CONCATENATE(E82,F82),'ORDER FORM'!$A$96:$A$125,0),MATCH(G82,'ORDER FORM'!$I$119:$L$119,0)),\"\")=0,\"\",IFERROR(INDEX('ORDER FORM'!$I$96:$L$125,MATCH(CONCATENATE(E82,F82),'ORDER FORM'!$A$96:A$125,0),MATCH(G82,'ORDER FORM'!$I$119:$L$119,0)),\"\"))","v":""},{"$f":"IFERROR(IFERROR(INDEX('ORDER FORM'!N:N,MATCH(IMPORT!E82,'ORDER FORM'!B:B,0)),INDEX('ORDER FORM'!N:N,MATCH(TRIM(IMPORT!E82),'ORDER FORM'!B:B,0))),\"\")","v":{"v":31.5,"d":"31.50"}}]
["UPLOADUSD",{"$f":"IF('ORDER FORM'!$O$7=\"\",\"ENTER-PO\",'ORDER FORM'!$O$7)","v":"ENTER-PO"},"2021 Spring/Summer",{"$f":"IF('ORDER FORM'!$O$9=\"\",TODAY(),'ORDER FORM'!$O$9)","v":"2023-11-02"},710086,"115","XL","2","610306141002",{"$f":"IF(IFERROR(INDEX('ORDER FORM'!$I$96:$L$125,MATCH(CONCATENATE(E83,F83),'ORDER FORM'!$A$96:$A$125,0),MATCH(G83,'ORDER FORM'!$I$119:$L$119,0)),\"\")=0,\"\",IFERROR(INDEX('ORDER FORM'!$I$96:$L$125,MATCH(CONCATENATE(E83,F83),'ORDER FORM'!$A$96:A$125,0),MATCH(G83,'ORDER FORM'!$I$119:$L$119,0)),\"\"))","v":""},{"$f":"IFERROR(IFERROR(INDEX('ORDER FORM'!N:N,MATCH(IMPORT!E83,'ORDER FORM'!B:B,0)),INDEX('ORDER FORM'!N:N,MATCH(TRIM(IMPORT!E83),'ORDER FORM'!B:B,0))),\"\")","v":{"v":31.5,"d":"31.50"}}]
["UPLOADUSD",{"$f":"IF('ORDER FORM'!$O$7=\"\",\"ENTER-PO\",'ORDER FORM'!$O$7)","v":"ENTER-PO"},"2021 Spring/Summer",{"$f":"IF('ORDER FORM'!$O$9=\"\",TODAY(),'ORDER FORM'!$O$9)","v":"2023-11-02"},710086,"845","S","2","610306141019",{"$f":"IF(IFERROR(INDEX('ORDER FORM'!$I$96:$L$125,MATCH(CONCATENATE(E84,F84),'ORDER FORM'!$A$96:$A$125,0),MATCH(G84,'ORDER FORM'!$I$119:$L$119,0)),\"\")=0,\"\",IFERROR(INDEX('ORDER FORM'!$I$96:$L$125,MATCH(CONCATENATE(E84,F84),'ORDER FORM'!$A$96:A$125,0),MATCH(G84,'ORDER FORM'!$I$119:$L$119,0)),\"\"))","v":""},{"$f":"IFERROR(IFERROR(INDEX('ORDER FORM'!N:N,MATCH(IMPORT!E84,'ORDER FORM'!B:B,0)),INDEX('ORDER FORM'!N:N,MATCH(TRIM(IMPORT!E84),'ORDER FORM'!B:B,0))),\"\")","v":{"v":31.5,"d":"31.50"}}]
["UPLOADUSD",{"$f":"IF('ORDER FORM'!$O$7=\"\",\"ENTER-PO\",'ORDER FORM'!$O$7)","v":"ENTER-PO"},"2021 Spring/Summer",{"$f":"IF('ORDER FORM'!$O$9=\"\",TODAY(),'ORDER FORM'!$O$9)","v":"2023-11-02"},710086,"845","M","2","610306141026",{"$f":"IF(IFERROR(INDEX('ORDER FORM'!$I$96:$L$125,MATCH(CONCATENATE(E85,F85),'ORDER FORM'!$A$96:$A$125,0),MATCH(G85,'ORDER FORM'!$I$119:$L$119,0)),\"\")=0,\"\",IFERROR(INDEX('ORDER FORM'!$I$96:$L$125,MATCH(CONCATENATE(E85,F85),'ORDER FORM'!$A$96:A$125,0),MATCH(G85,'ORDER FORM'!$I$119:$L$119,0)),\"\"))","v":""},{"$f":"IFERROR(IFERROR(INDEX('ORDER FORM'!N:N,MATCH(IMPORT!E85,'ORDER FORM'!B:B,0)),INDEX('ORDER FORM'!N:N,MATCH(TRIM(IMPORT!E85),'ORDER FORM'!B:B,0))),\"\")","v":{"v":31.5,"d":"31.50"}}]
["UPLOADUSD",{"$f":"IF('ORDER FORM'!$O$7=\"\",\"ENTER-PO\",'ORDER FORM'!$O$7)","v":"ENTER-PO"},"2021 Spring/Summer",{"$f":"IF('ORDER FORM'!$O$9=\"\",TODAY(),'ORDER FORM'!$O$9)","v":"2023-11-02"},710086,"845","L","2","610306141033",{"$f":"IF(IFERROR(INDEX('ORDER FORM'!$I$96:$L$125,MATCH(CONCATENATE(E86,F86),'ORDER FORM'!$A$96:$A$125,0),MATCH(G86,'ORDER FORM'!$I$119:$L$119,0)),\"\")=0,\"\",IFERROR(INDEX('ORDER FORM'!$I$96:$L$125,MATCH(CONCATENATE(E86,F86),'ORDER FORM'!$A$96:A$125,0),MATCH(G86,'ORDER FORM'!$I$119:$L$119,0)),\"\"))","v":""},{"$f":"IFERROR(IFERROR(INDEX('ORDER FORM'!N:N,MATCH(IMPORT!E86,'ORDER FORM'!B:B,0)),INDEX('ORDER FORM'!N:N,MATCH(TRIM(IMPORT!E86),'ORDER FORM'!B:B,0))),\"\")","v":{"v":31.5,"d":"31.50"}}]
["UPLOADUSD",{"$f":"IF('ORDER FORM'!$O$7=\"\",\"ENTER-PO\",'ORDER FORM'!$O$7)","v":"ENTER-PO"},"2021 Spring/Summer",{"$f":"IF('ORDER FORM'!$O$9=\"\",TODAY(),'ORDER FORM'!$O$9)","v":"2023-11-02"},710086,"845","XL","2","610306141040",{"$f":"IF(IFERROR(INDEX('ORDER FORM'!$I$96:$L$125,MATCH(CONCATENATE(E87,F87),'ORDER FORM'!$A$96:$A$125,0),MATCH(G87,'ORDER FORM'!$I$119:$L$119,0)),\"\")=0,\"\",IFERROR(INDEX('ORDER FORM'!$I$96:$L$125,MATCH(CONCATENATE(E87,F87),'ORDER FORM'!$A$96:A$125,0),MATCH(G87,'ORDER FORM'!$I$119:$L$119,0)),\"\"))","v":""},{"$f":"IFERROR(IFERROR(INDEX('ORDER FORM'!N:N,MATCH(IMPORT!E87,'ORDER FORM'!B:B,0)),INDEX('ORDER FORM'!N:N,MATCH(TRIM(IMPORT!E87),'ORDER FORM'!B:B,0))),\"\")","v":{"v":31.5,"d":"31.50"}}]
["UPLOADUSD",{"$f":"IF('ORDER FORM'!$O$7=\"\",\"ENTER-PO\",'ORDER FORM'!$O$7)","v":"ENTER-PO"},"2021 Spring/Summer",{"$f":"IF('ORDER FORM'!$O$9=\"\",TODAY(),'ORDER FORM'!$O$9)","v":"2023-11-02"},710087,"115","S","2","610306141057",{"$f":"IF(IFERROR(INDEX('ORDER FORM'!$I$96:$L$125,MATCH(CONCATENATE(E88,F88),'ORDER FORM'!$A$96:$A$125,0),MATCH(G88,'ORDER FORM'!$I$119:$L$119,0)),\"\")=0,\"\",IFERROR(INDEX('ORDER FORM'!$I$96:$L$125,MATCH(CONCATENATE(E88,F88),'ORDER FORM'!$A$96:A$125,0),MATCH(G88,'ORDER FORM'!$I$119:$L$119,0)),\"\"))","v":""},{"$f":"IFERROR(IFERROR(INDEX('ORDER FORM'!N:N,MATCH(IMPORT!E88,'ORDER FORM'!B:B,0)),INDEX('ORDER FORM'!N:N,MATCH(TRIM(IMPORT!E88),'ORDER FORM'!B:B,0))),\"\")","v":{"v":30,"d":"30.00"}}]
["UPLOADUSD",{"$f":"IF('ORDER FORM'!$O$7=\"\",\"ENTER-PO\",'ORDER FORM'!$O$7)","v":"ENTER-PO"},"2021 Spring/Summer",{"$f":"IF('ORDER FORM'!$O$9=\"\",TODAY(),'ORDER FORM'!$O$9)","v":"2023-11-02"},710087,"115","M","2","610306141064",{"$f":"IF(IFERROR(INDEX('ORDER FORM'!$I$96:$L$125,MATCH(CONCATENATE(E89,F89),'ORDER FORM'!$A$96:$A$125,0),MATCH(G89,'ORDER FORM'!$I$119:$L$119,0)),\"\")=0,\"\",IFERROR(INDEX('ORDER FORM'!$I$96:$L$125,MATCH(CONCATENATE(E89,F89),'ORDER FORM'!$A$96:A$125,0),MATCH(G89,'ORDER FORM'!$I$119:$L$119,0)),\"\"))","v":""},{"$f":"IFERROR(IFERROR(INDEX('ORDER FORM'!N:N,MATCH(IMPORT!E89,'ORDER FORM'!B:B,0)),INDEX('ORDER FORM'!N:N,MATCH(TRIM(IMPORT!E89),'ORDER FORM'!B:B,0))),\"\")","v":{"v":30,"d":"30.00"}}]
["UPLOADUSD",{"$f":"IF('ORDER FORM'!$O$7=\"\",\"ENTER-PO\",'ORDER FORM'!$O$7)","v":"ENTER-PO"},"2021 Spring/Summer",{"$f":"IF('ORDER FORM'!$O$9=\"\",TODAY(),'ORDER FORM'!$O$9)","v":"2023-11-02"},710087,"115","L","2","610306141071",{"$f":"IF(IFERROR(INDEX('ORDER FORM'!$I$96:$L$125,MATCH(CONCATENATE(E90,F90),'ORDER FORM'!$A$96:$A$125,0),MATCH(G90,'ORDER FORM'!$I$119:$L$119,0)),\"\")=0,\"\",IFERROR(INDEX('ORDER FORM'!$I$96:$L$125,MATCH(CONCATENATE(E90,F90),'ORDER FORM'!$A$96:A$125,0),MATCH(G90,'ORDER FORM'!$I$119:$L$119,0)),\"\"))","v":""},{"$f":"IFERROR(IFERROR(INDEX('ORDER FORM'!N:N,MATCH(IMPORT!E90,'ORDER FORM'!B:B,0)),INDEX('ORDER FORM'!N:N,MATCH(TRIM(IMPORT!E90),'ORDER FORM'!B:B,0))),\"\")","v":{"v":30,"d":"30.00"}}]
["UPLOADUSD",{"$f":"IF('ORDER FORM'!$O$7=\"\",\"ENTER-PO\",'ORDER FORM'!$O$7)","v":"ENTER-PO"},"2021 Spring/Summer",{"$f":"IF('ORDER FORM'!$O$9=\"\",TODAY(),'ORDER FORM'!$O$9)","v":"2023-11-02"},710087,"115","XL","2","610306141088",{"$f":"IF(IFERROR(INDEX('ORDER FORM'!$I$96:$L$125,MATCH(CONCATENATE(E91,F91),'ORDER FORM'!$A$96:$A$125,0),MATCH(G91,'ORDER FORM'!$I$119:$L$119,0)),\"\")=0,\"\",IFERROR(INDEX('ORDER FORM'!$I$96:$L$125,MATCH(CONCATENATE(E91,F91),'ORDER FORM'!$A$96:A$125,0),MATCH(G91,'ORDER FORM'!$I$119:$L$119,0)),\"\"))","v":""},{"$f":"IFERROR(IFERROR(INDEX('ORDER FORM'!N:N,MATCH(IMPORT!E91,'ORDER FORM'!B:B,0)),INDEX('ORDER FORM'!N:N,MATCH(TRIM(IMPORT!E91),'ORDER FORM'!B:B,0))),\"\")","v":{"v":30,"d":"30.00"}}]
["UPLOADUSD",{"$f":"IF('ORDER FORM'!$O$7=\"\",\"ENTER-PO\",'ORDER FORM'!$O$7)","v":"ENTER-PO"},"2021 Spring/Summer",{"$f":"IF('ORDER FORM'!$O$9=\"\",TODAY(),'ORDER FORM'!$O$9)","v":"2023-11-02"},710087,"845","S","2","610306141095",{"$f":"IF(IFERROR(INDEX('ORDER FORM'!$I$96:$L$125,MATCH(CONCATENATE(E92,F92),'ORDER FORM'!$A$96:$A$125,0),MATCH(G92,'ORDER FORM'!$I$119:$L$119,0)),\"\")=0,\"\",IFERROR(INDEX('ORDER FORM'!$I$96:$L$125,MATCH(CONCATENATE(E92,F92),'ORDER FORM'!$A$96:A$125,0),MATCH(G92,'ORDER FORM'!$I$119:$L$119,0)),\"\"))","v":""},{"$f":"IFERROR(IFERROR(INDEX('ORDER FORM'!N:N,MATCH(IMPORT!E92,'ORDER FORM'!B:B,0)),INDEX('ORDER FORM'!N:N,MATCH(TRIM(IMPORT!E92),'ORDER FORM'!B:B,0))),\"\")","v":{"v":30,"d":"30.00"}}]
["UPLOADUSD",{"$f":"IF('ORDER FORM'!$O$7=\"\",\"ENTER-PO\",'ORDER FORM'!$O$7)","v":"ENTER-PO"},"2021 Spring/Summer",{"$f":"IF('ORDER FORM'!$O$9=\"\",TODAY(),'ORDER FORM'!$O$9)","v":"2023-11-02"},710087,"845","M","2","610306141101",{"$f":"IF(IFERROR(INDEX('ORDER FORM'!$I$96:$L$125,MATCH(CONCATENATE(E93,F93),'ORDER FORM'!$A$96:$A$125,0),MATCH(G93,'ORDER FORM'!$I$119:$L$119,0)),\"\")=0,\"\",IFERROR(INDEX('ORDER FORM'!$I$96:$L$125,MATCH(CONCATENATE(E93,F93),'ORDER FORM'!$A$96:A$125,0),MATCH(G93,'ORDER FORM'!$I$119:$L$119,0)),\"\"))","v":""},{"$f":"IFERROR(IFERROR(INDEX('ORDER FORM'!N:N,MATCH(IMPORT!E93,'ORDER FORM'!B:B,0)),INDEX('ORDER FORM'!N:N,MATCH(TRIM(IMPORT!E93),'ORDER FORM'!B:B,0))),\"\")","v":{"v":30,"d":"30.00"}}]
["UPLOADUSD",{"$f":"IF('ORDER FORM'!$O$7=\"\",\"ENTER-PO\",'ORDER FORM'!$O$7)","v":"ENTER-PO"},"2021 Spring/Summer",{"$f":"IF('ORDER FORM'!$O$9=\"\",TODAY(),'ORDER FORM'!$O$9)","v":"2023-11-02"},710087,"845","L","2","610306141118",{"$f":"IF(IFERROR(INDEX('ORDER FORM'!$I$96:$L$125,MATCH(CONCATENATE(E94,F94),'ORDER FORM'!$A$96:$A$125,0),MATCH(G94,'ORDER FORM'!$I$119:$L$119,0)),\"\")=0,\"\",IFERROR(INDEX('ORDER FORM'!$I$96:$L$125,MATCH(CONCATENATE(E94,F94),'ORDER FORM'!$A$96:A$125,0),MATCH(G94,'ORDER FORM'!$I$119:$L$119,0)),\"\"))","v":""},{"$f":"IFERROR(IFERROR(INDEX('ORDER FORM'!N:N,MATCH(IMPORT!E94,'ORDER FORM'!B:B,0)),INDEX('ORDER FORM'!N:N,MATCH(TRIM(IMPORT!E94),'ORDER FORM'!B:B,0))),\"\")","v":{"v":30,"d":"30.00"}}]
["UPLOADUSD",{"$f":"IF('ORDER FORM'!$O$7=\"\",\"ENTER-PO\",'ORDER FORM'!$O$7)","v":"ENTER-PO"},"2021 Spring/Summer",{"$f":"IF('ORDER FORM'!$O$9=\"\",TODAY(),'ORDER FORM'!$O$9)","v":"2023-11-02"},710087,"845","XL","2","610306141125",{"$f":"IF(IFERROR(INDEX('ORDER FORM'!$I$96:$L$125,MATCH(CONCATENATE(E95,F95),'ORDER FORM'!$A$96:$A$125,0),MATCH(G95,'ORDER FORM'!$I$119:$L$119,0)),\"\")=0,\"\",IFERROR(INDEX('ORDER FORM'!$I$96:$L$125,MATCH(CONCATENATE(E95,F95),'ORDER FORM'!$A$96:A$125,0),MATCH(G95,'ORDER FORM'!$I$119:$L$119,0)),\"\"))","v":""},{"$f":"IFERROR(IFERROR(INDEX('ORDER FORM'!N:N,MATCH(IMPORT!E95,'ORDER FORM'!B:B,0)),INDEX('ORDER FORM'!N:N,MATCH(TRIM(IMPORT!E95),'ORDER FORM'!B:B,0))),\"\")","v":{"v":30,"d":"30.00"}}]
["UPLOADUSD",{"$f":"IF('ORDER FORM'!$O$7=\"\",\"ENTER-PO\",'ORDER FORM'!$O$7)","v":"ENTER-PO"},"2021 Spring/Summer",{"$f":"IF('ORDER FORM'!$O$9=\"\",TODAY(),'ORDER FORM'!$O$9)","v":"2023-11-02"},710088,"115","S","2","610306141132",{"$f":"IF(IFERROR(INDEX('ORDER FORM'!$I$96:$L$125,MATCH(CONCATENATE(E96,F96),'ORDER FORM'!$A$96:$A$125,0),MATCH(G96,'ORDER FORM'!$I$119:$L$119,0)),\"\")=0,\"\",IFERROR(INDEX('ORDER FORM'!$I$96:$L$125,MATCH(CONCATENATE(E96,F96),'ORDER FORM'!$A$96:A$125,0),MATCH(G96,'ORDER FORM'!$I$119:$L$119,0)),\"\"))","v":""},{"$f":"IFERROR(IFERROR(INDEX('ORDER FORM'!N:N,MATCH(IMPORT!E96,'ORDER FORM'!B:B,0)),INDEX('ORDER FORM'!N:N,MATCH(TRIM(IMPORT!E96),'ORDER FORM'!B:B,0))),\"\")","v":{"v":27.5,"d":"27.50"}}]
["UPLOADUSD",{"$f":"IF('ORDER FORM'!$O$7=\"\",\"ENTER-PO\",'ORDER FORM'!$O$7)","v":"ENTER-PO"},"2021 Spring/Summer",{"$f":"IF('ORDER FORM'!$O$9=\"\",TODAY(),'ORDER FORM'!$O$9)","v":"2023-11-02"},710088,"115","M","2","610306141149",{"$f":"IF(IFERROR(INDEX('ORDER FORM'!$I$96:$L$125,MATCH(CONCATENATE(E97,F97),'ORDER FORM'!$A$96:$A$125,0),MATCH(G97,'ORDER FORM'!$I$119:$L$119,0)),\"\")=0,\"\",IFERROR(INDEX('ORDER FORM'!$I$96:$L$125,MATCH(CONCATENATE(E97,F97),'ORDER FORM'!$A$96:A$125,0),MATCH(G97,'ORDER FORM'!$I$119:$L$119,0)),\"\"))","v":""},{"$f":"IFERROR(IFERROR(INDEX('ORDER FORM'!N:N,MATCH(IMPORT!E97,'ORDER FORM'!B:B,0)),INDEX('ORDER FORM'!N:N,MATCH(TRIM(IMPORT!E97),'ORDER FORM'!B:B,0))),\"\")","v":{"v":27.5,"d":"27.50"}}]
["UPLOADUSD",{"$f":"IF('ORDER FORM'!$O$7=\"\",\"ENTER-PO\",'ORDER FORM'!$O$7)","v":"ENTER-PO"},"2021 Spring/Summer",{"$f":"IF('ORDER FORM'!$O$9=\"\",TODAY(),'ORDER FORM'!$O$9)","v":"2023-11-02"},710088,"115","L","2","610306141156",{"$f":"IF(IFERROR(INDEX('ORDER FORM'!$I$96:$L$125,MATCH(CONCATENATE(E98,F98),'ORDER FORM'!$A$96:$A$125,0),MATCH(G98,'ORDER FORM'!$I$119:$L$119,0)),\"\")=0,\"\",IFERROR(INDEX('ORDER FORM'!$I$96:$L$125,MATCH(CONCATENATE(E98,F98),'ORDER FORM'!$A$96:A$125,0),MATCH(G98,'ORDER FORM'!$I$119:$L$119,0)),\"\"))","v":""},{"$f":"IFERROR(IFERROR(INDEX('ORDER FORM'!N:N,MATCH(IMPORT!E98,'ORDER FORM'!B:B,0)),INDEX('ORDER FORM'!N:N,MATCH(TRIM(IMPORT!E98),'ORDER FORM'!B:B,0))),\"\")","v":{"v":27.5,"d":"27.50"}}]
["UPLOADUSD",{"$f":"IF('ORDER FORM'!$O$7=\"\",\"ENTER-PO\",'ORDER FORM'!$O$7)","v":"ENTER-PO"},"2021 Spring/Summer",{"$f":"IF('ORDER FORM'!$O$9=\"\",TODAY(),'ORDER FORM'!$O$9)","v":"2023-11-02"},710088,"115","XL","2","610306141163",{"$f":"IF(IFERROR(INDEX('ORDER FORM'!$I$96:$L$125,MATCH(CONCATENATE(E99,F99),'ORDER FORM'!$A$96:$A$125,0),MATCH(G99,'ORDER FORM'!$I$119:$L$119,0)),\"\")=0,\"\",IFERROR(INDEX('ORDER FORM'!$I$96:$L$125,MATCH(CONCATENATE(E99,F99),'ORDER FORM'!$A$96:A$125,0),MATCH(G99,'ORDER FORM'!$I$119:$L$119,0)),\"\"))","v":""},{"$f":"IFERROR(IFERROR(INDEX('ORDER FORM'!N:N,MATCH(IMPORT!E99,'ORDER FORM'!B:B,0)),INDEX('ORDER FORM'!N:N,MATCH(TRIM(IMPORT!E99),'ORDER FORM'!B:B,0))),\"\")","v":{"v":27.5,"d":"27.50"}}]
["UPLOADUSD",{"$f":"IF('ORDER FORM'!$O$7=\"\",\"ENTER-PO\",'ORDER FORM'!$O$7)","v":"ENTER-PO"},"2021 Spring/Summer",{"$f":"IF('ORDER FORM'!$O$9=\"\",TODAY(),'ORDER FORM'!$O$9)","v":"2023-11-02"},710088,"845","S","2","610306141170",{"$f":"IF(IFERROR(INDEX('ORDER FORM'!$I$96:$L$125,MATCH(CONCATENATE(E100,F100),'ORDER FORM'!$A$96:$A$125,0),MATCH(G100,'ORDER FORM'!$I$119:$L$119,0)),\"\")=0,\"\",IFERROR(INDEX('ORDER FORM'!$I$96:$L$125,MATCH(CONCATENATE(E100,F100),'ORDER FORM'!$A$96:A$125,0),MATCH(G100,'ORDER FORM'!$I$119:$L$119,0)),\"\"))","v":""},{"$f":"IFERROR(IFERROR(INDEX('ORDER FORM'!N:N,MATCH(IMPORT!E100,'ORDER FORM'!B:B,0)),INDEX('ORDER FORM'!N:N,MATCH(TRIM(IMPORT!E100),'ORDER FORM'!B:B,0))),\"\")","v":{"v":27.5,"d":"27.50"}}]
["UPLOADUSD",{"$f":"IF('ORDER FORM'!$O$7=\"\",\"ENTER-PO\",'ORDER FORM'!$O$7)","v":"ENTER-PO"},"2021 Spring/Summer",{"$f":"IF('ORDER FORM'!$O$9=\"\",TODAY(),'ORDER FORM'!$O$9)","v":"2023-11-02"},710088,"845","M","2","610306141187",{"$f":"IF(IFERROR(INDEX('ORDER FORM'!$I$96:$L$125,MATCH(CONCATENATE(E101,F101),'ORDER FORM'!$A$96:$A$125,0),MATCH(G101,'ORDER FORM'!$I$119:$L$119,0)),\"\")=0,\"\",IFERROR(INDEX('ORDER FORM'!$I$96:$L$125,MATCH(CONCATENATE(E101,F101),'ORDER FORM'!$A$96:A$125,0),MATCH(G101,'ORDER FORM'!$I$119:$L$119,0)),\"\"))","v":""},{"$f":"IFERROR(IFERROR(INDEX('ORDER FORM'!N:N,MATCH(IMPORT!E101,'ORDER FORM'!B:B,0)),INDEX('ORDER FORM'!N:N,MATCH(TRIM(IMPORT!E101),'ORDER FORM'!B:B,0))),\"\")","v":{"v":27.5,"d":"27.50"}}]
["UPLOADUSD",{"$f":"IF('ORDER FORM'!$O$7=\"\",\"ENTER-PO\",'ORDER FORM'!$O$7)","v":"ENTER-PO"},"2021 Spring/Summer",{"$f":"IF('ORDER FORM'!$O$9=\"\",TODAY(),'ORDER FORM'!$O$9)","v":"2023-11-02"},710088,"845","L","2","610306141194",{"$f":"IF(IFERROR(INDEX('ORDER FORM'!$I$96:$L$125,MATCH(CONCATENATE(E102,F102),'ORDER FORM'!$A$96:$A$125,0),MATCH(G102,'ORDER FORM'!$I$119:$L$119,0)),\"\")=0,\"\",IFERROR(INDEX('ORDER FORM'!$I$96:$L$125,MATCH(CONCATENATE(E102,F102),'ORDER FORM'!$A$96:A$125,0),MATCH(G102,'ORDER FORM'!$I$119:$L$119,0)),\"\"))","v":""},{"$f":"IFERROR(IFERROR(INDEX('ORDER FORM'!N:N,MATCH(IMPORT!E102,'ORDER FORM'!B:B,0)),INDEX('ORDER FORM'!N:N,MATCH(TRIM(IMPORT!E102),'ORDER FORM'!B:B,0))),\"\")","v":{"v":27.5,"d":"27.50"}}]
["UPLOADUSD",{"$f":"IF('ORDER FORM'!$O$7=\"\",\"ENTER-PO\",'ORDER FORM'!$O$7)","v":"ENTER-PO"},"2021 Spring/Summer",{"$f":"IF('ORDER FORM'!$O$9=\"\",TODAY(),'ORDER FORM'!$O$9)","v":"2023-11-02"},710088,"845","XL","2","610306141200",{"$f":"IF(IFERROR(INDEX('ORDER FORM'!$I$96:$L$125,MATCH(CONCATENATE(E103,F103),'ORDER FORM'!$A$96:$A$125,0),MATCH(G103,'ORDER FORM'!$I$119:$L$119,0)),\"\")=0,\"\",IFERROR(INDEX('ORDER FORM'!$I$96:$L$125,MATCH(CONCATENATE(E103,F103),'ORDER FORM'!$A$96:A$125,0),MATCH(G103,'ORDER FORM'!$I$119:$L$119,0)),\"\"))","v":""},{"$f":"IFERROR(IFERROR(INDEX('ORDER FORM'!N:N,MATCH(IMPORT!E103,'ORDER FORM'!B:B,0)),INDEX('ORDER FORM'!N:N,MATCH(TRIM(IMPORT!E103),'ORDER FORM'!B:B,0))),\"\")","v":{"v":27.5,"d":"27.50"}}]
["UPLOADUSD",{"$f":"IF('ORDER FORM'!$O$7=\"\",\"ENTER-PO\",'ORDER FORM'!$O$7)","v":"ENTER-PO"},"2021 Spring/Summer",{"$f":"IF('ORDER FORM'!$O$9=\"\",TODAY(),'ORDER FORM'!$O$9)","v":"2023-11-02"},710089,"826","S","2","610306141255",{"$f":"IF(IFERROR(INDEX('ORDER FORM'!$I$96:$L$125,MATCH(CONCATENATE(E104,F104),'ORDER FORM'!$A$96:$A$125,0),MATCH(G104,'ORDER FORM'!$I$119:$L$119,0)),\"\")=0,\"\",IFERROR(INDEX('ORDER FORM'!$I$96:$L$125,MATCH(CONCATENATE(E104,F104),'ORDER FORM'!$A$96:A$125,0),MATCH(G104,'ORDER FORM'!$I$119:$L$119,0)),\"\"))","v":""},{"$f":"IFERROR(IFERROR(INDEX('ORDER FORM'!N:N,MATCH(IMPORT!E104,'ORDER FORM'!B:B,0)),INDEX('ORDER FORM'!N:N,MATCH(TRIM(IMPORT!E104),'ORDER FORM'!B:B,0))),\"\")","v":{"v":27.5,"d":"27.50"}}]
["UPLOADUSD",{"$f":"IF('ORDER FORM'!$O$7=\"\",\"ENTER-PO\",'ORDER FORM'!$O$7)","v":"ENTER-PO"},"2021 Spring/Summer",{"$f":"IF('ORDER FORM'!$O$9=\"\",TODAY(),'ORDER FORM'!$O$9)","v":"2023-11-02"},710089,"826","M","2","610306141262",{"$f":"IF(IFERROR(INDEX('ORDER FORM'!$I$96:$L$125,MATCH(CONCATENATE(E105,F105),'ORDER FORM'!$A$96:$A$125,0),MATCH(G105,'ORDER FORM'!$I$119:$L$119,0)),\"\")=0,\"\",IFERROR(INDEX('ORDER FORM'!$I$96:$L$125,MATCH(CONCATENATE(E105,F105),'ORDER FORM'!$A$96:A$125,0),MATCH(G105,'ORDER FORM'!$I$119:$L$119,0)),\"\"))","v":""},{"$f":"IFERROR(IFERROR(INDEX('ORDER FORM'!N:N,MATCH(IMPORT!E105,'ORDER FORM'!B:B,0)),INDEX('ORDER FORM'!N:N,MATCH(TRIM(IMPORT!E105),'ORDER FORM'!B:B,0))),\"\")","v":{"v":27.5,"d":"27.50"}}]
["UPLOADUSD",{"$f":"IF('ORDER FORM'!$O$7=\"\",\"ENTER-PO\",'ORDER FORM'!$O$7)","v":"ENTER-PO"},"2021 Spring/Summer",{"$f":"IF('ORDER FORM'!$O$9=\"\",TODAY(),'ORDER FORM'!$O$9)","v":"2023-11-02"},710089,"826","L","2","610306141279",{"$f":"IF(IFERROR(INDEX('ORDER FORM'!$I$96:$L$125,MATCH(CONCATENATE(E106,F106),'ORDER FORM'!$A$96:$A$125,0),MATCH(G106,'ORDER FORM'!$I$119:$L$119,0)),\"\")=0,\"\",IFERROR(INDEX('ORDER FORM'!$I$96:$L$125,MATCH(CONCATENATE(E106,F106),'ORDER FORM'!$A$96:A$125,0),MATCH(G106,'ORDER FORM'!$I$119:$L$119,0)),\"\"))","v":""},{"$f":"IFERROR(IFERROR(INDEX('ORDER FORM'!N:N,MATCH(IMPORT!E106,'ORDER FORM'!B:B,0)),INDEX('ORDER FORM'!N:N,MATCH(TRIM(IMPORT!E106),'ORDER FORM'!B:B,0))),\"\")","v":{"v":27.5,"d":"27.50"}}]
["UPLOADUSD",{"$f":"IF('ORDER FORM'!$O$7=\"\",\"ENTER-PO\",'ORDER FORM'!$O$7)","v":"ENTER-PO"},"2021 Spring/Summer",{"$f":"IF('ORDER FORM'!$O$9=\"\",TODAY(),'ORDER FORM'!$O$9)","v":"2023-11-02"},710089,"826","XL","2","610306141286",{"$f":"IF(IFERROR(INDEX('ORDER FORM'!$I$96:$L$125,MATCH(CONCATENATE(E107,F107),'ORDER FORM'!$A$96:$A$125,0),MATCH(G107,'ORDER FORM'!$I$119:$L$119,0)),\"\")=0,\"\",IFERROR(INDEX('ORDER FORM'!$I$96:$L$125,MATCH(CONCATENATE(E107,F107),'ORDER FORM'!$A$96:A$125,0),MATCH(G107,'ORDER FORM'!$I$119:$L$119,0)),\"\"))","v":""},{"$f":"IFERROR(IFERROR(INDEX('ORDER FORM'!N:N,MATCH(IMPORT!E107,'ORDER FORM'!B:B,0)),INDEX('ORDER FORM'!N:N,MATCH(TRIM(IMPORT!E107),'ORDER FORM'!B:B,0))),\"\")","v":{"v":27.5,"d":"27.50"}}]
["UPLOADUSD",{"$f":"IF('ORDER FORM'!$O$7=\"\",\"ENTER-PO\",'ORDER FORM'!$O$7)","v":"ENTER-PO"},"2021 Spring/Summer",{"$f":"IF('ORDER FORM'!$O$9=\"\",TODAY(),'ORDER FORM'!$O$9)","v":"2023-11-02"},710089,"845","S","2","610306141217",{"$f":"IF(IFERROR(INDEX('ORDER FORM'!$I$96:$L$125,MATCH(CONCATENATE(E108,F108),'ORDER FORM'!$A$96:$A$125,0),MATCH(G108,'ORDER FORM'!$I$119:$L$119,0)),\"\")=0,\"\",IFERROR(INDEX('ORDER FORM'!$I$96:$L$125,MATCH(CONCATENATE(E108,F108),'ORDER FORM'!$A$96:A$125,0),MATCH(G108,'ORDER FORM'!$I$119:$L$119,0)),\"\"))","v":""},{"$f":"IFERROR(IFERROR(INDEX('ORDER FORM'!N:N,MATCH(IMPORT!E108,'ORDER FORM'!B:B,0)),INDEX('ORDER FORM'!N:N,MATCH(TRIM(IMPORT!E108),'ORDER FORM'!B:B,0))),\"\")","v":{"v":27.5,"d":"27.50"}}]
["UPLOADUSD",{"$f":"IF('ORDER FORM'!$O$7=\"\",\"ENTER-PO\",'ORDER FORM'!$O$7)","v":"ENTER-PO"},"2021 Spring/Summer",{"$f":"IF('ORDER FORM'!$O$9=\"\",TODAY(),'ORDER FORM'!$O$9)","v":"2023-11-02"},710089,"845","M","2","610306141224",{"$f":"IF(IFERROR(INDEX('ORDER FORM'!$I$96:$L$125,MATCH(CONCATENATE(E109,F109),'ORDER FORM'!$A$96:$A$125,0),MATCH(G109,'ORDER FORM'!$I$119:$L$119,0)),\"\")=0,\"\",IFERROR(INDEX('ORDER FORM'!$I$96:$L$125,MATCH(CONCATENATE(E109,F109),'ORDER FORM'!$A$96:A$125,0),MATCH(G109,'ORDER FORM'!$I$119:$L$119,0)),\"\"))","v":""},{"$f":"IFERROR(IFERROR(INDEX('ORDER FORM'!N:N,MATCH(IMPORT!E109,'ORDER FORM'!B:B,0)),INDEX('ORDER FORM'!N:N,MATCH(TRIM(IMPORT!E109),'ORDER FORM'!B:B,0))),\"\")","v":{"v":27.5,"d":"27.50"}}]
["UPLOADUSD",{"$f":"IF('ORDER FORM'!$O$7=\"\",\"ENTER-PO\",'ORDER FORM'!$O$7)","v":"ENTER-PO"},"2021 Spring/Summer",{"$f":"IF('ORDER FORM'!$O$9=\"\",TODAY(),'ORDER FORM'!$O$9)","v":"2023-11-02"},710089,"845","L","2","610306141231",{"$f":"IF(IFERROR(INDEX('ORDER FORM'!$I$96:$L$125,MATCH(CONCATENATE(E110,F110),'ORDER FORM'!$A$96:$A$125,0),MATCH(G110,'ORDER FORM'!$I$119:$L$119,0)),\"\")=0,\"\",IFERROR(INDEX('ORDER FORM'!$I$96:$L$125,MATCH(CONCATENATE(E110,F110),'ORDER FORM'!$A$96:A$125,0),MATCH(G110,'ORDER FORM'!$I$119:$L$119,0)),\"\"))","v":""},{"$f":"IFERROR(IFERROR(INDEX('ORDER FORM'!N:N,MATCH(IMPORT!E110,'ORDER FORM'!B:B,0)),INDEX('ORDER FORM'!N:N,MATCH(TRIM(IMPORT!E110),'ORDER FORM'!B:B,0))),\"\")","v":{"v":27.5,"d":"27.50"}}]
["UPLOADUSD",{"$f":"IF('ORDER FORM'!$O$7=\"\",\"ENTER-PO\",'ORDER FORM'!$O$7)","v":"ENTER-PO"},"2021 Spring/Summer",{"$f":"IF('ORDER FORM'!$O$9=\"\",TODAY(),'ORDER FORM'!$O$9)","v":"2023-11-02"},710089,"845","XL","2","610306141248",{"$f":"IF(IFERROR(INDEX('ORDER FORM'!$I$96:$L$125,MATCH(CONCATENATE(E111,F111),'ORDER FORM'!$A$96:$A$125,0),MATCH(G111,'ORDER FORM'!$I$119:$L$119,0)),\"\")=0,\"\",IFERROR(INDEX('ORDER FORM'!$I$96:$L$125,MATCH(CONCATENATE(E111,F111),'ORDER FORM'!$A$96:A$125,0),MATCH(G111,'ORDER FORM'!$I$119:$L$119,0)),\"\"))","v":""},{"$f":"IFERROR(IFERROR(INDEX('ORDER FORM'!N:N,MATCH(IMPORT!E111,'ORDER FORM'!B:B,0)),INDEX('ORDER FORM'!N:N,MATCH(TRIM(IMPORT!E111),'ORDER FORM'!B:B,0))),\"\")","v":{"v":27.5,"d":"27.50"}}]
["UPLOADUSD",{"$f":"IF('ORDER FORM'!$O$7=\"\",\"ENTER-PO\",'ORDER FORM'!$O$7)","v":"ENTER-PO"},"2021 Spring/Summer",{"$f":"IF('ORDER FORM'!$O$9=\"\",TODAY(),'ORDER FORM'!$O$9)","v":"2023-11-02"},710090,"826","S","2","610306141330",{"$f":"IF(IFERROR(INDEX('ORDER FORM'!$I$96:$L$125,MATCH(CONCATENATE(E112,F112),'ORDER FORM'!$A$96:$A$125,0),MATCH(G112,'ORDER FORM'!$I$119:$L$119,0)),\"\")=0,\"\",IFERROR(INDEX('ORDER FORM'!$I$96:$L$125,MATCH(CONCATENATE(E112,F112),'ORDER FORM'!$A$96:A$125,0),MATCH(G112,'ORDER FORM'!$I$119:$L$119,0)),\"\"))","v":""},{"$f":"IFERROR(IFERROR(INDEX('ORDER FORM'!N:N,MATCH(IMPORT!E112,'ORDER FORM'!B:B,0)),INDEX('ORDER FORM'!N:N,MATCH(TRIM(IMPORT!E112),'ORDER FORM'!B:B,0))),\"\")","v":{"v":25,"d":"25.00"}}]
["UPLOADUSD",{"$f":"IF('ORDER FORM'!$O$7=\"\",\"ENTER-PO\",'ORDER FORM'!$O$7)","v":"ENTER-PO"},"2021 Spring/Summer",{"$f":"IF('ORDER FORM'!$O$9=\"\",TODAY(),'ORDER FORM'!$O$9)","v":"2023-11-02"},710090,"826","M","2","610306141347",{"$f":"IF(IFERROR(INDEX('ORDER FORM'!$I$96:$L$125,MATCH(CONCATENATE(E113,F113),'ORDER FORM'!$A$96:$A$125,0),MATCH(G113,'ORDER FORM'!$I$119:$L$119,0)),\"\")=0,\"\",IFERROR(INDEX('ORDER FORM'!$I$96:$L$125,MATCH(CONCATENATE(E113,F113),'ORDER FORM'!$A$96:A$125,0),MATCH(G113,'ORDER FORM'!$I$119:$L$119,0)),\"\"))","v":""},{"$f":"IFERROR(IFERROR(INDEX('ORDER FORM'!N:N,MATCH(IMPORT!E113,'ORDER FORM'!B:B,0)),INDEX('ORDER FORM'!N:N,MATCH(TRIM(IMPORT!E113),'ORDER FORM'!B:B,0))),\"\")","v":{"v":25,"d":"25.00"}}]
["UPLOADUSD",{"$f":"IF('ORDER FORM'!$O$7=\"\",\"ENTER-PO\",'ORDER FORM'!$O$7)","v":"ENTER-PO"},"2021 Spring/Summer",{"$f":"IF('ORDER FORM'!$O$9=\"\",TODAY(),'ORDER FORM'!$O$9)","v":"2023-11-02"},710090,"826","L","2","610306141354",{"$f":"IF(IFERROR(INDEX('ORDER FORM'!$I$96:$L$125,MATCH(CONCATENATE(E114,F114),'ORDER FORM'!$A$96:$A$125,0),MATCH(G114,'ORDER FORM'!$I$119:$L$119,0)),\"\")=0,\"\",IFERROR(INDEX('ORDER FORM'!$I$96:$L$125,MATCH(CONCATENATE(E114,F114),'ORDER FORM'!$A$96:A$125,0),MATCH(G114,'ORDER FORM'!$I$119:$L$119,0)),\"\"))","v":""},{"$f":"IFERROR(IFERROR(INDEX('ORDER FORM'!N:N,MATCH(IMPORT!E114,'ORDER FORM'!B:B,0)),INDEX('ORDER FORM'!N:N,MATCH(TRIM(IMPORT!E114),'ORDER FORM'!B:B,0))),\"\")","v":{"v":25,"d":"25.00"}}]
["UPLOADUSD",{"$f":"IF('ORDER FORM'!$O$7=\"\",\"ENTER-PO\",'ORDER FORM'!$O$7)","v":"ENTER-PO"},"2021 Spring/Summer",{"$f":"IF('ORDER FORM'!$O$9=\"\",TODAY(),'ORDER FORM'!$O$9)","v":"2023-11-02"},710090,"826","XL","2","610306141361",{"$f":"IF(IFERROR(INDEX('ORDER FORM'!$I$96:$L$125,MATCH(CONCATENATE(E115,F115),'ORDER FORM'!$A$96:$A$125,0),MATCH(G115,'ORDER FORM'!$I$119:$L$119,0)),\"\")=0,\"\",IFERROR(INDEX('ORDER FORM'!$I$96:$L$125,MATCH(CONCATENATE(E115,F115),'ORDER FORM'!$A$96:A$125,0),MATCH(G115,'ORDER FORM'!$I$119:$L$119,0)),\"\"))","v":""},{"$f":"IFERROR(IFERROR(INDEX('ORDER FORM'!N:N,MATCH(IMPORT!E115,'ORDER FORM'!B:B,0)),INDEX('ORDER FORM'!N:N,MATCH(TRIM(IMPORT!E115),'ORDER FORM'!B:B,0))),\"\")","v":{"v":25,"d":"25.00"}}]
["UPLOADUSD",{"$f":"IF('ORDER FORM'!$O$7=\"\",\"ENTER-PO\",'ORDER FORM'!$O$7)","v":"ENTER-PO"},"2021 Spring/Summer",{"$f":"IF('ORDER FORM'!$O$9=\"\",TODAY(),'ORDER FORM'!$O$9)","v":"2023-11-02"},710090,"845","S","2","610306141293",{"$f":"IF(IFERROR(INDEX('ORDER FORM'!$I$96:$L$125,MATCH(CONCATENATE(E116,F116),'ORDER FORM'!$A$96:$A$125,0),MATCH(G116,'ORDER FORM'!$I$119:$L$119,0)),\"\")=0,\"\",IFERROR(INDEX('ORDER FORM'!$I$96:$L$125,MATCH(CONCATENATE(E116,F116),'ORDER FORM'!$A$96:A$125,0),MATCH(G116,'ORDER FORM'!$I$119:$L$119,0)),\"\"))","v":""},{"$f":"IFERROR(IFERROR(INDEX('ORDER FORM'!N:N,MATCH(IMPORT!E116,'ORDER FORM'!B:B,0)),INDEX('ORDER FORM'!N:N,MATCH(TRIM(IMPORT!E116),'ORDER FORM'!B:B,0))),\"\")","v":{"v":25,"d":"25.00"}}]
["UPLOADUSD",{"$f":"IF('ORDER FORM'!$O$7=\"\",\"ENTER-PO\",'ORDER FORM'!$O$7)","v":"ENTER-PO"},"2021 Spring/Summer",{"$f":"IF('ORDER FORM'!$O$9=\"\",TODAY(),'ORDER FORM'!$O$9)","v":"2023-11-02"},710090,"845","M","2","610306141309",{"$f":"IF(IFERROR(INDEX('ORDER FORM'!$I$96:$L$125,MATCH(CONCATENATE(E117,F117),'ORDER FORM'!$A$96:$A$125,0),MATCH(G117,'ORDER FORM'!$I$119:$L$119,0)),\"\")=0,\"\",IFERROR(INDEX('ORDER FORM'!$I$96:$L$125,MATCH(CONCATENATE(E117,F117),'ORDER FORM'!$A$96:A$125,0),MATCH(G117,'ORDER FORM'!$I$119:$L$119,0)),\"\"))","v":""},{"$f":"IFERROR(IFERROR(INDEX('ORDER FORM'!N:N,MATCH(IMPORT!E117,'ORDER FORM'!B:B,0)),INDEX('ORDER FORM'!N:N,MATCH(TRIM(IMPORT!E117),'ORDER FORM'!B:B,0))),\"\")","v":{"v":25,"d":"25.00"}}]
["UPLOADUSD",{"$f":"IF('ORDER FORM'!$O$7=\"\",\"ENTER-PO\",'ORDER FORM'!$O$7)","v":"ENTER-PO"},"2021 Spring/Summer",{"$f":"IF('ORDER FORM'!$O$9=\"\",TODAY(),'ORDER FORM'!$O$9)","v":"2023-11-02"},710090,"845","L","2","610306141316",{"$f":"IF(IFERROR(INDEX('ORDER FORM'!$I$96:$L$125,MATCH(CONCATENATE(E118,F118),'ORDER FORM'!$A$96:$A$125,0),MATCH(G118,'ORDER FORM'!$I$119:$L$119,0)),\"\")=0,\"\",IFERROR(INDEX('ORDER FORM'!$I$96:$L$125,MATCH(CONCATENATE(E118,F118),'ORDER FORM'!$A$96:A$125,0),MATCH(G118,'ORDER FORM'!$I$119:$L$119,0)),\"\"))","v":""},{"$f":"IFERROR(IFERROR(INDEX('ORDER FORM'!N:N,MATCH(IMPORT!E118,'ORDER FORM'!B:B,0)),INDEX('ORDER FORM'!N:N,MATCH(TRIM(IMPORT!E118),'ORDER FORM'!B:B,0))),\"\")","v":{"v":25,"d":"25.00"}}]
["UPLOADUSD",{"$f":"IF('ORDER FORM'!$O$7=\"\",\"ENTER-PO\",'ORDER FORM'!$O$7)","v":"ENTER-PO"},"2021 Spring/Summer",{"$f":"IF('ORDER FORM'!$O$9=\"\",TODAY(),'ORDER FORM'!$O$9)","v":"2023-11-02"},710090,"845","XL","2","610306141323",{"$f":"IF(IFERROR(INDEX('ORDER FORM'!$I$96:$L$125,MATCH(CONCATENATE(E119,F119),'ORDER FORM'!$A$96:$A$125,0),MATCH(G119,'ORDER FORM'!$I$119:$L$119,0)),\"\")=0,\"\",IFERROR(INDEX('ORDER FORM'!$I$96:$L$125,MATCH(CONCATENATE(E119,F119),'ORDER FORM'!$A$96:A$125,0),MATCH(G119,'ORDER FORM'!$I$119:$L$119,0)),\"\"))","v":""},{"$f":"IFERROR(IFERROR(INDEX('ORDER FORM'!N:N,MATCH(IMPORT!E119,'ORDER FORM'!B:B,0)),INDEX('ORDER FORM'!N:N,MATCH(TRIM(IMPORT!E119),'ORDER FORM'!B:B,0))),\"\")","v":{"v":25,"d":"25.00"}}]
["UPLOADUSD",{"$f":"IF('ORDER FORM'!$O$7=\"\",\"ENTER-PO\",'ORDER FORM'!$O$7)","v":"ENTER-PO"},"2021 Spring/Summer",{"$f":"IF('ORDER FORM'!$O$9=\"\",TODAY(),'ORDER FORM'!$O$9)","v":"2023-11-02"},710091,"116","S","2","610306141415",{"$f":"IF(IFERROR(INDEX('ORDER FORM'!$I$96:$L$125,MATCH(CONCATENATE(E120,F120),'ORDER FORM'!$A$96:$A$125,0),MATCH(G120,'ORDER FORM'!$I$119:$L$119,0)),\"\")=0,\"\",IFERROR(INDEX('ORDER FORM'!$I$96:$L$125,MATCH(CONCATENATE(E120,F120),'ORDER FORM'!$A$96:A$125,0),MATCH(G120,'ORDER FORM'!$I$119:$L$119,0)),\"\"))","v":""},{"$f":"IFERROR(IFERROR(INDEX('ORDER FORM'!N:N,MATCH(IMPORT!E120,'ORDER FORM'!B:B,0)),INDEX('ORDER FORM'!N:N,MATCH(TRIM(IMPORT!E120),'ORDER FORM'!B:B,0))),\"\")","v":""}]
["UPLOADUSD",{"$f":"IF('ORDER FORM'!$O$7=\"\",\"ENTER-PO\",'ORDER FORM'!$O$7)","v":"ENTER-PO"},"2021 Spring/Summer",{"$f":"IF('ORDER FORM'!$O$9=\"\",TODAY(),'ORDER FORM'!$O$9)","v":"2023-11-02"},710091,"116","M","2","610306141422",{"$f":"IF(IFERROR(INDEX('ORDER FORM'!$I$96:$L$125,MATCH(CONCATENATE(E121,F121),'ORDER FORM'!$A$96:$A$125,0),MATCH(G121,'ORDER FORM'!$I$119:$L$119,0)),\"\")=0,\"\",IFERROR(INDEX('ORDER FORM'!$I$96:$L$125,MATCH(CONCATENATE(E121,F121),'ORDER FORM'!$A$96:A$125,0),MATCH(G121,'ORDER FORM'!$I$119:$L$119,0)),\"\"))","v":""},{"$f":"IFERROR(IFERROR(INDEX('ORDER FORM'!N:N,MATCH(IMPORT!E121,'ORDER FORM'!B:B,0)),INDEX('ORDER FORM'!N:N,MATCH(TRIM(IMPORT!E121),'ORDER FORM'!B:B,0))),\"\")","v":""}]
["UPLOADUSD",{"$f":"IF('ORDER FORM'!$O$7=\"\",\"ENTER-PO\",'ORDER FORM'!$O$7)","v":"ENTER-PO"},"2021 Spring/Summer",{"$f":"IF('ORDER FORM'!$O$9=\"\",TODAY(),'ORDER FORM'!$O$9)","v":"2023-11-02"},710091,"116","L","2","610306141439",{"$f":"IF(IFERROR(INDEX('ORDER FORM'!$I$96:$L$125,MATCH(CONCATENATE(E122,F122),'ORDER FORM'!$A$96:$A$125,0),MATCH(G122,'ORDER FORM'!$I$119:$L$119,0)),\"\")=0,\"\",IFERROR(INDEX('ORDER FORM'!$I$96:$L$125,MATCH(CONCATENATE(E122,F122),'ORDER FORM'!$A$96:A$125,0),MATCH(G122,'ORDER FORM'!$I$119:$L$119,0)),\"\"))","v":""},{"$f":"IFERROR(IFERROR(INDEX('ORDER FORM'!N:N,MATCH(IMPORT!E122,'ORDER FORM'!B:B,0)),INDEX('ORDER FORM'!N:N,MATCH(TRIM(IMPORT!E122),'ORDER FORM'!B:B,0))),\"\")","v":""}]
["UPLOADUSD",{"$f":"IF('ORDER FORM'!$O$7=\"\",\"ENTER-PO\",'ORDER FORM'!$O$7)","v":"ENTER-PO"},"2021 Spring/Summer",{"$f":"IF('ORDER FORM'!$O$9=\"\",TODAY(),'ORDER FORM'!$O$9)","v":"2023-11-02"},710092,"117","S","2","610306142108",{"$f":"IF(IFERROR(INDEX('ORDER FORM'!$I$96:$L$125,MATCH(CONCATENATE(E123,F123),'ORDER FORM'!$A$96:$A$125,0),MATCH(G123,'ORDER FORM'!$I$119:$L$119,0)),\"\")=0,\"\",IFERROR(INDEX('ORDER FORM'!$I$96:$L$125,MATCH(CONCATENATE(E123,F123),'ORDER FORM'!$A$96:A$125,0),MATCH(G123,'ORDER FORM'!$I$119:$L$119,0)),\"\"))","v":""},{"$f":"IFERROR(IFERROR(INDEX('ORDER FORM'!N:N,MATCH(IMPORT!E123,'ORDER FORM'!B:B,0)),INDEX('ORDER FORM'!N:N,MATCH(TRIM(IMPORT!E123),'ORDER FORM'!B:B,0))),\"\")","v":""}]
["UPLOADUSD",{"$f":"IF('ORDER FORM'!$O$7=\"\",\"ENTER-PO\",'ORDER FORM'!$O$7)","v":"ENTER-PO"},"2021 Spring/Summer",{"$f":"IF('ORDER FORM'!$O$9=\"\",TODAY(),'ORDER FORM'!$O$9)","v":"2023-11-02"},710092,"117","M","2","610306142115",{"$f":"IF(IFERROR(INDEX('ORDER FORM'!$I$96:$L$125,MATCH(CONCATENATE(E124,F124),'ORDER FORM'!$A$96:$A$125,0),MATCH(G124,'ORDER FORM'!$I$119:$L$119,0)),\"\")=0,\"\",IFERROR(INDEX('ORDER FORM'!$I$96:$L$125,MATCH(CONCATENATE(E124,F124),'ORDER FORM'!$A$96:A$125,0),MATCH(G124,'ORDER FORM'!$I$119:$L$119,0)),\"\"))","v":""},{"$f":"IFERROR(IFERROR(INDEX('ORDER FORM'!N:N,MATCH(IMPORT!E124,'ORDER FORM'!B:B,0)),INDEX('ORDER FORM'!N:N,MATCH(TRIM(IMPORT!E124),'ORDER FORM'!B:B,0))),\"\")","v":""}]
["UPLOADUSD",{"$f":"IF('ORDER FORM'!$O$7=\"\",\"ENTER-PO\",'ORDER FORM'!$O$7)","v":"ENTER-PO"},"2021 Spring/Summer",{"$f":"IF('ORDER FORM'!$O$9=\"\",TODAY(),'ORDER FORM'!$O$9)","v":"2023-11-02"},710092,"117","L","2","610306142122",{"$f":"IF(IFERROR(INDEX('ORDER FORM'!$I$96:$L$125,MATCH(CONCATENATE(E125,F125),'ORDER FORM'!$A$96:$A$125,0),MATCH(G125,'ORDER FORM'!$I$119:$L$119,0)),\"\")=0,\"\",IFERROR(INDEX('ORDER FORM'!$I$96:$L$125,MATCH(CONCATENATE(E125,F125),'ORDER FORM'!$A$96:A$125,0),MATCH(G125,'ORDER FORM'!$I$119:$L$119,0)),\"\"))","v":""},{"$f":"IFERROR(IFERROR(INDEX('ORDER FORM'!N:N,MATCH(IMPORT!E125,'ORDER FORM'!B:B,0)),INDEX('ORDER FORM'!N:N,MATCH(TRIM(IMPORT!E125),'ORDER FORM'!B:B,0))),\"\")","v":""}]
["UPLOADUSD",{"$f":"IF('ORDER FORM'!$O$7=\"\",\"ENTER-PO\",'ORDER FORM'!$O$7)","v":"ENTER-PO"},"2021 Spring/Summer",{"$f":"IF('ORDER FORM'!$O$9=\"\",TODAY(),'ORDER FORM'!$O$9)","v":"2023-11-02"},710092,"117","XL","2","610306142139",{"$f":"IF(IFERROR(INDEX('ORDER FORM'!$I$96:$L$125,MATCH(CONCATENATE(E126,F126),'ORDER FORM'!$A$96:$A$125,0),MATCH(G126,'ORDER FORM'!$I$119:$L$119,0)),\"\")=0,\"\",IFERROR(INDEX('ORDER FORM'!$I$96:$L$125,MATCH(CONCATENATE(E126,F126),'ORDER FORM'!$A$96:A$125,0),MATCH(G126,'ORDER FORM'!$I$119:$L$119,0)),\"\"))","v":""},{"$f":"IFERROR(IFERROR(INDEX('ORDER FORM'!N:N,MATCH(IMPORT!E126,'ORDER FORM'!B:B,0)),INDEX('ORDER FORM'!N:N,MATCH(TRIM(IMPORT!E126),'ORDER FORM'!B:B,0))),\"\")","v":""}]
["UPLOADUSD",{"$f":"IF('ORDER FORM'!$O$7=\"\",\"ENTER-PO\",'ORDER FORM'!$O$7)","v":"ENTER-PO"},"2021 Spring/Summer",{"$f":"IF('ORDER FORM'!$O$9=\"\",TODAY(),'ORDER FORM'!$O$9)","v":"2023-11-02"},710092,"118","S","2","610306142146",{"$f":"IF(IFERROR(INDEX('ORDER FORM'!$I$96:$L$125,MATCH(CONCATENATE(E127,F127),'ORDER FORM'!$A$96:$A$125,0),MATCH(G127,'ORDER FORM'!$I$119:$L$119,0)),\"\")=0,\"\",IFERROR(INDEX('ORDER FORM'!$I$96:$L$125,MATCH(CONCATENATE(E127,F127),'ORDER FORM'!$A$96:A$125,0),MATCH(G127,'ORDER FORM'!$I$119:$L$119,0)),\"\"))","v":""},{"$f":"IFERROR(IFERROR(INDEX('ORDER FORM'!N:N,MATCH(IMPORT!E127,'ORDER FORM'!B:B,0)),INDEX('ORDER FORM'!N:N,MATCH(TRIM(IMPORT!E127),'ORDER FORM'!B:B,0))),\"\")","v":""}]
["UPLOADUSD",{"$f":"IF('ORDER FORM'!$O$7=\"\",\"ENTER-PO\",'ORDER FORM'!$O$7)","v":"ENTER-PO"},"2021 Spring/Summer",{"$f":"IF('ORDER FORM'!$O$9=\"\",TODAY(),'ORDER FORM'!$O$9)","v":"2023-11-02"},710092,"118","M","2","610306142153",{"$f":"IF(IFERROR(INDEX('ORDER FORM'!$I$96:$L$125,MATCH(CONCATENATE(E128,F128),'ORDER FORM'!$A$96:$A$125,0),MATCH(G128,'ORDER FORM'!$I$119:$L$119,0)),\"\")=0,\"\",IFERROR(INDEX('ORDER FORM'!$I$96:$L$125,MATCH(CONCATENATE(E128,F128),'ORDER FORM'!$A$96:A$125,0),MATCH(G128,'ORDER FORM'!$I$119:$L$119,0)),\"\"))","v":""},{"$f":"IFERROR(IFERROR(INDEX('ORDER FORM'!N:N,MATCH(IMPORT!E128,'ORDER FORM'!B:B,0)),INDEX('ORDER FORM'!N:N,MATCH(TRIM(IMPORT!E128),'ORDER FORM'!B:B,0))),\"\")","v":""}]
["UPLOADUSD",{"$f":"IF('ORDER FORM'!$O$7=\"\",\"ENTER-PO\",'ORDER FORM'!$O$7)","v":"ENTER-PO"},"2021 Spring/Summer",{"$f":"IF('ORDER FORM'!$O$9=\"\",TODAY(),'ORDER FORM'!$O$9)","v":"2023-11-02"},710092,"118","L","2","610306142160",{"$f":"IF(IFERROR(INDEX('ORDER FORM'!$I$96:$L$125,MATCH(CONCATENATE(E129,F129),'ORDER FORM'!$A$96:$A$125,0),MATCH(G129,'ORDER FORM'!$I$119:$L$119,0)),\"\")=0,\"\",IFERROR(INDEX('ORDER FORM'!$I$96:$L$125,MATCH(CONCATENATE(E129,F129),'ORDER FORM'!$A$96:A$125,0),MATCH(G129,'ORDER FORM'!$I$119:$L$119,0)),\"\"))","v":""},{"$f":"IFERROR(IFERROR(INDEX('ORDER FORM'!N:N,MATCH(IMPORT!E129,'ORDER FORM'!B:B,0)),INDEX('ORDER FORM'!N:N,MATCH(TRIM(IMPORT!E129),'ORDER FORM'!B:B,0))),\"\")","v":""}]
["UPLOADUSD",{"$f":"IF('ORDER FORM'!$O$7=\"\",\"ENTER-PO\",'ORDER FORM'!$O$7)","v":"ENTER-PO"},"2021 Spring/Summer",{"$f":"IF('ORDER FORM'!$O$9=\"\",TODAY(),'ORDER FORM'!$O$9)","v":"2023-11-02"},710092,"118","XL","2","610306142177",{"$f":"IF(IFERROR(INDEX('ORDER FORM'!$I$96:$L$125,MATCH(CONCATENATE(E130,F130),'ORDER FORM'!$A$96:$A$125,0),MATCH(G130,'ORDER FORM'!$I$119:$L$119,0)),\"\")=0,\"\",IFERROR(INDEX('ORDER FORM'!$I$96:$L$125,MATCH(CONCATENATE(E130,F130),'ORDER FORM'!$A$96:A$125,0),MATCH(G130,'ORDER FORM'!$I$119:$L$119,0)),\"\"))","v":""},{"$f":"IFERROR(IFERROR(INDEX('ORDER FORM'!N:N,MATCH(IMPORT!E130,'ORDER FORM'!B:B,0)),INDEX('ORDER FORM'!N:N,MATCH(TRIM(IMPORT!E130),'ORDER FORM'!B:B,0))),\"\")","v":""}]
["UPLOADUSD",{"$f":"IF('ORDER FORM'!$O$7=\"\",\"ENTER-PO\",'ORDER FORM'!$O$7)","v":"ENTER-PO"},"2021 Spring/Summer",{"$f":"IF('ORDER FORM'!$O$9=\"\",TODAY(),'ORDER FORM'!$O$9)","v":"2023-11-02"},710092,"119","S","2","610306142184",{"$f":"IF(IFERROR(INDEX('ORDER FORM'!$I$96:$L$125,MATCH(CONCATENATE(E131,F131),'ORDER FORM'!$A$96:$A$125,0),MATCH(G131,'ORDER FORM'!$I$119:$L$119,0)),\"\")=0,\"\",IFERROR(INDEX('ORDER FORM'!$I$96:$L$125,MATCH(CONCATENATE(E131,F131),'ORDER FORM'!$A$96:A$125,0),MATCH(G131,'ORDER FORM'!$I$119:$L$119,0)),\"\"))","v":""},{"$f":"IFERROR(IFERROR(INDEX('ORDER FORM'!N:N,MATCH(IMPORT!E131,'ORDER FORM'!B:B,0)),INDEX('ORDER FORM'!N:N,MATCH(TRIM(IMPORT!E131),'ORDER FORM'!B:B,0))),\"\")","v":""}]
[{"$f":"IF(IF($B$1=0,\"ENTER ACCOUNT\",$B$1)=\"\",\"UPLOADUSD\",IF($B$1=0,\"ENTER ACCOUNT\",$B$1))","v":"UPLOADUSD"},{"$f":"IF('ORDER FORM'!$O$7=\"\",\"ENTER-PO\",'ORDER FORM'!$O$7)","v":"ENTER-PO"},{"$f":"$D$1","v":"2021 Spring/Summer"},{"$f":"IF('ORDER FORM'!$O$9=\"\",TODAY(),'ORDER FORM'!$O$9)","v":"2023-11-02"},710092,"119","M","2","610306142191",{"$f":"IF(IFERROR(INDEX('ORDER FORM'!$I$96:$L$125,MATCH(CONCATENATE(E132,F132),'ORDER FORM'!$A$96:$A$125,0),MATCH(G132,'ORDER FORM'!$I$119:$L$119,0)),\"\")=0,\"\",IFERROR(INDEX('ORDER FORM'!$I$96:$L$125,MATCH(CONCATENATE(E132,F132),'ORDER FORM'!$A$96:A$125,0),MATCH(G132,'ORDER FORM'!$I$119:$L$119,0)),\"\"))","v":""},{"$f":"IFERROR(IFERROR(INDEX('ORDER FORM'!N:N,MATCH(IMPORT!E132,'ORDER FORM'!B:B,0)),INDEX('ORDER FORM'!N:N,MATCH(TRIM(IMPORT!E132),'ORDER FORM'!B:B,0))),\"\")","v":""}]
["UPLOADUSD",{"$f":"IF('ORDER FORM'!$O$7=\"\",\"ENTER-PO\",'ORDER FORM'!$O$7)","v":"ENTER-PO"},"2021 Spring/Summer",{"$f":"IF('ORDER FORM'!$O$9=\"\",TODAY(),'ORDER FORM'!$O$9)","v":"2023-11-02"},710092,"119","L","2","610306142207",{"$f":"IF(IFERROR(INDEX('ORDER FORM'!$I$96:$L$125,MATCH(CONCATENATE(E133,F133),'ORDER FORM'!$A$96:$A$125,0),MATCH(G133,'ORDER FORM'!$I$119:$L$119,0)),\"\")=0,\"\",IFERROR(INDEX('ORDER FORM'!$I$96:$L$125,MATCH(CONCATENATE(E133,F133),'ORDER FORM'!$A$96:A$125,0),MATCH(G133,'ORDER FORM'!$I$119:$L$119,0)),\"\"))","v":""},{"$f":"IFERROR(IFERROR(INDEX('ORDER FORM'!N:N,MATCH(IMPORT!E133,'ORDER FORM'!B:B,0)),INDEX('ORDER FORM'!N:N,MATCH(TRIM(IMPORT!E133),'ORDER FORM'!B:B,0))),\"\")","v":""}]
["UPLOADUSD",{"$f":"IF('ORDER FORM'!$O$7=\"\",\"ENTER-PO\",'ORDER FORM'!$O$7)","v":"ENTER-PO"},"2021 Spring/Summer",{"$f":"IF('ORDER FORM'!$O$9=\"\",TODAY(),'ORDER FORM'!$O$9)","v":"2023-11-02"},710092,"119","XL","2","610306142214",{"$f":"IF(IFERROR(INDEX('ORDER FORM'!$I$96:$L$125,MATCH(CONCATENATE(E134,F134),'ORDER FORM'!$A$96:$A$125,0),MATCH(G134,'ORDER FORM'!$I$119:$L$119,0)),\"\")=0,\"\",IFERROR(INDEX('ORDER FORM'!$I$96:$L$125,MATCH(CONCATENATE(E134,F134),'ORDER FORM'!$A$96:A$125,0),MATCH(G134,'ORDER FORM'!$I$119:$L$119,0)),\"\"))","v":""},{"$f":"IFERROR(IFERROR(INDEX('ORDER FORM'!N:N,MATCH(IMPORT!E134,'ORDER FORM'!B:B,0)),INDEX('ORDER FORM'!N:N,MATCH(TRIM(IMPORT!E134),'ORDER FORM'!B:B,0))),\"\")","v":""}]
["UPLOADUSD",{"$f":"IF('ORDER FORM'!$O$7=\"\",\"ENTER-PO\",'ORDER FORM'!$O$7)","v":"ENTER-PO"},"2021 Spring/Summer",{"$f":"IF('ORDER FORM'!$O$9=\"\",TODAY(),'ORDER FORM'!$O$9)","v":"2023-11-02"},710093,"120","S","2","610306142221",{"$f":"IF(IFERROR(INDEX('ORDER FORM'!$I$96:$L$125,MATCH(CONCATENATE(E135,F135),'ORDER FORM'!$A$96:$A$125,0),MATCH(G135,'ORDER FORM'!$I$119:$L$119,0)),\"\")=0,\"\",IFERROR(INDEX('ORDER FORM'!$I$96:$L$125,MATCH(CONCATENATE(E135,F135),'ORDER FORM'!$A$96:A$125,0),MATCH(G135,'ORDER FORM'!$I$119:$L$119,0)),\"\"))","v":""},{"$f":"IFERROR(IFERROR(INDEX('ORDER FORM'!N:N,MATCH(IMPORT!E135,'ORDER FORM'!B:B,0)),INDEX('ORDER FORM'!N:N,MATCH(TRIM(IMPORT!E135),'ORDER FORM'!B:B,0))),\"\")","v":""}]
["UPLOADUSD",{"$f":"IF('ORDER FORM'!$O$7=\"\",\"ENTER-PO\",'ORDER FORM'!$O$7)","v":"ENTER-PO"},"2021 Spring/Summer",{"$f":"IF('ORDER FORM'!$O$9=\"\",TODAY(),'ORDER FORM'!$O$9)","v":"2023-11-02"},710093,"120","M","2","610306142238",{"$f":"IF(IFERROR(INDEX('ORDER FORM'!$I$96:$L$125,MATCH(CONCATENATE(E136,F136),'ORDER FORM'!$A$96:$A$125,0),MATCH(G136,'ORDER FORM'!$I$119:$L$119,0)),\"\")=0,\"\",IFERROR(INDEX('ORDER FORM'!$I$96:$L$125,MATCH(CONCATENATE(E136,F136),'ORDER FORM'!$A$96:A$125,0),MATCH(G136,'ORDER FORM'!$I$119:$L$119,0)),\"\"))","v":""},{"$f":"IFERROR(IFERROR(INDEX('ORDER FORM'!N:N,MATCH(IMPORT!E136,'ORDER FORM'!B:B,0)),INDEX('ORDER FORM'!N:N,MATCH(TRIM(IMPORT!E136),'ORDER FORM'!B:B,0))),\"\")","v":""}]
["UPLOADUSD",{"$f":"IF('ORDER FORM'!$O$7=\"\",\"ENTER-PO\",'ORDER FORM'!$O$7)","v":"ENTER-PO"},"2021 Spring/Summer",{"$f":"IF('ORDER FORM'!$O$9=\"\",TODAY(),'ORDER FORM'!$O$9)","v":"2023-11-02"},710093,"120","L","2","610306142245",{"$f":"IF(IFERROR(INDEX('ORDER FORM'!$I$96:$L$125,MATCH(CONCATENATE(E137,F137),'ORDER FORM'!$A$96:$A$125,0),MATCH(G137,'ORDER FORM'!$I$119:$L$119,0)),\"\")=0,\"\",IFERROR(INDEX('ORDER FORM'!$I$96:$L$125,MATCH(CONCATENATE(E137,F137),'ORDER FORM'!$A$96:A$125,0),MATCH(G137,'ORDER FORM'!$I$119:$L$119,0)),\"\"))","v":""},{"$f":"IFERROR(IFERROR(INDEX('ORDER FORM'!N:N,MATCH(IMPORT!E137,'ORDER FORM'!B:B,0)),INDEX('ORDER FORM'!N:N,MATCH(TRIM(IMPORT!E137),'ORDER FORM'!B:B,0))),\"\")","v":""}]
["UPLOADUSD",{"$f":"IF('ORDER FORM'!$O$7=\"\",\"ENTER-PO\",'ORDER FORM'!$O$7)","v":"ENTER-PO"},"2021 Spring/Summer",{"$f":"IF('ORDER FORM'!$O$9=\"\",TODAY(),'ORDER FORM'!$O$9)","v":"2023-11-02"},710093,"121","S","2","610306142252",{"$f":"IF(IFERROR(INDEX('ORDER FORM'!$I$96:$L$125,MATCH(CONCATENATE(E138,F138),'ORDER FORM'!$A$96:$A$125,0),MATCH(G138,'ORDER FORM'!$I$119:$L$119,0)),\"\")=0,\"\",IFERROR(INDEX('ORDER FORM'!$I$96:$L$125,MATCH(CONCATENATE(E138,F138),'ORDER FORM'!$A$96:A$125,0),MATCH(G138,'ORDER FORM'!$I$119:$L$119,0)),\"\"))","v":""},{"$f":"IFERROR(IFERROR(INDEX('ORDER FORM'!N:N,MATCH(IMPORT!E138,'ORDER FORM'!B:B,0)),INDEX('ORDER FORM'!N:N,MATCH(TRIM(IMPORT!E138),'ORDER FORM'!B:B,0))),\"\")","v":""}]
["UPLOADUSD",{"$f":"IF('ORDER FORM'!$O$7=\"\",\"ENTER-PO\",'ORDER FORM'!$O$7)","v":"ENTER-PO"},"2021 Spring/Summer",{"$f":"IF('ORDER FORM'!$O$9=\"\",TODAY(),'ORDER FORM'!$O$9)","v":"2023-11-02"},710093,"121","M","2","610306142269",{"$f":"IF(IFERROR(INDEX('ORDER FORM'!$I$96:$L$125,MATCH(CONCATENATE(E139,F139),'ORDER FORM'!$A$96:$A$125,0),MATCH(G139,'ORDER FORM'!$I$119:$L$119,0)),\"\")=0,\"\",IFERROR(INDEX('ORDER FORM'!$I$96:$L$125,MATCH(CONCATENATE(E139,F139),'ORDER FORM'!$A$96:A$125,0),MATCH(G139,'ORDER FORM'!$I$119:$L$119,0)),\"\"))","v":""},{"$f":"IFERROR(IFERROR(INDEX('ORDER FORM'!N:N,MATCH(IMPORT!E139,'ORDER FORM'!B:B,0)),INDEX('ORDER FORM'!N:N,MATCH(TRIM(IMPORT!E139),'ORDER FORM'!B:B,0))),\"\")","v":""}]
["UPLOADUSD",{"$f":"IF('ORDER FORM'!$O$7=\"\",\"ENTER-PO\",'ORDER FORM'!$O$7)","v":"ENTER-PO"},"2021 Spring/Summer",{"$f":"IF('ORDER FORM'!$O$9=\"\",TODAY(),'ORDER FORM'!$O$9)","v":"2023-11-02"},710093,"121","L","2","610306142276",{"$f":"IF(IFERROR(INDEX('ORDER FORM'!$I$96:$L$125,MATCH(CONCATENATE(E140,F140),'ORDER FORM'!$A$96:$A$125,0),MATCH(G140,'ORDER FORM'!$I$119:$L$119,0)),\"\")=0,\"\",IFERROR(INDEX('ORDER FORM'!$I$96:$L$125,MATCH(CONCATENATE(E140,F140),'ORDER FORM'!$A$96:A$125,0),MATCH(G140,'ORDER FORM'!$I$119:$L$119,0)),\"\"))","v":""},{"$f":"IFERROR(IFERROR(INDEX('ORDER FORM'!N:N,MATCH(IMPORT!E140,'ORDER FORM'!B:B,0)),INDEX('ORDER FORM'!N:N,MATCH(TRIM(IMPORT!E140),'ORDER FORM'!B:B,0))),\"\")","v":""}]
["UPLOADUSD",{"$f":"IF('ORDER FORM'!$O$7=\"\",\"ENTER-PO\",'ORDER FORM'!$O$7)","v":"ENTER-PO"},"2021 Spring/Summer",{"$f":"IF('ORDER FORM'!$O$9=\"\",TODAY(),'ORDER FORM'!$O$9)","v":"2023-11-02"},710093,"430","S","2","610306142283",{"$f":"IF(IFERROR(INDEX('ORDER FORM'!$I$96:$L$125,MATCH(CONCATENATE(E141,F141),'ORDER FORM'!$A$96:$A$125,0),MATCH(G141,'ORDER FORM'!$I$119:$L$119,0)),\"\")=0,\"\",IFERROR(INDEX('ORDER FORM'!$I$96:$L$125,MATCH(CONCATENATE(E141,F141),'ORDER FORM'!$A$96:A$125,0),MATCH(G141,'ORDER FORM'!$I$119:$L$119,0)),\"\"))","v":""},{"$f":"IFERROR(IFERROR(INDEX('ORDER FORM'!N:N,MATCH(IMPORT!E141,'ORDER FORM'!B:B,0)),INDEX('ORDER FORM'!N:N,MATCH(TRIM(IMPORT!E141),'ORDER FORM'!B:B,0))),\"\")","v":""}]
["UPLOADUSD",{"$f":"IF('ORDER FORM'!$O$7=\"\",\"ENTER-PO\",'ORDER FORM'!$O$7)","v":"ENTER-PO"},"2021 Spring/Summer",{"$f":"IF('ORDER FORM'!$O$9=\"\",TODAY(),'ORDER FORM'!$O$9)","v":"2023-11-02"},710093,"430","M","2","610306142290",{"$f":"IF(IFERROR(INDEX('ORDER FORM'!$I$96:$L$125,MATCH(CONCATENATE(E142,F142),'ORDER FORM'!$A$96:$A$125,0),MATCH(G142,'ORDER FORM'!$I$119:$L$119,0)),\"\")=0,\"\",IFERROR(INDEX('ORDER FORM'!$I$96:$L$125,MATCH(CONCATENATE(E142,F142),'ORDER FORM'!$A$96:A$125,0),MATCH(G142,'ORDER FORM'!$I$119:$L$119,0)),\"\"))","v":""},{"$f":"IFERROR(IFERROR(INDEX('ORDER FORM'!N:N,MATCH(IMPORT!E142,'ORDER FORM'!B:B,0)),INDEX('ORDER FORM'!N:N,MATCH(TRIM(IMPORT!E142),'ORDER FORM'!B:B,0))),\"\")","v":""}]
["UPLOADUSD",{"$f":"IF('ORDER FORM'!$O$7=\"\",\"ENTER-PO\",'ORDER FORM'!$O$7)","v":"ENTER-PO"},"2021 Spring/Summer",{"$f":"IF('ORDER FORM'!$O$9=\"\",TODAY(),'ORDER FORM'!$O$9)","v":"2023-11-02"},710093,"430","L","2","610306142306",{"$f":"IF(IFERROR(INDEX('ORDER FORM'!$I$96:$L$125,MATCH(CONCATENATE(E143,F143),'ORDER FORM'!$A$96:$A$125,0),MATCH(G143,'ORDER FORM'!$I$119:$L$119,0)),\"\")=0,\"\",IFERROR(INDEX('ORDER FORM'!$I$96:$L$125,MATCH(CONCATENATE(E143,F143),'ORDER FORM'!$A$96:A$125,0),MATCH(G143,'ORDER FORM'!$I$119:$L$119,0)),\"\"))","v":""},{"$f":"IFERROR(IFERROR(INDEX('ORDER FORM'!N:N,MATCH(IMPORT!E143,'ORDER FORM'!B:B,0)),INDEX('ORDER FORM'!N:N,MATCH(TRIM(IMPORT!E143),'ORDER FORM'!B:B,0))),\"\")","v":""}]
["UPLOADUSD",{"$f":"IF('ORDER FORM'!$O$7=\"\",\"ENTER-PO\",'ORDER FORM'!$O$7)","v":"ENTER-PO"},"2021 Spring/Summer",{"$f":"IF('ORDER FORM'!$O$9=\"\",TODAY(),'ORDER FORM'!$O$9)","v":"2023-11-02"},710094,"118","S","2","610306142351",{"$f":"IF(IFERROR(INDEX('ORDER FORM'!$I$96:$L$125,MATCH(CONCATENATE(E144,F144),'ORDER FORM'!$A$96:$A$125,0),MATCH(G144,'ORDER FORM'!$I$119:$L$119,0)),\"\")=0,\"\",IFERROR(INDEX('ORDER FORM'!$I$96:$L$125,MATCH(CONCATENATE(E144,F144),'ORDER FORM'!$A$96:A$125,0),MATCH(G144,'ORDER FORM'!$I$119:$L$119,0)),\"\"))","v":""},{"$f":"IFERROR(IFERROR(INDEX('ORDER FORM'!N:N,MATCH(IMPORT!E144,'ORDER FORM'!B:B,0)),INDEX('ORDER FORM'!N:N,MATCH(TRIM(IMPORT!E144),'ORDER FORM'!B:B,0))),\"\")","v":""}]
["UPLOADUSD",{"$f":"IF('ORDER FORM'!$O$7=\"\",\"ENTER-PO\",'ORDER FORM'!$O$7)","v":"ENTER-PO"},"2021 Spring/Summer",{"$f":"IF('ORDER FORM'!$O$9=\"\",TODAY(),'ORDER FORM'!$O$9)","v":"2023-11-02"},710094,"118","M","2","610306142368",{"$f":"IF(IFERROR(INDEX('ORDER FORM'!$I$96:$L$125,MATCH(CONCATENATE(E145,F145),'ORDER FORM'!$A$96:$A$125,0),MATCH(G145,'ORDER FORM'!$I$119:$L$119,0)),\"\")=0,\"\",IFERROR(INDEX('ORDER FORM'!$I$96:$L$125,MATCH(CONCATENATE(E145,F145),'ORDER FORM'!$A$96:A$125,0),MATCH(G145,'ORDER FORM'!$I$119:$L$119,0)),\"\"))","v":""},{"$f":"IFERROR(IFERROR(INDEX('ORDER FORM'!N:N,MATCH(IMPORT!E145,'ORDER FORM'!B:B,0)),INDEX('ORDER FORM'!N:N,MATCH(TRIM(IMPORT!E145),'ORDER FORM'!B:B,0))),\"\")","v":""}]
["UPLOADUSD",{"$f":"IF('ORDER FORM'!$O$7=\"\",\"ENTER-PO\",'ORDER FORM'!$O$7)","v":"ENTER-PO"},"2021 Spring/Summer",{"$f":"IF('ORDER FORM'!$O$9=\"\",TODAY(),'ORDER FORM'!$O$9)","v":"2023-11-02"},710094,"118","L","2","610306142375",{"$f":"IF(IFERROR(INDEX('ORDER FORM'!$I$96:$L$125,MATCH(CONCATENATE(E146,F146),'ORDER FORM'!$A$96:$A$125,0),MATCH(G146,'ORDER FORM'!$I$119:$L$119,0)),\"\")=0,\"\",IFERROR(INDEX('ORDER FORM'!$I$96:$L$125,MATCH(CONCATENATE(E146,F146),'ORDER FORM'!$A$96:A$125,0),MATCH(G146,'ORDER FORM'!$I$119:$L$119,0)),\"\"))","v":""},{"$f":"IFERROR(IFERROR(INDEX('ORDER FORM'!N:N,MATCH(IMPORT!E146,'ORDER FORM'!B:B,0)),INDEX('ORDER FORM'!N:N,MATCH(TRIM(IMPORT!E146),'ORDER FORM'!B:B,0))),\"\")","v":""}]
["UPLOADUSD",{"$f":"IF('ORDER FORM'!$O$7=\"\",\"ENTER-PO\",'ORDER FORM'!$O$7)","v":"ENTER-PO"},"2021 Spring/Summer",{"$f":"IF('ORDER FORM'!$O$9=\"\",TODAY(),'ORDER FORM'!$O$9)","v":"2023-11-02"},710094,"118","XL","2","610306142382",{"$f":"IF(IFERROR(INDEX('ORDER FORM'!$I$96:$L$125,MATCH(CONCATENATE(E147,F147),'ORDER FORM'!$A$96:$A$125,0),MATCH(G147,'ORDER FORM'!$I$119:$L$119,0)),\"\")=0,\"\",IFERROR(INDEX('ORDER FORM'!$I$96:$L$125,MATCH(CONCATENATE(E147,F147),'ORDER FORM'!$A$96:A$125,0),MATCH(G147,'ORDER FORM'!$I$119:$L$119,0)),\"\"))","v":""},{"$f":"IFERROR(IFERROR(INDEX('ORDER FORM'!N:N,MATCH(IMPORT!E147,'ORDER FORM'!B:B,0)),INDEX('ORDER FORM'!N:N,MATCH(TRIM(IMPORT!E147),'ORDER FORM'!B:B,0))),\"\")","v":""}]
["UPLOADUSD",{"$f":"IF('ORDER FORM'!$O$7=\"\",\"ENTER-PO\",'ORDER FORM'!$O$7)","v":"ENTER-PO"},"2021 Spring/Summer",{"$f":"IF('ORDER FORM'!$O$9=\"\",TODAY(),'ORDER FORM'!$O$9)","v":"2023-11-02"},710094,"122","S","2","610306142313",{"$f":"IF(IFERROR(INDEX('ORDER FORM'!$I$96:$L$125,MATCH(CONCATENATE(E148,F148),'ORDER FORM'!$A$96:$A$125,0),MATCH(G148,'ORDER FORM'!$I$119:$L$119,0)),\"\")=0,\"\",IFERROR(INDEX('ORDER FORM'!$I$96:$L$125,MATCH(CONCATENATE(E148,F148),'ORDER FORM'!$A$96:A$125,0),MATCH(G148,'ORDER FORM'!$I$119:$L$119,0)),\"\"))","v":""},{"$f":"IFERROR(IFERROR(INDEX('ORDER FORM'!N:N,MATCH(IMPORT!E148,'ORDER FORM'!B:B,0)),INDEX('ORDER FORM'!N:N,MATCH(TRIM(IMPORT!E148),'ORDER FORM'!B:B,0))),\"\")","v":""}]
["UPLOADUSD",{"$f":"IF('ORDER FORM'!$O$7=\"\",\"ENTER-PO\",'ORDER FORM'!$O$7)","v":"ENTER-PO"},"2021 Spring/Summer",{"$f":"IF('ORDER FORM'!$O$9=\"\",TODAY(),'ORDER FORM'!$O$9)","v":"2023-11-02"},710094,"122","M","2","610306142320",{"$f":"IF(IFERROR(INDEX('ORDER FORM'!$I$96:$L$125,MATCH(CONCATENATE(E149,F149),'ORDER FORM'!$A$96:$A$125,0),MATCH(G149,'ORDER FORM'!$I$119:$L$119,0)),\"\")=0,\"\",IFERROR(INDEX('ORDER FORM'!$I$96:$L$125,MATCH(CONCATENATE(E149,F149),'ORDER FORM'!$A$96:A$125,0),MATCH(G149,'ORDER FORM'!$I$119:$L$119,0)),\"\"))","v":""},{"$f":"IFERROR(IFERROR(INDEX('ORDER FORM'!N:N,MATCH(IMPORT!E149,'ORDER FORM'!B:B,0)),INDEX('ORDER FORM'!N:N,MATCH(TRIM(IMPORT!E149),'ORDER FORM'!B:B,0))),\"\")","v":""}]
["UPLOADUSD",{"$f":"IF('ORDER FORM'!$O$7=\"\",\"ENTER-PO\",'ORDER FORM'!$O$7)","v":"ENTER-PO"},"2021 Spring/Summer",{"$f":"IF('ORDER FORM'!$O$9=\"\",TODAY(),'ORDER FORM'!$O$9)","v":"2023-11-02"},710094,"122","L","2","610306142337",{"$f":"IF(IFERROR(INDEX('ORDER FORM'!$I$96:$L$125,MATCH(CONCATENATE(E150,F150),'ORDER FORM'!$A$96:$A$125,0),MATCH(G150,'ORDER FORM'!$I$119:$L$119,0)),\"\")=0,\"\",IFERROR(INDEX('ORDER FORM'!$I$96:$L$125,MATCH(CONCATENATE(E150,F150),'ORDER FORM'!$A$96:A$125,0),MATCH(G150,'ORDER FORM'!$I$119:$L$119,0)),\"\"))","v":""},{"$f":"IFERROR(IFERROR(INDEX('ORDER FORM'!N:N,MATCH(IMPORT!E150,'ORDER FORM'!B:B,0)),INDEX('ORDER FORM'!N:N,MATCH(TRIM(IMPORT!E150),'ORDER FORM'!B:B,0))),\"\")","v":""}]
["UPLOADUSD",{"$f":"IF('ORDER FORM'!$O$7=\"\",\"ENTER-PO\",'ORDER FORM'!$O$7)","v":"ENTER-PO"},"2021 Spring/Summer",{"$f":"IF('ORDER FORM'!$O$9=\"\",TODAY(),'ORDER FORM'!$O$9)","v":"2023-11-02"},710094,"122","XL","2","610306142344",{"$f":"IF(IFERROR(INDEX('ORDER FORM'!$I$96:$L$125,MATCH(CONCATENATE(E151,F151),'ORDER FORM'!$A$96:$A$125,0),MATCH(G151,'ORDER FORM'!$I$119:$L$119,0)),\"\")=0,\"\",IFERROR(INDEX('ORDER FORM'!$I$96:$L$125,MATCH(CONCATENATE(E151,F151),'ORDER FORM'!$A$96:A$125,0),MATCH(G151,'ORDER FORM'!$I$119:$L$119,0)),\"\"))","v":""},{"$f":"IFERROR(IFERROR(INDEX('ORDER FORM'!N:N,MATCH(IMPORT!E151,'ORDER FORM'!B:B,0)),INDEX('ORDER FORM'!N:N,MATCH(TRIM(IMPORT!E151),'ORDER FORM'!B:B,0))),\"\")","v":""}]
["UPLOADUSD",{"$f":"IF('ORDER FORM'!$O$7=\"\",\"ENTER-PO\",'ORDER FORM'!$O$7)","v":"ENTER-PO"},"2021 Spring/Summer",{"$f":"IF('ORDER FORM'!$O$9=\"\",TODAY(),'ORDER FORM'!$O$9)","v":"2023-11-02"},710094,"123","S","2","610306142399",{"$f":"IF(IFERROR(INDEX('ORDER FORM'!$I$96:$L$125,MATCH(CONCATENATE(E152,F152),'ORDER FORM'!$A$96:$A$125,0),MATCH(G152,'ORDER FORM'!$I$119:$L$119,0)),\"\")=0,\"\",IFERROR(INDEX('ORDER FORM'!$I$96:$L$125,MATCH(CONCATENATE(E152,F152),'ORDER FORM'!$A$96:A$125,0),MATCH(G152,'ORDER FORM'!$I$119:$L$119,0)),\"\"))","v":""},{"$f":"IFERROR(IFERROR(INDEX('ORDER FORM'!N:N,MATCH(IMPORT!E152,'ORDER FORM'!B:B,0)),INDEX('ORDER FORM'!N:N,MATCH(TRIM(IMPORT!E152),'ORDER FORM'!B:B,0))),\"\")","v":""}]
["UPLOADUSD",{"$f":"IF('ORDER FORM'!$O$7=\"\",\"ENTER-PO\",'ORDER FORM'!$O$7)","v":"ENTER-PO"},"2021 Spring/Summer",{"$f":"IF('ORDER FORM'!$O$9=\"\",TODAY(),'ORDER FORM'!$O$9)","v":"2023-11-02"},710094,"123","M","2","610306142405",{"$f":"IF(IFERROR(INDEX('ORDER FORM'!$I$96:$L$125,MATCH(CONCATENATE(E153,F153),'ORDER FORM'!$A$96:$A$125,0),MATCH(G153,'ORDER FORM'!$I$119:$L$119,0)),\"\")=0,\"\",IFERROR(INDEX('ORDER FORM'!$I$96:$L$125,MATCH(CONCATENATE(E153,F153),'ORDER FORM'!$A$96:A$125,0),MATCH(G153,'ORDER FORM'!$I$119:$L$119,0)),\"\"))","v":""},{"$f":"IFERROR(IFERROR(INDEX('ORDER FORM'!N:N,MATCH(IMPORT!E153,'ORDER FORM'!B:B,0)),INDEX('ORDER FORM'!N:N,MATCH(TRIM(IMPORT!E153),'ORDER FORM'!B:B,0))),\"\")","v":""}]
["UPLOADUSD",{"$f":"IF('ORDER FORM'!$O$7=\"\",\"ENTER-PO\",'ORDER FORM'!$O$7)","v":"ENTER-PO"},"2021 Spring/Summer",{"$f":"IF('ORDER FORM'!$O$9=\"\",TODAY(),'ORDER FORM'!$O$9)","v":"2023-11-02"},710094,"123","L","2","610306142412",{"$f":"IF(IFERROR(INDEX('ORDER FORM'!$I$96:$L$125,MATCH(CONCATENATE(E154,F154),'ORDER FORM'!$A$96:$A$125,0),MATCH(G154,'ORDER FORM'!$I$119:$L$119,0)),\"\")=0,\"\",IFERROR(INDEX('ORDER FORM'!$I$96:$L$125,MATCH(CONCATENATE(E154,F154),'ORDER FORM'!$A$96:A$125,0),MATCH(G154,'ORDER FORM'!$I$119:$L$119,0)),\"\"))","v":""},{"$f":"IFERROR(IFERROR(INDEX('ORDER FORM'!N:N,MATCH(IMPORT!E154,'ORDER FORM'!B:B,0)),INDEX('ORDER FORM'!N:N,MATCH(TRIM(IMPORT!E154),'ORDER FORM'!B:B,0))),\"\")","v":""}]
["UPLOADUSD",{"$f":"IF('ORDER FORM'!$O$7=\"\",\"ENTER-PO\",'ORDER FORM'!$O$7)","v":"ENTER-PO"},"2021 Spring/Summer",{"$f":"IF('ORDER FORM'!$O$9=\"\",TODAY(),'ORDER FORM'!$O$9)","v":"2023-11-02"},710094,"123","XL","2","610306142429",{"$f":"IF(IFERROR(INDEX('ORDER FORM'!$I$96:$L$125,MATCH(CONCATENATE(E155,F155),'ORDER FORM'!$A$96:$A$125,0),MATCH(G155,'ORDER FORM'!$I$119:$L$119,0)),\"\")=0,\"\",IFERROR(INDEX('ORDER FORM'!$I$96:$L$125,MATCH(CONCATENATE(E155,F155),'ORDER FORM'!$A$96:A$125,0),MATCH(G155,'ORDER FORM'!$I$119:$L$119,0)),\"\"))","v":""},{"$f":"IFERROR(IFERROR(INDEX('ORDER FORM'!N:N,MATCH(IMPORT!E155,'ORDER FORM'!B:B,0)),INDEX('ORDER FORM'!N:N,MATCH(TRIM(IMPORT!E155),'ORDER FORM'!B:B,0))),\"\")","v":""}]
["UPLOADUSD",{"$f":"IF('ORDER FORM'!$O$7=\"\",\"ENTER-PO\",'ORDER FORM'!$O$7)","v":"ENTER-PO"},"2021 Spring/Summer",{"$f":"IF('ORDER FORM'!$O$9=\"\",TODAY(),'ORDER FORM'!$O$9)","v":"2023-11-02"},710095,"119","S","2","610306142504",{"$f":"IF(IFERROR(INDEX('ORDER FORM'!$I$96:$L$125,MATCH(CONCATENATE(E156,F156),'ORDER FORM'!$A$96:$A$125,0),MATCH(G156,'ORDER FORM'!$I$119:$L$119,0)),\"\")=0,\"\",IFERROR(INDEX('ORDER FORM'!$I$96:$L$125,MATCH(CONCATENATE(E156,F156),'ORDER FORM'!$A$96:A$125,0),MATCH(G156,'ORDER FORM'!$I$119:$L$119,0)),\"\"))","v":""},{"$f":"IFERROR(IFERROR(INDEX('ORDER FORM'!N:N,MATCH(IMPORT!E156,'ORDER FORM'!B:B,0)),INDEX('ORDER FORM'!N:N,MATCH(TRIM(IMPORT!E156),'ORDER FORM'!B:B,0))),\"\")","v":""}]
["UPLOADUSD",{"$f":"IF('ORDER FORM'!$O$7=\"\",\"ENTER-PO\",'ORDER FORM'!$O$7)","v":"ENTER-PO"},"2021 Spring/Summer",{"$f":"IF('ORDER FORM'!$O$9=\"\",TODAY(),'ORDER FORM'!$O$9)","v":"2023-11-02"},710095,"119","M","2","610306142511",{"$f":"IF(IFERROR(INDEX('ORDER FORM'!$I$96:$L$125,MATCH(CONCATENATE(E157,F157),'ORDER FORM'!$A$96:$A$125,0),MATCH(G157,'ORDER FORM'!$I$119:$L$119,0)),\"\")=0,\"\",IFERROR(INDEX('ORDER FORM'!$I$96:$L$125,MATCH(CONCATENATE(E157,F157),'ORDER FORM'!$A$96:A$125,0),MATCH(G157,'ORDER FORM'!$I$119:$L$119,0)),\"\"))","v":""},{"$f":"IFERROR(IFERROR(INDEX('ORDER FORM'!N:N,MATCH(IMPORT!E157,'ORDER FORM'!B:B,0)),INDEX('ORDER FORM'!N:N,MATCH(TRIM(IMPORT!E157),'ORDER FORM'!B:B,0))),\"\")","v":""}]
["UPLOADUSD",{"$f":"IF('ORDER FORM'!$O$7=\"\",\"ENTER-PO\",'ORDER FORM'!$O$7)","v":"ENTER-PO"},"2021 Spring/Summer",{"$f":"IF('ORDER FORM'!$O$9=\"\",TODAY(),'ORDER FORM'!$O$9)","v":"2023-11-02"},710095,"119","L","2","610306142528",{"$f":"IF(IFERROR(INDEX('ORDER FORM'!$I$96:$L$125,MATCH(CONCATENATE(E158,F158),'ORDER FORM'!$A$96:$A$125,0),MATCH(G158,'ORDER FORM'!$I$119:$L$119,0)),\"\")=0,\"\",IFERROR(INDEX('ORDER FORM'!$I$96:$L$125,MATCH(CONCATENATE(E158,F158),'ORDER FORM'!$A$96:A$125,0),MATCH(G158,'ORDER FORM'!$I$119:$L$119,0)),\"\"))","v":""},{"$f":"IFERROR(IFERROR(INDEX('ORDER FORM'!N:N,MATCH(IMPORT!E158,'ORDER FORM'!B:B,0)),INDEX('ORDER FORM'!N:N,MATCH(TRIM(IMPORT!E158),'ORDER FORM'!B:B,0))),\"\")","v":""}]
["UPLOADUSD",{"$f":"IF('ORDER FORM'!$O$7=\"\",\"ENTER-PO\",'ORDER FORM'!$O$7)","v":"ENTER-PO"},"2021 Spring/Summer",{"$f":"IF('ORDER FORM'!$O$9=\"\",TODAY(),'ORDER FORM'!$O$9)","v":"2023-11-02"},710095,"125","S","2","610306142474",{"$f":"IF(IFERROR(INDEX('ORDER FORM'!$I$96:$L$125,MATCH(CONCATENATE(E159,F159),'ORDER FORM'!$A$96:$A$125,0),MATCH(G159,'ORDER FORM'!$I$119:$L$119,0)),\"\")=0,\"\",IFERROR(INDEX('ORDER FORM'!$I$96:$L$125,MATCH(CONCATENATE(E159,F159),'ORDER FORM'!$A$96:A$125,0),MATCH(G159,'ORDER FORM'!$I$119:$L$119,0)),\"\"))","v":""},{"$f":"IFERROR(IFERROR(INDEX('ORDER FORM'!N:N,MATCH(IMPORT!E159,'ORDER FORM'!B:B,0)),INDEX('ORDER FORM'!N:N,MATCH(TRIM(IMPORT!E159),'ORDER FORM'!B:B,0))),\"\")","v":""}]
["UPLOADUSD",{"$f":"IF('ORDER FORM'!$O$7=\"\",\"ENTER-PO\",'ORDER FORM'!$O$7)","v":"ENTER-PO"},"2021 Spring/Summer",{"$f":"IF('ORDER FORM'!$O$9=\"\",TODAY(),'ORDER FORM'!$O$9)","v":"2023-11-02"},710095,"125","M","2","610306142481",{"$f":"IF(IFERROR(INDEX('ORDER FORM'!$I$96:$L$125,MATCH(CONCATENATE(E160,F160),'ORDER FORM'!$A$96:$A$125,0),MATCH(G160,'ORDER FORM'!$I$119:$L$119,0)),\"\")=0,\"\",IFERROR(INDEX('ORDER FORM'!$I$96:$L$125,MATCH(CONCATENATE(E160,F160),'ORDER FORM'!$A$96:A$125,0),MATCH(G160,'ORDER FORM'!$I$119:$L$119,0)),\"\"))","v":""},{"$f":"IFERROR(IFERROR(INDEX('ORDER FORM'!N:N,MATCH(IMPORT!E160,'ORDER FORM'!B:B,0)),INDEX('ORDER FORM'!N:N,MATCH(TRIM(IMPORT!E160),'ORDER FORM'!B:B,0))),\"\")","v":""}]
["UPLOADUSD",{"$f":"IF('ORDER FORM'!$O$7=\"\",\"ENTER-PO\",'ORDER FORM'!$O$7)","v":"ENTER-PO"},"2021 Spring/Summer",{"$f":"IF('ORDER FORM'!$O$9=\"\",TODAY(),'ORDER FORM'!$O$9)","v":"2023-11-02"},710095,"125","L","2","610306142498",{"$f":"IF(IFERROR(INDEX('ORDER FORM'!$I$96:$L$125,MATCH(CONCATENATE(E161,F161),'ORDER FORM'!$A$96:$A$125,0),MATCH(G161,'ORDER FORM'!$I$119:$L$119,0)),\"\")=0,\"\",IFERROR(INDEX('ORDER FORM'!$I$96:$L$125,MATCH(CONCATENATE(E161,F161),'ORDER FORM'!$A$96:A$125,0),MATCH(G161,'ORDER FORM'!$I$119:$L$119,0)),\"\"))","v":""},{"$f":"IFERROR(IFERROR(INDEX('ORDER FORM'!N:N,MATCH(IMPORT!E161,'ORDER FORM'!B:B,0)),INDEX('ORDER FORM'!N:N,MATCH(TRIM(IMPORT!E161),'ORDER FORM'!B:B,0))),\"\")","v":""}]
["UPLOADUSD",{"$f":"IF('ORDER FORM'!$O$7=\"\",\"ENTER-PO\",'ORDER FORM'!$O$7)","v":"ENTER-PO"},"2021 Spring/Summer",{"$f":"IF('ORDER FORM'!$O$9=\"\",TODAY(),'ORDER FORM'!$O$9)","v":"2023-11-02"},710095,"823","S","2","610306142535",{"$f":"IF(IFERROR(INDEX('ORDER FORM'!$I$96:$L$125,MATCH(CONCATENATE(E162,F162),'ORDER FORM'!$A$96:$A$125,0),MATCH(G162,'ORDER FORM'!$I$119:$L$119,0)),\"\")=0,\"\",IFERROR(INDEX('ORDER FORM'!$I$96:$L$125,MATCH(CONCATENATE(E162,F162),'ORDER FORM'!$A$96:A$125,0),MATCH(G162,'ORDER FORM'!$I$119:$L$119,0)),\"\"))","v":""},{"$f":"IFERROR(IFERROR(INDEX('ORDER FORM'!N:N,MATCH(IMPORT!E162,'ORDER FORM'!B:B,0)),INDEX('ORDER FORM'!N:N,MATCH(TRIM(IMPORT!E162),'ORDER FORM'!B:B,0))),\"\")","v":""}]
["UPLOADUSD",{"$f":"IF('ORDER FORM'!$O$7=\"\",\"ENTER-PO\",'ORDER FORM'!$O$7)","v":"ENTER-PO"},"2021 Spring/Summer",{"$f":"IF('ORDER FORM'!$O$9=\"\",TODAY(),'ORDER FORM'!$O$9)","v":"2023-11-02"},710095,"823","M","2","610306142542",{"$f":"IF(IFERROR(INDEX('ORDER FORM'!$I$96:$L$125,MATCH(CONCATENATE(E163,F163),'ORDER FORM'!$A$96:$A$125,0),MATCH(G163,'ORDER FORM'!$I$119:$L$119,0)),\"\")=0,\"\",IFERROR(INDEX('ORDER FORM'!$I$96:$L$125,MATCH(CONCATENATE(E163,F163),'ORDER FORM'!$A$96:A$125,0),MATCH(G163,'ORDER FORM'!$I$119:$L$119,0)),\"\"))","v":""},{"$f":"IFERROR(IFERROR(INDEX('ORDER FORM'!N:N,MATCH(IMPORT!E163,'ORDER FORM'!B:B,0)),INDEX('ORDER FORM'!N:N,MATCH(TRIM(IMPORT!E163),'ORDER FORM'!B:B,0))),\"\")","v":""}]
["UPLOADUSD",{"$f":"IF('ORDER FORM'!$O$7=\"\",\"ENTER-PO\",'ORDER FORM'!$O$7)","v":"ENTER-PO"},"2021 Spring/Summer",{"$f":"IF('ORDER FORM'!$O$9=\"\",TODAY(),'ORDER FORM'!$O$9)","v":"2023-11-02"},710095,"823","L","2","610306142559",{"$f":"IF(IFERROR(INDEX('ORDER FORM'!$I$96:$L$125,MATCH(CONCATENATE(E164,F164),'ORDER FORM'!$A$96:$A$125,0),MATCH(G164,'ORDER FORM'!$I$119:$L$119,0)),\"\")=0,\"\",IFERROR(INDEX('ORDER FORM'!$I$96:$L$125,MATCH(CONCATENATE(E164,F164),'ORDER FORM'!$A$96:A$125,0),MATCH(G164,'ORDER FORM'!$I$119:$L$119,0)),\"\"))","v":""},{"$f":"IFERROR(IFERROR(INDEX('ORDER FORM'!N:N,MATCH(IMPORT!E164,'ORDER FORM'!B:B,0)),INDEX('ORDER FORM'!N:N,MATCH(TRIM(IMPORT!E164),'ORDER FORM'!B:B,0))),\"\")","v":""}]
["UPLOADUSD",{"$f":"IF('ORDER FORM'!$O$7=\"\",\"ENTER-PO\",'ORDER FORM'!$O$7)","v":"ENTER-PO"},"2021 Spring/Summer",{"$f":"IF('ORDER FORM'!$O$9=\"\",TODAY(),'ORDER FORM'!$O$9)","v":"2023-11-02"},710096,"118","S","2","610306142634",{"$f":"IF(IFERROR(INDEX('ORDER FORM'!$I$96:$L$125,MATCH(CONCATENATE(E165,F165),'ORDER FORM'!$A$96:$A$125,0),MATCH(G165,'ORDER FORM'!$I$119:$L$119,0)),\"\")=0,\"\",IFERROR(INDEX('ORDER FORM'!$I$96:$L$125,MATCH(CONCATENATE(E165,F165),'ORDER FORM'!$A$96:A$125,0),MATCH(G165,'ORDER FORM'!$I$119:$L$119,0)),\"\"))","v":""},{"$f":"IFERROR(IFERROR(INDEX('ORDER FORM'!N:N,MATCH(IMPORT!E165,'ORDER FORM'!B:B,0)),INDEX('ORDER FORM'!N:N,MATCH(TRIM(IMPORT!E165),'ORDER FORM'!B:B,0))),\"\")","v":""}]
["UPLOADUSD",{"$f":"IF('ORDER FORM'!$O$7=\"\",\"ENTER-PO\",'ORDER FORM'!$O$7)","v":"ENTER-PO"},"2021 Spring/Summer",{"$f":"IF('ORDER FORM'!$O$9=\"\",TODAY(),'ORDER FORM'!$O$9)","v":"2023-11-02"},710096,"118","M","2","610306142641",{"$f":"IF(IFERROR(INDEX('ORDER FORM'!$I$96:$L$125,MATCH(CONCATENATE(E166,F166),'ORDER FORM'!$A$96:$A$125,0),MATCH(G166,'ORDER FORM'!$I$119:$L$119,0)),\"\")=0,\"\",IFERROR(INDEX('ORDER FORM'!$I$96:$L$125,MATCH(CONCATENATE(E166,F166),'ORDER FORM'!$A$96:A$125,0),MATCH(G166,'ORDER FORM'!$I$119:$L$119,0)),\"\"))","v":""},{"$f":"IFERROR(IFERROR(INDEX('ORDER FORM'!N:N,MATCH(IMPORT!E166,'ORDER FORM'!B:B,0)),INDEX('ORDER FORM'!N:N,MATCH(TRIM(IMPORT!E166),'ORDER FORM'!B:B,0))),\"\")","v":""}]
["UPLOADUSD",{"$f":"IF('ORDER FORM'!$O$7=\"\",\"ENTER-PO\",'ORDER FORM'!$O$7)","v":"ENTER-PO"},"2021 Spring/Summer",{"$f":"IF('ORDER FORM'!$O$9=\"\",TODAY(),'ORDER FORM'!$O$9)","v":"2023-11-02"},710096,"118","L","2","610306142658",{"$f":"IF(IFERROR(INDEX('ORDER FORM'!$I$96:$L$125,MATCH(CONCATENATE(E167,F167),'ORDER FORM'!$A$96:$A$125,0),MATCH(G167,'ORDER FORM'!$I$119:$L$119,0)),\"\")=0,\"\",IFERROR(INDEX('ORDER FORM'!$I$96:$L$125,MATCH(CONCATENATE(E167,F167),'ORDER FORM'!$A$96:A$125,0),MATCH(G167,'ORDER FORM'!$I$119:$L$119,0)),\"\"))","v":""},{"$f":"IFERROR(IFERROR(INDEX('ORDER FORM'!N:N,MATCH(IMPORT!E167,'ORDER FORM'!B:B,0)),INDEX('ORDER FORM'!N:N,MATCH(TRIM(IMPORT!E167),'ORDER FORM'!B:B,0))),\"\")","v":""}]
["UPLOADUSD",{"$f":"IF('ORDER FORM'!$O$7=\"\",\"ENTER-PO\",'ORDER FORM'!$O$7)","v":"ENTER-PO"},"2021 Spring/Summer",{"$f":"IF('ORDER FORM'!$O$9=\"\",TODAY(),'ORDER FORM'!$O$9)","v":"2023-11-02"},710096,"118","XL","2","610306142665",{"$f":"IF(IFERROR(INDEX('ORDER FORM'!$I$96:$L$125,MATCH(CONCATENATE(E168,F168),'ORDER FORM'!$A$96:$A$125,0),MATCH(G168,'ORDER FORM'!$I$119:$L$119,0)),\"\")=0,\"\",IFERROR(INDEX('ORDER FORM'!$I$96:$L$125,MATCH(CONCATENATE(E168,F168),'ORDER FORM'!$A$96:A$125,0),MATCH(G168,'ORDER FORM'!$I$119:$L$119,0)),\"\"))","v":""},{"$f":"IFERROR(IFERROR(INDEX('ORDER FORM'!N:N,MATCH(IMPORT!E168,'ORDER FORM'!B:B,0)),INDEX('ORDER FORM'!N:N,MATCH(TRIM(IMPORT!E168),'ORDER FORM'!B:B,0))),\"\")","v":""}]
["UPLOADUSD",{"$f":"IF('ORDER FORM'!$O$7=\"\",\"ENTER-PO\",'ORDER FORM'!$O$7)","v":"ENTER-PO"},"2021 Spring/Summer",{"$f":"IF('ORDER FORM'!$O$9=\"\",TODAY(),'ORDER FORM'!$O$9)","v":"2023-11-02"},710096,"126","S","2","610306142597",{"$f":"IF(IFERROR(INDEX('ORDER FORM'!$I$96:$L$125,MATCH(CONCATENATE(E169,F169),'ORDER FORM'!$A$96:$A$125,0),MATCH(G169,'ORDER FORM'!$I$119:$L$119,0)),\"\")=0,\"\",IFERROR(INDEX('ORDER FORM'!$I$96:$L$125,MATCH(CONCATENATE(E169,F169),'ORDER FORM'!$A$96:A$125,0),MATCH(G169,'ORDER FORM'!$I$119:$L$119,0)),\"\"))","v":""},{"$f":"IFERROR(IFERROR(INDEX('ORDER FORM'!N:N,MATCH(IMPORT!E169,'ORDER FORM'!B:B,0)),INDEX('ORDER FORM'!N:N,MATCH(TRIM(IMPORT!E169),'ORDER FORM'!B:B,0))),\"\")","v":""}]
["UPLOADUSD",{"$f":"IF('ORDER FORM'!$O$7=\"\",\"ENTER-PO\",'ORDER FORM'!$O$7)","v":"ENTER-PO"},"2021 Spring/Summer",{"$f":"IF('ORDER FORM'!$O$9=\"\",TODAY(),'ORDER FORM'!$O$9)","v":"2023-11-02"},710096,"126","M","2","610306142603",{"$f":"IF(IFERROR(INDEX('ORDER FORM'!$I$96:$L$125,MATCH(CONCATENATE(E170,F170),'ORDER FORM'!$A$96:$A$125,0),MATCH(G170,'ORDER FORM'!$I$119:$L$119,0)),\"\")=0,\"\",IFERROR(INDEX('ORDER FORM'!$I$96:$L$125,MATCH(CONCATENATE(E170,F170),'ORDER FORM'!$A$96:A$125,0),MATCH(G170,'ORDER FORM'!$I$119:$L$119,0)),\"\"))","v":""},{"$f":"IFERROR(IFERROR(INDEX('ORDER FORM'!N:N,MATCH(IMPORT!E170,'ORDER FORM'!B:B,0)),INDEX('ORDER FORM'!N:N,MATCH(TRIM(IMPORT!E170),'ORDER FORM'!B:B,0))),\"\")","v":""}]
["UPLOADUSD",{"$f":"IF('ORDER FORM'!$O$7=\"\",\"ENTER-PO\",'ORDER FORM'!$O$7)","v":"ENTER-PO"},"2021 Spring/Summer",{"$f":"IF('ORDER FORM'!$O$9=\"\",TODAY(),'ORDER FORM'!$O$9)","v":"2023-11-02"},710096,"126","L","2","610306142610",{"$f":"IF(IFERROR(INDEX('ORDER FORM'!$I$96:$L$125,MATCH(CONCATENATE(E171,F171),'ORDER FORM'!$A$96:$A$125,0),MATCH(G171,'ORDER FORM'!$I$119:$L$119,0)),\"\")=0,\"\",IFERROR(INDEX('ORDER FORM'!$I$96:$L$125,MATCH(CONCATENATE(E171,F171),'ORDER FORM'!$A$96:A$125,0),MATCH(G171,'ORDER FORM'!$I$119:$L$119,0)),\"\"))","v":""},{"$f":"IFERROR(IFERROR(INDEX('ORDER FORM'!N:N,MATCH(IMPORT!E171,'ORDER FORM'!B:B,0)),INDEX('ORDER FORM'!N:N,MATCH(TRIM(IMPORT!E171),'ORDER FORM'!B:B,0))),\"\")","v":""}]
["UPLOADUSD",{"$f":"IF('ORDER FORM'!$O$7=\"\",\"ENTER-PO\",'ORDER FORM'!$O$7)","v":"ENTER-PO"},"2021 Spring/Summer",{"$f":"IF('ORDER FORM'!$O$9=\"\",TODAY(),'ORDER FORM'!$O$9)","v":"2023-11-02"},710096,"126","XL","2","610306142627",{"$f":"IF(IFERROR(INDEX('ORDER FORM'!$I$96:$L$125,MATCH(CONCATENATE(E172,F172),'ORDER FORM'!$A$96:$A$125,0),MATCH(G172,'ORDER FORM'!$I$119:$L$119,0)),\"\")=0,\"\",IFERROR(INDEX('ORDER FORM'!$I$96:$L$125,MATCH(CONCATENATE(E172,F172),'ORDER FORM'!$A$96:A$125,0),MATCH(G172,'ORDER FORM'!$I$119:$L$119,0)),\"\"))","v":""},{"$f":"IFERROR(IFERROR(INDEX('ORDER FORM'!N:N,MATCH(IMPORT!E172,'ORDER FORM'!B:B,0)),INDEX('ORDER FORM'!N:N,MATCH(TRIM(IMPORT!E172),'ORDER FORM'!B:B,0))),\"\")","v":""}]
["UPLOADUSD",{"$f":"IF('ORDER FORM'!$O$7=\"\",\"ENTER-PO\",'ORDER FORM'!$O$7)","v":"ENTER-PO"},"2021 Spring/Summer",{"$f":"IF('ORDER FORM'!$O$9=\"\",TODAY(),'ORDER FORM'!$O$9)","v":"2023-11-02"},710096,"127","S","2","610306142672",{"$f":"IF(IFERROR(INDEX('ORDER FORM'!$I$96:$L$125,MATCH(CONCATENATE(E173,F173),'ORDER FORM'!$A$96:$A$125,0),MATCH(G173,'ORDER FORM'!$I$119:$L$119,0)),\"\")=0,\"\",IFERROR(INDEX('ORDER FORM'!$I$96:$L$125,MATCH(CONCATENATE(E173,F173),'ORDER FORM'!$A$96:A$125,0),MATCH(G173,'ORDER FORM'!$I$119:$L$119,0)),\"\"))","v":""},{"$f":"IFERROR(IFERROR(INDEX('ORDER FORM'!N:N,MATCH(IMPORT!E173,'ORDER FORM'!B:B,0)),INDEX('ORDER FORM'!N:N,MATCH(TRIM(IMPORT!E173),'ORDER FORM'!B:B,0))),\"\")","v":""}]
["UPLOADUSD",{"$f":"IF('ORDER FORM'!$O$7=\"\",\"ENTER-PO\",'ORDER FORM'!$O$7)","v":"ENTER-PO"},"2021 Spring/Summer",{"$f":"IF('ORDER FORM'!$O$9=\"\",TODAY(),'ORDER FORM'!$O$9)","v":"2023-11-02"},710096,"127","M","2","610306142689",{"$f":"IF(IFERROR(INDEX('ORDER FORM'!$I$96:$L$125,MATCH(CONCATENATE(E174,F174),'ORDER FORM'!$A$96:$A$125,0),MATCH(G174,'ORDER FORM'!$I$119:$L$119,0)),\"\")=0,\"\",IFERROR(INDEX('ORDER FORM'!$I$96:$L$125,MATCH(CONCATENATE(E174,F174),'ORDER FORM'!$A$96:A$125,0),MATCH(G174,'ORDER FORM'!$I$119:$L$119,0)),\"\"))","v":""},{"$f":"IFERROR(IFERROR(INDEX('ORDER FORM'!N:N,MATCH(IMPORT!E174,'ORDER FORM'!B:B,0)),INDEX('ORDER FORM'!N:N,MATCH(TRIM(IMPORT!E174),'ORDER FORM'!B:B,0))),\"\")","v":""}]
["UPLOADUSD",{"$f":"IF('ORDER FORM'!$O$7=\"\",\"ENTER-PO\",'ORDER FORM'!$O$7)","v":"ENTER-PO"},"2021 Spring/Summer",{"$f":"IF('ORDER FORM'!$O$9=\"\",TODAY(),'ORDER FORM'!$O$9)","v":"2023-11-02"},710096,"127","L","2","610306142696",{"$f":"IF(IFERROR(INDEX('ORDER FORM'!$I$96:$L$125,MATCH(CONCATENATE(E175,F175),'ORDER FORM'!$A$96:$A$125,0),MATCH(G175,'ORDER FORM'!$I$119:$L$119,0)),\"\")=0,\"\",IFERROR(INDEX('ORDER FORM'!$I$96:$L$125,MATCH(CONCATENATE(E175,F175),'ORDER FORM'!$A$96:A$125,0),MATCH(G175,'ORDER FORM'!$I$119:$L$119,0)),\"\"))","v":""},{"$f":"IFERROR(IFERROR(INDEX('ORDER FORM'!N:N,MATCH(IMPORT!E175,'ORDER FORM'!B:B,0)),INDEX('ORDER FORM'!N:N,MATCH(TRIM(IMPORT!E175),'ORDER FORM'!B:B,0))),\"\")","v":""}]
["UPLOADUSD",{"$f":"IF('ORDER FORM'!$O$7=\"\",\"ENTER-PO\",'ORDER FORM'!$O$7)","v":"ENTER-PO"},"2021 Spring/Summer",{"$f":"IF('ORDER FORM'!$O$9=\"\",TODAY(),'ORDER FORM'!$O$9)","v":"2023-11-02"},710096,"127","XL","2","610306142702",{"$f":"IF(IFERROR(INDEX('ORDER FORM'!$I$96:$L$125,MATCH(CONCATENATE(E176,F176),'ORDER FORM'!$A$96:$A$125,0),MATCH(G176,'ORDER FORM'!$I$119:$L$119,0)),\"\")=0,\"\",IFERROR(INDEX('ORDER FORM'!$I$96:$L$125,MATCH(CONCATENATE(E176,F176),'ORDER FORM'!$A$96:A$125,0),MATCH(G176,'ORDER FORM'!$I$119:$L$119,0)),\"\"))","v":""},{"$f":"IFERROR(IFERROR(INDEX('ORDER FORM'!N:N,MATCH(IMPORT!E176,'ORDER FORM'!B:B,0)),INDEX('ORDER FORM'!N:N,MATCH(TRIM(IMPORT!E176),'ORDER FORM'!B:B,0))),\"\")","v":""}]
["UPLOADUSD",{"$f":"IF('ORDER FORM'!$O$7=\"\",\"ENTER-PO\",'ORDER FORM'!$O$7)","v":"ENTER-PO"},"2021 Spring/Summer",{"$f":"IF('ORDER FORM'!$O$9=\"\",TODAY(),'ORDER FORM'!$O$9)","v":"2023-11-02"},710097,"119","S","2","610306142740",{"$f":"IF(IFERROR(INDEX('ORDER FORM'!$I$96:$L$125,MATCH(CONCATENATE(E177,F177),'ORDER FORM'!$A$96:$A$125,0),MATCH(G177,'ORDER FORM'!$I$119:$L$119,0)),\"\")=0,\"\",IFERROR(INDEX('ORDER FORM'!$I$96:$L$125,MATCH(CONCATENATE(E177,F177),'ORDER FORM'!$A$96:A$125,0),MATCH(G177,'ORDER FORM'!$I$119:$L$119,0)),\"\"))","v":""},{"$f":"IFERROR(IFERROR(INDEX('ORDER FORM'!N:N,MATCH(IMPORT!E177,'ORDER FORM'!B:B,0)),INDEX('ORDER FORM'!N:N,MATCH(TRIM(IMPORT!E177),'ORDER FORM'!B:B,0))),\"\")","v":""}]
["UPLOADUSD",{"$f":"IF('ORDER FORM'!$O$7=\"\",\"ENTER-PO\",'ORDER FORM'!$O$7)","v":"ENTER-PO"},"2021 Spring/Summer",{"$f":"IF('ORDER FORM'!$O$9=\"\",TODAY(),'ORDER FORM'!$O$9)","v":"2023-11-02"},710097,"119","M","2","610306142757",{"$f":"IF(IFERROR(INDEX('ORDER FORM'!$I$96:$L$125,MATCH(CONCATENATE(E178,F178),'ORDER FORM'!$A$96:$A$125,0),MATCH(G178,'ORDER FORM'!$I$119:$L$119,0)),\"\")=0,\"\",IFERROR(INDEX('ORDER FORM'!$I$96:$L$125,MATCH(CONCATENATE(E178,F178),'ORDER FORM'!$A$96:A$125,0),MATCH(G178,'ORDER FORM'!$I$119:$L$119,0)),\"\"))","v":""},{"$f":"IFERROR(IFERROR(INDEX('ORDER FORM'!N:N,MATCH(IMPORT!E178,'ORDER FORM'!B:B,0)),INDEX('ORDER FORM'!N:N,MATCH(TRIM(IMPORT!E178),'ORDER FORM'!B:B,0))),\"\")","v":""}]
["UPLOADUSD",{"$f":"IF('ORDER FORM'!$O$7=\"\",\"ENTER-PO\",'ORDER FORM'!$O$7)","v":"ENTER-PO"},"2021 Spring/Summer",{"$f":"IF('ORDER FORM'!$O$9=\"\",TODAY(),'ORDER FORM'!$O$9)","v":"2023-11-02"},710097,"119","L","2","610306142764",{"$f":"IF(IFERROR(INDEX('ORDER FORM'!$I$96:$L$125,MATCH(CONCATENATE(E179,F179),'ORDER FORM'!$A$96:$A$125,0),MATCH(G179,'ORDER FORM'!$I$119:$L$119,0)),\"\")=0,\"\",IFERROR(INDEX('ORDER FORM'!$I$96:$L$125,MATCH(CONCATENATE(E179,F179),'ORDER FORM'!$A$96:A$125,0),MATCH(G179,'ORDER FORM'!$I$119:$L$119,0)),\"\"))","v":""},{"$f":"IFERROR(IFERROR(INDEX('ORDER FORM'!N:N,MATCH(IMPORT!E179,'ORDER FORM'!B:B,0)),INDEX('ORDER FORM'!N:N,MATCH(TRIM(IMPORT!E179),'ORDER FORM'!B:B,0))),\"\")","v":""}]
["UPLOADUSD",{"$f":"IF('ORDER FORM'!$O$7=\"\",\"ENTER-PO\",'ORDER FORM'!$O$7)","v":"ENTER-PO"},"2021 Spring/Summer",{"$f":"IF('ORDER FORM'!$O$9=\"\",TODAY(),'ORDER FORM'!$O$9)","v":"2023-11-02"},710097,"120","S","2","610306142771",{"$f":"IF(IFERROR(INDEX('ORDER FORM'!$I$96:$L$125,MATCH(CONCATENATE(E180,F180),'ORDER FORM'!$A$96:$A$125,0),MATCH(G180,'ORDER FORM'!$I$119:$L$119,0)),\"\")=0,\"\",IFERROR(INDEX('ORDER FORM'!$I$96:$L$125,MATCH(CONCATENATE(E180,F180),'ORDER FORM'!$A$96:A$125,0),MATCH(G180,'ORDER FORM'!$I$119:$L$119,0)),\"\"))","v":""},{"$f":"IFERROR(IFERROR(INDEX('ORDER FORM'!N:N,MATCH(IMPORT!E180,'ORDER FORM'!B:B,0)),INDEX('ORDER FORM'!N:N,MATCH(TRIM(IMPORT!E180),'ORDER FORM'!B:B,0))),\"\")","v":""}]
["UPLOADUSD",{"$f":"IF('ORDER FORM'!$O$7=\"\",\"ENTER-PO\",'ORDER FORM'!$O$7)","v":"ENTER-PO"},"2021 Spring/Summer",{"$f":"IF('ORDER FORM'!$O$9=\"\",TODAY(),'ORDER FORM'!$O$9)","v":"2023-11-02"},710097,"120","M","2","610306142788",{"$f":"IF(IFERROR(INDEX('ORDER FORM'!$I$96:$L$125,MATCH(CONCATENATE(E181,F181),'ORDER FORM'!$A$96:$A$125,0),MATCH(G181,'ORDER FORM'!$I$119:$L$119,0)),\"\")=0,\"\",IFERROR(INDEX('ORDER FORM'!$I$96:$L$125,MATCH(CONCATENATE(E181,F181),'ORDER FORM'!$A$96:A$125,0),MATCH(G181,'ORDER FORM'!$I$119:$L$119,0)),\"\"))","v":""},{"$f":"IFERROR(IFERROR(INDEX('ORDER FORM'!N:N,MATCH(IMPORT!E181,'ORDER FORM'!B:B,0)),INDEX('ORDER FORM'!N:N,MATCH(TRIM(IMPORT!E181),'ORDER FORM'!B:B,0))),\"\")","v":""}]
["UPLOADUSD",{"$f":"IF('ORDER FORM'!$O$7=\"\",\"ENTER-PO\",'ORDER FORM'!$O$7)","v":"ENTER-PO"},"2021 Spring/Summer",{"$f":"IF('ORDER FORM'!$O$9=\"\",TODAY(),'ORDER FORM'!$O$9)","v":"2023-11-02"},710097,"120","L","2","610306142795",{"$f":"IF(IFERROR(INDEX('ORDER FORM'!$I$96:$L$125,MATCH(CONCATENATE(E182,F182),'ORDER FORM'!$A$96:$A$125,0),MATCH(G182,'ORDER FORM'!$I$119:$L$119,0)),\"\")=0,\"\",IFERROR(INDEX('ORDER FORM'!$I$96:$L$125,MATCH(CONCATENATE(E182,F182),'ORDER FORM'!$A$96:A$125,0),MATCH(G182,'ORDER FORM'!$I$119:$L$119,0)),\"\"))","v":""},{"$f":"IFERROR(IFERROR(INDEX('ORDER FORM'!N:N,MATCH(IMPORT!E182,'ORDER FORM'!B:B,0)),INDEX('ORDER FORM'!N:N,MATCH(TRIM(IMPORT!E182),'ORDER FORM'!B:B,0))),\"\")","v":""}]
["UPLOADUSD",{"$f":"IF('ORDER FORM'!$O$7=\"\",\"ENTER-PO\",'ORDER FORM'!$O$7)","v":"ENTER-PO"},"2021 Spring/Summer",{"$f":"IF('ORDER FORM'!$O$9=\"\",TODAY(),'ORDER FORM'!$O$9)","v":"2023-11-02"},710097,"125","S","2","610306142719",{"$f":"IF(IFERROR(INDEX('ORDER FORM'!$I$96:$L$125,MATCH(CONCATENATE(E183,F183),'ORDER FORM'!$A$96:$A$125,0),MATCH(G183,'ORDER FORM'!$I$119:$L$119,0)),\"\")=0,\"\",IFERROR(INDEX('ORDER FORM'!$I$96:$L$125,MATCH(CONCATENATE(E183,F183),'ORDER FORM'!$A$96:A$125,0),MATCH(G183,'ORDER FORM'!$I$119:$L$119,0)),\"\"))","v":""},{"$f":"IFERROR(IFERROR(INDEX('ORDER FORM'!N:N,MATCH(IMPORT!E183,'ORDER FORM'!B:B,0)),INDEX('ORDER FORM'!N:N,MATCH(TRIM(IMPORT!E183),'ORDER FORM'!B:B,0))),\"\")","v":""}]
["UPLOADUSD",{"$f":"IF('ORDER FORM'!$O$7=\"\",\"ENTER-PO\",'ORDER FORM'!$O$7)","v":"ENTER-PO"},"2021 Spring/Summer",{"$f":"IF('ORDER FORM'!$O$9=\"\",TODAY(),'ORDER FORM'!$O$9)","v":"2023-11-02"},710097,"125","M","2","610306142726",{"$f":"IF(IFERROR(INDEX('ORDER FORM'!$I$96:$L$125,MATCH(CONCATENATE(E184,F184),'ORDER FORM'!$A$96:$A$125,0),MATCH(G184,'ORDER FORM'!$I$119:$L$119,0)),\"\")=0,\"\",IFERROR(INDEX('ORDER FORM'!$I$96:$L$125,MATCH(CONCATENATE(E184,F184),'ORDER FORM'!$A$96:A$125,0),MATCH(G184,'ORDER FORM'!$I$119:$L$119,0)),\"\"))","v":""},{"$f":"IFERROR(IFERROR(INDEX('ORDER FORM'!N:N,MATCH(IMPORT!E184,'ORDER FORM'!B:B,0)),INDEX('ORDER FORM'!N:N,MATCH(TRIM(IMPORT!E184),'ORDER FORM'!B:B,0))),\"\")","v":""}]
["UPLOADUSD",{"$f":"IF('ORDER FORM'!$O$7=\"\",\"ENTER-PO\",'ORDER FORM'!$O$7)","v":"ENTER-PO"},"2021 Spring/Summer",{"$f":"IF('ORDER FORM'!$O$9=\"\",TODAY(),'ORDER FORM'!$O$9)","v":"2023-11-02"},710097,"125","L","2","610306142733",{"$f":"IF(IFERROR(INDEX('ORDER FORM'!$I$96:$L$125,MATCH(CONCATENATE(E185,F185),'ORDER FORM'!$A$96:$A$125,0),MATCH(G185,'ORDER FORM'!$I$119:$L$119,0)),\"\")=0,\"\",IFERROR(INDEX('ORDER FORM'!$I$96:$L$125,MATCH(CONCATENATE(E185,F185),'ORDER FORM'!$A$96:A$125,0),MATCH(G185,'ORDER FORM'!$I$119:$L$119,0)),\"\"))","v":""},{"$f":"IFERROR(IFERROR(INDEX('ORDER FORM'!N:N,MATCH(IMPORT!E185,'ORDER FORM'!B:B,0)),INDEX('ORDER FORM'!N:N,MATCH(TRIM(IMPORT!E185),'ORDER FORM'!B:B,0))),\"\")","v":""}]
["UPLOADUSD",{"$f":"IF('ORDER FORM'!$O$7=\"\",\"ENTER-PO\",'ORDER FORM'!$O$7)","v":"ENTER-PO"},"2021 Spring/Summer",{"$f":"IF('ORDER FORM'!$O$9=\"\",TODAY(),'ORDER FORM'!$O$9)","v":"2023-11-02"},710098,"128","S","2","610306142801",{"$f":"IF(IFERROR(INDEX('ORDER FORM'!$I$96:$L$125,MATCH(CONCATENATE(E186,F186),'ORDER FORM'!$A$96:$A$125,0),MATCH(G186,'ORDER FORM'!$I$119:$L$119,0)),\"\")=0,\"\",IFERROR(INDEX('ORDER FORM'!$I$96:$L$125,MATCH(CONCATENATE(E186,F186),'ORDER FORM'!$A$96:A$125,0),MATCH(G186,'ORDER FORM'!$I$119:$L$119,0)),\"\"))","v":""},{"$f":"IFERROR(IFERROR(INDEX('ORDER FORM'!N:N,MATCH(IMPORT!E186,'ORDER FORM'!B:B,0)),INDEX('ORDER FORM'!N:N,MATCH(TRIM(IMPORT!E186),'ORDER FORM'!B:B,0))),\"\")","v":""}]
["UPLOADUSD",{"$f":"IF('ORDER FORM'!$O$7=\"\",\"ENTER-PO\",'ORDER FORM'!$O$7)","v":"ENTER-PO"},"2021 Spring/Summer",{"$f":"IF('ORDER FORM'!$O$9=\"\",TODAY(),'ORDER FORM'!$O$9)","v":"2023-11-02"},710098,"128","M","2","610306142818",{"$f":"IF(IFERROR(INDEX('ORDER FORM'!$I$96:$L$125,MATCH(CONCATENATE(E187,F187),'ORDER FORM'!$A$96:$A$125,0),MATCH(G187,'ORDER FORM'!$I$119:$L$119,0)),\"\")=0,\"\",IFERROR(INDEX('ORDER FORM'!$I$96:$L$125,MATCH(CONCATENATE(E187,F187),'ORDER FORM'!$A$96:A$125,0),MATCH(G187,'ORDER FORM'!$I$119:$L$119,0)),\"\"))","v":""},{"$f":"IFERROR(IFERROR(INDEX('ORDER FORM'!N:N,MATCH(IMPORT!E187,'ORDER FORM'!B:B,0)),INDEX('ORDER FORM'!N:N,MATCH(TRIM(IMPORT!E187),'ORDER FORM'!B:B,0))),\"\")","v":""}]
["UPLOADUSD",{"$f":"IF('ORDER FORM'!$O$7=\"\",\"ENTER-PO\",'ORDER FORM'!$O$7)","v":"ENTER-PO"},"2021 Spring/Summer",{"$f":"IF('ORDER FORM'!$O$9=\"\",TODAY(),'ORDER FORM'!$O$9)","v":"2023-11-02"},710098,"128","L","2","610306142825",{"$f":"IF(IFERROR(INDEX('ORDER FORM'!$I$96:$L$125,MATCH(CONCATENATE(E188,F188),'ORDER FORM'!$A$96:$A$125,0),MATCH(G188,'ORDER FORM'!$I$119:$L$119,0)),\"\")=0,\"\",IFERROR(INDEX('ORDER FORM'!$I$96:$L$125,MATCH(CONCATENATE(E188,F188),'ORDER FORM'!$A$96:A$125,0),MATCH(G188,'ORDER FORM'!$I$119:$L$119,0)),\"\"))","v":""},{"$f":"IFERROR(IFERROR(INDEX('ORDER FORM'!N:N,MATCH(IMPORT!E188,'ORDER FORM'!B:B,0)),INDEX('ORDER FORM'!N:N,MATCH(TRIM(IMPORT!E188),'ORDER FORM'!B:B,0))),\"\")","v":""}]
["UPLOADUSD",{"$f":"IF('ORDER FORM'!$O$7=\"\",\"ENTER-PO\",'ORDER FORM'!$O$7)","v":"ENTER-PO"},"2021 Spring/Summer",{"$f":"IF('ORDER FORM'!$O$9=\"\",TODAY(),'ORDER FORM'!$O$9)","v":"2023-11-02"},710098,"128","XL","2","610306142832",{"$f":"IF(IFERROR(INDEX('ORDER FORM'!$I$96:$L$125,MATCH(CONCATENATE(E189,F189),'ORDER FORM'!$A$96:$A$125,0),MATCH(G189,'ORDER FORM'!$I$119:$L$119,0)),\"\")=0,\"\",IFERROR(INDEX('ORDER FORM'!$I$96:$L$125,MATCH(CONCATENATE(E189,F189),'ORDER FORM'!$A$96:A$125,0),MATCH(G189,'ORDER FORM'!$I$119:$L$119,0)),\"\"))","v":""},{"$f":"IFERROR(IFERROR(INDEX('ORDER FORM'!N:N,MATCH(IMPORT!E189,'ORDER FORM'!B:B,0)),INDEX('ORDER FORM'!N:N,MATCH(TRIM(IMPORT!E189),'ORDER FORM'!B:B,0))),\"\")","v":""}]
["UPLOADUSD",{"$f":"IF('ORDER FORM'!$O$7=\"\",\"ENTER-PO\",'ORDER FORM'!$O$7)","v":"ENTER-PO"},"2021 Spring/Summer",{"$f":"IF('ORDER FORM'!$O$9=\"\",TODAY(),'ORDER FORM'!$O$9)","v":"2023-11-02"},710098,"129","S","2","610306142849",{"$f":"IF(IFERROR(INDEX('ORDER FORM'!$I$96:$L$125,MATCH(CONCATENATE(E190,F190),'ORDER FORM'!$A$96:$A$125,0),MATCH(G190,'ORDER FORM'!$I$119:$L$119,0)),\"\")=0,\"\",IFERROR(INDEX('ORDER FORM'!$I$96:$L$125,MATCH(CONCATENATE(E190,F190),'ORDER FORM'!$A$96:A$125,0),MATCH(G190,'ORDER FORM'!$I$119:$L$119,0)),\"\"))","v":""},{"$f":"IFERROR(IFERROR(INDEX('ORDER FORM'!N:N,MATCH(IMPORT!E190,'ORDER FORM'!B:B,0)),INDEX('ORDER FORM'!N:N,MATCH(TRIM(IMPORT!E190),'ORDER FORM'!B:B,0))),\"\")","v":""}]
["UPLOADUSD",{"$f":"IF('ORDER FORM'!$O$7=\"\",\"ENTER-PO\",'ORDER FORM'!$O$7)","v":"ENTER-PO"},"2021 Spring/Summer",{"$f":"IF('ORDER FORM'!$O$9=\"\",TODAY(),'ORDER FORM'!$O$9)","v":"2023-11-02"},710098,"129","M","2","610306142856",{"$f":"IF(IFERROR(INDEX('ORDER FORM'!$I$96:$L$125,MATCH(CONCATENATE(E191,F191),'ORDER FORM'!$A$96:$A$125,0),MATCH(G191,'ORDER FORM'!$I$119:$L$119,0)),\"\")=0,\"\",IFERROR(INDEX('ORDER FORM'!$I$96:$L$125,MATCH(CONCATENATE(E191,F191),'ORDER FORM'!$A$96:A$125,0),MATCH(G191,'ORDER FORM'!$I$119:$L$119,0)),\"\"))","v":""},{"$f":"IFERROR(IFERROR(INDEX('ORDER FORM'!N:N,MATCH(IMPORT!E191,'ORDER FORM'!B:B,0)),INDEX('ORDER FORM'!N:N,MATCH(TRIM(IMPORT!E191),'ORDER FORM'!B:B,0))),\"\")","v":""}]
["UPLOADUSD",{"$f":"IF('ORDER FORM'!$O$7=\"\",\"ENTER-PO\",'ORDER FORM'!$O$7)","v":"ENTER-PO"},"2021 Spring/Summer",{"$f":"IF('ORDER FORM'!$O$9=\"\",TODAY(),'ORDER FORM'!$O$9)","v":"2023-11-02"},710098,"129","L","2","610306142863",{"$f":"IF(IFERROR(INDEX('ORDER FORM'!$I$96:$L$125,MATCH(CONCATENATE(E192,F192),'ORDER FORM'!$A$96:$A$125,0),MATCH(G192,'ORDER FORM'!$I$119:$L$119,0)),\"\")=0,\"\",IFERROR(INDEX('ORDER FORM'!$I$96:$L$125,MATCH(CONCATENATE(E192,F192),'ORDER FORM'!$A$96:A$125,0),MATCH(G192,'ORDER FORM'!$I$119:$L$119,0)),\"\"))","v":""},{"$f":"IFERROR(IFERROR(INDEX('ORDER FORM'!N:N,MATCH(IMPORT!E192,'ORDER FORM'!B:B,0)),INDEX('ORDER FORM'!N:N,MATCH(TRIM(IMPORT!E192),'ORDER FORM'!B:B,0))),\"\")","v":""}]
["UPLOADUSD",{"$f":"IF('ORDER FORM'!$O$7=\"\",\"ENTER-PO\",'ORDER FORM'!$O$7)","v":"ENTER-PO"},"2021 Spring/Summer",{"$f":"IF('ORDER FORM'!$O$9=\"\",TODAY(),'ORDER FORM'!$O$9)","v":"2023-11-02"},710098,"129","XL","2","610306142870",{"$f":"IF(IFERROR(INDEX('ORDER FORM'!$I$96:$L$125,MATCH(CONCATENATE(E193,F193),'ORDER FORM'!$A$96:$A$125,0),MATCH(G193,'ORDER FORM'!$I$119:$L$119,0)),\"\")=0,\"\",IFERROR(INDEX('ORDER FORM'!$I$96:$L$125,MATCH(CONCATENATE(E193,F193),'ORDER FORM'!$A$96:A$125,0),MATCH(G193,'ORDER FORM'!$I$119:$L$119,0)),\"\"))","v":""},{"$f":"IFERROR(IFERROR(INDEX('ORDER FORM'!N:N,MATCH(IMPORT!E193,'ORDER FORM'!B:B,0)),INDEX('ORDER FORM'!N:N,MATCH(TRIM(IMPORT!E193),'ORDER FORM'!B:B,0))),\"\")","v":""}]
["UPLOADUSD",{"$f":"IF('ORDER FORM'!$O$7=\"\",\"ENTER-PO\",'ORDER FORM'!$O$7)","v":"ENTER-PO"},"2021 Spring/Summer",{"$f":"IF('ORDER FORM'!$O$9=\"\",TODAY(),'ORDER FORM'!$O$9)","v":"2023-11-02"},710099,"445","S","2","610306142887",{"$f":"IF(IFERROR(INDEX('ORDER FORM'!$I$96:$L$125,MATCH(CONCATENATE(E194,F194),'ORDER FORM'!$A$96:$A$125,0),MATCH(G194,'ORDER FORM'!$I$119:$L$119,0)),\"\")=0,\"\",IFERROR(INDEX('ORDER FORM'!$I$96:$L$125,MATCH(CONCATENATE(E194,F194),'ORDER FORM'!$A$96:A$125,0),MATCH(G194,'ORDER FORM'!$I$119:$L$119,0)),\"\"))","v":""},{"$f":"IFERROR(IFERROR(INDEX('ORDER FORM'!N:N,MATCH(IMPORT!E194,'ORDER FORM'!B:B,0)),INDEX('ORDER FORM'!N:N,MATCH(TRIM(IMPORT!E194),'ORDER FORM'!B:B,0))),\"\")","v":{"v":12.5,"d":"12.50"}}]
["UPLOADUSD",{"$f":"IF('ORDER FORM'!$O$7=\"\",\"ENTER-PO\",'ORDER FORM'!$O$7)","v":"ENTER-PO"},"2021 Spring/Summer",{"$f":"IF('ORDER FORM'!$O$9=\"\",TODAY(),'ORDER FORM'!$O$9)","v":"2023-11-02"},710099,"445","M","2","610306142894",{"$f":"IF(IFERROR(INDEX('ORDER FORM'!$I$96:$L$125,MATCH(CONCATENATE(E195,F195),'ORDER FORM'!$A$96:$A$125,0),MATCH(G195,'ORDER FORM'!$I$119:$L$119,0)),\"\")=0,\"\",IFERROR(INDEX('ORDER FORM'!$I$96:$L$125,MATCH(CONCATENATE(E195,F195),'ORDER FORM'!$A$96:A$125,0),MATCH(G195,'ORDER FORM'!$I$119:$L$119,0)),\"\"))","v":""},{"$f":"IFERROR(IFERROR(INDEX('ORDER FORM'!N:N,MATCH(IMPORT!E195,'ORDER FORM'!B:B,0)),INDEX('ORDER FORM'!N:N,MATCH(TRIM(IMPORT!E195),'ORDER FORM'!B:B,0))),\"\")","v":{"v":12.5,"d":"12.50"}}]
[{"$f":"IF(IF($B$1=0,\"ENTER ACCOUNT\",$B$1)=\"\",\"UPLOADUSD\",IF($B$1=0,\"ENTER ACCOUNT\",$B$1))","v":"UPLOADUSD"},{"$f":"IF('ORDER FORM'!$O$7=\"\",\"ENTER-PO\",'ORDER FORM'!$O$7)","v":"ENTER-PO"},{"$f":"$D$1","v":"2021 Spring/Summer"},{"$f":"IF('ORDER FORM'!$O$9=\"\",TODAY(),'ORDER FORM'!$O$9)","v":"2023-11-02"},710099,"445","L","2","610306142900",{"$f":"IF(IFERROR(INDEX('ORDER FORM'!$I$96:$L$125,MATCH(CONCATENATE(E196,F196),'ORDER FORM'!$A$96:$A$125,0),MATCH(G196,'ORDER FORM'!$I$119:$L$119,0)),\"\")=0,\"\",IFERROR(INDEX('ORDER FORM'!$I$96:$L$125,MATCH(CONCATENATE(E196,F196),'ORDER FORM'!$A$96:A$125,0),MATCH(G196,'ORDER FORM'!$I$119:$L$119,0)),\"\"))","v":""},{"$f":"IFERROR(IFERROR(INDEX('ORDER FORM'!N:N,MATCH(IMPORT!E196,'ORDER FORM'!B:B,0)),INDEX('ORDER FORM'!N:N,MATCH(TRIM(IMPORT!E196),'ORDER FORM'!B:B,0))),\"\")","v":{"v":12.5,"d":"12.50"}}]
["UPLOADUSD",{"$f":"IF('ORDER FORM'!$O$7=\"\",\"ENTER-PO\",'ORDER FORM'!$O$7)","v":"ENTER-PO"},"2021 Spring/Summer",{"$f":"IF('ORDER FORM'!$O$9=\"\",TODAY(),'ORDER FORM'!$O$9)","v":"2023-11-02"},710099,"445","XL","2","610306142917",{"$f":"IF(IFERROR(INDEX('ORDER FORM'!$I$96:$L$125,MATCH(CONCATENATE(E197,F197),'ORDER FORM'!$A$96:$A$125,0),MATCH(G197,'ORDER FORM'!$I$119:$L$119,0)),\"\")=0,\"\",IFERROR(INDEX('ORDER FORM'!$I$96:$L$125,MATCH(CONCATENATE(E197,F197),'ORDER FORM'!$A$96:A$125,0),MATCH(G197,'ORDER FORM'!$I$119:$L$119,0)),\"\"))","v":""},{"$f":"IFERROR(IFERROR(INDEX('ORDER FORM'!N:N,MATCH(IMPORT!E197,'ORDER FORM'!B:B,0)),INDEX('ORDER FORM'!N:N,MATCH(TRIM(IMPORT!E197),'ORDER FORM'!B:B,0))),\"\")","v":{"v":12.5,"d":"12.50"}}]
["UPLOADUSD",{"$f":"IF('ORDER FORM'!$O$7=\"\",\"ENTER-PO\",'ORDER FORM'!$O$7)","v":"ENTER-PO"},"2021 Spring/Summer",{"$f":"IF('ORDER FORM'!$O$9=\"\",TODAY(),'ORDER FORM'!$O$9)","v":"2023-11-02"},710099,"845","S","2","610306142924",{"$f":"IF(IFERROR(INDEX('ORDER FORM'!$I$96:$L$125,MATCH(CONCATENATE(E198,F198),'ORDER FORM'!$A$96:$A$125,0),MATCH(G198,'ORDER FORM'!$I$119:$L$119,0)),\"\")=0,\"\",IFERROR(INDEX('ORDER FORM'!$I$96:$L$125,MATCH(CONCATENATE(E198,F198),'ORDER FORM'!$A$96:A$125,0),MATCH(G198,'ORDER FORM'!$I$119:$L$119,0)),\"\"))","v":""},{"$f":"IFERROR(IFERROR(INDEX('ORDER FORM'!N:N,MATCH(IMPORT!E198,'ORDER FORM'!B:B,0)),INDEX('ORDER FORM'!N:N,MATCH(TRIM(IMPORT!E198),'ORDER FORM'!B:B,0))),\"\")","v":{"v":12.5,"d":"12.50"}}]
["UPLOADUSD",{"$f":"IF('ORDER FORM'!$O$7=\"\",\"ENTER-PO\",'ORDER FORM'!$O$7)","v":"ENTER-PO"},"2021 Spring/Summer",{"$f":"IF('ORDER FORM'!$O$9=\"\",TODAY(),'ORDER FORM'!$O$9)","v":"2023-11-02"},710099,"845","M","2","610306142931",{"$f":"IF(IFERROR(INDEX('ORDER FORM'!$I$96:$L$125,MATCH(CONCATENATE(E199,F199),'ORDER FORM'!$A$96:$A$125,0),MATCH(G199,'ORDER FORM'!$I$119:$L$119,0)),\"\")=0,\"\",IFERROR(INDEX('ORDER FORM'!$I$96:$L$125,MATCH(CONCATENATE(E199,F199),'ORDER FORM'!$A$96:A$125,0),MATCH(G199,'ORDER FORM'!$I$119:$L$119,0)),\"\"))","v":""},{"$f":"IFERROR(IFERROR(INDEX('ORDER FORM'!N:N,MATCH(IMPORT!E199,'ORDER FORM'!B:B,0)),INDEX('ORDER FORM'!N:N,MATCH(TRIM(IMPORT!E199),'ORDER FORM'!B:B,0))),\"\")","v":{"v":12.5,"d":"12.50"}}]
["UPLOADUSD",{"$f":"IF('ORDER FORM'!$O$7=\"\",\"ENTER-PO\",'ORDER FORM'!$O$7)","v":"ENTER-PO"},"2021 Spring/Summer",{"$f":"IF('ORDER FORM'!$O$9=\"\",TODAY(),'ORDER FORM'!$O$9)","v":"2023-11-02"},710099,"845","L","2","610306142948",{"$f":"IF(IFERROR(INDEX('ORDER FORM'!$I$96:$L$125,MATCH(CONCATENATE(E200,F200),'ORDER FORM'!$A$96:$A$125,0),MATCH(G200,'ORDER FORM'!$I$119:$L$119,0)),\"\")=0,\"\",IFERROR(INDEX('ORDER FORM'!$I$96:$L$125,MATCH(CONCATENATE(E200,F200),'ORDER FORM'!$A$96:A$125,0),MATCH(G200,'ORDER FORM'!$I$119:$L$119,0)),\"\"))","v":""},{"$f":"IFERROR(IFERROR(INDEX('ORDER FORM'!N:N,MATCH(IMPORT!E200,'ORDER FORM'!B:B,0)),INDEX('ORDER FORM'!N:N,MATCH(TRIM(IMPORT!E200),'ORDER FORM'!B:B,0))),\"\")","v":{"v":12.5,"d":"12.50"}}]
["UPLOADUSD",{"$f":"IF('ORDER FORM'!$O$7=\"\",\"ENTER-PO\",'ORDER FORM'!$O$7)","v":"ENTER-PO"},"2021 Spring/Summer",{"$f":"IF('ORDER FORM'!$O$9=\"\",TODAY(),'ORDER FORM'!$O$9)","v":"2023-11-02"},710099,"845","XL","2","610306142955",{"$f":"IF(IFERROR(INDEX('ORDER FORM'!$I$96:$L$125,MATCH(CONCATENATE(E201,F201),'ORDER FORM'!$A$96:$A$125,0),MATCH(G201,'ORDER FORM'!$I$119:$L$119,0)),\"\")=0,\"\",IFERROR(INDEX('ORDER FORM'!$I$96:$L$125,MATCH(CONCATENATE(E201,F201),'ORDER FORM'!$A$96:A$125,0),MATCH(G201,'ORDER FORM'!$I$119:$L$119,0)),\"\"))","v":""},{"$f":"IFERROR(IFERROR(INDEX('ORDER FORM'!N:N,MATCH(IMPORT!E201,'ORDER FORM'!B:B,0)),INDEX('ORDER FORM'!N:N,MATCH(TRIM(IMPORT!E201),'ORDER FORM'!B:B,0))),\"\")","v":{"v":12.5,"d":"12.50"}}]
["UPLOADUSD",{"$f":"IF('ORDER FORM'!$O$7=\"\",\"ENTER-PO\",'ORDER FORM'!$O$7)","v":"ENTER-PO"},"2021 Spring/Summer",{"$f":"IF('ORDER FORM'!$O$9=\"\",TODAY(),'ORDER FORM'!$O$9)","v":"2023-11-02"},710099,"866","S","2","610306142962",{"$f":"IF(IFERROR(INDEX('ORDER FORM'!$I$96:$L$125,MATCH(CONCATENATE(E202,F202),'ORDER FORM'!$A$96:$A$125,0),MATCH(G202,'ORDER FORM'!$I$119:$L$119,0)),\"\")=0,\"\",IFERROR(INDEX('ORDER FORM'!$I$96:$L$125,MATCH(CONCATENATE(E202,F202),'ORDER FORM'!$A$96:A$125,0),MATCH(G202,'ORDER FORM'!$I$119:$L$119,0)),\"\"))","v":""},{"$f":"IFERROR(IFERROR(INDEX('ORDER FORM'!N:N,MATCH(IMPORT!E202,'ORDER FORM'!B:B,0)),INDEX('ORDER FORM'!N:N,MATCH(TRIM(IMPORT!E202),'ORDER FORM'!B:B,0))),\"\")","v":{"v":12.5,"d":"12.50"}}]
["UPLOADUSD",{"$f":"IF('ORDER FORM'!$O$7=\"\",\"ENTER-PO\",'ORDER FORM'!$O$7)","v":"ENTER-PO"},"2021 Spring/Summer",{"$f":"IF('ORDER FORM'!$O$9=\"\",TODAY(),'ORDER FORM'!$O$9)","v":"2023-11-02"},710099,"866","M","2","610306142979",{"$f":"IF(IFERROR(INDEX('ORDER FORM'!$I$96:$L$125,MATCH(CONCATENATE(E203,F203),'ORDER FORM'!$A$96:$A$125,0),MATCH(G203,'ORDER FORM'!$I$119:$L$119,0)),\"\")=0,\"\",IFERROR(INDEX('ORDER FORM'!$I$96:$L$125,MATCH(CONCATENATE(E203,F203),'ORDER FORM'!$A$96:A$125,0),MATCH(G203,'ORDER FORM'!$I$119:$L$119,0)),\"\"))","v":""},{"$f":"IFERROR(IFERROR(INDEX('ORDER FORM'!N:N,MATCH(IMPORT!E203,'ORDER FORM'!B:B,0)),INDEX('ORDER FORM'!N:N,MATCH(TRIM(IMPORT!E203),'ORDER FORM'!B:B,0))),\"\")","v":{"v":12.5,"d":"12.50"}}]
["UPLOADUSD",{"$f":"IF('ORDER FORM'!$O$7=\"\",\"ENTER-PO\",'ORDER FORM'!$O$7)","v":"ENTER-PO"},"2021 Spring/Summer",{"$f":"IF('ORDER FORM'!$O$9=\"\",TODAY(),'ORDER FORM'!$O$9)","v":"2023-11-02"},710099,"866","L","2","610306142986",{"$f":"IF(IFERROR(INDEX('ORDER FORM'!$I$96:$L$125,MATCH(CONCATENATE(E204,F204),'ORDER FORM'!$A$96:$A$125,0),MATCH(G204,'ORDER FORM'!$I$119:$L$119,0)),\"\")=0,\"\",IFERROR(INDEX('ORDER FORM'!$I$96:$L$125,MATCH(CONCATENATE(E204,F204),'ORDER FORM'!$A$96:A$125,0),MATCH(G204,'ORDER FORM'!$I$119:$L$119,0)),\"\"))","v":""},{"$f":"IFERROR(IFERROR(INDEX('ORDER FORM'!N:N,MATCH(IMPORT!E204,'ORDER FORM'!B:B,0)),INDEX('ORDER FORM'!N:N,MATCH(TRIM(IMPORT!E204),'ORDER FORM'!B:B,0))),\"\")","v":{"v":12.5,"d":"12.50"}}]
["UPLOADUSD",{"$f":"IF('ORDER FORM'!$O$7=\"\",\"ENTER-PO\",'ORDER FORM'!$O$7)","v":"ENTER-PO"},"2021 Spring/Summer",{"$f":"IF('ORDER FORM'!$O$9=\"\",TODAY(),'ORDER FORM'!$O$9)","v":"2023-11-02"},710099,"866","XL","2","610306142993",{"$f":"IF(IFERROR(INDEX('ORDER FORM'!$I$96:$L$125,MATCH(CONCATENATE(E205,F205),'ORDER FORM'!$A$96:$A$125,0),MATCH(G205,'ORDER FORM'!$I$119:$L$119,0)),\"\")=0,\"\",IFERROR(INDEX('ORDER FORM'!$I$96:$L$125,MATCH(CONCATENATE(E205,F205),'ORDER FORM'!$A$96:A$125,0),MATCH(G205,'ORDER FORM'!$I$119:$L$119,0)),\"\"))","v":""},{"$f":"IFERROR(IFERROR(INDEX('ORDER FORM'!N:N,MATCH(IMPORT!E205,'ORDER FORM'!B:B,0)),INDEX('ORDER FORM'!N:N,MATCH(TRIM(IMPORT!E205),'ORDER FORM'!B:B,0))),\"\")","v":{"v":12.5,"d":"12.50"}}]
["UPLOADUSD",{"$f":"IF('ORDER FORM'!$O$7=\"\",\"ENTER-PO\",'ORDER FORM'!$O$7)","v":"ENTER-PO"},"2021 Spring/Summer",{"$f":"IF('ORDER FORM'!$O$9=\"\",TODAY(),'ORDER FORM'!$O$9)","v":"2023-11-02"},710100,"130","S","2","610306143006",{"$f":"IF(IFERROR(INDEX('ORDER FORM'!$I$96:$L$125,MATCH(CONCATENATE(E206,F206),'ORDER FORM'!$A$96:$A$125,0),MATCH(G206,'ORDER FORM'!$I$119:$L$119,0)),\"\")=0,\"\",IFERROR(INDEX('ORDER FORM'!$I$96:$L$125,MATCH(CONCATENATE(E206,F206),'ORDER FORM'!$A$96:A$125,0),MATCH(G206,'ORDER FORM'!$I$119:$L$119,0)),\"\"))","v":""},{"$f":"IFERROR(IFERROR(INDEX('ORDER FORM'!N:N,MATCH(IMPORT!E206,'ORDER FORM'!B:B,0)),INDEX('ORDER FORM'!N:N,MATCH(TRIM(IMPORT!E206),'ORDER FORM'!B:B,0))),\"\")","v":""}]
["UPLOADUSD",{"$f":"IF('ORDER FORM'!$O$7=\"\",\"ENTER-PO\",'ORDER FORM'!$O$7)","v":"ENTER-PO"},"2021 Spring/Summer",{"$f":"IF('ORDER FORM'!$O$9=\"\",TODAY(),'ORDER FORM'!$O$9)","v":"2023-11-02"},710100,"130","M","2","610306143013",{"$f":"IF(IFERROR(INDEX('ORDER FORM'!$I$96:$L$125,MATCH(CONCATENATE(E207,F207),'ORDER FORM'!$A$96:$A$125,0),MATCH(G207,'ORDER FORM'!$I$119:$L$119,0)),\"\")=0,\"\",IFERROR(INDEX('ORDER FORM'!$I$96:$L$125,MATCH(CONCATENATE(E207,F207),'ORDER FORM'!$A$96:A$125,0),MATCH(G207,'ORDER FORM'!$I$119:$L$119,0)),\"\"))","v":""},{"$f":"IFERROR(IFERROR(INDEX('ORDER FORM'!N:N,MATCH(IMPORT!E207,'ORDER FORM'!B:B,0)),INDEX('ORDER FORM'!N:N,MATCH(TRIM(IMPORT!E207),'ORDER FORM'!B:B,0))),\"\")","v":""}]
["UPLOADUSD",{"$f":"IF('ORDER FORM'!$O$7=\"\",\"ENTER-PO\",'ORDER FORM'!$O$7)","v":"ENTER-PO"},"2021 Spring/Summer",{"$f":"IF('ORDER FORM'!$O$9=\"\",TODAY(),'ORDER FORM'!$O$9)","v":"2023-11-02"},710100,"130","L","2","610306143020",{"$f":"IF(IFERROR(INDEX('ORDER FORM'!$I$96:$L$125,MATCH(CONCATENATE(E208,F208),'ORDER FORM'!$A$96:$A$125,0),MATCH(G208,'ORDER FORM'!$I$119:$L$119,0)),\"\")=0,\"\",IFERROR(INDEX('ORDER FORM'!$I$96:$L$125,MATCH(CONCATENATE(E208,F208),'ORDER FORM'!$A$96:A$125,0),MATCH(G208,'ORDER FORM'!$I$119:$L$119,0)),\"\"))","v":""},{"$f":"IFERROR(IFERROR(INDEX('ORDER FORM'!N:N,MATCH(IMPORT!E208,'ORDER FORM'!B:B,0)),INDEX('ORDER FORM'!N:N,MATCH(TRIM(IMPORT!E208),'ORDER FORM'!B:B,0))),\"\")","v":""}]
["UPLOADUSD",{"$f":"IF('ORDER FORM'!$O$7=\"\",\"ENTER-PO\",'ORDER FORM'!$O$7)","v":"ENTER-PO"},"2021 Spring/Summer",{"$f":"IF('ORDER FORM'!$O$9=\"\",TODAY(),'ORDER FORM'!$O$9)","v":"2023-11-02"},710100,"131","S","2","610306143037",{"$f":"IF(IFERROR(INDEX('ORDER FORM'!$I$96:$L$125,MATCH(CONCATENATE(E209,F209),'ORDER FORM'!$A$96:$A$125,0),MATCH(G209,'ORDER FORM'!$I$119:$L$119,0)),\"\")=0,\"\",IFERROR(INDEX('ORDER FORM'!$I$96:$L$125,MATCH(CONCATENATE(E209,F209),'ORDER FORM'!$A$96:A$125,0),MATCH(G209,'ORDER FORM'!$I$119:$L$119,0)),\"\"))","v":""},{"$f":"IFERROR(IFERROR(INDEX('ORDER FORM'!N:N,MATCH(IMPORT!E209,'ORDER FORM'!B:B,0)),INDEX('ORDER FORM'!N:N,MATCH(TRIM(IMPORT!E209),'ORDER FORM'!B:B,0))),\"\")","v":""}]
["UPLOADUSD",{"$f":"IF('ORDER FORM'!$O$7=\"\",\"ENTER-PO\",'ORDER FORM'!$O$7)","v":"ENTER-PO"},"2021 Spring/Summer",{"$f":"IF('ORDER FORM'!$O$9=\"\",TODAY(),'ORDER FORM'!$O$9)","v":"2023-11-02"},710100,"131","M","2","610306143044",{"$f":"IF(IFERROR(INDEX('ORDER FORM'!$I$96:$L$125,MATCH(CONCATENATE(E210,F210),'ORDER FORM'!$A$96:$A$125,0),MATCH(G210,'ORDER FORM'!$I$119:$L$119,0)),\"\")=0,\"\",IFERROR(INDEX('ORDER FORM'!$I$96:$L$125,MATCH(CONCATENATE(E210,F210),'ORDER FORM'!$A$96:A$125,0),MATCH(G210,'ORDER FORM'!$I$119:$L$119,0)),\"\"))","v":""},{"$f":"IFERROR(IFERROR(INDEX('ORDER FORM'!N:N,MATCH(IMPORT!E210,'ORDER FORM'!B:B,0)),INDEX('ORDER FORM'!N:N,MATCH(TRIM(IMPORT!E210),'ORDER FORM'!B:B,0))),\"\")","v":""}]
["UPLOADUSD",{"$f":"IF('ORDER FORM'!$O$7=\"\",\"ENTER-PO\",'ORDER FORM'!$O$7)","v":"ENTER-PO"},"2021 Spring/Summer",{"$f":"IF('ORDER FORM'!$O$9=\"\",TODAY(),'ORDER FORM'!$O$9)","v":"2023-11-02"},710100,"131","L","2","610306143051",{"$f":"IF(IFERROR(INDEX('ORDER FORM'!$I$96:$L$125,MATCH(CONCATENATE(E211,F211),'ORDER FORM'!$A$96:$A$125,0),MATCH(G211,'ORDER FORM'!$I$119:$L$119,0)),\"\")=0,\"\",IFERROR(INDEX('ORDER FORM'!$I$96:$L$125,MATCH(CONCATENATE(E211,F211),'ORDER FORM'!$A$96:A$125,0),MATCH(G211,'ORDER FORM'!$I$119:$L$119,0)),\"\"))","v":""},{"$f":"IFERROR(IFERROR(INDEX('ORDER FORM'!N:N,MATCH(IMPORT!E211,'ORDER FORM'!B:B,0)),INDEX('ORDER FORM'!N:N,MATCH(TRIM(IMPORT!E211),'ORDER FORM'!B:B,0))),\"\")","v":""}]
["UPLOADUSD",{"$f":"IF('ORDER FORM'!$O$7=\"\",\"ENTER-PO\",'ORDER FORM'!$O$7)","v":"ENTER-PO"},"2021 Spring/Summer",{"$f":"IF('ORDER FORM'!$O$9=\"\",TODAY(),'ORDER FORM'!$O$9)","v":"2023-11-02"},710101,"371","S","2","610306143099",{"$f":"IF(IFERROR(INDEX('ORDER FORM'!$I$96:$L$125,MATCH(CONCATENATE(E212,F212),'ORDER FORM'!$A$96:$A$125,0),MATCH(G212,'ORDER FORM'!$I$119:$L$119,0)),\"\")=0,\"\",IFERROR(INDEX('ORDER FORM'!$I$96:$L$125,MATCH(CONCATENATE(E212,F212),'ORDER FORM'!$A$96:A$125,0),MATCH(G212,'ORDER FORM'!$I$119:$L$119,0)),\"\"))","v":""},{"$f":"IFERROR(IFERROR(INDEX('ORDER FORM'!N:N,MATCH(IMPORT!E212,'ORDER FORM'!B:B,0)),INDEX('ORDER FORM'!N:N,MATCH(TRIM(IMPORT!E212),'ORDER FORM'!B:B,0))),\"\")","v":{"v":12.5,"d":"12.50"}}]
["UPLOADUSD",{"$f":"IF('ORDER FORM'!$O$7=\"\",\"ENTER-PO\",'ORDER FORM'!$O$7)","v":"ENTER-PO"},"2021 Spring/Summer",{"$f":"IF('ORDER FORM'!$O$9=\"\",TODAY(),'ORDER FORM'!$O$9)","v":"2023-11-02"},710101,"371","M","2","610306143105",{"$f":"IF(IFERROR(INDEX('ORDER FORM'!$I$96:$L$125,MATCH(CONCATENATE(E213,F213),'ORDER FORM'!$A$96:$A$125,0),MATCH(G213,'ORDER FORM'!$I$119:$L$119,0)),\"\")=0,\"\",IFERROR(INDEX('ORDER FORM'!$I$96:$L$125,MATCH(CONCATENATE(E213,F213),'ORDER FORM'!$A$96:A$125,0),MATCH(G213,'ORDER FORM'!$I$119:$L$119,0)),\"\"))","v":""},{"$f":"IFERROR(IFERROR(INDEX('ORDER FORM'!N:N,MATCH(IMPORT!E213,'ORDER FORM'!B:B,0)),INDEX('ORDER FORM'!N:N,MATCH(TRIM(IMPORT!E213),'ORDER FORM'!B:B,0))),\"\")","v":{"v":12.5,"d":"12.50"}}]
["UPLOADUSD",{"$f":"IF('ORDER FORM'!$O$7=\"\",\"ENTER-PO\",'ORDER FORM'!$O$7)","v":"ENTER-PO"},"2021 Spring/Summer",{"$f":"IF('ORDER FORM'!$O$9=\"\",TODAY(),'ORDER FORM'!$O$9)","v":"2023-11-02"},710101,"371","L","2","610306143112",{"$f":"IF(IFERROR(INDEX('ORDER FORM'!$I$96:$L$125,MATCH(CONCATENATE(E214,F214),'ORDER FORM'!$A$96:$A$125,0),MATCH(G214,'ORDER FORM'!$I$119:$L$119,0)),\"\")=0,\"\",IFERROR(INDEX('ORDER FORM'!$I$96:$L$125,MATCH(CONCATENATE(E214,F214),'ORDER FORM'!$A$96:A$125,0),MATCH(G214,'ORDER FORM'!$I$119:$L$119,0)),\"\"))","v":""},{"$f":"IFERROR(IFERROR(INDEX('ORDER FORM'!N:N,MATCH(IMPORT!E214,'ORDER FORM'!B:B,0)),INDEX('ORDER FORM'!N:N,MATCH(TRIM(IMPORT!E214),'ORDER FORM'!B:B,0))),\"\")","v":{"v":12.5,"d":"12.50"}}]
["UPLOADUSD",{"$f":"IF('ORDER FORM'!$O$7=\"\",\"ENTER-PO\",'ORDER FORM'!$O$7)","v":"ENTER-PO"},"2021 Spring/Summer",{"$f":"IF('ORDER FORM'!$O$9=\"\",TODAY(),'ORDER FORM'!$O$9)","v":"2023-11-02"},710101,"390","S","2","610306143129",{"$f":"IF(IFERROR(INDEX('ORDER FORM'!$I$96:$L$125,MATCH(CONCATENATE(E215,F215),'ORDER FORM'!$A$96:$A$125,0),MATCH(G215,'ORDER FORM'!$I$119:$L$119,0)),\"\")=0,\"\",IFERROR(INDEX('ORDER FORM'!$I$96:$L$125,MATCH(CONCATENATE(E215,F215),'ORDER FORM'!$A$96:A$125,0),MATCH(G215,'ORDER FORM'!$I$119:$L$119,0)),\"\"))","v":""},{"$f":"IFERROR(IFERROR(INDEX('ORDER FORM'!N:N,MATCH(IMPORT!E215,'ORDER FORM'!B:B,0)),INDEX('ORDER FORM'!N:N,MATCH(TRIM(IMPORT!E215),'ORDER FORM'!B:B,0))),\"\")","v":{"v":12.5,"d":"12.50"}}]
["UPLOADUSD",{"$f":"IF('ORDER FORM'!$O$7=\"\",\"ENTER-PO\",'ORDER FORM'!$O$7)","v":"ENTER-PO"},"2021 Spring/Summer",{"$f":"IF('ORDER FORM'!$O$9=\"\",TODAY(),'ORDER FORM'!$O$9)","v":"2023-11-02"},710101,"390","M","2","610306143136",{"$f":"IF(IFERROR(INDEX('ORDER FORM'!$I$96:$L$125,MATCH(CONCATENATE(E216,F216),'ORDER FORM'!$A$96:$A$125,0),MATCH(G216,'ORDER FORM'!$I$119:$L$119,0)),\"\")=0,\"\",IFERROR(INDEX('ORDER FORM'!$I$96:$L$125,MATCH(CONCATENATE(E216,F216),'ORDER FORM'!$A$96:A$125,0),MATCH(G216,'ORDER FORM'!$I$119:$L$119,0)),\"\"))","v":""},{"$f":"IFERROR(IFERROR(INDEX('ORDER FORM'!N:N,MATCH(IMPORT!E216,'ORDER FORM'!B:B,0)),INDEX('ORDER FORM'!N:N,MATCH(TRIM(IMPORT!E216),'ORDER FORM'!B:B,0))),\"\")","v":{"v":12.5,"d":"12.50"}}]
["UPLOADUSD",{"$f":"IF('ORDER FORM'!$O$7=\"\",\"ENTER-PO\",'ORDER FORM'!$O$7)","v":"ENTER-PO"},"2021 Spring/Summer",{"$f":"IF('ORDER FORM'!$O$9=\"\",TODAY(),'ORDER FORM'!$O$9)","v":"2023-11-02"},710101,"390","L","2","610306143143",{"$f":"IF(IFERROR(INDEX('ORDER FORM'!$I$96:$L$125,MATCH(CONCATENATE(E217,F217),'ORDER FORM'!$A$96:$A$125,0),MATCH(G217,'ORDER FORM'!$I$119:$L$119,0)),\"\")=0,\"\",IFERROR(INDEX('ORDER FORM'!$I$96:$L$125,MATCH(CONCATENATE(E217,F217),'ORDER FORM'!$A$96:A$125,0),MATCH(G217,'ORDER FORM'!$I$119:$L$119,0)),\"\"))","v":""},{"$f":"IFERROR(IFERROR(INDEX('ORDER FORM'!N:N,MATCH(IMPORT!E217,'ORDER FORM'!B:B,0)),INDEX('ORDER FORM'!N:N,MATCH(TRIM(IMPORT!E217),'ORDER FORM'!B:B,0))),\"\")","v":{"v":12.5,"d":"12.50"}}]
["UPLOADUSD",{"$f":"IF('ORDER FORM'!$O$7=\"\",\"ENTER-PO\",'ORDER FORM'!$O$7)","v":"ENTER-PO"},"2021 Spring/Summer",{"$f":"IF('ORDER FORM'!$O$9=\"\",TODAY(),'ORDER FORM'!$O$9)","v":"2023-11-02"},710101,"435","S","2","610306143068",{"$f":"IF(IFERROR(INDEX('ORDER FORM'!$I$96:$L$125,MATCH(CONCATENATE(E218,F218),'ORDER FORM'!$A$96:$A$125,0),MATCH(G218,'ORDER FORM'!$I$119:$L$119,0)),\"\")=0,\"\",IFERROR(INDEX('ORDER FORM'!$I$96:$L$125,MATCH(CONCATENATE(E218,F218),'ORDER FORM'!$A$96:A$125,0),MATCH(G218,'ORDER FORM'!$I$119:$L$119,0)),\"\"))","v":""},{"$f":"IFERROR(IFERROR(INDEX('ORDER FORM'!N:N,MATCH(IMPORT!E218,'ORDER FORM'!B:B,0)),INDEX('ORDER FORM'!N:N,MATCH(TRIM(IMPORT!E218),'ORDER FORM'!B:B,0))),\"\")","v":{"v":12.5,"d":"12.50"}}]
["UPLOADUSD",{"$f":"IF('ORDER FORM'!$O$7=\"\",\"ENTER-PO\",'ORDER FORM'!$O$7)","v":"ENTER-PO"},"2021 Spring/Summer",{"$f":"IF('ORDER FORM'!$O$9=\"\",TODAY(),'ORDER FORM'!$O$9)","v":"2023-11-02"},710101,"435","M","2","610306143075",{"$f":"IF(IFERROR(INDEX('ORDER FORM'!$I$96:$L$125,MATCH(CONCATENATE(E219,F219),'ORDER FORM'!$A$96:$A$125,0),MATCH(G219,'ORDER FORM'!$I$119:$L$119,0)),\"\")=0,\"\",IFERROR(INDEX('ORDER FORM'!$I$96:$L$125,MATCH(CONCATENATE(E219,F219),'ORDER FORM'!$A$96:A$125,0),MATCH(G219,'ORDER FORM'!$I$119:$L$119,0)),\"\"))","v":""},{"$f":"IFERROR(IFERROR(INDEX('ORDER FORM'!N:N,MATCH(IMPORT!E219,'ORDER FORM'!B:B,0)),INDEX('ORDER FORM'!N:N,MATCH(TRIM(IMPORT!E219),'ORDER FORM'!B:B,0))),\"\")","v":{"v":12.5,"d":"12.50"}}]
["UPLOADUSD",{"$f":"IF('ORDER FORM'!$O$7=\"\",\"ENTER-PO\",'ORDER FORM'!$O$7)","v":"ENTER-PO"},"2021 Spring/Summer",{"$f":"IF('ORDER FORM'!$O$9=\"\",TODAY(),'ORDER FORM'!$O$9)","v":"2023-11-02"},710101,"435","L","2","610306143082",{"$f":"IF(IFERROR(INDEX('ORDER FORM'!$I$96:$L$125,MATCH(CONCATENATE(E220,F220),'ORDER FORM'!$A$96:$A$125,0),MATCH(G220,'ORDER FORM'!$I$119:$L$119,0)),\"\")=0,\"\",IFERROR(INDEX('ORDER FORM'!$I$96:$L$125,MATCH(CONCATENATE(E220,F220),'ORDER FORM'!$A$96:A$125,0),MATCH(G220,'ORDER FORM'!$I$119:$L$119,0)),\"\"))","v":""},{"$f":"IFERROR(IFERROR(INDEX('ORDER FORM'!N:N,MATCH(IMPORT!E220,'ORDER FORM'!B:B,0)),INDEX('ORDER FORM'!N:N,MATCH(TRIM(IMPORT!E220),'ORDER FORM'!B:B,0))),\"\")","v":{"v":12.5,"d":"12.50"}}]
["UPLOADUSD",{"$f":"IF('ORDER FORM'!$O$7=\"\",\"ENTER-PO\",'ORDER FORM'!$O$7)","v":"ENTER-PO"},"2021 Spring/Summer",{"$f":"IF('ORDER FORM'!$O$9=\"\",TODAY(),'ORDER FORM'!$O$9)","v":"2023-11-02"},710102,"035","S","2","610306143600",{"$f":"IF(IFERROR(INDEX('ORDER FORM'!$I$96:$L$125,MATCH(CONCATENATE(E221,F221),'ORDER FORM'!$A$96:$A$125,0),MATCH(G221,'ORDER FORM'!$I$119:$L$119,0)),\"\")=0,\"\",IFERROR(INDEX('ORDER FORM'!$I$96:$L$125,MATCH(CONCATENATE(E221,F221),'ORDER FORM'!$A$96:A$125,0),MATCH(G221,'ORDER FORM'!$I$119:$L$119,0)),\"\"))","v":""},{"$f":"IFERROR(IFERROR(INDEX('ORDER FORM'!N:N,MATCH(IMPORT!E221,'ORDER FORM'!B:B,0)),INDEX('ORDER FORM'!N:N,MATCH(TRIM(IMPORT!E221),'ORDER FORM'!B:B,0))),\"\")","v":""}]
["UPLOADUSD",{"$f":"IF('ORDER FORM'!$O$7=\"\",\"ENTER-PO\",'ORDER FORM'!$O$7)","v":"ENTER-PO"},"2021 Spring/Summer",{"$f":"IF('ORDER FORM'!$O$9=\"\",TODAY(),'ORDER FORM'!$O$9)","v":"2023-11-02"},710102,"035","M","2","610306143617",{"$f":"IF(IFERROR(INDEX('ORDER FORM'!$I$96:$L$125,MATCH(CONCATENATE(E222,F222),'ORDER FORM'!$A$96:$A$125,0),MATCH(G222,'ORDER FORM'!$I$119:$L$119,0)),\"\")=0,\"\",IFERROR(INDEX('ORDER FORM'!$I$96:$L$125,MATCH(CONCATENATE(E222,F222),'ORDER FORM'!$A$96:A$125,0),MATCH(G222,'ORDER FORM'!$I$119:$L$119,0)),\"\"))","v":""},{"$f":"IFERROR(IFERROR(INDEX('ORDER FORM'!N:N,MATCH(IMPORT!E222,'ORDER FORM'!B:B,0)),INDEX('ORDER FORM'!N:N,MATCH(TRIM(IMPORT!E222),'ORDER FORM'!B:B,0))),\"\")","v":""}]
["UPLOADUSD",{"$f":"IF('ORDER FORM'!$O$7=\"\",\"ENTER-PO\",'ORDER FORM'!$O$7)","v":"ENTER-PO"},"2021 Spring/Summer",{"$f":"IF('ORDER FORM'!$O$9=\"\",TODAY(),'ORDER FORM'!$O$9)","v":"2023-11-02"},710102,"035","L","2","610306143624",{"$f":"IF(IFERROR(INDEX('ORDER FORM'!$I$96:$L$125,MATCH(CONCATENATE(E223,F223),'ORDER FORM'!$A$96:$A$125,0),MATCH(G223,'ORDER FORM'!$I$119:$L$119,0)),\"\")=0,\"\",IFERROR(INDEX('ORDER FORM'!$I$96:$L$125,MATCH(CONCATENATE(E223,F223),'ORDER FORM'!$A$96:A$125,0),MATCH(G223,'ORDER FORM'!$I$119:$L$119,0)),\"\"))","v":""},{"$f":"IFERROR(IFERROR(INDEX('ORDER FORM'!N:N,MATCH(IMPORT!E223,'ORDER FORM'!B:B,0)),INDEX('ORDER FORM'!N:N,MATCH(TRIM(IMPORT!E223),'ORDER FORM'!B:B,0))),\"\")","v":""}]
["UPLOADUSD",{"$f":"IF('ORDER FORM'!$O$7=\"\",\"ENTER-PO\",'ORDER FORM'!$O$7)","v":"ENTER-PO"},"2021 Spring/Summer",{"$f":"IF('ORDER FORM'!$O$9=\"\",TODAY(),'ORDER FORM'!$O$9)","v":"2023-11-02"},710102,"035","XL","2","610306143631",{"$f":"IF(IFERROR(INDEX('ORDER FORM'!$I$96:$L$125,MATCH(CONCATENATE(E224,F224),'ORDER FORM'!$A$96:$A$125,0),MATCH(G224,'ORDER FORM'!$I$119:$L$119,0)),\"\")=0,\"\",IFERROR(INDEX('ORDER FORM'!$I$96:$L$125,MATCH(CONCATENATE(E224,F224),'ORDER FORM'!$A$96:A$125,0),MATCH(G224,'ORDER FORM'!$I$119:$L$119,0)),\"\"))","v":""},{"$f":"IFERROR(IFERROR(INDEX('ORDER FORM'!N:N,MATCH(IMPORT!E224,'ORDER FORM'!B:B,0)),INDEX('ORDER FORM'!N:N,MATCH(TRIM(IMPORT!E224),'ORDER FORM'!B:B,0))),\"\")","v":""}]
["UPLOADUSD",{"$f":"IF('ORDER FORM'!$O$7=\"\",\"ENTER-PO\",'ORDER FORM'!$O$7)","v":"ENTER-PO"},"2021 Spring/Summer",{"$f":"IF('ORDER FORM'!$O$9=\"\",TODAY(),'ORDER FORM'!$O$9)","v":"2023-11-02"},710102,"037","S","2","610306143648",{"$f":"IF(IFERROR(INDEX('ORDER FORM'!$I$96:$L$125,MATCH(CONCATENATE(E225,F225),'ORDER FORM'!$A$96:$A$125,0),MATCH(G225,'ORDER FORM'!$I$119:$L$119,0)),\"\")=0,\"\",IFERROR(INDEX('ORDER FORM'!$I$96:$L$125,MATCH(CONCATENATE(E225,F225),'ORDER FORM'!$A$96:A$125,0),MATCH(G225,'ORDER FORM'!$I$119:$L$119,0)),\"\"))","v":""},{"$f":"IFERROR(IFERROR(INDEX('ORDER FORM'!N:N,MATCH(IMPORT!E225,'ORDER FORM'!B:B,0)),INDEX('ORDER FORM'!N:N,MATCH(TRIM(IMPORT!E225),'ORDER FORM'!B:B,0))),\"\")","v":""}]
["UPLOADUSD",{"$f":"IF('ORDER FORM'!$O$7=\"\",\"ENTER-PO\",'ORDER FORM'!$O$7)","v":"ENTER-PO"},"2021 Spring/Summer",{"$f":"IF('ORDER FORM'!$O$9=\"\",TODAY(),'ORDER FORM'!$O$9)","v":"2023-11-02"},710102,"037","M","2","610306143655",{"$f":"IF(IFERROR(INDEX('ORDER FORM'!$I$96:$L$125,MATCH(CONCATENATE(E226,F226),'ORDER FORM'!$A$96:$A$125,0),MATCH(G226,'ORDER FORM'!$I$119:$L$119,0)),\"\")=0,\"\",IFERROR(INDEX('ORDER FORM'!$I$96:$L$125,MATCH(CONCATENATE(E226,F226),'ORDER FORM'!$A$96:A$125,0),MATCH(G226,'ORDER FORM'!$I$119:$L$119,0)),\"\"))","v":""},{"$f":"IFERROR(IFERROR(INDEX('ORDER FORM'!N:N,MATCH(IMPORT!E226,'ORDER FORM'!B:B,0)),INDEX('ORDER FORM'!N:N,MATCH(TRIM(IMPORT!E226),'ORDER FORM'!B:B,0))),\"\")","v":""}]
["UPLOADUSD",{"$f":"IF('ORDER FORM'!$O$7=\"\",\"ENTER-PO\",'ORDER FORM'!$O$7)","v":"ENTER-PO"},"2021 Spring/Summer",{"$f":"IF('ORDER FORM'!$O$9=\"\",TODAY(),'ORDER FORM'!$O$9)","v":"2023-11-02"},710102,"037","L","2","610306143662",{"$f":"IF(IFERROR(INDEX('ORDER FORM'!$I$96:$L$125,MATCH(CONCATENATE(E227,F227),'ORDER FORM'!$A$96:$A$125,0),MATCH(G227,'ORDER FORM'!$I$119:$L$119,0)),\"\")=0,\"\",IFERROR(INDEX('ORDER FORM'!$I$96:$L$125,MATCH(CONCATENATE(E227,F227),'ORDER FORM'!$A$96:A$125,0),MATCH(G227,'ORDER FORM'!$I$119:$L$119,0)),\"\"))","v":""},{"$f":"IFERROR(IFERROR(INDEX('ORDER FORM'!N:N,MATCH(IMPORT!E227,'ORDER FORM'!B:B,0)),INDEX('ORDER FORM'!N:N,MATCH(TRIM(IMPORT!E227),'ORDER FORM'!B:B,0))),\"\")","v":""}]
["UPLOADUSD",{"$f":"IF('ORDER FORM'!$O$7=\"\",\"ENTER-PO\",'ORDER FORM'!$O$7)","v":"ENTER-PO"},"2021 Spring/Summer",{"$f":"IF('ORDER FORM'!$O$9=\"\",TODAY(),'ORDER FORM'!$O$9)","v":"2023-11-02"},710102,"037","XL","2","610306143679",{"$f":"IF(IFERROR(INDEX('ORDER FORM'!$I$96:$L$125,MATCH(CONCATENATE(E228,F228),'ORDER FORM'!$A$96:$A$125,0),MATCH(G228,'ORDER FORM'!$I$119:$L$119,0)),\"\")=0,\"\",IFERROR(INDEX('ORDER FORM'!$I$96:$L$125,MATCH(CONCATENATE(E228,F228),'ORDER FORM'!$A$96:A$125,0),MATCH(G228,'ORDER FORM'!$I$119:$L$119,0)),\"\"))","v":""},{"$f":"IFERROR(IFERROR(INDEX('ORDER FORM'!N:N,MATCH(IMPORT!E228,'ORDER FORM'!B:B,0)),INDEX('ORDER FORM'!N:N,MATCH(TRIM(IMPORT!E228),'ORDER FORM'!B:B,0))),\"\")","v":""}]
["UPLOADUSD",{"$f":"IF('ORDER FORM'!$O$7=\"\",\"ENTER-PO\",'ORDER FORM'!$O$7)","v":"ENTER-PO"},"2021 Spring/Summer",{"$f":"IF('ORDER FORM'!$O$9=\"\",TODAY(),'ORDER FORM'!$O$9)","v":"2023-11-02"},710102,"139","S","2","610306143686",{"$f":"IF(IFERROR(INDEX('ORDER FORM'!$I$96:$L$125,MATCH(CONCATENATE(E229,F229),'ORDER FORM'!$A$96:$A$125,0),MATCH(G229,'ORDER FORM'!$I$119:$L$119,0)),\"\")=0,\"\",IFERROR(INDEX('ORDER FORM'!$I$96:$L$125,MATCH(CONCATENATE(E229,F229),'ORDER FORM'!$A$96:A$125,0),MATCH(G229,'ORDER FORM'!$I$119:$L$119,0)),\"\"))","v":""},{"$f":"IFERROR(IFERROR(INDEX('ORDER FORM'!N:N,MATCH(IMPORT!E229,'ORDER FORM'!B:B,0)),INDEX('ORDER FORM'!N:N,MATCH(TRIM(IMPORT!E229),'ORDER FORM'!B:B,0))),\"\")","v":""}]
["UPLOADUSD",{"$f":"IF('ORDER FORM'!$O$7=\"\",\"ENTER-PO\",'ORDER FORM'!$O$7)","v":"ENTER-PO"},"2021 Spring/Summer",{"$f":"IF('ORDER FORM'!$O$9=\"\",TODAY(),'ORDER FORM'!$O$9)","v":"2023-11-02"},710102,"139","M","2","610306143693",{"$f":"IF(IFERROR(INDEX('ORDER FORM'!$I$96:$L$125,MATCH(CONCATENATE(E230,F230),'ORDER FORM'!$A$96:$A$125,0),MATCH(G230,'ORDER FORM'!$I$119:$L$119,0)),\"\")=0,\"\",IFERROR(INDEX('ORDER FORM'!$I$96:$L$125,MATCH(CONCATENATE(E230,F230),'ORDER FORM'!$A$96:A$125,0),MATCH(G230,'ORDER FORM'!$I$119:$L$119,0)),\"\"))","v":""},{"$f":"IFERROR(IFERROR(INDEX('ORDER FORM'!N:N,MATCH(IMPORT!E230,'ORDER FORM'!B:B,0)),INDEX('ORDER FORM'!N:N,MATCH(TRIM(IMPORT!E230),'ORDER FORM'!B:B,0))),\"\")","v":""}]
["UPLOADUSD",{"$f":"IF('ORDER FORM'!$O$7=\"\",\"ENTER-PO\",'ORDER FORM'!$O$7)","v":"ENTER-PO"},"2021 Spring/Summer",{"$f":"IF('ORDER FORM'!$O$9=\"\",TODAY(),'ORDER FORM'!$O$9)","v":"2023-11-02"},710102,"139","L","2","610306143709",{"$f":"IF(IFERROR(INDEX('ORDER FORM'!$I$96:$L$125,MATCH(CONCATENATE(E231,F231),'ORDER FORM'!$A$96:$A$125,0),MATCH(G231,'ORDER FORM'!$I$119:$L$119,0)),\"\")=0,\"\",IFERROR(INDEX('ORDER FORM'!$I$96:$L$125,MATCH(CONCATENATE(E231,F231),'ORDER FORM'!$A$96:A$125,0),MATCH(G231,'ORDER FORM'!$I$119:$L$119,0)),\"\"))","v":""},{"$f":"IFERROR(IFERROR(INDEX('ORDER FORM'!N:N,MATCH(IMPORT!E231,'ORDER FORM'!B:B,0)),INDEX('ORDER FORM'!N:N,MATCH(TRIM(IMPORT!E231),'ORDER FORM'!B:B,0))),\"\")","v":""}]
["UPLOADUSD",{"$f":"IF('ORDER FORM'!$O$7=\"\",\"ENTER-PO\",'ORDER FORM'!$O$7)","v":"ENTER-PO"},"2021 Spring/Summer",{"$f":"IF('ORDER FORM'!$O$9=\"\",TODAY(),'ORDER FORM'!$O$9)","v":"2023-11-02"},710102,"139","XL","2","610306143716",{"$f":"IF(IFERROR(INDEX('ORDER FORM'!$I$96:$L$125,MATCH(CONCATENATE(E232,F232),'ORDER FORM'!$A$96:$A$125,0),MATCH(G232,'ORDER FORM'!$I$119:$L$119,0)),\"\")=0,\"\",IFERROR(INDEX('ORDER FORM'!$I$96:$L$125,MATCH(CONCATENATE(E232,F232),'ORDER FORM'!$A$96:A$125,0),MATCH(G232,'ORDER FORM'!$I$119:$L$119,0)),\"\"))","v":""},{"$f":"IFERROR(IFERROR(INDEX('ORDER FORM'!N:N,MATCH(IMPORT!E232,'ORDER FORM'!B:B,0)),INDEX('ORDER FORM'!N:N,MATCH(TRIM(IMPORT!E232),'ORDER FORM'!B:B,0))),\"\")","v":""}]
["UPLOADUSD",{"$f":"IF('ORDER FORM'!$O$7=\"\",\"ENTER-PO\",'ORDER FORM'!$O$7)","v":"ENTER-PO"},"2021 Spring/Summer",{"$f":"IF('ORDER FORM'!$O$9=\"\",TODAY(),'ORDER FORM'!$O$9)","v":"2023-11-02"},710102,"140","S","2","610306143723",{"$f":"IF(IFERROR(INDEX('ORDER FORM'!$I$96:$L$125,MATCH(CONCATENATE(E233,F233),'ORDER FORM'!$A$96:$A$125,0),MATCH(G233,'ORDER FORM'!$I$119:$L$119,0)),\"\")=0,\"\",IFERROR(INDEX('ORDER FORM'!$I$96:$L$125,MATCH(CONCATENATE(E233,F233),'ORDER FORM'!$A$96:A$125,0),MATCH(G233,'ORDER FORM'!$I$119:$L$119,0)),\"\"))","v":""},{"$f":"IFERROR(IFERROR(INDEX('ORDER FORM'!N:N,MATCH(IMPORT!E233,'ORDER FORM'!B:B,0)),INDEX('ORDER FORM'!N:N,MATCH(TRIM(IMPORT!E233),'ORDER FORM'!B:B,0))),\"\")","v":""}]
["UPLOADUSD",{"$f":"IF('ORDER FORM'!$O$7=\"\",\"ENTER-PO\",'ORDER FORM'!$O$7)","v":"ENTER-PO"},"2021 Spring/Summer",{"$f":"IF('ORDER FORM'!$O$9=\"\",TODAY(),'ORDER FORM'!$O$9)","v":"2023-11-02"},710102,"140","M","2","610306143730",{"$f":"IF(IFERROR(INDEX('ORDER FORM'!$I$96:$L$125,MATCH(CONCATENATE(E234,F234),'ORDER FORM'!$A$96:$A$125,0),MATCH(G234,'ORDER FORM'!$I$119:$L$119,0)),\"\")=0,\"\",IFERROR(INDEX('ORDER FORM'!$I$96:$L$125,MATCH(CONCATENATE(E234,F234),'ORDER FORM'!$A$96:A$125,0),MATCH(G234,'ORDER FORM'!$I$119:$L$119,0)),\"\"))","v":""},{"$f":"IFERROR(IFERROR(INDEX('ORDER FORM'!N:N,MATCH(IMPORT!E234,'ORDER FORM'!B:B,0)),INDEX('ORDER FORM'!N:N,MATCH(TRIM(IMPORT!E234),'ORDER FORM'!B:B,0))),\"\")","v":""}]
["UPLOADUSD",{"$f":"IF('ORDER FORM'!$O$7=\"\",\"ENTER-PO\",'ORDER FORM'!$O$7)","v":"ENTER-PO"},"2021 Spring/Summer",{"$f":"IF('ORDER FORM'!$O$9=\"\",TODAY(),'ORDER FORM'!$O$9)","v":"2023-11-02"},710102,"140","L","2","610306143747",{"$f":"IF(IFERROR(INDEX('ORDER FORM'!$I$96:$L$125,MATCH(CONCATENATE(E235,F235),'ORDER FORM'!$A$96:$A$125,0),MATCH(G235,'ORDER FORM'!$I$119:$L$119,0)),\"\")=0,\"\",IFERROR(INDEX('ORDER FORM'!$I$96:$L$125,MATCH(CONCATENATE(E235,F235),'ORDER FORM'!$A$96:A$125,0),MATCH(G235,'ORDER FORM'!$I$119:$L$119,0)),\"\"))","v":""},{"$f":"IFERROR(IFERROR(INDEX('ORDER FORM'!N:N,MATCH(IMPORT!E235,'ORDER FORM'!B:B,0)),INDEX('ORDER FORM'!N:N,MATCH(TRIM(IMPORT!E235),'ORDER FORM'!B:B,0))),\"\")","v":""}]
["UPLOADUSD",{"$f":"IF('ORDER FORM'!$O$7=\"\",\"ENTER-PO\",'ORDER FORM'!$O$7)","v":"ENTER-PO"},"2021 Spring/Summer",{"$f":"IF('ORDER FORM'!$O$9=\"\",TODAY(),'ORDER FORM'!$O$9)","v":"2023-11-02"},710102,"140","XL","2","610306143754",{"$f":"IF(IFERROR(INDEX('ORDER FORM'!$I$96:$L$125,MATCH(CONCATENATE(E236,F236),'ORDER FORM'!$A$96:$A$125,0),MATCH(G236,'ORDER FORM'!$I$119:$L$119,0)),\"\")=0,\"\",IFERROR(INDEX('ORDER FORM'!$I$96:$L$125,MATCH(CONCATENATE(E236,F236),'ORDER FORM'!$A$96:A$125,0),MATCH(G236,'ORDER FORM'!$I$119:$L$119,0)),\"\"))","v":""},{"$f":"IFERROR(IFERROR(INDEX('ORDER FORM'!N:N,MATCH(IMPORT!E236,'ORDER FORM'!B:B,0)),INDEX('ORDER FORM'!N:N,MATCH(TRIM(IMPORT!E236),'ORDER FORM'!B:B,0))),\"\")","v":""}]
["UPLOADUSD",{"$f":"IF('ORDER FORM'!$O$7=\"\",\"ENTER-PO\",'ORDER FORM'!$O$7)","v":"ENTER-PO"},"2021 Spring/Summer",{"$f":"IF('ORDER FORM'!$O$9=\"\",TODAY(),'ORDER FORM'!$O$9)","v":"2023-11-02"},710103,"035","S","2","610306143761",{"$f":"IF(IFERROR(INDEX('ORDER FORM'!$I$96:$L$125,MATCH(CONCATENATE(E237,F237),'ORDER FORM'!$A$96:$A$125,0),MATCH(G237,'ORDER FORM'!$I$119:$L$119,0)),\"\")=0,\"\",IFERROR(INDEX('ORDER FORM'!$I$96:$L$125,MATCH(CONCATENATE(E237,F237),'ORDER FORM'!$A$96:A$125,0),MATCH(G237,'ORDER FORM'!$I$119:$L$119,0)),\"\"))","v":""},{"$f":"IFERROR(IFERROR(INDEX('ORDER FORM'!N:N,MATCH(IMPORT!E237,'ORDER FORM'!B:B,0)),INDEX('ORDER FORM'!N:N,MATCH(TRIM(IMPORT!E237),'ORDER FORM'!B:B,0))),\"\")","v":{"v":16,"d":"16.00"}}]
["UPLOADUSD",{"$f":"IF('ORDER FORM'!$O$7=\"\",\"ENTER-PO\",'ORDER FORM'!$O$7)","v":"ENTER-PO"},"2021 Spring/Summer",{"$f":"IF('ORDER FORM'!$O$9=\"\",TODAY(),'ORDER FORM'!$O$9)","v":"2023-11-02"},710103,"035","M","2","610306143778",{"$f":"IF(IFERROR(INDEX('ORDER FORM'!$I$96:$L$125,MATCH(CONCATENATE(E238,F238),'ORDER FORM'!$A$96:$A$125,0),MATCH(G238,'ORDER FORM'!$I$119:$L$119,0)),\"\")=0,\"\",IFERROR(INDEX('ORDER FORM'!$I$96:$L$125,MATCH(CONCATENATE(E238,F238),'ORDER FORM'!$A$96:A$125,0),MATCH(G238,'ORDER FORM'!$I$119:$L$119,0)),\"\"))","v":""},{"$f":"IFERROR(IFERROR(INDEX('ORDER FORM'!N:N,MATCH(IMPORT!E238,'ORDER FORM'!B:B,0)),INDEX('ORDER FORM'!N:N,MATCH(TRIM(IMPORT!E238),'ORDER FORM'!B:B,0))),\"\")","v":{"v":16,"d":"16.00"}}]
["UPLOADUSD",{"$f":"IF('ORDER FORM'!$O$7=\"\",\"ENTER-PO\",'ORDER FORM'!$O$7)","v":"ENTER-PO"},"2021 Spring/Summer",{"$f":"IF('ORDER FORM'!$O$9=\"\",TODAY(),'ORDER FORM'!$O$9)","v":"2023-11-02"},710103,"035","L","2","610306143785",{"$f":"IF(IFERROR(INDEX('ORDER FORM'!$I$96:$L$125,MATCH(CONCATENATE(E239,F239),'ORDER FORM'!$A$96:$A$125,0),MATCH(G239,'ORDER FORM'!$I$119:$L$119,0)),\"\")=0,\"\",IFERROR(INDEX('ORDER FORM'!$I$96:$L$125,MATCH(CONCATENATE(E239,F239),'ORDER FORM'!$A$96:A$125,0),MATCH(G239,'ORDER FORM'!$I$119:$L$119,0)),\"\"))","v":""},{"$f":"IFERROR(IFERROR(INDEX('ORDER FORM'!N:N,MATCH(IMPORT!E239,'ORDER FORM'!B:B,0)),INDEX('ORDER FORM'!N:N,MATCH(TRIM(IMPORT!E239),'ORDER FORM'!B:B,0))),\"\")","v":{"v":16,"d":"16.00"}}]
["UPLOADUSD",{"$f":"IF('ORDER FORM'!$O$7=\"\",\"ENTER-PO\",'ORDER FORM'!$O$7)","v":"ENTER-PO"},"2021 Spring/Summer",{"$f":"IF('ORDER FORM'!$O$9=\"\",TODAY(),'ORDER FORM'!$O$9)","v":"2023-11-02"},710103,"046","S","2","610306143792",{"$f":"IF(IFERROR(INDEX('ORDER FORM'!$I$96:$L$125,MATCH(CONCATENATE(E240,F240),'ORDER FORM'!$A$96:$A$125,0),MATCH(G240,'ORDER FORM'!$I$119:$L$119,0)),\"\")=0,\"\",IFERROR(INDEX('ORDER FORM'!$I$96:$L$125,MATCH(CONCATENATE(E240,F240),'ORDER FORM'!$A$96:A$125,0),MATCH(G240,'ORDER FORM'!$I$119:$L$119,0)),\"\"))","v":""},{"$f":"IFERROR(IFERROR(INDEX('ORDER FORM'!N:N,MATCH(IMPORT!E240,'ORDER FORM'!B:B,0)),INDEX('ORDER FORM'!N:N,MATCH(TRIM(IMPORT!E240),'ORDER FORM'!B:B,0))),\"\")","v":{"v":16,"d":"16.00"}}]
["UPLOADUSD",{"$f":"IF('ORDER FORM'!$O$7=\"\",\"ENTER-PO\",'ORDER FORM'!$O$7)","v":"ENTER-PO"},"2021 Spring/Summer",{"$f":"IF('ORDER FORM'!$O$9=\"\",TODAY(),'ORDER FORM'!$O$9)","v":"2023-11-02"},710103,"046","M","2","610306143808",{"$f":"IF(IFERROR(INDEX('ORDER FORM'!$I$96:$L$125,MATCH(CONCATENATE(E241,F241),'ORDER FORM'!$A$96:$A$125,0),MATCH(G241,'ORDER FORM'!$I$119:$L$119,0)),\"\")=0,\"\",IFERROR(INDEX('ORDER FORM'!$I$96:$L$125,MATCH(CONCATENATE(E241,F241),'ORDER FORM'!$A$96:A$125,0),MATCH(G241,'ORDER FORM'!$I$119:$L$119,0)),\"\"))","v":""},{"$f":"IFERROR(IFERROR(INDEX('ORDER FORM'!N:N,MATCH(IMPORT!E241,'ORDER FORM'!B:B,0)),INDEX('ORDER FORM'!N:N,MATCH(TRIM(IMPORT!E241),'ORDER FORM'!B:B,0))),\"\")","v":{"v":16,"d":"16.00"}}]
["UPLOADUSD",{"$f":"IF('ORDER FORM'!$O$7=\"\",\"ENTER-PO\",'ORDER FORM'!$O$7)","v":"ENTER-PO"},"2021 Spring/Summer",{"$f":"IF('ORDER FORM'!$O$9=\"\",TODAY(),'ORDER FORM'!$O$9)","v":"2023-11-02"},710103,"046","L","2","610306143815",{"$f":"IF(IFERROR(INDEX('ORDER FORM'!$I$96:$L$125,MATCH(CONCATENATE(E242,F242),'ORDER FORM'!$A$96:$A$125,0),MATCH(G242,'ORDER FORM'!$I$119:$L$119,0)),\"\")=0,\"\",IFERROR(INDEX('ORDER FORM'!$I$96:$L$125,MATCH(CONCATENATE(E242,F242),'ORDER FORM'!$A$96:A$125,0),MATCH(G242,'ORDER FORM'!$I$119:$L$119,0)),\"\"))","v":""},{"$f":"IFERROR(IFERROR(INDEX('ORDER FORM'!N:N,MATCH(IMPORT!E242,'ORDER FORM'!B:B,0)),INDEX('ORDER FORM'!N:N,MATCH(TRIM(IMPORT!E242),'ORDER FORM'!B:B,0))),\"\")","v":{"v":16,"d":"16.00"}}]
["UPLOADUSD",{"$f":"IF('ORDER FORM'!$O$7=\"\",\"ENTER-PO\",'ORDER FORM'!$O$7)","v":"ENTER-PO"},"2021 Spring/Summer",{"$f":"IF('ORDER FORM'!$O$9=\"\",TODAY(),'ORDER FORM'!$O$9)","v":"2023-11-02"},710103,"134","S","2","610306143822",{"$f":"IF(IFERROR(INDEX('ORDER FORM'!$I$96:$L$125,MATCH(CONCATENATE(E243,F243),'ORDER FORM'!$A$96:$A$125,0),MATCH(G243,'ORDER FORM'!$I$119:$L$119,0)),\"\")=0,\"\",IFERROR(INDEX('ORDER FORM'!$I$96:$L$125,MATCH(CONCATENATE(E243,F243),'ORDER FORM'!$A$96:A$125,0),MATCH(G243,'ORDER FORM'!$I$119:$L$119,0)),\"\"))","v":""},{"$f":"IFERROR(IFERROR(INDEX('ORDER FORM'!N:N,MATCH(IMPORT!E243,'ORDER FORM'!B:B,0)),INDEX('ORDER FORM'!N:N,MATCH(TRIM(IMPORT!E243),'ORDER FORM'!B:B,0))),\"\")","v":{"v":16,"d":"16.00"}}]
["UPLOADUSD",{"$f":"IF('ORDER FORM'!$O$7=\"\",\"ENTER-PO\",'ORDER FORM'!$O$7)","v":"ENTER-PO"},"2021 Spring/Summer",{"$f":"IF('ORDER FORM'!$O$9=\"\",TODAY(),'ORDER FORM'!$O$9)","v":"2023-11-02"},710103,"134","M","2","610306143839",{"$f":"IF(IFERROR(INDEX('ORDER FORM'!$I$96:$L$125,MATCH(CONCATENATE(E244,F244),'ORDER FORM'!$A$96:$A$125,0),MATCH(G244,'ORDER FORM'!$I$119:$L$119,0)),\"\")=0,\"\",IFERROR(INDEX('ORDER FORM'!$I$96:$L$125,MATCH(CONCATENATE(E244,F244),'ORDER FORM'!$A$96:A$125,0),MATCH(G244,'ORDER FORM'!$I$119:$L$119,0)),\"\"))","v":""},{"$f":"IFERROR(IFERROR(INDEX('ORDER FORM'!N:N,MATCH(IMPORT!E244,'ORDER FORM'!B:B,0)),INDEX('ORDER FORM'!N:N,MATCH(TRIM(IMPORT!E244),'ORDER FORM'!B:B,0))),\"\")","v":{"v":16,"d":"16.00"}}]
["UPLOADUSD",{"$f":"IF('ORDER FORM'!$O$7=\"\",\"ENTER-PO\",'ORDER FORM'!$O$7)","v":"ENTER-PO"},"2021 Spring/Summer",{"$f":"IF('ORDER FORM'!$O$9=\"\",TODAY(),'ORDER FORM'!$O$9)","v":"2023-11-02"},710103,"134","L","2","610306143846",{"$f":"IF(IFERROR(INDEX('ORDER FORM'!$I$96:$L$125,MATCH(CONCATENATE(E245,F245),'ORDER FORM'!$A$96:$A$125,0),MATCH(G245,'ORDER FORM'!$I$119:$L$119,0)),\"\")=0,\"\",IFERROR(INDEX('ORDER FORM'!$I$96:$L$125,MATCH(CONCATENATE(E245,F245),'ORDER FORM'!$A$96:A$125,0),MATCH(G245,'ORDER FORM'!$I$119:$L$119,0)),\"\"))","v":""},{"$f":"IFERROR(IFERROR(INDEX('ORDER FORM'!N:N,MATCH(IMPORT!E245,'ORDER FORM'!B:B,0)),INDEX('ORDER FORM'!N:N,MATCH(TRIM(IMPORT!E245),'ORDER FORM'!B:B,0))),\"\")","v":{"v":16,"d":"16.00"}}]
["UPLOADUSD",{"$f":"IF('ORDER FORM'!$O$7=\"\",\"ENTER-PO\",'ORDER FORM'!$O$7)","v":"ENTER-PO"},"2021 Spring/Summer",{"$f":"IF('ORDER FORM'!$O$9=\"\",TODAY(),'ORDER FORM'!$O$9)","v":"2023-11-02"},710132,"042","S","2","610306147196",{"$f":"IF(IFERROR(INDEX('ORDER FORM'!$I$96:$L$125,MATCH(CONCATENATE(E246,F246),'ORDER FORM'!$A$96:$A$125,0),MATCH(G246,'ORDER FORM'!$I$119:$L$119,0)),\"\")=0,\"\",IFERROR(INDEX('ORDER FORM'!$I$96:$L$125,MATCH(CONCATENATE(E246,F246),'ORDER FORM'!$A$96:A$125,0),MATCH(G246,'ORDER FORM'!$I$119:$L$119,0)),\"\"))","v":""},{"$f":"IFERROR(IFERROR(INDEX('ORDER FORM'!N:N,MATCH(IMPORT!E246,'ORDER FORM'!B:B,0)),INDEX('ORDER FORM'!N:N,MATCH(TRIM(IMPORT!E246),'ORDER FORM'!B:B,0))),\"\")","v":{"v":14,"d":"14.00"}}]
["UPLOADUSD",{"$f":"IF('ORDER FORM'!$O$7=\"\",\"ENTER-PO\",'ORDER FORM'!$O$7)","v":"ENTER-PO"},"2021 Spring/Summer",{"$f":"IF('ORDER FORM'!$O$9=\"\",TODAY(),'ORDER FORM'!$O$9)","v":"2023-11-02"},710132,"042","M","2","610306147202",{"$f":"IF(IFERROR(INDEX('ORDER FORM'!$I$96:$L$125,MATCH(CONCATENATE(E247,F247),'ORDER FORM'!$A$96:$A$125,0),MATCH(G247,'ORDER FORM'!$I$119:$L$119,0)),\"\")=0,\"\",IFERROR(INDEX('ORDER FORM'!$I$96:$L$125,MATCH(CONCATENATE(E247,F247),'ORDER FORM'!$A$96:A$125,0),MATCH(G247,'ORDER FORM'!$I$119:$L$119,0)),\"\"))","v":""},{"$f":"IFERROR(IFERROR(INDEX('ORDER FORM'!N:N,MATCH(IMPORT!E247,'ORDER FORM'!B:B,0)),INDEX('ORDER FORM'!N:N,MATCH(TRIM(IMPORT!E247),'ORDER FORM'!B:B,0))),\"\")","v":{"v":14,"d":"14.00"}}]
["UPLOADUSD",{"$f":"IF('ORDER FORM'!$O$7=\"\",\"ENTER-PO\",'ORDER FORM'!$O$7)","v":"ENTER-PO"},"2021 Spring/Summer",{"$f":"IF('ORDER FORM'!$O$9=\"\",TODAY(),'ORDER FORM'!$O$9)","v":"2023-11-02"},710132,"042","L","2","610306147219",{"$f":"IF(IFERROR(INDEX('ORDER FORM'!$I$96:$L$125,MATCH(CONCATENATE(E248,F248),'ORDER FORM'!$A$96:$A$125,0),MATCH(G248,'ORDER FORM'!$I$119:$L$119,0)),\"\")=0,\"\",IFERROR(INDEX('ORDER FORM'!$I$96:$L$125,MATCH(CONCATENATE(E248,F248),'ORDER FORM'!$A$96:A$125,0),MATCH(G248,'ORDER FORM'!$I$119:$L$119,0)),\"\"))","v":""},{"$f":"IFERROR(IFERROR(INDEX('ORDER FORM'!N:N,MATCH(IMPORT!E248,'ORDER FORM'!B:B,0)),INDEX('ORDER FORM'!N:N,MATCH(TRIM(IMPORT!E248),'ORDER FORM'!B:B,0))),\"\")","v":{"v":14,"d":"14.00"}}]
["UPLOADUSD",{"$f":"IF('ORDER FORM'!$O$7=\"\",\"ENTER-PO\",'ORDER FORM'!$O$7)","v":"ENTER-PO"},"2021 Spring/Summer",{"$f":"IF('ORDER FORM'!$O$9=\"\",TODAY(),'ORDER FORM'!$O$9)","v":"2023-11-02"},710132,"042","XL","2","610306147226",{"$f":"IF(IFERROR(INDEX('ORDER FORM'!$I$96:$L$125,MATCH(CONCATENATE(E249,F249),'ORDER FORM'!$A$96:$A$125,0),MATCH(G249,'ORDER FORM'!$I$119:$L$119,0)),\"\")=0,\"\",IFERROR(INDEX('ORDER FORM'!$I$96:$L$125,MATCH(CONCATENATE(E249,F249),'ORDER FORM'!$A$96:A$125,0),MATCH(G249,'ORDER FORM'!$I$119:$L$119,0)),\"\"))","v":""},{"$f":"IFERROR(IFERROR(INDEX('ORDER FORM'!N:N,MATCH(IMPORT!E249,'ORDER FORM'!B:B,0)),INDEX('ORDER FORM'!N:N,MATCH(TRIM(IMPORT!E249),'ORDER FORM'!B:B,0))),\"\")","v":{"v":14,"d":"14.00"}}]
["UPLOADUSD",{"$f":"IF('ORDER FORM'!$O$7=\"\",\"ENTER-PO\",'ORDER FORM'!$O$7)","v":"ENTER-PO"},"2021 Spring/Summer",{"$f":"IF('ORDER FORM'!$O$9=\"\",TODAY(),'ORDER FORM'!$O$9)","v":"2023-11-02"},710132,"137","S","2","610306147158",{"$f":"IF(IFERROR(INDEX('ORDER FORM'!$I$96:$L$125,MATCH(CONCATENATE(E250,F250),'ORDER FORM'!$A$96:$A$125,0),MATCH(G250,'ORDER FORM'!$I$119:$L$119,0)),\"\")=0,\"\",IFERROR(INDEX('ORDER FORM'!$I$96:$L$125,MATCH(CONCATENATE(E250,F250),'ORDER FORM'!$A$96:A$125,0),MATCH(G250,'ORDER FORM'!$I$119:$L$119,0)),\"\"))","v":""},{"$f":"IFERROR(IFERROR(INDEX('ORDER FORM'!N:N,MATCH(IMPORT!E250,'ORDER FORM'!B:B,0)),INDEX('ORDER FORM'!N:N,MATCH(TRIM(IMPORT!E250),'ORDER FORM'!B:B,0))),\"\")","v":{"v":14,"d":"14.00"}}]
["UPLOADUSD",{"$f":"IF('ORDER FORM'!$O$7=\"\",\"ENTER-PO\",'ORDER FORM'!$O$7)","v":"ENTER-PO"},"2021 Spring/Summer",{"$f":"IF('ORDER FORM'!$O$9=\"\",TODAY(),'ORDER FORM'!$O$9)","v":"2023-11-02"},710132,"137","M","2","610306147165",{"$f":"IF(IFERROR(INDEX('ORDER FORM'!$I$96:$L$125,MATCH(CONCATENATE(E251,F251),'ORDER FORM'!$A$96:$A$125,0),MATCH(G251,'ORDER FORM'!$I$119:$L$119,0)),\"\")=0,\"\",IFERROR(INDEX('ORDER FORM'!$I$96:$L$125,MATCH(CONCATENATE(E251,F251),'ORDER FORM'!$A$96:A$125,0),MATCH(G251,'ORDER FORM'!$I$119:$L$119,0)),\"\"))","v":""},{"$f":"IFERROR(IFERROR(INDEX('ORDER FORM'!N:N,MATCH(IMPORT!E251,'ORDER FORM'!B:B,0)),INDEX('ORDER FORM'!N:N,MATCH(TRIM(IMPORT!E251),'ORDER FORM'!B:B,0))),\"\")","v":{"v":14,"d":"14.00"}}]
["UPLOADUSD",{"$f":"IF('ORDER FORM'!$O$7=\"\",\"ENTER-PO\",'ORDER FORM'!$O$7)","v":"ENTER-PO"},"2021 Spring/Summer",{"$f":"IF('ORDER FORM'!$O$9=\"\",TODAY(),'ORDER FORM'!$O$9)","v":"2023-11-02"},710132,"137","L","2","610306147172",{"$f":"IF(IFERROR(INDEX('ORDER FORM'!$I$96:$L$125,MATCH(CONCATENATE(E252,F252),'ORDER FORM'!$A$96:$A$125,0),MATCH(G252,'ORDER FORM'!$I$119:$L$119,0)),\"\")=0,\"\",IFERROR(INDEX('ORDER FORM'!$I$96:$L$125,MATCH(CONCATENATE(E252,F252),'ORDER FORM'!$A$96:A$125,0),MATCH(G252,'ORDER FORM'!$I$119:$L$119,0)),\"\"))","v":""},{"$f":"IFERROR(IFERROR(INDEX('ORDER FORM'!N:N,MATCH(IMPORT!E252,'ORDER FORM'!B:B,0)),INDEX('ORDER FORM'!N:N,MATCH(TRIM(IMPORT!E252),'ORDER FORM'!B:B,0))),\"\")","v":{"v":14,"d":"14.00"}}]
["UPLOADUSD",{"$f":"IF('ORDER FORM'!$O$7=\"\",\"ENTER-PO\",'ORDER FORM'!$O$7)","v":"ENTER-PO"},"2021 Spring/Summer",{"$f":"IF('ORDER FORM'!$O$9=\"\",TODAY(),'ORDER FORM'!$O$9)","v":"2023-11-02"},710132,"137","XL","2","610306147189",{"$f":"IF(IFERROR(INDEX('ORDER FORM'!$I$96:$L$125,MATCH(CONCATENATE(E253,F253),'ORDER FORM'!$A$96:$A$125,0),MATCH(G253,'ORDER FORM'!$I$119:$L$119,0)),\"\")=0,\"\",IFERROR(INDEX('ORDER FORM'!$I$96:$L$125,MATCH(CONCATENATE(E253,F253),'ORDER FORM'!$A$96:A$125,0),MATCH(G253,'ORDER FORM'!$I$119:$L$119,0)),\"\"))","v":""},{"$f":"IFERROR(IFERROR(INDEX('ORDER FORM'!N:N,MATCH(IMPORT!E253,'ORDER FORM'!B:B,0)),INDEX('ORDER FORM'!N:N,MATCH(TRIM(IMPORT!E253),'ORDER FORM'!B:B,0))),\"\")","v":{"v":14,"d":"14.00"}}]
["UPLOADUSD",{"$f":"IF('ORDER FORM'!$O$7=\"\",\"ENTER-PO\",'ORDER FORM'!$O$7)","v":"ENTER-PO"},"2021 Spring/Summer",{"$f":"IF('ORDER FORM'!$O$9=\"\",TODAY(),'ORDER FORM'!$O$9)","v":"2023-11-02"},710132,"826","S","2","610306147233",{"$f":"IF(IFERROR(INDEX('ORDER FORM'!$I$96:$L$125,MATCH(CONCATENATE(E254,F254),'ORDER FORM'!$A$96:$A$125,0),MATCH(G254,'ORDER FORM'!$I$119:$L$119,0)),\"\")=0,\"\",IFERROR(INDEX('ORDER FORM'!$I$96:$L$125,MATCH(CONCATENATE(E254,F254),'ORDER FORM'!$A$96:A$125,0),MATCH(G254,'ORDER FORM'!$I$119:$L$119,0)),\"\"))","v":""},{"$f":"IFERROR(IFERROR(INDEX('ORDER FORM'!N:N,MATCH(IMPORT!E254,'ORDER FORM'!B:B,0)),INDEX('ORDER FORM'!N:N,MATCH(TRIM(IMPORT!E254),'ORDER FORM'!B:B,0))),\"\")","v":{"v":14,"d":"14.00"}}]
["UPLOADUSD",{"$f":"IF('ORDER FORM'!$O$7=\"\",\"ENTER-PO\",'ORDER FORM'!$O$7)","v":"ENTER-PO"},"2021 Spring/Summer",{"$f":"IF('ORDER FORM'!$O$9=\"\",TODAY(),'ORDER FORM'!$O$9)","v":"2023-11-02"},710132,"826","M","2","610306147240",{"$f":"IF(IFERROR(INDEX('ORDER FORM'!$I$96:$L$125,MATCH(CONCATENATE(E255,F255),'ORDER FORM'!$A$96:$A$125,0),MATCH(G255,'ORDER FORM'!$I$119:$L$119,0)),\"\")=0,\"\",IFERROR(INDEX('ORDER FORM'!$I$96:$L$125,MATCH(CONCATENATE(E255,F255),'ORDER FORM'!$A$96:A$125,0),MATCH(G255,'ORDER FORM'!$I$119:$L$119,0)),\"\"))","v":""},{"$f":"IFERROR(IFERROR(INDEX('ORDER FORM'!N:N,MATCH(IMPORT!E255,'ORDER FORM'!B:B,0)),INDEX('ORDER FORM'!N:N,MATCH(TRIM(IMPORT!E255),'ORDER FORM'!B:B,0))),\"\")","v":{"v":14,"d":"14.00"}}]
["UPLOADUSD",{"$f":"IF('ORDER FORM'!$O$7=\"\",\"ENTER-PO\",'ORDER FORM'!$O$7)","v":"ENTER-PO"},"2021 Spring/Summer",{"$f":"IF('ORDER FORM'!$O$9=\"\",TODAY(),'ORDER FORM'!$O$9)","v":"2023-11-02"},710132,"826","L","2","610306147257",{"$f":"IF(IFERROR(INDEX('ORDER FORM'!$I$96:$L$125,MATCH(CONCATENATE(E256,F256),'ORDER FORM'!$A$96:$A$125,0),MATCH(G256,'ORDER FORM'!$I$119:$L$119,0)),\"\")=0,\"\",IFERROR(INDEX('ORDER FORM'!$I$96:$L$125,MATCH(CONCATENATE(E256,F256),'ORDER FORM'!$A$96:A$125,0),MATCH(G256,'ORDER FORM'!$I$119:$L$119,0)),\"\"))","v":""},{"$f":"IFERROR(IFERROR(INDEX('ORDER FORM'!N:N,MATCH(IMPORT!E256,'ORDER FORM'!B:B,0)),INDEX('ORDER FORM'!N:N,MATCH(TRIM(IMPORT!E256),'ORDER FORM'!B:B,0))),\"\")","v":{"v":14,"d":"14.00"}}]
["UPLOADUSD",{"$f":"IF('ORDER FORM'!$O$7=\"\",\"ENTER-PO\",'ORDER FORM'!$O$7)","v":"ENTER-PO"},"2021 Spring/Summer",{"$f":"IF('ORDER FORM'!$O$9=\"\",TODAY(),'ORDER FORM'!$O$9)","v":"2023-11-02"},710132,"826","XL","2","610306147264",{"$f":"IF(IFERROR(INDEX('ORDER FORM'!$I$96:$L$125,MATCH(CONCATENATE(E257,F257),'ORDER FORM'!$A$96:$A$125,0),MATCH(G257,'ORDER FORM'!$I$119:$L$119,0)),\"\")=0,\"\",IFERROR(INDEX('ORDER FORM'!$I$96:$L$125,MATCH(CONCATENATE(E257,F257),'ORDER FORM'!$A$96:A$125,0),MATCH(G257,'ORDER FORM'!$I$119:$L$119,0)),\"\"))","v":""},{"$f":"IFERROR(IFERROR(INDEX('ORDER FORM'!N:N,MATCH(IMPORT!E257,'ORDER FORM'!B:B,0)),INDEX('ORDER FORM'!N:N,MATCH(TRIM(IMPORT!E257),'ORDER FORM'!B:B,0))),\"\")","v":{"v":14,"d":"14.00"}}]
["UPLOADUSD",{"$f":"IF('ORDER FORM'!$O$7=\"\",\"ENTER-PO\",'ORDER FORM'!$O$7)","v":"ENTER-PO"},"2021 Spring/Summer",{"$f":"IF('ORDER FORM'!$O$9=\"\",TODAY(),'ORDER FORM'!$O$9)","v":"2023-11-02"},710134,"013","S","2","610306147479",{"$f":"IF(IFERROR(INDEX('ORDER FORM'!$I$96:$L$125,MATCH(CONCATENATE(E258,F258),'ORDER FORM'!$A$96:$A$125,0),MATCH(G258,'ORDER FORM'!$I$119:$L$119,0)),\"\")=0,\"\",IFERROR(INDEX('ORDER FORM'!$I$96:$L$125,MATCH(CONCATENATE(E258,F258),'ORDER FORM'!$A$96:A$125,0),MATCH(G258,'ORDER FORM'!$I$119:$L$119,0)),\"\"))","v":""},{"$f":"IFERROR(IFERROR(INDEX('ORDER FORM'!N:N,MATCH(IMPORT!E258,'ORDER FORM'!B:B,0)),INDEX('ORDER FORM'!N:N,MATCH(TRIM(IMPORT!E258),'ORDER FORM'!B:B,0))),\"\")","v":""}]
["UPLOADUSD",{"$f":"IF('ORDER FORM'!$O$7=\"\",\"ENTER-PO\",'ORDER FORM'!$O$7)","v":"ENTER-PO"},"2021 Spring/Summer",{"$f":"IF('ORDER FORM'!$O$9=\"\",TODAY(),'ORDER FORM'!$O$9)","v":"2023-11-02"},710134,"013","M","2","610306147486",{"$f":"IF(IFERROR(INDEX('ORDER FORM'!$I$96:$L$125,MATCH(CONCATENATE(E259,F259),'ORDER FORM'!$A$96:$A$125,0),MATCH(G259,'ORDER FORM'!$I$119:$L$119,0)),\"\")=0,\"\",IFERROR(INDEX('ORDER FORM'!$I$96:$L$125,MATCH(CONCATENATE(E259,F259),'ORDER FORM'!$A$96:A$125,0),MATCH(G259,'ORDER FORM'!$I$119:$L$119,0)),\"\"))","v":""},{"$f":"IFERROR(IFERROR(INDEX('ORDER FORM'!N:N,MATCH(IMPORT!E259,'ORDER FORM'!B:B,0)),INDEX('ORDER FORM'!N:N,MATCH(TRIM(IMPORT!E259),'ORDER FORM'!B:B,0))),\"\")","v":""}]
[{"$f":"IF(IF($B$1=0,\"ENTER ACCOUNT\",$B$1)=\"\",\"UPLOADUSD\",IF($B$1=0,\"ENTER ACCOUNT\",$B$1))","v":"UPLOADUSD"},{"$f":"IF('ORDER FORM'!$O$7=\"\",\"ENTER-PO\",'ORDER FORM'!$O$7)","v":"ENTER-PO"},{"$f":"$D$1","v":"2021 Spring/Summer"},{"$f":"IF('ORDER FORM'!$O$9=\"\",TODAY(),'ORDER FORM'!$O$9)","v":"2023-11-02"},710134,"013","L","2","610306147493",{"$f":"IF(IFERROR(INDEX('ORDER FORM'!$I$96:$L$125,MATCH(CONCATENATE(E260,F260),'ORDER FORM'!$A$96:$A$125,0),MATCH(G260,'ORDER FORM'!$I$119:$L$119,0)),\"\")=0,\"\",IFERROR(INDEX('ORDER FORM'!$I$96:$L$125,MATCH(CONCATENATE(E260,F260),'ORDER FORM'!$A$96:A$125,0),MATCH(G260,'ORDER FORM'!$I$119:$L$119,0)),\"\"))","v":""},{"$f":"IFERROR(IFERROR(INDEX('ORDER FORM'!N:N,MATCH(IMPORT!E260,'ORDER FORM'!B:B,0)),INDEX('ORDER FORM'!N:N,MATCH(TRIM(IMPORT!E260),'ORDER FORM'!B:B,0))),\"\")","v":""}]
["UPLOADUSD",{"$f":"IF('ORDER FORM'!$O$7=\"\",\"ENTER-PO\",'ORDER FORM'!$O$7)","v":"ENTER-PO"},"2021 Spring/Summer",{"$f":"IF('ORDER FORM'!$O$9=\"\",TODAY(),'ORDER FORM'!$O$9)","v":"2023-11-02"},710134,"013","XL","2","610306147509",{"$f":"IF(IFERROR(INDEX('ORDER FORM'!$I$96:$L$125,MATCH(CONCATENATE(E261,F261),'ORDER FORM'!$A$96:$A$125,0),MATCH(G261,'ORDER FORM'!$I$119:$L$119,0)),\"\")=0,\"\",IFERROR(INDEX('ORDER FORM'!$I$96:$L$125,MATCH(CONCATENATE(E261,F261),'ORDER FORM'!$A$96:A$125,0),MATCH(G261,'ORDER FORM'!$I$119:$L$119,0)),\"\"))","v":""},{"$f":"IFERROR(IFERROR(INDEX('ORDER FORM'!N:N,MATCH(IMPORT!E261,'ORDER FORM'!B:B,0)),INDEX('ORDER FORM'!N:N,MATCH(TRIM(IMPORT!E261),'ORDER FORM'!B:B,0))),\"\")","v":""}]
["UPLOADUSD",{"$f":"IF('ORDER FORM'!$O$7=\"\",\"ENTER-PO\",'ORDER FORM'!$O$7)","v":"ENTER-PO"},"2021 Spring/Summer",{"$f":"IF('ORDER FORM'!$O$9=\"\",TODAY(),'ORDER FORM'!$O$9)","v":"2023-11-02"},710134,"818","S","2","610306147394",{"$f":"IF(IFERROR(INDEX('ORDER FORM'!$I$96:$L$125,MATCH(CONCATENATE(E262,F262),'ORDER FORM'!$A$96:$A$125,0),MATCH(G262,'ORDER FORM'!$I$119:$L$119,0)),\"\")=0,\"\",IFERROR(INDEX('ORDER FORM'!$I$96:$L$125,MATCH(CONCATENATE(E262,F262),'ORDER FORM'!$A$96:A$125,0),MATCH(G262,'ORDER FORM'!$I$119:$L$119,0)),\"\"))","v":""},{"$f":"IFERROR(IFERROR(INDEX('ORDER FORM'!N:N,MATCH(IMPORT!E262,'ORDER FORM'!B:B,0)),INDEX('ORDER FORM'!N:N,MATCH(TRIM(IMPORT!E262),'ORDER FORM'!B:B,0))),\"\")","v":""}]
["UPLOADUSD",{"$f":"IF('ORDER FORM'!$O$7=\"\",\"ENTER-PO\",'ORDER FORM'!$O$7)","v":"ENTER-PO"},"2021 Spring/Summer",{"$f":"IF('ORDER FORM'!$O$9=\"\",TODAY(),'ORDER FORM'!$O$9)","v":"2023-11-02"},710134,"818","M","2","610306147400",{"$f":"IF(IFERROR(INDEX('ORDER FORM'!$I$96:$L$125,MATCH(CONCATENATE(E263,F263),'ORDER FORM'!$A$96:$A$125,0),MATCH(G263,'ORDER FORM'!$I$119:$L$119,0)),\"\")=0,\"\",IFERROR(INDEX('ORDER FORM'!$I$96:$L$125,MATCH(CONCATENATE(E263,F263),'ORDER FORM'!$A$96:A$125,0),MATCH(G263,'ORDER FORM'!$I$119:$L$119,0)),\"\"))","v":""},{"$f":"IFERROR(IFERROR(INDEX('ORDER FORM'!N:N,MATCH(IMPORT!E263,'ORDER FORM'!B:B,0)),INDEX('ORDER FORM'!N:N,MATCH(TRIM(IMPORT!E263),'ORDER FORM'!B:B,0))),\"\")","v":""}]
["UPLOADUSD",{"$f":"IF('ORDER FORM'!$O$7=\"\",\"ENTER-PO\",'ORDER FORM'!$O$7)","v":"ENTER-PO"},"2021 Spring/Summer",{"$f":"IF('ORDER FORM'!$O$9=\"\",TODAY(),'ORDER FORM'!$O$9)","v":"2023-11-02"},710134,"818","L","2","610306147417",{"$f":"IF(IFERROR(INDEX('ORDER FORM'!$I$96:$L$125,MATCH(CONCATENATE(E264,F264),'ORDER FORM'!$A$96:$A$125,0),MATCH(G264,'ORDER FORM'!$I$119:$L$119,0)),\"\")=0,\"\",IFERROR(INDEX('ORDER FORM'!$I$96:$L$125,MATCH(CONCATENATE(E264,F264),'ORDER FORM'!$A$96:A$125,0),MATCH(G264,'ORDER FORM'!$I$119:$L$119,0)),\"\"))","v":""},{"$f":"IFERROR(IFERROR(INDEX('ORDER FORM'!N:N,MATCH(IMPORT!E264,'ORDER FORM'!B:B,0)),INDEX('ORDER FORM'!N:N,MATCH(TRIM(IMPORT!E264),'ORDER FORM'!B:B,0))),\"\")","v":""}]
["UPLOADUSD",{"$f":"IF('ORDER FORM'!$O$7=\"\",\"ENTER-PO\",'ORDER FORM'!$O$7)","v":"ENTER-PO"},"2021 Spring/Summer",{"$f":"IF('ORDER FORM'!$O$9=\"\",TODAY(),'ORDER FORM'!$O$9)","v":"2023-11-02"},710134,"818","XL","2","610306147424",{"$f":"IF(IFERROR(INDEX('ORDER FORM'!$I$96:$L$125,MATCH(CONCATENATE(E265,F265),'ORDER FORM'!$A$96:$A$125,0),MATCH(G265,'ORDER FORM'!$I$119:$L$119,0)),\"\")=0,\"\",IFERROR(INDEX('ORDER FORM'!$I$96:$L$125,MATCH(CONCATENATE(E265,F265),'ORDER FORM'!$A$96:A$125,0),MATCH(G265,'ORDER FORM'!$I$119:$L$119,0)),\"\"))","v":""},{"$f":"IFERROR(IFERROR(INDEX('ORDER FORM'!N:N,MATCH(IMPORT!E265,'ORDER FORM'!B:B,0)),INDEX('ORDER FORM'!N:N,MATCH(TRIM(IMPORT!E265),'ORDER FORM'!B:B,0))),\"\")","v":""}]
["UPLOADUSD",{"$f":"IF('ORDER FORM'!$O$7=\"\",\"ENTER-PO\",'ORDER FORM'!$O$7)","v":"ENTER-PO"},"2021 Spring/Summer",{"$f":"IF('ORDER FORM'!$O$9=\"\",TODAY(),'ORDER FORM'!$O$9)","v":"2023-11-02"},710134,"909","S","2","610306147431",{"$f":"IF(IFERROR(INDEX('ORDER FORM'!$I$96:$L$125,MATCH(CONCATENATE(E266,F266),'ORDER FORM'!$A$96:$A$125,0),MATCH(G266,'ORDER FORM'!$I$119:$L$119,0)),\"\")=0,\"\",IFERROR(INDEX('ORDER FORM'!$I$96:$L$125,MATCH(CONCATENATE(E266,F266),'ORDER FORM'!$A$96:A$125,0),MATCH(G266,'ORDER FORM'!$I$119:$L$119,0)),\"\"))","v":""},{"$f":"IFERROR(IFERROR(INDEX('ORDER FORM'!N:N,MATCH(IMPORT!E266,'ORDER FORM'!B:B,0)),INDEX('ORDER FORM'!N:N,MATCH(TRIM(IMPORT!E266),'ORDER FORM'!B:B,0))),\"\")","v":""}]
["UPLOADUSD",{"$f":"IF('ORDER FORM'!$O$7=\"\",\"ENTER-PO\",'ORDER FORM'!$O$7)","v":"ENTER-PO"},"2021 Spring/Summer",{"$f":"IF('ORDER FORM'!$O$9=\"\",TODAY(),'ORDER FORM'!$O$9)","v":"2023-11-02"},710134,"909","M","2","610306147448",{"$f":"IF(IFERROR(INDEX('ORDER FORM'!$I$96:$L$125,MATCH(CONCATENATE(E267,F267),'ORDER FORM'!$A$96:$A$125,0),MATCH(G267,'ORDER FORM'!$I$119:$L$119,0)),\"\")=0,\"\",IFERROR(INDEX('ORDER FORM'!$I$96:$L$125,MATCH(CONCATENATE(E267,F267),'ORDER FORM'!$A$96:A$125,0),MATCH(G267,'ORDER FORM'!$I$119:$L$119,0)),\"\"))","v":""},{"$f":"IFERROR(IFERROR(INDEX('ORDER FORM'!N:N,MATCH(IMPORT!E267,'ORDER FORM'!B:B,0)),INDEX('ORDER FORM'!N:N,MATCH(TRIM(IMPORT!E267),'ORDER FORM'!B:B,0))),\"\")","v":""}]
["UPLOADUSD",{"$f":"IF('ORDER FORM'!$O$7=\"\",\"ENTER-PO\",'ORDER FORM'!$O$7)","v":"ENTER-PO"},"2021 Spring/Summer",{"$f":"IF('ORDER FORM'!$O$9=\"\",TODAY(),'ORDER FORM'!$O$9)","v":"2023-11-02"},710134,"909","L","2","610306147455",{"$f":"IF(IFERROR(INDEX('ORDER FORM'!$I$96:$L$125,MATCH(CONCATENATE(E268,F268),'ORDER FORM'!$A$96:$A$125,0),MATCH(G268,'ORDER FORM'!$I$119:$L$119,0)),\"\")=0,\"\",IFERROR(INDEX('ORDER FORM'!$I$96:$L$125,MATCH(CONCATENATE(E268,F268),'ORDER FORM'!$A$96:A$125,0),MATCH(G268,'ORDER FORM'!$I$119:$L$119,0)),\"\"))","v":""},{"$f":"IFERROR(IFERROR(INDEX('ORDER FORM'!N:N,MATCH(IMPORT!E268,'ORDER FORM'!B:B,0)),INDEX('ORDER FORM'!N:N,MATCH(TRIM(IMPORT!E268),'ORDER FORM'!B:B,0))),\"\")","v":""}]
["UPLOADUSD",{"$f":"IF('ORDER FORM'!$O$7=\"\",\"ENTER-PO\",'ORDER FORM'!$O$7)","v":"ENTER-PO"},"2021 Spring/Summer",{"$f":"IF('ORDER FORM'!$O$9=\"\",TODAY(),'ORDER FORM'!$O$9)","v":"2023-11-02"},710134,"909","XL","2","610306147462",{"$f":"IF(IFERROR(INDEX('ORDER FORM'!$I$96:$L$125,MATCH(CONCATENATE(E269,F269),'ORDER FORM'!$A$96:$A$125,0),MATCH(G269,'ORDER FORM'!$I$119:$L$119,0)),\"\")=0,\"\",IFERROR(INDEX('ORDER FORM'!$I$96:$L$125,MATCH(CONCATENATE(E269,F269),'ORDER FORM'!$A$96:A$125,0),MATCH(G269,'ORDER FORM'!$I$119:$L$119,0)),\"\"))","v":""},{"$f":"IFERROR(IFERROR(INDEX('ORDER FORM'!N:N,MATCH(IMPORT!E269,'ORDER FORM'!B:B,0)),INDEX('ORDER FORM'!N:N,MATCH(TRIM(IMPORT!E269),'ORDER FORM'!B:B,0))),\"\")","v":""}]
["UPLOADUSD",{"$f":"IF('ORDER FORM'!$O$7=\"\",\"ENTER-PO\",'ORDER FORM'!$O$7)","v":"ENTER-PO"},"2021 Spring/Summer",{"$f":"IF('ORDER FORM'!$O$9=\"\",TODAY(),'ORDER FORM'!$O$9)","v":"2023-11-02"},710135,"068","S","2","610306147592",{"$f":"IF(IFERROR(INDEX('ORDER FORM'!$I$96:$L$125,MATCH(CONCATENATE(E270,F270),'ORDER FORM'!$A$96:$A$125,0),MATCH(G270,'ORDER FORM'!$I$119:$L$119,0)),\"\")=0,\"\",IFERROR(INDEX('ORDER FORM'!$I$96:$L$125,MATCH(CONCATENATE(E270,F270),'ORDER FORM'!$A$96:A$125,0),MATCH(G270,'ORDER FORM'!$I$119:$L$119,0)),\"\"))","v":""},{"$f":"IFERROR(IFERROR(INDEX('ORDER FORM'!N:N,MATCH(IMPORT!E270,'ORDER FORM'!B:B,0)),INDEX('ORDER FORM'!N:N,MATCH(TRIM(IMPORT!E270),'ORDER FORM'!B:B,0))),\"\")","v":""}]
["UPLOADUSD",{"$f":"IF('ORDER FORM'!$O$7=\"\",\"ENTER-PO\",'ORDER FORM'!$O$7)","v":"ENTER-PO"},"2021 Spring/Summer",{"$f":"IF('ORDER FORM'!$O$9=\"\",TODAY(),'ORDER FORM'!$O$9)","v":"2023-11-02"},710135,"068","M","2","610306147608",{"$f":"IF(IFERROR(INDEX('ORDER FORM'!$I$96:$L$125,MATCH(CONCATENATE(E271,F271),'ORDER FORM'!$A$96:$A$125,0),MATCH(G271,'ORDER FORM'!$I$119:$L$119,0)),\"\")=0,\"\",IFERROR(INDEX('ORDER FORM'!$I$96:$L$125,MATCH(CONCATENATE(E271,F271),'ORDER FORM'!$A$96:A$125,0),MATCH(G271,'ORDER FORM'!$I$119:$L$119,0)),\"\"))","v":""},{"$f":"IFERROR(IFERROR(INDEX('ORDER FORM'!N:N,MATCH(IMPORT!E271,'ORDER FORM'!B:B,0)),INDEX('ORDER FORM'!N:N,MATCH(TRIM(IMPORT!E271),'ORDER FORM'!B:B,0))),\"\")","v":""}]
["UPLOADUSD",{"$f":"IF('ORDER FORM'!$O$7=\"\",\"ENTER-PO\",'ORDER FORM'!$O$7)","v":"ENTER-PO"},"2021 Spring/Summer",{"$f":"IF('ORDER FORM'!$O$9=\"\",TODAY(),'ORDER FORM'!$O$9)","v":"2023-11-02"},710135,"068","L","2","610306147615",{"$f":"IF(IFERROR(INDEX('ORDER FORM'!$I$96:$L$125,MATCH(CONCATENATE(E272,F272),'ORDER FORM'!$A$96:$A$125,0),MATCH(G272,'ORDER FORM'!$I$119:$L$119,0)),\"\")=0,\"\",IFERROR(INDEX('ORDER FORM'!$I$96:$L$125,MATCH(CONCATENATE(E272,F272),'ORDER FORM'!$A$96:A$125,0),MATCH(G272,'ORDER FORM'!$I$119:$L$119,0)),\"\"))","v":""},{"$f":"IFERROR(IFERROR(INDEX('ORDER FORM'!N:N,MATCH(IMPORT!E272,'ORDER FORM'!B:B,0)),INDEX('ORDER FORM'!N:N,MATCH(TRIM(IMPORT!E272),'ORDER FORM'!B:B,0))),\"\")","v":""}]
["UPLOADUSD",{"$f":"IF('ORDER FORM'!$O$7=\"\",\"ENTER-PO\",'ORDER FORM'!$O$7)","v":"ENTER-PO"},"2021 Spring/Summer",{"$f":"IF('ORDER FORM'!$O$9=\"\",TODAY(),'ORDER FORM'!$O$9)","v":"2023-11-02"},710135,"068","XL","2","610306147622",{"$f":"IF(IFERROR(INDEX('ORDER FORM'!$I$96:$L$125,MATCH(CONCATENATE(E273,F273),'ORDER FORM'!$A$96:$A$125,0),MATCH(G273,'ORDER FORM'!$I$119:$L$119,0)),\"\")=0,\"\",IFERROR(INDEX('ORDER FORM'!$I$96:$L$125,MATCH(CONCATENATE(E273,F273),'ORDER FORM'!$A$96:A$125,0),MATCH(G273,'ORDER FORM'!$I$119:$L$119,0)),\"\"))","v":""},{"$f":"IFERROR(IFERROR(INDEX('ORDER FORM'!N:N,MATCH(IMPORT!E273,'ORDER FORM'!B:B,0)),INDEX('ORDER FORM'!N:N,MATCH(TRIM(IMPORT!E273),'ORDER FORM'!B:B,0))),\"\")","v":""}]
["UPLOADUSD",{"$f":"IF('ORDER FORM'!$O$7=\"\",\"ENTER-PO\",'ORDER FORM'!$O$7)","v":"ENTER-PO"},"2021 Spring/Summer",{"$f":"IF('ORDER FORM'!$O$9=\"\",TODAY(),'ORDER FORM'!$O$9)","v":"2023-11-02"},710135,"140","S","2","610306147516",{"$f":"IF(IFERROR(INDEX('ORDER FORM'!$I$96:$L$125,MATCH(CONCATENATE(E274,F274),'ORDER FORM'!$A$96:$A$125,0),MATCH(G274,'ORDER FORM'!$I$119:$L$119,0)),\"\")=0,\"\",IFERROR(INDEX('ORDER FORM'!$I$96:$L$125,MATCH(CONCATENATE(E274,F274),'ORDER FORM'!$A$96:A$125,0),MATCH(G274,'ORDER FORM'!$I$119:$L$119,0)),\"\"))","v":""},{"$f":"IFERROR(IFERROR(INDEX('ORDER FORM'!N:N,MATCH(IMPORT!E274,'ORDER FORM'!B:B,0)),INDEX('ORDER FORM'!N:N,MATCH(TRIM(IMPORT!E274),'ORDER FORM'!B:B,0))),\"\")","v":""}]
["UPLOADUSD",{"$f":"IF('ORDER FORM'!$O$7=\"\",\"ENTER-PO\",'ORDER FORM'!$O$7)","v":"ENTER-PO"},"2021 Spring/Summer",{"$f":"IF('ORDER FORM'!$O$9=\"\",TODAY(),'ORDER FORM'!$O$9)","v":"2023-11-02"},710135,"140","M","2","610306147523",{"$f":"IF(IFERROR(INDEX('ORDER FORM'!$I$96:$L$125,MATCH(CONCATENATE(E275,F275),'ORDER FORM'!$A$96:$A$125,0),MATCH(G275,'ORDER FORM'!$I$119:$L$119,0)),\"\")=0,\"\",IFERROR(INDEX('ORDER FORM'!$I$96:$L$125,MATCH(CONCATENATE(E275,F275),'ORDER FORM'!$A$96:A$125,0),MATCH(G275,'ORDER FORM'!$I$119:$L$119,0)),\"\"))","v":""},{"$f":"IFERROR(IFERROR(INDEX('ORDER FORM'!N:N,MATCH(IMPORT!E275,'ORDER FORM'!B:B,0)),INDEX('ORDER FORM'!N:N,MATCH(TRIM(IMPORT!E275),'ORDER FORM'!B:B,0))),\"\")","v":""}]
["UPLOADUSD",{"$f":"IF('ORDER FORM'!$O$7=\"\",\"ENTER-PO\",'ORDER FORM'!$O$7)","v":"ENTER-PO"},"2021 Spring/Summer",{"$f":"IF('ORDER FORM'!$O$9=\"\",TODAY(),'ORDER FORM'!$O$9)","v":"2023-11-02"},710135,"140","L","2","610306147530",{"$f":"IF(IFERROR(INDEX('ORDER FORM'!$I$96:$L$125,MATCH(CONCATENATE(E276,F276),'ORDER FORM'!$A$96:$A$125,0),MATCH(G276,'ORDER FORM'!$I$119:$L$119,0)),\"\")=0,\"\",IFERROR(INDEX('ORDER FORM'!$I$96:$L$125,MATCH(CONCATENATE(E276,F276),'ORDER FORM'!$A$96:A$125,0),MATCH(G276,'ORDER FORM'!$I$119:$L$119,0)),\"\"))","v":""},{"$f":"IFERROR(IFERROR(INDEX('ORDER FORM'!N:N,MATCH(IMPORT!E276,'ORDER FORM'!B:B,0)),INDEX('ORDER FORM'!N:N,MATCH(TRIM(IMPORT!E276),'ORDER FORM'!B:B,0))),\"\")","v":""}]
["UPLOADUSD",{"$f":"IF('ORDER FORM'!$O$7=\"\",\"ENTER-PO\",'ORDER FORM'!$O$7)","v":"ENTER-PO"},"2021 Spring/Summer",{"$f":"IF('ORDER FORM'!$O$9=\"\",TODAY(),'ORDER FORM'!$O$9)","v":"2023-11-02"},710135,"140","XL","2","610306147547",{"$f":"IF(IFERROR(INDEX('ORDER FORM'!$I$96:$L$125,MATCH(CONCATENATE(E277,F277),'ORDER FORM'!$A$96:$A$125,0),MATCH(G277,'ORDER FORM'!$I$119:$L$119,0)),\"\")=0,\"\",IFERROR(INDEX('ORDER FORM'!$I$96:$L$125,MATCH(CONCATENATE(E277,F277),'ORDER FORM'!$A$96:A$125,0),MATCH(G277,'ORDER FORM'!$I$119:$L$119,0)),\"\"))","v":""},{"$f":"IFERROR(IFERROR(INDEX('ORDER FORM'!N:N,MATCH(IMPORT!E277,'ORDER FORM'!B:B,0)),INDEX('ORDER FORM'!N:N,MATCH(TRIM(IMPORT!E277),'ORDER FORM'!B:B,0))),\"\")","v":""}]
["UPLOADUSD",{"$f":"IF('ORDER FORM'!$O$7=\"\",\"ENTER-PO\",'ORDER FORM'!$O$7)","v":"ENTER-PO"},"2021 Spring/Summer",{"$f":"IF('ORDER FORM'!$O$9=\"\",TODAY(),'ORDER FORM'!$O$9)","v":"2023-11-02"},710135,"167","S","2","610306147554",{"$f":"IF(IFERROR(INDEX('ORDER FORM'!$I$96:$L$125,MATCH(CONCATENATE(E278,F278),'ORDER FORM'!$A$96:$A$125,0),MATCH(G278,'ORDER FORM'!$I$119:$L$119,0)),\"\")=0,\"\",IFERROR(INDEX('ORDER FORM'!$I$96:$L$125,MATCH(CONCATENATE(E278,F278),'ORDER FORM'!$A$96:A$125,0),MATCH(G278,'ORDER FORM'!$I$119:$L$119,0)),\"\"))","v":""},{"$f":"IFERROR(IFERROR(INDEX('ORDER FORM'!N:N,MATCH(IMPORT!E278,'ORDER FORM'!B:B,0)),INDEX('ORDER FORM'!N:N,MATCH(TRIM(IMPORT!E278),'ORDER FORM'!B:B,0))),\"\")","v":""}]
["UPLOADUSD",{"$f":"IF('ORDER FORM'!$O$7=\"\",\"ENTER-PO\",'ORDER FORM'!$O$7)","v":"ENTER-PO"},"2021 Spring/Summer",{"$f":"IF('ORDER FORM'!$O$9=\"\",TODAY(),'ORDER FORM'!$O$9)","v":"2023-11-02"},710135,"167","M","2","610306147561",{"$f":"IF(IFERROR(INDEX('ORDER FORM'!$I$96:$L$125,MATCH(CONCATENATE(E279,F279),'ORDER FORM'!$A$96:$A$125,0),MATCH(G279,'ORDER FORM'!$I$119:$L$119,0)),\"\")=0,\"\",IFERROR(INDEX('ORDER FORM'!$I$96:$L$125,MATCH(CONCATENATE(E279,F279),'ORDER FORM'!$A$96:A$125,0),MATCH(G279,'ORDER FORM'!$I$119:$L$119,0)),\"\"))","v":""},{"$f":"IFERROR(IFERROR(INDEX('ORDER FORM'!N:N,MATCH(IMPORT!E279,'ORDER FORM'!B:B,0)),INDEX('ORDER FORM'!N:N,MATCH(TRIM(IMPORT!E279),'ORDER FORM'!B:B,0))),\"\")","v":""}]
["UPLOADUSD",{"$f":"IF('ORDER FORM'!$O$7=\"\",\"ENTER-PO\",'ORDER FORM'!$O$7)","v":"ENTER-PO"},"2021 Spring/Summer",{"$f":"IF('ORDER FORM'!$O$9=\"\",TODAY(),'ORDER FORM'!$O$9)","v":"2023-11-02"},710135,"167","L","2","610306147578",{"$f":"IF(IFERROR(INDEX('ORDER FORM'!$I$96:$L$125,MATCH(CONCATENATE(E280,F280),'ORDER FORM'!$A$96:$A$125,0),MATCH(G280,'ORDER FORM'!$I$119:$L$119,0)),\"\")=0,\"\",IFERROR(INDEX('ORDER FORM'!$I$96:$L$125,MATCH(CONCATENATE(E280,F280),'ORDER FORM'!$A$96:A$125,0),MATCH(G280,'ORDER FORM'!$I$119:$L$119,0)),\"\"))","v":""},{"$f":"IFERROR(IFERROR(INDEX('ORDER FORM'!N:N,MATCH(IMPORT!E280,'ORDER FORM'!B:B,0)),INDEX('ORDER FORM'!N:N,MATCH(TRIM(IMPORT!E280),'ORDER FORM'!B:B,0))),\"\")","v":""}]
["UPLOADUSD",{"$f":"IF('ORDER FORM'!$O$7=\"\",\"ENTER-PO\",'ORDER FORM'!$O$7)","v":"ENTER-PO"},"2021 Spring/Summer",{"$f":"IF('ORDER FORM'!$O$9=\"\",TODAY(),'ORDER FORM'!$O$9)","v":"2023-11-02"},710135,"167","XL","2","610306147585",{"$f":"IF(IFERROR(INDEX('ORDER FORM'!$I$96:$L$125,MATCH(CONCATENATE(E281,F281),'ORDER FORM'!$A$96:$A$125,0),MATCH(G281,'ORDER FORM'!$I$119:$L$119,0)),\"\")=0,\"\",IFERROR(INDEX('ORDER FORM'!$I$96:$L$125,MATCH(CONCATENATE(E281,F281),'ORDER FORM'!$A$96:A$125,0),MATCH(G281,'ORDER FORM'!$I$119:$L$119,0)),\"\"))","v":""},{"$f":"IFERROR(IFERROR(INDEX('ORDER FORM'!N:N,MATCH(IMPORT!E281,'ORDER FORM'!B:B,0)),INDEX('ORDER FORM'!N:N,MATCH(TRIM(IMPORT!E281),'ORDER FORM'!B:B,0))),\"\")","v":""}]
["UPLOADUSD",{"$f":"IF('ORDER FORM'!$O$7=\"\",\"ENTER-PO\",'ORDER FORM'!$O$7)","v":"ENTER-PO"},"2021 Spring/Summer",{"$f":"IF('ORDER FORM'!$O$9=\"\",TODAY(),'ORDER FORM'!$O$9)","v":"2023-11-02"},710136,"005","S","2","610306147691",{"$f":"IF(IFERROR(INDEX('ORDER FORM'!$I$96:$L$125,MATCH(CONCATENATE(E282,F282),'ORDER FORM'!$A$96:$A$125,0),MATCH(G282,'ORDER FORM'!$I$119:$L$119,0)),\"\")=0,\"\",IFERROR(INDEX('ORDER FORM'!$I$96:$L$125,MATCH(CONCATENATE(E282,F282),'ORDER FORM'!$A$96:A$125,0),MATCH(G282,'ORDER FORM'!$I$119:$L$119,0)),\"\"))","v":""},{"$f":"IFERROR(IFERROR(INDEX('ORDER FORM'!N:N,MATCH(IMPORT!E282,'ORDER FORM'!B:B,0)),INDEX('ORDER FORM'!N:N,MATCH(TRIM(IMPORT!E282),'ORDER FORM'!B:B,0))),\"\")","v":{"v":14,"d":"14.00"}}]
["UPLOADUSD",{"$f":"IF('ORDER FORM'!$O$7=\"\",\"ENTER-PO\",'ORDER FORM'!$O$7)","v":"ENTER-PO"},"2021 Spring/Summer",{"$f":"IF('ORDER FORM'!$O$9=\"\",TODAY(),'ORDER FORM'!$O$9)","v":"2023-11-02"},710136,"005","M","2","610306147707",{"$f":"IF(IFERROR(INDEX('ORDER FORM'!$I$96:$L$125,MATCH(CONCATENATE(E283,F283),'ORDER FORM'!$A$96:$A$125,0),MATCH(G283,'ORDER FORM'!$I$119:$L$119,0)),\"\")=0,\"\",IFERROR(INDEX('ORDER FORM'!$I$96:$L$125,MATCH(CONCATENATE(E283,F283),'ORDER FORM'!$A$96:A$125,0),MATCH(G283,'ORDER FORM'!$I$119:$L$119,0)),\"\"))","v":""},{"$f":"IFERROR(IFERROR(INDEX('ORDER FORM'!N:N,MATCH(IMPORT!E283,'ORDER FORM'!B:B,0)),INDEX('ORDER FORM'!N:N,MATCH(TRIM(IMPORT!E283),'ORDER FORM'!B:B,0))),\"\")","v":{"v":14,"d":"14.00"}}]
["UPLOADUSD",{"$f":"IF('ORDER FORM'!$O$7=\"\",\"ENTER-PO\",'ORDER FORM'!$O$7)","v":"ENTER-PO"},"2021 Spring/Summer",{"$f":"IF('ORDER FORM'!$O$9=\"\",TODAY(),'ORDER FORM'!$O$9)","v":"2023-11-02"},710136,"005","L","2","610306147714",{"$f":"IF(IFERROR(INDEX('ORDER FORM'!$I$96:$L$125,MATCH(CONCATENATE(E284,F284),'ORDER FORM'!$A$96:$A$125,0),MATCH(G284,'ORDER FORM'!$I$119:$L$119,0)),\"\")=0,\"\",IFERROR(INDEX('ORDER FORM'!$I$96:$L$125,MATCH(CONCATENATE(E284,F284),'ORDER FORM'!$A$96:A$125,0),MATCH(G284,'ORDER FORM'!$I$119:$L$119,0)),\"\"))","v":""},{"$f":"IFERROR(IFERROR(INDEX('ORDER FORM'!N:N,MATCH(IMPORT!E284,'ORDER FORM'!B:B,0)),INDEX('ORDER FORM'!N:N,MATCH(TRIM(IMPORT!E284),'ORDER FORM'!B:B,0))),\"\")","v":{"v":14,"d":"14.00"}}]
["UPLOADUSD",{"$f":"IF('ORDER FORM'!$O$7=\"\",\"ENTER-PO\",'ORDER FORM'!$O$7)","v":"ENTER-PO"},"2021 Spring/Summer",{"$f":"IF('ORDER FORM'!$O$9=\"\",TODAY(),'ORDER FORM'!$O$9)","v":"2023-11-02"},710136,"168","S","2","610306147639",{"$f":"IF(IFERROR(INDEX('ORDER FORM'!$I$96:$L$125,MATCH(CONCATENATE(E285,F285),'ORDER FORM'!$A$96:$A$125,0),MATCH(G285,'ORDER FORM'!$I$119:$L$119,0)),\"\")=0,\"\",IFERROR(INDEX('ORDER FORM'!$I$96:$L$125,MATCH(CONCATENATE(E285,F285),'ORDER FORM'!$A$96:A$125,0),MATCH(G285,'ORDER FORM'!$I$119:$L$119,0)),\"\"))","v":""},{"$f":"IFERROR(IFERROR(INDEX('ORDER FORM'!N:N,MATCH(IMPORT!E285,'ORDER FORM'!B:B,0)),INDEX('ORDER FORM'!N:N,MATCH(TRIM(IMPORT!E285),'ORDER FORM'!B:B,0))),\"\")","v":{"v":14,"d":"14.00"}}]
["UPLOADUSD",{"$f":"IF('ORDER FORM'!$O$7=\"\",\"ENTER-PO\",'ORDER FORM'!$O$7)","v":"ENTER-PO"},"2021 Spring/Summer",{"$f":"IF('ORDER FORM'!$O$9=\"\",TODAY(),'ORDER FORM'!$O$9)","v":"2023-11-02"},710136,"168","M","2","610306147646",{"$f":"IF(IFERROR(INDEX('ORDER FORM'!$I$96:$L$125,MATCH(CONCATENATE(E286,F286),'ORDER FORM'!$A$96:$A$125,0),MATCH(G286,'ORDER FORM'!$I$119:$L$119,0)),\"\")=0,\"\",IFERROR(INDEX('ORDER FORM'!$I$96:$L$125,MATCH(CONCATENATE(E286,F286),'ORDER FORM'!$A$96:A$125,0),MATCH(G286,'ORDER FORM'!$I$119:$L$119,0)),\"\"))","v":""},{"$f":"IFERROR(IFERROR(INDEX('ORDER FORM'!N:N,MATCH(IMPORT!E286,'ORDER FORM'!B:B,0)),INDEX('ORDER FORM'!N:N,MATCH(TRIM(IMPORT!E286),'ORDER FORM'!B:B,0))),\"\")","v":{"v":14,"d":"14.00"}}]
["UPLOADUSD",{"$f":"IF('ORDER FORM'!$O$7=\"\",\"ENTER-PO\",'ORDER FORM'!$O$7)","v":"ENTER-PO"},"2021 Spring/Summer",{"$f":"IF('ORDER FORM'!$O$9=\"\",TODAY(),'ORDER FORM'!$O$9)","v":"2023-11-02"},710136,"168","L","2","610306147653",{"$f":"IF(IFERROR(INDEX('ORDER FORM'!$I$96:$L$125,MATCH(CONCATENATE(E287,F287),'ORDER FORM'!$A$96:$A$125,0),MATCH(G287,'ORDER FORM'!$I$119:$L$119,0)),\"\")=0,\"\",IFERROR(INDEX('ORDER FORM'!$I$96:$L$125,MATCH(CONCATENATE(E287,F287),'ORDER FORM'!$A$96:A$125,0),MATCH(G287,'ORDER FORM'!$I$119:$L$119,0)),\"\"))","v":""},{"$f":"IFERROR(IFERROR(INDEX('ORDER FORM'!N:N,MATCH(IMPORT!E287,'ORDER FORM'!B:B,0)),INDEX('ORDER FORM'!N:N,MATCH(TRIM(IMPORT!E287),'ORDER FORM'!B:B,0))),\"\")","v":{"v":14,"d":"14.00"}}]
["UPLOADUSD",{"$f":"IF('ORDER FORM'!$O$7=\"\",\"ENTER-PO\",'ORDER FORM'!$O$7)","v":"ENTER-PO"},"2021 Spring/Summer",{"$f":"IF('ORDER FORM'!$O$9=\"\",TODAY(),'ORDER FORM'!$O$9)","v":"2023-11-02"},710136,"420","S","2","610306147660",{"$f":"IF(IFERROR(INDEX('ORDER FORM'!$I$96:$L$125,MATCH(CONCATENATE(E288,F288),'ORDER FORM'!$A$96:$A$125,0),MATCH(G288,'ORDER FORM'!$I$119:$L$119,0)),\"\")=0,\"\",IFERROR(INDEX('ORDER FORM'!$I$96:$L$125,MATCH(CONCATENATE(E288,F288),'ORDER FORM'!$A$96:A$125,0),MATCH(G288,'ORDER FORM'!$I$119:$L$119,0)),\"\"))","v":""},{"$f":"IFERROR(IFERROR(INDEX('ORDER FORM'!N:N,MATCH(IMPORT!E288,'ORDER FORM'!B:B,0)),INDEX('ORDER FORM'!N:N,MATCH(TRIM(IMPORT!E288),'ORDER FORM'!B:B,0))),\"\")","v":{"v":14,"d":"14.00"}}]
["UPLOADUSD",{"$f":"IF('ORDER FORM'!$O$7=\"\",\"ENTER-PO\",'ORDER FORM'!$O$7)","v":"ENTER-PO"},"2021 Spring/Summer",{"$f":"IF('ORDER FORM'!$O$9=\"\",TODAY(),'ORDER FORM'!$O$9)","v":"2023-11-02"},710136,"420","M","2","610306147677",{"$f":"IF(IFERROR(INDEX('ORDER FORM'!$I$96:$L$125,MATCH(CONCATENATE(E289,F289),'ORDER FORM'!$A$96:$A$125,0),MATCH(G289,'ORDER FORM'!$I$119:$L$119,0)),\"\")=0,\"\",IFERROR(INDEX('ORDER FORM'!$I$96:$L$125,MATCH(CONCATENATE(E289,F289),'ORDER FORM'!$A$96:A$125,0),MATCH(G289,'ORDER FORM'!$I$119:$L$119,0)),\"\"))","v":""},{"$f":"IFERROR(IFERROR(INDEX('ORDER FORM'!N:N,MATCH(IMPORT!E289,'ORDER FORM'!B:B,0)),INDEX('ORDER FORM'!N:N,MATCH(TRIM(IMPORT!E289),'ORDER FORM'!B:B,0))),\"\")","v":{"v":14,"d":"14.00"}}]
["UPLOADUSD",{"$f":"IF('ORDER FORM'!$O$7=\"\",\"ENTER-PO\",'ORDER FORM'!$O$7)","v":"ENTER-PO"},"2021 Spring/Summer",{"$f":"IF('ORDER FORM'!$O$9=\"\",TODAY(),'ORDER FORM'!$O$9)","v":"2023-11-02"},710136,"420","L","2","610306147684",{"$f":"IF(IFERROR(INDEX('ORDER FORM'!$I$96:$L$125,MATCH(CONCATENATE(E290,F290),'ORDER FORM'!$A$96:$A$125,0),MATCH(G290,'ORDER FORM'!$I$119:$L$119,0)),\"\")=0,\"\",IFERROR(INDEX('ORDER FORM'!$I$96:$L$125,MATCH(CONCATENATE(E290,F290),'ORDER FORM'!$A$96:A$125,0),MATCH(G290,'ORDER FORM'!$I$119:$L$119,0)),\"\"))","v":""},{"$f":"IFERROR(IFERROR(INDEX('ORDER FORM'!N:N,MATCH(IMPORT!E290,'ORDER FORM'!B:B,0)),INDEX('ORDER FORM'!N:N,MATCH(TRIM(IMPORT!E290),'ORDER FORM'!B:B,0))),\"\")","v":{"v":14,"d":"14.00"}}]
["UPLOADUSD",{"$f":"IF('ORDER FORM'!$O$7=\"\",\"ENTER-PO\",'ORDER FORM'!$O$7)","v":"ENTER-PO"},"2021 Spring/Summer",{"$f":"IF('ORDER FORM'!$O$9=\"\",TODAY(),'ORDER FORM'!$O$9)","v":"2023-11-02"},710138,"067","S","2","610306147813",{"$f":"IF(IFERROR(INDEX('ORDER FORM'!$I$96:$L$125,MATCH(CONCATENATE(E291,F291),'ORDER FORM'!$A$96:$A$125,0),MATCH(G291,'ORDER FORM'!$I$119:$L$119,0)),\"\")=0,\"\",IFERROR(INDEX('ORDER FORM'!$I$96:$L$125,MATCH(CONCATENATE(E291,F291),'ORDER FORM'!$A$96:A$125,0),MATCH(G291,'ORDER FORM'!$I$119:$L$119,0)),\"\"))","v":""},{"$f":"IFERROR(IFERROR(INDEX('ORDER FORM'!N:N,MATCH(IMPORT!E291,'ORDER FORM'!B:B,0)),INDEX('ORDER FORM'!N:N,MATCH(TRIM(IMPORT!E291),'ORDER FORM'!B:B,0))),\"\")","v":""}]
["UPLOADUSD",{"$f":"IF('ORDER FORM'!$O$7=\"\",\"ENTER-PO\",'ORDER FORM'!$O$7)","v":"ENTER-PO"},"2021 Spring/Summer",{"$f":"IF('ORDER FORM'!$O$9=\"\",TODAY(),'ORDER FORM'!$O$9)","v":"2023-11-02"},710138,"067","M","2","610306147820",{"$f":"IF(IFERROR(INDEX('ORDER FORM'!$I$96:$L$125,MATCH(CONCATENATE(E292,F292),'ORDER FORM'!$A$96:$A$125,0),MATCH(G292,'ORDER FORM'!$I$119:$L$119,0)),\"\")=0,\"\",IFERROR(INDEX('ORDER FORM'!$I$96:$L$125,MATCH(CONCATENATE(E292,F292),'ORDER FORM'!$A$96:A$125,0),MATCH(G292,'ORDER FORM'!$I$119:$L$119,0)),\"\"))","v":""},{"$f":"IFERROR(IFERROR(INDEX('ORDER FORM'!N:N,MATCH(IMPORT!E292,'ORDER FORM'!B:B,0)),INDEX('ORDER FORM'!N:N,MATCH(TRIM(IMPORT!E292),'ORDER FORM'!B:B,0))),\"\")","v":""}]
["UPLOADUSD",{"$f":"IF('ORDER FORM'!$O$7=\"\",\"ENTER-PO\",'ORDER FORM'!$O$7)","v":"ENTER-PO"},"2021 Spring/Summer",{"$f":"IF('ORDER FORM'!$O$9=\"\",TODAY(),'ORDER FORM'!$O$9)","v":"2023-11-02"},710138,"067","L","2","610306147837",{"$f":"IF(IFERROR(INDEX('ORDER FORM'!$I$96:$L$125,MATCH(CONCATENATE(E293,F293),'ORDER FORM'!$A$96:$A$125,0),MATCH(G293,'ORDER FORM'!$I$119:$L$119,0)),\"\")=0,\"\",IFERROR(INDEX('ORDER FORM'!$I$96:$L$125,MATCH(CONCATENATE(E293,F293),'ORDER FORM'!$A$96:A$125,0),MATCH(G293,'ORDER FORM'!$I$119:$L$119,0)),\"\"))","v":""},{"$f":"IFERROR(IFERROR(INDEX('ORDER FORM'!N:N,MATCH(IMPORT!E293,'ORDER FORM'!B:B,0)),INDEX('ORDER FORM'!N:N,MATCH(TRIM(IMPORT!E293),'ORDER FORM'!B:B,0))),\"\")","v":""}]
["UPLOADUSD",{"$f":"IF('ORDER FORM'!$O$7=\"\",\"ENTER-PO\",'ORDER FORM'!$O$7)","v":"ENTER-PO"},"2021 Spring/Summer",{"$f":"IF('ORDER FORM'!$O$9=\"\",TODAY(),'ORDER FORM'!$O$9)","v":"2023-11-02"},710138,"814","S","2","610306147875",{"$f":"IF(IFERROR(INDEX('ORDER FORM'!$I$96:$L$125,MATCH(CONCATENATE(E294,F294),'ORDER FORM'!$A$96:$A$125,0),MATCH(G294,'ORDER FORM'!$I$119:$L$119,0)),\"\")=0,\"\",IFERROR(INDEX('ORDER FORM'!$I$96:$L$125,MATCH(CONCATENATE(E294,F294),'ORDER FORM'!$A$96:A$125,0),MATCH(G294,'ORDER FORM'!$I$119:$L$119,0)),\"\"))","v":""},{"$f":"IFERROR(IFERROR(INDEX('ORDER FORM'!N:N,MATCH(IMPORT!E294,'ORDER FORM'!B:B,0)),INDEX('ORDER FORM'!N:N,MATCH(TRIM(IMPORT!E294),'ORDER FORM'!B:B,0))),\"\")","v":""}]
["UPLOADUSD",{"$f":"IF('ORDER FORM'!$O$7=\"\",\"ENTER-PO\",'ORDER FORM'!$O$7)","v":"ENTER-PO"},"2021 Spring/Summer",{"$f":"IF('ORDER FORM'!$O$9=\"\",TODAY(),'ORDER FORM'!$O$9)","v":"2023-11-02"},710138,"814","M","2","610306147882",{"$f":"IF(IFERROR(INDEX('ORDER FORM'!$I$96:$L$125,MATCH(CONCATENATE(E295,F295),'ORDER FORM'!$A$96:$A$125,0),MATCH(G295,'ORDER FORM'!$I$119:$L$119,0)),\"\")=0,\"\",IFERROR(INDEX('ORDER FORM'!$I$96:$L$125,MATCH(CONCATENATE(E295,F295),'ORDER FORM'!$A$96:A$125,0),MATCH(G295,'ORDER FORM'!$I$119:$L$119,0)),\"\"))","v":""},{"$f":"IFERROR(IFERROR(INDEX('ORDER FORM'!N:N,MATCH(IMPORT!E295,'ORDER FORM'!B:B,0)),INDEX('ORDER FORM'!N:N,MATCH(TRIM(IMPORT!E295),'ORDER FORM'!B:B,0))),\"\")","v":""}]
["UPLOADUSD",{"$f":"IF('ORDER FORM'!$O$7=\"\",\"ENTER-PO\",'ORDER FORM'!$O$7)","v":"ENTER-PO"},"2021 Spring/Summer",{"$f":"IF('ORDER FORM'!$O$9=\"\",TODAY(),'ORDER FORM'!$O$9)","v":"2023-11-02"},710138,"814","L","2","610306147899",{"$f":"IF(IFERROR(INDEX('ORDER FORM'!$I$96:$L$125,MATCH(CONCATENATE(E296,F296),'ORDER FORM'!$A$96:$A$125,0),MATCH(G296,'ORDER FORM'!$I$119:$L$119,0)),\"\")=0,\"\",IFERROR(INDEX('ORDER FORM'!$I$96:$L$125,MATCH(CONCATENATE(E296,F296),'ORDER FORM'!$A$96:A$125,0),MATCH(G296,'ORDER FORM'!$I$119:$L$119,0)),\"\"))","v":""},{"$f":"IFERROR(IFERROR(INDEX('ORDER FORM'!N:N,MATCH(IMPORT!E296,'ORDER FORM'!B:B,0)),INDEX('ORDER FORM'!N:N,MATCH(TRIM(IMPORT!E296),'ORDER FORM'!B:B,0))),\"\")","v":""}]
["UPLOADUSD",{"$f":"IF('ORDER FORM'!$O$7=\"\",\"ENTER-PO\",'ORDER FORM'!$O$7)","v":"ENTER-PO"},"2021 Spring/Summer",{"$f":"IF('ORDER FORM'!$O$9=\"\",TODAY(),'ORDER FORM'!$O$9)","v":"2023-11-02"},710138,"909","S","2","610306147844",{"$f":"IF(IFERROR(INDEX('ORDER FORM'!$I$96:$L$125,MATCH(CONCATENATE(E297,F297),'ORDER FORM'!$A$96:$A$125,0),MATCH(G297,'ORDER FORM'!$I$119:$L$119,0)),\"\")=0,\"\",IFERROR(INDEX('ORDER FORM'!$I$96:$L$125,MATCH(CONCATENATE(E297,F297),'ORDER FORM'!$A$96:A$125,0),MATCH(G297,'ORDER FORM'!$I$119:$L$119,0)),\"\"))","v":""},{"$f":"IFERROR(IFERROR(INDEX('ORDER FORM'!N:N,MATCH(IMPORT!E297,'ORDER FORM'!B:B,0)),INDEX('ORDER FORM'!N:N,MATCH(TRIM(IMPORT!E297),'ORDER FORM'!B:B,0))),\"\")","v":""}]
["UPLOADUSD",{"$f":"IF('ORDER FORM'!$O$7=\"\",\"ENTER-PO\",'ORDER FORM'!$O$7)","v":"ENTER-PO"},"2021 Spring/Summer",{"$f":"IF('ORDER FORM'!$O$9=\"\",TODAY(),'ORDER FORM'!$O$9)","v":"2023-11-02"},710138,"909","M","2","610306147851",{"$f":"IF(IFERROR(INDEX('ORDER FORM'!$I$96:$L$125,MATCH(CONCATENATE(E298,F298),'ORDER FORM'!$A$96:$A$125,0),MATCH(G298,'ORDER FORM'!$I$119:$L$119,0)),\"\")=0,\"\",IFERROR(INDEX('ORDER FORM'!$I$96:$L$125,MATCH(CONCATENATE(E298,F298),'ORDER FORM'!$A$96:A$125,0),MATCH(G298,'ORDER FORM'!$I$119:$L$119,0)),\"\"))","v":""},{"$f":"IFERROR(IFERROR(INDEX('ORDER FORM'!N:N,MATCH(IMPORT!E298,'ORDER FORM'!B:B,0)),INDEX('ORDER FORM'!N:N,MATCH(TRIM(IMPORT!E298),'ORDER FORM'!B:B,0))),\"\")","v":""}]
["UPLOADUSD",{"$f":"IF('ORDER FORM'!$O$7=\"\",\"ENTER-PO\",'ORDER FORM'!$O$7)","v":"ENTER-PO"},"2021 Spring/Summer",{"$f":"IF('ORDER FORM'!$O$9=\"\",TODAY(),'ORDER FORM'!$O$9)","v":"2023-11-02"},710138,"909","L","2","610306147868",{"$f":"IF(IFERROR(INDEX('ORDER FORM'!$I$96:$L$125,MATCH(CONCATENATE(E299,F299),'ORDER FORM'!$A$96:$A$125,0),MATCH(G299,'ORDER FORM'!$I$119:$L$119,0)),\"\")=0,\"\",IFERROR(INDEX('ORDER FORM'!$I$96:$L$125,MATCH(CONCATENATE(E299,F299),'ORDER FORM'!$A$96:A$125,0),MATCH(G299,'ORDER FORM'!$I$119:$L$119,0)),\"\"))","v":""},{"$f":"IFERROR(IFERROR(INDEX('ORDER FORM'!N:N,MATCH(IMPORT!E299,'ORDER FORM'!B:B,0)),INDEX('ORDER FORM'!N:N,MATCH(TRIM(IMPORT!E299),'ORDER FORM'!B:B,0))),\"\")","v":""}]
["UPLOADUSD",{"$f":"IF('ORDER FORM'!$O$7=\"\",\"ENTER-PO\",'ORDER FORM'!$O$7)","v":"ENTER-PO"},"2021 Spring/Summer",{"$f":"IF('ORDER FORM'!$O$9=\"\",TODAY(),'ORDER FORM'!$O$9)","v":"2023-11-02"},710139,"070","S","2","610306147967",{"$f":"IF(IFERROR(INDEX('ORDER FORM'!$I$96:$L$125,MATCH(CONCATENATE(E300,F300),'ORDER FORM'!$A$96:$A$125,0),MATCH(G300,'ORDER FORM'!$I$119:$L$119,0)),\"\")=0,\"\",IFERROR(INDEX('ORDER FORM'!$I$96:$L$125,MATCH(CONCATENATE(E300,F300),'ORDER FORM'!$A$96:A$125,0),MATCH(G300,'ORDER FORM'!$I$119:$L$119,0)),\"\"))","v":""},{"$f":"IFERROR(IFERROR(INDEX('ORDER FORM'!N:N,MATCH(IMPORT!E300,'ORDER FORM'!B:B,0)),INDEX('ORDER FORM'!N:N,MATCH(TRIM(IMPORT!E300),'ORDER FORM'!B:B,0))),\"\")","v":""}]
["UPLOADUSD",{"$f":"IF('ORDER FORM'!$O$7=\"\",\"ENTER-PO\",'ORDER FORM'!$O$7)","v":"ENTER-PO"},"2021 Spring/Summer",{"$f":"IF('ORDER FORM'!$O$9=\"\",TODAY(),'ORDER FORM'!$O$9)","v":"2023-11-02"},710139,"070","M","2","610306147974",{"$f":"IF(IFERROR(INDEX('ORDER FORM'!$I$96:$L$125,MATCH(CONCATENATE(E301,F301),'ORDER FORM'!$A$96:$A$125,0),MATCH(G301,'ORDER FORM'!$I$119:$L$119,0)),\"\")=0,\"\",IFERROR(INDEX('ORDER FORM'!$I$96:$L$125,MATCH(CONCATENATE(E301,F301),'ORDER FORM'!$A$96:A$125,0),MATCH(G301,'ORDER FORM'!$I$119:$L$119,0)),\"\"))","v":""},{"$f":"IFERROR(IFERROR(INDEX('ORDER FORM'!N:N,MATCH(IMPORT!E301,'ORDER FORM'!B:B,0)),INDEX('ORDER FORM'!N:N,MATCH(TRIM(IMPORT!E301),'ORDER FORM'!B:B,0))),\"\")","v":""}]
["UPLOADUSD",{"$f":"IF('ORDER FORM'!$O$7=\"\",\"ENTER-PO\",'ORDER FORM'!$O$7)","v":"ENTER-PO"},"2021 Spring/Summer",{"$f":"IF('ORDER FORM'!$O$9=\"\",TODAY(),'ORDER FORM'!$O$9)","v":"2023-11-02"},710139,"070","L","2","610306147981",{"$f":"IF(IFERROR(INDEX('ORDER FORM'!$I$96:$L$125,MATCH(CONCATENATE(E302,F302),'ORDER FORM'!$A$96:$A$125,0),MATCH(G302,'ORDER FORM'!$I$119:$L$119,0)),\"\")=0,\"\",IFERROR(INDEX('ORDER FORM'!$I$96:$L$125,MATCH(CONCATENATE(E302,F302),'ORDER FORM'!$A$96:A$125,0),MATCH(G302,'ORDER FORM'!$I$119:$L$119,0)),\"\"))","v":""},{"$f":"IFERROR(IFERROR(INDEX('ORDER FORM'!N:N,MATCH(IMPORT!E302,'ORDER FORM'!B:B,0)),INDEX('ORDER FORM'!N:N,MATCH(TRIM(IMPORT!E302),'ORDER FORM'!B:B,0))),\"\")","v":""}]
["UPLOADUSD",{"$f":"IF('ORDER FORM'!$O$7=\"\",\"ENTER-PO\",'ORDER FORM'!$O$7)","v":"ENTER-PO"},"2021 Spring/Summer",{"$f":"IF('ORDER FORM'!$O$9=\"\",TODAY(),'ORDER FORM'!$O$9)","v":"2023-11-02"},710139,"136","S","2","610306147905",{"$f":"IF(IFERROR(INDEX('ORDER FORM'!$I$96:$L$125,MATCH(CONCATENATE(E303,F303),'ORDER FORM'!$A$96:$A$125,0),MATCH(G303,'ORDER FORM'!$I$119:$L$119,0)),\"\")=0,\"\",IFERROR(INDEX('ORDER FORM'!$I$96:$L$125,MATCH(CONCATENATE(E303,F303),'ORDER FORM'!$A$96:A$125,0),MATCH(G303,'ORDER FORM'!$I$119:$L$119,0)),\"\"))","v":""},{"$f":"IFERROR(IFERROR(INDEX('ORDER FORM'!N:N,MATCH(IMPORT!E303,'ORDER FORM'!B:B,0)),INDEX('ORDER FORM'!N:N,MATCH(TRIM(IMPORT!E303),'ORDER FORM'!B:B,0))),\"\")","v":""}]
["UPLOADUSD",{"$f":"IF('ORDER FORM'!$O$7=\"\",\"ENTER-PO\",'ORDER FORM'!$O$7)","v":"ENTER-PO"},"2021 Spring/Summer",{"$f":"IF('ORDER FORM'!$O$9=\"\",TODAY(),'ORDER FORM'!$O$9)","v":"2023-11-02"},710139,"136","M","2","610306147912",{"$f":"IF(IFERROR(INDEX('ORDER FORM'!$I$96:$L$125,MATCH(CONCATENATE(E304,F304),'ORDER FORM'!$A$96:$A$125,0),MATCH(G304,'ORDER FORM'!$I$119:$L$119,0)),\"\")=0,\"\",IFERROR(INDEX('ORDER FORM'!$I$96:$L$125,MATCH(CONCATENATE(E304,F304),'ORDER FORM'!$A$96:A$125,0),MATCH(G304,'ORDER FORM'!$I$119:$L$119,0)),\"\"))","v":""},{"$f":"IFERROR(IFERROR(INDEX('ORDER FORM'!N:N,MATCH(IMPORT!E304,'ORDER FORM'!B:B,0)),INDEX('ORDER FORM'!N:N,MATCH(TRIM(IMPORT!E304),'ORDER FORM'!B:B,0))),\"\")","v":""}]
["UPLOADUSD",{"$f":"IF('ORDER FORM'!$O$7=\"\",\"ENTER-PO\",'ORDER FORM'!$O$7)","v":"ENTER-PO"},"2021 Spring/Summer",{"$f":"IF('ORDER FORM'!$O$9=\"\",TODAY(),'ORDER FORM'!$O$9)","v":"2023-11-02"},710139,"136","L","2","610306147929",{"$f":"IF(IFERROR(INDEX('ORDER FORM'!$I$96:$L$125,MATCH(CONCATENATE(E305,F305),'ORDER FORM'!$A$96:$A$125,0),MATCH(G305,'ORDER FORM'!$I$119:$L$119,0)),\"\")=0,\"\",IFERROR(INDEX('ORDER FORM'!$I$96:$L$125,MATCH(CONCATENATE(E305,F305),'ORDER FORM'!$A$96:A$125,0),MATCH(G305,'ORDER FORM'!$I$119:$L$119,0)),\"\"))","v":""},{"$f":"IFERROR(IFERROR(INDEX('ORDER FORM'!N:N,MATCH(IMPORT!E305,'ORDER FORM'!B:B,0)),INDEX('ORDER FORM'!N:N,MATCH(TRIM(IMPORT!E305),'ORDER FORM'!B:B,0))),\"\")","v":""}]
["UPLOADUSD",{"$f":"IF('ORDER FORM'!$O$7=\"\",\"ENTER-PO\",'ORDER FORM'!$O$7)","v":"ENTER-PO"},"2021 Spring/Summer",{"$f":"IF('ORDER FORM'!$O$9=\"\",TODAY(),'ORDER FORM'!$O$9)","v":"2023-11-02"},710139,"927","S","2","610306147936",{"$f":"IF(IFERROR(INDEX('ORDER FORM'!$I$96:$L$125,MATCH(CONCATENATE(E306,F306),'ORDER FORM'!$A$96:$A$125,0),MATCH(G306,'ORDER FORM'!$I$119:$L$119,0)),\"\")=0,\"\",IFERROR(INDEX('ORDER FORM'!$I$96:$L$125,MATCH(CONCATENATE(E306,F306),'ORDER FORM'!$A$96:A$125,0),MATCH(G306,'ORDER FORM'!$I$119:$L$119,0)),\"\"))","v":""},{"$f":"IFERROR(IFERROR(INDEX('ORDER FORM'!N:N,MATCH(IMPORT!E306,'ORDER FORM'!B:B,0)),INDEX('ORDER FORM'!N:N,MATCH(TRIM(IMPORT!E306),'ORDER FORM'!B:B,0))),\"\")","v":""}]
["UPLOADUSD",{"$f":"IF('ORDER FORM'!$O$7=\"\",\"ENTER-PO\",'ORDER FORM'!$O$7)","v":"ENTER-PO"},"2021 Spring/Summer",{"$f":"IF('ORDER FORM'!$O$9=\"\",TODAY(),'ORDER FORM'!$O$9)","v":"2023-11-02"},710139,"927","M","2","610306147943",{"$f":"IF(IFERROR(INDEX('ORDER FORM'!$I$96:$L$125,MATCH(CONCATENATE(E307,F307),'ORDER FORM'!$A$96:$A$125,0),MATCH(G307,'ORDER FORM'!$I$119:$L$119,0)),\"\")=0,\"\",IFERROR(INDEX('ORDER FORM'!$I$96:$L$125,MATCH(CONCATENATE(E307,F307),'ORDER FORM'!$A$96:A$125,0),MATCH(G307,'ORDER FORM'!$I$119:$L$119,0)),\"\"))","v":""},{"$f":"IFERROR(IFERROR(INDEX('ORDER FORM'!N:N,MATCH(IMPORT!E307,'ORDER FORM'!B:B,0)),INDEX('ORDER FORM'!N:N,MATCH(TRIM(IMPORT!E307),'ORDER FORM'!B:B,0))),\"\")","v":""}]
["UPLOADUSD",{"$f":"IF('ORDER FORM'!$O$7=\"\",\"ENTER-PO\",'ORDER FORM'!$O$7)","v":"ENTER-PO"},"2021 Spring/Summer",{"$f":"IF('ORDER FORM'!$O$9=\"\",TODAY(),'ORDER FORM'!$O$9)","v":"2023-11-02"},710139,"927","L","2","610306147950",{"$f":"IF(IFERROR(INDEX('ORDER FORM'!$I$96:$L$125,MATCH(CONCATENATE(E308,F308),'ORDER FORM'!$A$96:$A$125,0),MATCH(G308,'ORDER FORM'!$I$119:$L$119,0)),\"\")=0,\"\",IFERROR(INDEX('ORDER FORM'!$I$96:$L$125,MATCH(CONCATENATE(E308,F308),'ORDER FORM'!$A$96:A$125,0),MATCH(G308,'ORDER FORM'!$I$119:$L$119,0)),\"\"))","v":""},{"$f":"IFERROR(IFERROR(INDEX('ORDER FORM'!N:N,MATCH(IMPORT!E308,'ORDER FORM'!B:B,0)),INDEX('ORDER FORM'!N:N,MATCH(TRIM(IMPORT!E308),'ORDER FORM'!B:B,0))),\"\")","v":""}]
["UPLOADUSD",{"$f":"IF('ORDER FORM'!$O$7=\"\",\"ENTER-PO\",'ORDER FORM'!$O$7)","v":"ENTER-PO"},"2021 Spring/Summer",{"$f":"IF('ORDER FORM'!$O$9=\"\",TODAY(),'ORDER FORM'!$O$9)","v":"2023-11-02"},710140,"064","S","2","610306148094",{"$f":"IF(IFERROR(INDEX('ORDER FORM'!$I$96:$L$125,MATCH(CONCATENATE(E309,F309),'ORDER FORM'!$A$96:$A$125,0),MATCH(G309,'ORDER FORM'!$I$119:$L$119,0)),\"\")=0,\"\",IFERROR(INDEX('ORDER FORM'!$I$96:$L$125,MATCH(CONCATENATE(E309,F309),'ORDER FORM'!$A$96:A$125,0),MATCH(G309,'ORDER FORM'!$I$119:$L$119,0)),\"\"))","v":""},{"$f":"IFERROR(IFERROR(INDEX('ORDER FORM'!N:N,MATCH(IMPORT!E309,'ORDER FORM'!B:B,0)),INDEX('ORDER FORM'!N:N,MATCH(TRIM(IMPORT!E309),'ORDER FORM'!B:B,0))),\"\")","v":""}]
["UPLOADUSD",{"$f":"IF('ORDER FORM'!$O$7=\"\",\"ENTER-PO\",'ORDER FORM'!$O$7)","v":"ENTER-PO"},"2021 Spring/Summer",{"$f":"IF('ORDER FORM'!$O$9=\"\",TODAY(),'ORDER FORM'!$O$9)","v":"2023-11-02"},710140,"064","M","2","610306148100",{"$f":"IF(IFERROR(INDEX('ORDER FORM'!$I$96:$L$125,MATCH(CONCATENATE(E310,F310),'ORDER FORM'!$A$96:$A$125,0),MATCH(G310,'ORDER FORM'!$I$119:$L$119,0)),\"\")=0,\"\",IFERROR(INDEX('ORDER FORM'!$I$96:$L$125,MATCH(CONCATENATE(E310,F310),'ORDER FORM'!$A$96:A$125,0),MATCH(G310,'ORDER FORM'!$I$119:$L$119,0)),\"\"))","v":""},{"$f":"IFERROR(IFERROR(INDEX('ORDER FORM'!N:N,MATCH(IMPORT!E310,'ORDER FORM'!B:B,0)),INDEX('ORDER FORM'!N:N,MATCH(TRIM(IMPORT!E310),'ORDER FORM'!B:B,0))),\"\")","v":""}]
["UPLOADUSD",{"$f":"IF('ORDER FORM'!$O$7=\"\",\"ENTER-PO\",'ORDER FORM'!$O$7)","v":"ENTER-PO"},"2021 Spring/Summer",{"$f":"IF('ORDER FORM'!$O$9=\"\",TODAY(),'ORDER FORM'!$O$9)","v":"2023-11-02"},710140,"064","L","2","610306148117",{"$f":"IF(IFERROR(INDEX('ORDER FORM'!$I$96:$L$125,MATCH(CONCATENATE(E311,F311),'ORDER FORM'!$A$96:$A$125,0),MATCH(G311,'ORDER FORM'!$I$119:$L$119,0)),\"\")=0,\"\",IFERROR(INDEX('ORDER FORM'!$I$96:$L$125,MATCH(CONCATENATE(E311,F311),'ORDER FORM'!$A$96:A$125,0),MATCH(G311,'ORDER FORM'!$I$119:$L$119,0)),\"\"))","v":""},{"$f":"IFERROR(IFERROR(INDEX('ORDER FORM'!N:N,MATCH(IMPORT!E311,'ORDER FORM'!B:B,0)),INDEX('ORDER FORM'!N:N,MATCH(TRIM(IMPORT!E311),'ORDER FORM'!B:B,0))),\"\")","v":""}]
["UPLOADUSD",{"$f":"IF('ORDER FORM'!$O$7=\"\",\"ENTER-PO\",'ORDER FORM'!$O$7)","v":"ENTER-PO"},"2021 Spring/Summer",{"$f":"IF('ORDER FORM'!$O$9=\"\",TODAY(),'ORDER FORM'!$O$9)","v":"2023-11-02"},710140,"169","S","2","610306148124",{"$f":"IF(IFERROR(INDEX('ORDER FORM'!$I$96:$L$125,MATCH(CONCATENATE(E312,F312),'ORDER FORM'!$A$96:$A$125,0),MATCH(G312,'ORDER FORM'!$I$119:$L$119,0)),\"\")=0,\"\",IFERROR(INDEX('ORDER FORM'!$I$96:$L$125,MATCH(CONCATENATE(E312,F312),'ORDER FORM'!$A$96:A$125,0),MATCH(G312,'ORDER FORM'!$I$119:$L$119,0)),\"\"))","v":""},{"$f":"IFERROR(IFERROR(INDEX('ORDER FORM'!N:N,MATCH(IMPORT!E312,'ORDER FORM'!B:B,0)),INDEX('ORDER FORM'!N:N,MATCH(TRIM(IMPORT!E312),'ORDER FORM'!B:B,0))),\"\")","v":""}]
["UPLOADUSD",{"$f":"IF('ORDER FORM'!$O$7=\"\",\"ENTER-PO\",'ORDER FORM'!$O$7)","v":"ENTER-PO"},"2021 Spring/Summer",{"$f":"IF('ORDER FORM'!$O$9=\"\",TODAY(),'ORDER FORM'!$O$9)","v":"2023-11-02"},710140,"169","M","2","610306148131",{"$f":"IF(IFERROR(INDEX('ORDER FORM'!$I$96:$L$125,MATCH(CONCATENATE(E313,F313),'ORDER FORM'!$A$96:$A$125,0),MATCH(G313,'ORDER FORM'!$I$119:$L$119,0)),\"\")=0,\"\",IFERROR(INDEX('ORDER FORM'!$I$96:$L$125,MATCH(CONCATENATE(E313,F313),'ORDER FORM'!$A$96:A$125,0),MATCH(G313,'ORDER FORM'!$I$119:$L$119,0)),\"\"))","v":""},{"$f":"IFERROR(IFERROR(INDEX('ORDER FORM'!N:N,MATCH(IMPORT!E313,'ORDER FORM'!B:B,0)),INDEX('ORDER FORM'!N:N,MATCH(TRIM(IMPORT!E313),'ORDER FORM'!B:B,0))),\"\")","v":""}]
["UPLOADUSD",{"$f":"IF('ORDER FORM'!$O$7=\"\",\"ENTER-PO\",'ORDER FORM'!$O$7)","v":"ENTER-PO"},"2021 Spring/Summer",{"$f":"IF('ORDER FORM'!$O$9=\"\",TODAY(),'ORDER FORM'!$O$9)","v":"2023-11-02"},710140,"169","L","2","610306148148",{"$f":"IF(IFERROR(INDEX('ORDER FORM'!$I$96:$L$125,MATCH(CONCATENATE(E314,F314),'ORDER FORM'!$A$96:$A$125,0),MATCH(G314,'ORDER FORM'!$I$119:$L$119,0)),\"\")=0,\"\",IFERROR(INDEX('ORDER FORM'!$I$96:$L$125,MATCH(CONCATENATE(E314,F314),'ORDER FORM'!$A$96:A$125,0),MATCH(G314,'ORDER FORM'!$I$119:$L$119,0)),\"\"))","v":""},{"$f":"IFERROR(IFERROR(INDEX('ORDER FORM'!N:N,MATCH(IMPORT!E314,'ORDER FORM'!B:B,0)),INDEX('ORDER FORM'!N:N,MATCH(TRIM(IMPORT!E314),'ORDER FORM'!B:B,0))),\"\")","v":""}]
["UPLOADUSD",{"$f":"IF('ORDER FORM'!$O$7=\"\",\"ENTER-PO\",'ORDER FORM'!$O$7)","v":"ENTER-PO"},"2021 Spring/Summer",{"$f":"IF('ORDER FORM'!$O$9=\"\",TODAY(),'ORDER FORM'!$O$9)","v":"2023-11-02"},710141,"170","S","2","610306148155",{"$f":"IF(IFERROR(INDEX('ORDER FORM'!$I$96:$L$125,MATCH(CONCATENATE(E315,F315),'ORDER FORM'!$A$96:$A$125,0),MATCH(G315,'ORDER FORM'!$I$119:$L$119,0)),\"\")=0,\"\",IFERROR(INDEX('ORDER FORM'!$I$96:$L$125,MATCH(CONCATENATE(E315,F315),'ORDER FORM'!$A$96:A$125,0),MATCH(G315,'ORDER FORM'!$I$119:$L$119,0)),\"\"))","v":""},{"$f":"IFERROR(IFERROR(INDEX('ORDER FORM'!N:N,MATCH(IMPORT!E315,'ORDER FORM'!B:B,0)),INDEX('ORDER FORM'!N:N,MATCH(TRIM(IMPORT!E315),'ORDER FORM'!B:B,0))),\"\")","v":""}]
["UPLOADUSD",{"$f":"IF('ORDER FORM'!$O$7=\"\",\"ENTER-PO\",'ORDER FORM'!$O$7)","v":"ENTER-PO"},"2021 Spring/Summer",{"$f":"IF('ORDER FORM'!$O$9=\"\",TODAY(),'ORDER FORM'!$O$9)","v":"2023-11-02"},710141,"170","M","2","610306148162",{"$f":"IF(IFERROR(INDEX('ORDER FORM'!$I$96:$L$125,MATCH(CONCATENATE(E316,F316),'ORDER FORM'!$A$96:$A$125,0),MATCH(G316,'ORDER FORM'!$I$119:$L$119,0)),\"\")=0,\"\",IFERROR(INDEX('ORDER FORM'!$I$96:$L$125,MATCH(CONCATENATE(E316,F316),'ORDER FORM'!$A$96:A$125,0),MATCH(G316,'ORDER FORM'!$I$119:$L$119,0)),\"\"))","v":""},{"$f":"IFERROR(IFERROR(INDEX('ORDER FORM'!N:N,MATCH(IMPORT!E316,'ORDER FORM'!B:B,0)),INDEX('ORDER FORM'!N:N,MATCH(TRIM(IMPORT!E316),'ORDER FORM'!B:B,0))),\"\")","v":""}]
["UPLOADUSD",{"$f":"IF('ORDER FORM'!$O$7=\"\",\"ENTER-PO\",'ORDER FORM'!$O$7)","v":"ENTER-PO"},"2021 Spring/Summer",{"$f":"IF('ORDER FORM'!$O$9=\"\",TODAY(),'ORDER FORM'!$O$9)","v":"2023-11-02"},710141,"170","L","2","610306148179",{"$f":"IF(IFERROR(INDEX('ORDER FORM'!$I$96:$L$125,MATCH(CONCATENATE(E317,F317),'ORDER FORM'!$A$96:$A$125,0),MATCH(G317,'ORDER FORM'!$I$119:$L$119,0)),\"\")=0,\"\",IFERROR(INDEX('ORDER FORM'!$I$96:$L$125,MATCH(CONCATENATE(E317,F317),'ORDER FORM'!$A$96:A$125,0),MATCH(G317,'ORDER FORM'!$I$119:$L$119,0)),\"\"))","v":""},{"$f":"IFERROR(IFERROR(INDEX('ORDER FORM'!N:N,MATCH(IMPORT!E317,'ORDER FORM'!B:B,0)),INDEX('ORDER FORM'!N:N,MATCH(TRIM(IMPORT!E317),'ORDER FORM'!B:B,0))),\"\")","v":""}]
["UPLOADUSD",{"$f":"IF('ORDER FORM'!$O$7=\"\",\"ENTER-PO\",'ORDER FORM'!$O$7)","v":"ENTER-PO"},"2021 Spring/Summer",{"$f":"IF('ORDER FORM'!$O$9=\"\",TODAY(),'ORDER FORM'!$O$9)","v":"2023-11-02"},710141,"171","S","2","610306148186",{"$f":"IF(IFERROR(INDEX('ORDER FORM'!$I$96:$L$125,MATCH(CONCATENATE(E318,F318),'ORDER FORM'!$A$96:$A$125,0),MATCH(G318,'ORDER FORM'!$I$119:$L$119,0)),\"\")=0,\"\",IFERROR(INDEX('ORDER FORM'!$I$96:$L$125,MATCH(CONCATENATE(E318,F318),'ORDER FORM'!$A$96:A$125,0),MATCH(G318,'ORDER FORM'!$I$119:$L$119,0)),\"\"))","v":""},{"$f":"IFERROR(IFERROR(INDEX('ORDER FORM'!N:N,MATCH(IMPORT!E318,'ORDER FORM'!B:B,0)),INDEX('ORDER FORM'!N:N,MATCH(TRIM(IMPORT!E318),'ORDER FORM'!B:B,0))),\"\")","v":""}]
["UPLOADUSD",{"$f":"IF('ORDER FORM'!$O$7=\"\",\"ENTER-PO\",'ORDER FORM'!$O$7)","v":"ENTER-PO"},"2021 Spring/Summer",{"$f":"IF('ORDER FORM'!$O$9=\"\",TODAY(),'ORDER FORM'!$O$9)","v":"2023-11-02"},710141,"171","M","2","610306148193",{"$f":"IF(IFERROR(INDEX('ORDER FORM'!$I$96:$L$125,MATCH(CONCATENATE(E319,F319),'ORDER FORM'!$A$96:$A$125,0),MATCH(G319,'ORDER FORM'!$I$119:$L$119,0)),\"\")=0,\"\",IFERROR(INDEX('ORDER FORM'!$I$96:$L$125,MATCH(CONCATENATE(E319,F319),'ORDER FORM'!$A$96:A$125,0),MATCH(G319,'ORDER FORM'!$I$119:$L$119,0)),\"\"))","v":""},{"$f":"IFERROR(IFERROR(INDEX('ORDER FORM'!N:N,MATCH(IMPORT!E319,'ORDER FORM'!B:B,0)),INDEX('ORDER FORM'!N:N,MATCH(TRIM(IMPORT!E319),'ORDER FORM'!B:B,0))),\"\")","v":""}]
["UPLOADUSD",{"$f":"IF('ORDER FORM'!$O$7=\"\",\"ENTER-PO\",'ORDER FORM'!$O$7)","v":"ENTER-PO"},"2021 Spring/Summer",{"$f":"IF('ORDER FORM'!$O$9=\"\",TODAY(),'ORDER FORM'!$O$9)","v":"2023-11-02"},710141,"171","L","2","610306148209",{"$f":"IF(IFERROR(INDEX('ORDER FORM'!$I$96:$L$125,MATCH(CONCATENATE(E320,F320),'ORDER FORM'!$A$96:$A$125,0),MATCH(G320,'ORDER FORM'!$I$119:$L$119,0)),\"\")=0,\"\",IFERROR(INDEX('ORDER FORM'!$I$96:$L$125,MATCH(CONCATENATE(E320,F320),'ORDER FORM'!$A$96:A$125,0),MATCH(G320,'ORDER FORM'!$I$119:$L$119,0)),\"\"))","v":""},{"$f":"IFERROR(IFERROR(INDEX('ORDER FORM'!N:N,MATCH(IMPORT!E320,'ORDER FORM'!B:B,0)),INDEX('ORDER FORM'!N:N,MATCH(TRIM(IMPORT!E320),'ORDER FORM'!B:B,0))),\"\")","v":""}]
["UPLOADUSD",{"$f":"IF('ORDER FORM'!$O$7=\"\",\"ENTER-PO\",'ORDER FORM'!$O$7)","v":"ENTER-PO"},"2021 Spring/Summer",{"$f":"IF('ORDER FORM'!$O$9=\"\",TODAY(),'ORDER FORM'!$O$9)","v":"2023-11-02"},710151,"445","S","2","610306142061",{"$f":"IF(IFERROR(INDEX('ORDER FORM'!$I$96:$L$125,MATCH(CONCATENATE(E321,F321),'ORDER FORM'!$A$96:$A$125,0),MATCH(G321,'ORDER FORM'!$I$119:$L$119,0)),\"\")=0,\"\",IFERROR(INDEX('ORDER FORM'!$I$96:$L$125,MATCH(CONCATENATE(E321,F321),'ORDER FORM'!$A$96:A$125,0),MATCH(G321,'ORDER FORM'!$I$119:$L$119,0)),\"\"))","v":""},{"$f":"IFERROR(IFERROR(INDEX('ORDER FORM'!N:N,MATCH(IMPORT!E321,'ORDER FORM'!B:B,0)),INDEX('ORDER FORM'!N:N,MATCH(TRIM(IMPORT!E321),'ORDER FORM'!B:B,0))),\"\")","v":{"v":19.5,"d":"19.50"}}]
["UPLOADUSD",{"$f":"IF('ORDER FORM'!$O$7=\"\",\"ENTER-PO\",'ORDER FORM'!$O$7)","v":"ENTER-PO"},"2021 Spring/Summer",{"$f":"IF('ORDER FORM'!$O$9=\"\",TODAY(),'ORDER FORM'!$O$9)","v":"2023-11-02"},710151,"445","M","2","610306142078",{"$f":"IF(IFERROR(INDEX('ORDER FORM'!$I$96:$L$125,MATCH(CONCATENATE(E322,F322),'ORDER FORM'!$A$96:$A$125,0),MATCH(G322,'ORDER FORM'!$I$119:$L$119,0)),\"\")=0,\"\",IFERROR(INDEX('ORDER FORM'!$I$96:$L$125,MATCH(CONCATENATE(E322,F322),'ORDER FORM'!$A$96:A$125,0),MATCH(G322,'ORDER FORM'!$I$119:$L$119,0)),\"\"))","v":""},{"$f":"IFERROR(IFERROR(INDEX('ORDER FORM'!N:N,MATCH(IMPORT!E322,'ORDER FORM'!B:B,0)),INDEX('ORDER FORM'!N:N,MATCH(TRIM(IMPORT!E322),'ORDER FORM'!B:B,0))),\"\")","v":{"v":19.5,"d":"19.50"}}]
["UPLOADUSD",{"$f":"IF('ORDER FORM'!$O$7=\"\",\"ENTER-PO\",'ORDER FORM'!$O$7)","v":"ENTER-PO"},"2021 Spring/Summer",{"$f":"IF('ORDER FORM'!$O$9=\"\",TODAY(),'ORDER FORM'!$O$9)","v":"2023-11-02"},710151,"445","L","2","610306142085",{"$f":"IF(IFERROR(INDEX('ORDER FORM'!$I$96:$L$125,MATCH(CONCATENATE(E323,F323),'ORDER FORM'!$A$96:$A$125,0),MATCH(G323,'ORDER FORM'!$I$119:$L$119,0)),\"\")=0,\"\",IFERROR(INDEX('ORDER FORM'!$I$96:$L$125,MATCH(CONCATENATE(E323,F323),'ORDER FORM'!$A$96:A$125,0),MATCH(G323,'ORDER FORM'!$I$119:$L$119,0)),\"\"))","v":""},{"$f":"IFERROR(IFERROR(INDEX('ORDER FORM'!N:N,MATCH(IMPORT!E323,'ORDER FORM'!B:B,0)),INDEX('ORDER FORM'!N:N,MATCH(TRIM(IMPORT!E323),'ORDER FORM'!B:B,0))),\"\")","v":{"v":19.5,"d":"19.50"}}]
[{"$f":"IF(IF($B$1=0,\"ENTER ACCOUNT\",$B$1)=\"\",\"UPLOADUSD\",IF($B$1=0,\"ENTER ACCOUNT\",$B$1))","v":"UPLOADUSD"},{"$f":"IF('ORDER FORM'!$O$7=\"\",\"ENTER-PO\",'ORDER FORM'!$O$7)","v":"ENTER-PO"},{"$f":"$D$1","v":"2021 Spring/Summer"},{"$f":"IF('ORDER FORM'!$O$9=\"\",TODAY(),'ORDER FORM'!$O$9)","v":"2023-11-02"},710151,"445","XL","2","610306142092",{"$f":"IF(IFERROR(INDEX('ORDER FORM'!$I$96:$L$125,MATCH(CONCATENATE(E324,F324),'ORDER FORM'!$A$96:$A$125,0),MATCH(G324,'ORDER FORM'!$I$119:$L$119,0)),\"\")=0,\"\",IFERROR(INDEX('ORDER FORM'!$I$96:$L$125,MATCH(CONCATENATE(E324,F324),'ORDER FORM'!$A$96:A$125,0),MATCH(G324,'ORDER FORM'!$I$119:$L$119,0)),\"\"))","v":""},{"$f":"IFERROR(IFERROR(INDEX('ORDER FORM'!N:N,MATCH(IMPORT!E324,'ORDER FORM'!B:B,0)),INDEX('ORDER FORM'!N:N,MATCH(TRIM(IMPORT!E324),'ORDER FORM'!B:B,0))),\"\")","v":{"v":19.5,"d":"19.50"}}]
["UPLOADUSD",{"$f":"IF('ORDER FORM'!$O$7=\"\",\"ENTER-PO\",'ORDER FORM'!$O$7)","v":"ENTER-PO"},"2021 Spring/Summer",{"$f":"IF('ORDER FORM'!$O$9=\"\",TODAY(),'ORDER FORM'!$O$9)","v":"2023-11-02"},710151,"531","S","2","610306135780",{"$f":"IF(IFERROR(INDEX('ORDER FORM'!$I$96:$L$125,MATCH(CONCATENATE(E325,F325),'ORDER FORM'!$A$96:$A$125,0),MATCH(G325,'ORDER FORM'!$I$119:$L$119,0)),\"\")=0,\"\",IFERROR(INDEX('ORDER FORM'!$I$96:$L$125,MATCH(CONCATENATE(E325,F325),'ORDER FORM'!$A$96:A$125,0),MATCH(G325,'ORDER FORM'!$I$119:$L$119,0)),\"\"))","v":""},{"$f":"IFERROR(IFERROR(INDEX('ORDER FORM'!N:N,MATCH(IMPORT!E325,'ORDER FORM'!B:B,0)),INDEX('ORDER FORM'!N:N,MATCH(TRIM(IMPORT!E325),'ORDER FORM'!B:B,0))),\"\")","v":{"v":19.5,"d":"19.50"}}]
["UPLOADUSD",{"$f":"IF('ORDER FORM'!$O$7=\"\",\"ENTER-PO\",'ORDER FORM'!$O$7)","v":"ENTER-PO"},"2021 Spring/Summer",{"$f":"IF('ORDER FORM'!$O$9=\"\",TODAY(),'ORDER FORM'!$O$9)","v":"2023-11-02"},710151,"531","M","2","610306135797",{"$f":"IF(IFERROR(INDEX('ORDER FORM'!$I$96:$L$125,MATCH(CONCATENATE(E326,F326),'ORDER FORM'!$A$96:$A$125,0),MATCH(G326,'ORDER FORM'!$I$119:$L$119,0)),\"\")=0,\"\",IFERROR(INDEX('ORDER FORM'!$I$96:$L$125,MATCH(CONCATENATE(E326,F326),'ORDER FORM'!$A$96:A$125,0),MATCH(G326,'ORDER FORM'!$I$119:$L$119,0)),\"\"))","v":""},{"$f":"IFERROR(IFERROR(INDEX('ORDER FORM'!N:N,MATCH(IMPORT!E326,'ORDER FORM'!B:B,0)),INDEX('ORDER FORM'!N:N,MATCH(TRIM(IMPORT!E326),'ORDER FORM'!B:B,0))),\"\")","v":{"v":19.5,"d":"19.50"}}]
["UPLOADUSD",{"$f":"IF('ORDER FORM'!$O$7=\"\",\"ENTER-PO\",'ORDER FORM'!$O$7)","v":"ENTER-PO"},"2021 Spring/Summer",{"$f":"IF('ORDER FORM'!$O$9=\"\",TODAY(),'ORDER FORM'!$O$9)","v":"2023-11-02"},710151,"531","L","2","610306135803",{"$f":"IF(IFERROR(INDEX('ORDER FORM'!$I$96:$L$125,MATCH(CONCATENATE(E327,F327),'ORDER FORM'!$A$96:$A$125,0),MATCH(G327,'ORDER FORM'!$I$119:$L$119,0)),\"\")=0,\"\",IFERROR(INDEX('ORDER FORM'!$I$96:$L$125,MATCH(CONCATENATE(E327,F327),'ORDER FORM'!$A$96:A$125,0),MATCH(G327,'ORDER FORM'!$I$119:$L$119,0)),\"\"))","v":""},{"$f":"IFERROR(IFERROR(INDEX('ORDER FORM'!N:N,MATCH(IMPORT!E327,'ORDER FORM'!B:B,0)),INDEX('ORDER FORM'!N:N,MATCH(TRIM(IMPORT!E327),'ORDER FORM'!B:B,0))),\"\")","v":{"v":19.5,"d":"19.50"}}]
["UPLOADUSD",{"$f":"IF('ORDER FORM'!$O$7=\"\",\"ENTER-PO\",'ORDER FORM'!$O$7)","v":"ENTER-PO"},"2021 Spring/Summer",{"$f":"IF('ORDER FORM'!$O$9=\"\",TODAY(),'ORDER FORM'!$O$9)","v":"2023-11-02"},710151,"531","XL","2","610306135810",{"$f":"IF(IFERROR(INDEX('ORDER FORM'!$I$96:$L$125,MATCH(CONCATENATE(E328,F328),'ORDER FORM'!$A$96:$A$125,0),MATCH(G328,'ORDER FORM'!$I$119:$L$119,0)),\"\")=0,\"\",IFERROR(INDEX('ORDER FORM'!$I$96:$L$125,MATCH(CONCATENATE(E328,F328),'ORDER FORM'!$A$96:A$125,0),MATCH(G328,'ORDER FORM'!$I$119:$L$119,0)),\"\"))","v":""},{"$f":"IFERROR(IFERROR(INDEX('ORDER FORM'!N:N,MATCH(IMPORT!E328,'ORDER FORM'!B:B,0)),INDEX('ORDER FORM'!N:N,MATCH(TRIM(IMPORT!E328),'ORDER FORM'!B:B,0))),\"\")","v":{"v":19.5,"d":"19.50"}}]
["UPLOADUSD",{"$f":"IF('ORDER FORM'!$O$7=\"\",\"ENTER-PO\",'ORDER FORM'!$O$7)","v":"ENTER-PO"},"2021 Spring/Summer",{"$f":"IF('ORDER FORM'!$O$9=\"\",TODAY(),'ORDER FORM'!$O$9)","v":"2023-11-02"},710151,"818","S","2","610306135865",{"$f":"IF(IFERROR(INDEX('ORDER FORM'!$I$96:$L$125,MATCH(CONCATENATE(E329,F329),'ORDER FORM'!$A$96:$A$125,0),MATCH(G329,'ORDER FORM'!$I$119:$L$119,0)),\"\")=0,\"\",IFERROR(INDEX('ORDER FORM'!$I$96:$L$125,MATCH(CONCATENATE(E329,F329),'ORDER FORM'!$A$96:A$125,0),MATCH(G329,'ORDER FORM'!$I$119:$L$119,0)),\"\"))","v":""},{"$f":"IFERROR(IFERROR(INDEX('ORDER FORM'!N:N,MATCH(IMPORT!E329,'ORDER FORM'!B:B,0)),INDEX('ORDER FORM'!N:N,MATCH(TRIM(IMPORT!E329),'ORDER FORM'!B:B,0))),\"\")","v":{"v":19.5,"d":"19.50"}}]
["UPLOADUSD",{"$f":"IF('ORDER FORM'!$O$7=\"\",\"ENTER-PO\",'ORDER FORM'!$O$7)","v":"ENTER-PO"},"2021 Spring/Summer",{"$f":"IF('ORDER FORM'!$O$9=\"\",TODAY(),'ORDER FORM'!$O$9)","v":"2023-11-02"},710151,"818","M","2","610306135872",{"$f":"IF(IFERROR(INDEX('ORDER FORM'!$I$96:$L$125,MATCH(CONCATENATE(E330,F330),'ORDER FORM'!$A$96:$A$125,0),MATCH(G330,'ORDER FORM'!$I$119:$L$119,0)),\"\")=0,\"\",IFERROR(INDEX('ORDER FORM'!$I$96:$L$125,MATCH(CONCATENATE(E330,F330),'ORDER FORM'!$A$96:A$125,0),MATCH(G330,'ORDER FORM'!$I$119:$L$119,0)),\"\"))","v":""},{"$f":"IFERROR(IFERROR(INDEX('ORDER FORM'!N:N,MATCH(IMPORT!E330,'ORDER FORM'!B:B,0)),INDEX('ORDER FORM'!N:N,MATCH(TRIM(IMPORT!E330),'ORDER FORM'!B:B,0))),\"\")","v":{"v":19.5,"d":"19.50"}}]
["UPLOADUSD",{"$f":"IF('ORDER FORM'!$O$7=\"\",\"ENTER-PO\",'ORDER FORM'!$O$7)","v":"ENTER-PO"},"2021 Spring/Summer",{"$f":"IF('ORDER FORM'!$O$9=\"\",TODAY(),'ORDER FORM'!$O$9)","v":"2023-11-02"},710151,"818","L","2","610306135889",{"$f":"IF(IFERROR(INDEX('ORDER FORM'!$I$96:$L$125,MATCH(CONCATENATE(E331,F331),'ORDER FORM'!$A$96:$A$125,0),MATCH(G331,'ORDER FORM'!$I$119:$L$119,0)),\"\")=0,\"\",IFERROR(INDEX('ORDER FORM'!$I$96:$L$125,MATCH(CONCATENATE(E331,F331),'ORDER FORM'!$A$96:A$125,0),MATCH(G331,'ORDER FORM'!$I$119:$L$119,0)),\"\"))","v":""},{"$f":"IFERROR(IFERROR(INDEX('ORDER FORM'!N:N,MATCH(IMPORT!E331,'ORDER FORM'!B:B,0)),INDEX('ORDER FORM'!N:N,MATCH(TRIM(IMPORT!E331),'ORDER FORM'!B:B,0))),\"\")","v":{"v":19.5,"d":"19.50"}}]
["UPLOADUSD",{"$f":"IF('ORDER FORM'!$O$7=\"\",\"ENTER-PO\",'ORDER FORM'!$O$7)","v":"ENTER-PO"},"2021 Spring/Summer",{"$f":"IF('ORDER FORM'!$O$9=\"\",TODAY(),'ORDER FORM'!$O$9)","v":"2023-11-02"},710151,"818","XL","2","610306135896",{"$f":"IF(IFERROR(INDEX('ORDER FORM'!$I$96:$L$125,MATCH(CONCATENATE(E332,F332),'ORDER FORM'!$A$96:$A$125,0),MATCH(G332,'ORDER FORM'!$I$119:$L$119,0)),\"\")=0,\"\",IFERROR(INDEX('ORDER FORM'!$I$96:$L$125,MATCH(CONCATENATE(E332,F332),'ORDER FORM'!$A$96:A$125,0),MATCH(G332,'ORDER FORM'!$I$119:$L$119,0)),\"\"))","v":""},{"$f":"IFERROR(IFERROR(INDEX('ORDER FORM'!N:N,MATCH(IMPORT!E332,'ORDER FORM'!B:B,0)),INDEX('ORDER FORM'!N:N,MATCH(TRIM(IMPORT!E332),'ORDER FORM'!B:B,0))),\"\")","v":{"v":19.5,"d":"19.50"}}]
["UPLOADUSD",{"$f":"IF('ORDER FORM'!$O$7=\"\",\"ENTER-PO\",'ORDER FORM'!$O$7)","v":"ENTER-PO"},"2021 Spring/Summer",{"$f":"IF('ORDER FORM'!$O$9=\"\",TODAY(),'ORDER FORM'!$O$9)","v":"2023-11-02"},710152,"014","S","2","610306136374",{"$f":"IF(IFERROR(INDEX('ORDER FORM'!$I$96:$L$125,MATCH(CONCATENATE(E333,F333),'ORDER FORM'!$A$96:$A$125,0),MATCH(G333,'ORDER FORM'!$I$119:$L$119,0)),\"\")=0,\"\",IFERROR(INDEX('ORDER FORM'!$I$96:$L$125,MATCH(CONCATENATE(E333,F333),'ORDER FORM'!$A$96:A$125,0),MATCH(G333,'ORDER FORM'!$I$119:$L$119,0)),\"\"))","v":""},{"$f":"IFERROR(IFERROR(INDEX('ORDER FORM'!N:N,MATCH(IMPORT!E333,'ORDER FORM'!B:B,0)),INDEX('ORDER FORM'!N:N,MATCH(TRIM(IMPORT!E333),'ORDER FORM'!B:B,0))),\"\")","v":{"v":13.5,"d":"13.50"}}]
["UPLOADUSD",{"$f":"IF('ORDER FORM'!$O$7=\"\",\"ENTER-PO\",'ORDER FORM'!$O$7)","v":"ENTER-PO"},"2021 Spring/Summer",{"$f":"IF('ORDER FORM'!$O$9=\"\",TODAY(),'ORDER FORM'!$O$9)","v":"2023-11-02"},710152,"014","M","2","610306136381",{"$f":"IF(IFERROR(INDEX('ORDER FORM'!$I$96:$L$125,MATCH(CONCATENATE(E334,F334),'ORDER FORM'!$A$96:$A$125,0),MATCH(G334,'ORDER FORM'!$I$119:$L$119,0)),\"\")=0,\"\",IFERROR(INDEX('ORDER FORM'!$I$96:$L$125,MATCH(CONCATENATE(E334,F334),'ORDER FORM'!$A$96:A$125,0),MATCH(G334,'ORDER FORM'!$I$119:$L$119,0)),\"\"))","v":""},{"$f":"IFERROR(IFERROR(INDEX('ORDER FORM'!N:N,MATCH(IMPORT!E334,'ORDER FORM'!B:B,0)),INDEX('ORDER FORM'!N:N,MATCH(TRIM(IMPORT!E334),'ORDER FORM'!B:B,0))),\"\")","v":{"v":13.5,"d":"13.50"}}]
["UPLOADUSD",{"$f":"IF('ORDER FORM'!$O$7=\"\",\"ENTER-PO\",'ORDER FORM'!$O$7)","v":"ENTER-PO"},"2021 Spring/Summer",{"$f":"IF('ORDER FORM'!$O$9=\"\",TODAY(),'ORDER FORM'!$O$9)","v":"2023-11-02"},710152,"014","L","2","610306136398",{"$f":"IF(IFERROR(INDEX('ORDER FORM'!$I$96:$L$125,MATCH(CONCATENATE(E335,F335),'ORDER FORM'!$A$96:$A$125,0),MATCH(G335,'ORDER FORM'!$I$119:$L$119,0)),\"\")=0,\"\",IFERROR(INDEX('ORDER FORM'!$I$96:$L$125,MATCH(CONCATENATE(E335,F335),'ORDER FORM'!$A$96:A$125,0),MATCH(G335,'ORDER FORM'!$I$119:$L$119,0)),\"\"))","v":""},{"$f":"IFERROR(IFERROR(INDEX('ORDER FORM'!N:N,MATCH(IMPORT!E335,'ORDER FORM'!B:B,0)),INDEX('ORDER FORM'!N:N,MATCH(TRIM(IMPORT!E335),'ORDER FORM'!B:B,0))),\"\")","v":{"v":13.5,"d":"13.50"}}]
["UPLOADUSD",{"$f":"IF('ORDER FORM'!$O$7=\"\",\"ENTER-PO\",'ORDER FORM'!$O$7)","v":"ENTER-PO"},"2021 Spring/Summer",{"$f":"IF('ORDER FORM'!$O$9=\"\",TODAY(),'ORDER FORM'!$O$9)","v":"2023-11-02"},710152,"014","XL","2","610306136404",{"$f":"IF(IFERROR(INDEX('ORDER FORM'!$I$96:$L$125,MATCH(CONCATENATE(E336,F336),'ORDER FORM'!$A$96:$A$125,0),MATCH(G336,'ORDER FORM'!$I$119:$L$119,0)),\"\")=0,\"\",IFERROR(INDEX('ORDER FORM'!$I$96:$L$125,MATCH(CONCATENATE(E336,F336),'ORDER FORM'!$A$96:A$125,0),MATCH(G336,'ORDER FORM'!$I$119:$L$119,0)),\"\"))","v":""},{"$f":"IFERROR(IFERROR(INDEX('ORDER FORM'!N:N,MATCH(IMPORT!E336,'ORDER FORM'!B:B,0)),INDEX('ORDER FORM'!N:N,MATCH(TRIM(IMPORT!E336),'ORDER FORM'!B:B,0))),\"\")","v":{"v":13.5,"d":"13.50"}}]
["UPLOADUSD",{"$f":"IF('ORDER FORM'!$O$7=\"\",\"ENTER-PO\",'ORDER FORM'!$O$7)","v":"ENTER-PO"},"2021 Spring/Summer",{"$f":"IF('ORDER FORM'!$O$9=\"\",TODAY(),'ORDER FORM'!$O$9)","v":"2023-11-02"},710152,"124","S","2","610306142436",{"$f":"IF(IFERROR(INDEX('ORDER FORM'!$I$96:$L$125,MATCH(CONCATENATE(E337,F337),'ORDER FORM'!$A$96:$A$125,0),MATCH(G337,'ORDER FORM'!$I$119:$L$119,0)),\"\")=0,\"\",IFERROR(INDEX('ORDER FORM'!$I$96:$L$125,MATCH(CONCATENATE(E337,F337),'ORDER FORM'!$A$96:A$125,0),MATCH(G337,'ORDER FORM'!$I$119:$L$119,0)),\"\"))","v":""},{"$f":"IFERROR(IFERROR(INDEX('ORDER FORM'!N:N,MATCH(IMPORT!E337,'ORDER FORM'!B:B,0)),INDEX('ORDER FORM'!N:N,MATCH(TRIM(IMPORT!E337),'ORDER FORM'!B:B,0))),\"\")","v":{"v":13.5,"d":"13.50"}}]
["UPLOADUSD",{"$f":"IF('ORDER FORM'!$O$7=\"\",\"ENTER-PO\",'ORDER FORM'!$O$7)","v":"ENTER-PO"},"2021 Spring/Summer",{"$f":"IF('ORDER FORM'!$O$9=\"\",TODAY(),'ORDER FORM'!$O$9)","v":"2023-11-02"},710152,"124","M","2","610306142443",{"$f":"IF(IFERROR(INDEX('ORDER FORM'!$I$96:$L$125,MATCH(CONCATENATE(E338,F338),'ORDER FORM'!$A$96:$A$125,0),MATCH(G338,'ORDER FORM'!$I$119:$L$119,0)),\"\")=0,\"\",IFERROR(INDEX('ORDER FORM'!$I$96:$L$125,MATCH(CONCATENATE(E338,F338),'ORDER FORM'!$A$96:A$125,0),MATCH(G338,'ORDER FORM'!$I$119:$L$119,0)),\"\"))","v":""},{"$f":"IFERROR(IFERROR(INDEX('ORDER FORM'!N:N,MATCH(IMPORT!E338,'ORDER FORM'!B:B,0)),INDEX('ORDER FORM'!N:N,MATCH(TRIM(IMPORT!E338),'ORDER FORM'!B:B,0))),\"\")","v":{"v":13.5,"d":"13.50"}}]
["UPLOADUSD",{"$f":"IF('ORDER FORM'!$O$7=\"\",\"ENTER-PO\",'ORDER FORM'!$O$7)","v":"ENTER-PO"},"2021 Spring/Summer",{"$f":"IF('ORDER FORM'!$O$9=\"\",TODAY(),'ORDER FORM'!$O$9)","v":"2023-11-02"},710152,"124","L","2","610306142450",{"$f":"IF(IFERROR(INDEX('ORDER FORM'!$I$96:$L$125,MATCH(CONCATENATE(E339,F339),'ORDER FORM'!$A$96:$A$125,0),MATCH(G339,'ORDER FORM'!$I$119:$L$119,0)),\"\")=0,\"\",IFERROR(INDEX('ORDER FORM'!$I$96:$L$125,MATCH(CONCATENATE(E339,F339),'ORDER FORM'!$A$96:A$125,0),MATCH(G339,'ORDER FORM'!$I$119:$L$119,0)),\"\"))","v":""},{"$f":"IFERROR(IFERROR(INDEX('ORDER FORM'!N:N,MATCH(IMPORT!E339,'ORDER FORM'!B:B,0)),INDEX('ORDER FORM'!N:N,MATCH(TRIM(IMPORT!E339),'ORDER FORM'!B:B,0))),\"\")","v":{"v":13.5,"d":"13.50"}}]
["UPLOADUSD",{"$f":"IF('ORDER FORM'!$O$7=\"\",\"ENTER-PO\",'ORDER FORM'!$O$7)","v":"ENTER-PO"},"2021 Spring/Summer",{"$f":"IF('ORDER FORM'!$O$9=\"\",TODAY(),'ORDER FORM'!$O$9)","v":"2023-11-02"},710152,"124","XL","2","610306142467",{"$f":"IF(IFERROR(INDEX('ORDER FORM'!$I$96:$L$125,MATCH(CONCATENATE(E340,F340),'ORDER FORM'!$A$96:$A$125,0),MATCH(G340,'ORDER FORM'!$I$119:$L$119,0)),\"\")=0,\"\",IFERROR(INDEX('ORDER FORM'!$I$96:$L$125,MATCH(CONCATENATE(E340,F340),'ORDER FORM'!$A$96:A$125,0),MATCH(G340,'ORDER FORM'!$I$119:$L$119,0)),\"\"))","v":""},{"$f":"IFERROR(IFERROR(INDEX('ORDER FORM'!N:N,MATCH(IMPORT!E340,'ORDER FORM'!B:B,0)),INDEX('ORDER FORM'!N:N,MATCH(TRIM(IMPORT!E340),'ORDER FORM'!B:B,0))),\"\")","v":{"v":13.5,"d":"13.50"}}]
["UPLOADUSD",{"$f":"IF('ORDER FORM'!$O$7=\"\",\"ENTER-PO\",'ORDER FORM'!$O$7)","v":"ENTER-PO"},"2021 Spring/Summer",{"$f":"IF('ORDER FORM'!$O$9=\"\",TODAY(),'ORDER FORM'!$O$9)","v":"2023-11-02"},710152,"433","S","2","610306136411",{"$f":"IF(IFERROR(INDEX('ORDER FORM'!$I$96:$L$125,MATCH(CONCATENATE(E341,F341),'ORDER FORM'!$A$96:$A$125,0),MATCH(G341,'ORDER FORM'!$I$119:$L$119,0)),\"\")=0,\"\",IFERROR(INDEX('ORDER FORM'!$I$96:$L$125,MATCH(CONCATENATE(E341,F341),'ORDER FORM'!$A$96:A$125,0),MATCH(G341,'ORDER FORM'!$I$119:$L$119,0)),\"\"))","v":""},{"$f":"IFERROR(IFERROR(INDEX('ORDER FORM'!N:N,MATCH(IMPORT!E341,'ORDER FORM'!B:B,0)),INDEX('ORDER FORM'!N:N,MATCH(TRIM(IMPORT!E341),'ORDER FORM'!B:B,0))),\"\")","v":{"v":13.5,"d":"13.50"}}]
["UPLOADUSD",{"$f":"IF('ORDER FORM'!$O$7=\"\",\"ENTER-PO\",'ORDER FORM'!$O$7)","v":"ENTER-PO"},"2021 Spring/Summer",{"$f":"IF('ORDER FORM'!$O$9=\"\",TODAY(),'ORDER FORM'!$O$9)","v":"2023-11-02"},710152,"433","M","2","610306136428",{"$f":"IF(IFERROR(INDEX('ORDER FORM'!$I$96:$L$125,MATCH(CONCATENATE(E342,F342),'ORDER FORM'!$A$96:$A$125,0),MATCH(G342,'ORDER FORM'!$I$119:$L$119,0)),\"\")=0,\"\",IFERROR(INDEX('ORDER FORM'!$I$96:$L$125,MATCH(CONCATENATE(E342,F342),'ORDER FORM'!$A$96:A$125,0),MATCH(G342,'ORDER FORM'!$I$119:$L$119,0)),\"\"))","v":""},{"$f":"IFERROR(IFERROR(INDEX('ORDER FORM'!N:N,MATCH(IMPORT!E342,'ORDER FORM'!B:B,0)),INDEX('ORDER FORM'!N:N,MATCH(TRIM(IMPORT!E342),'ORDER FORM'!B:B,0))),\"\")","v":{"v":13.5,"d":"13.50"}}]
["UPLOADUSD",{"$f":"IF('ORDER FORM'!$O$7=\"\",\"ENTER-PO\",'ORDER FORM'!$O$7)","v":"ENTER-PO"},"2021 Spring/Summer",{"$f":"IF('ORDER FORM'!$O$9=\"\",TODAY(),'ORDER FORM'!$O$9)","v":"2023-11-02"},710152,"433","L","2","610306136435",{"$f":"IF(IFERROR(INDEX('ORDER FORM'!$I$96:$L$125,MATCH(CONCATENATE(E343,F343),'ORDER FORM'!$A$96:$A$125,0),MATCH(G343,'ORDER FORM'!$I$119:$L$119,0)),\"\")=0,\"\",IFERROR(INDEX('ORDER FORM'!$I$96:$L$125,MATCH(CONCATENATE(E343,F343),'ORDER FORM'!$A$96:A$125,0),MATCH(G343,'ORDER FORM'!$I$119:$L$119,0)),\"\"))","v":""},{"$f":"IFERROR(IFERROR(INDEX('ORDER FORM'!N:N,MATCH(IMPORT!E343,'ORDER FORM'!B:B,0)),INDEX('ORDER FORM'!N:N,MATCH(TRIM(IMPORT!E343),'ORDER FORM'!B:B,0))),\"\")","v":{"v":13.5,"d":"13.50"}}]
["UPLOADUSD",{"$f":"IF('ORDER FORM'!$O$7=\"\",\"ENTER-PO\",'ORDER FORM'!$O$7)","v":"ENTER-PO"},"2021 Spring/Summer",{"$f":"IF('ORDER FORM'!$O$9=\"\",TODAY(),'ORDER FORM'!$O$9)","v":"2023-11-02"},710152,"433","XL","2","610306136442",{"$f":"IF(IFERROR(INDEX('ORDER FORM'!$I$96:$L$125,MATCH(CONCATENATE(E344,F344),'ORDER FORM'!$A$96:$A$125,0),MATCH(G344,'ORDER FORM'!$I$119:$L$119,0)),\"\")=0,\"\",IFERROR(INDEX('ORDER FORM'!$I$96:$L$125,MATCH(CONCATENATE(E344,F344),'ORDER FORM'!$A$96:A$125,0),MATCH(G344,'ORDER FORM'!$I$119:$L$119,0)),\"\"))","v":""},{"$f":"IFERROR(IFERROR(INDEX('ORDER FORM'!N:N,MATCH(IMPORT!E344,'ORDER FORM'!B:B,0)),INDEX('ORDER FORM'!N:N,MATCH(TRIM(IMPORT!E344),'ORDER FORM'!B:B,0))),\"\")","v":{"v":13.5,"d":"13.50"}}]
["UPLOADUSD",{"$f":"IF('ORDER FORM'!$O$7=\"\",\"ENTER-PO\",'ORDER FORM'!$O$7)","v":"ENTER-PO"},"2021 Spring/Summer",{"$f":"IF('ORDER FORM'!$O$9=\"\",TODAY(),'ORDER FORM'!$O$9)","v":"2023-11-02"},710152,"845","S","2","610306136459",{"$f":"IF(IFERROR(INDEX('ORDER FORM'!$I$96:$L$125,MATCH(CONCATENATE(E345,F345),'ORDER FORM'!$A$96:$A$125,0),MATCH(G345,'ORDER FORM'!$I$119:$L$119,0)),\"\")=0,\"\",IFERROR(INDEX('ORDER FORM'!$I$96:$L$125,MATCH(CONCATENATE(E345,F345),'ORDER FORM'!$A$96:A$125,0),MATCH(G345,'ORDER FORM'!$I$119:$L$119,0)),\"\"))","v":""},{"$f":"IFERROR(IFERROR(INDEX('ORDER FORM'!N:N,MATCH(IMPORT!E345,'ORDER FORM'!B:B,0)),INDEX('ORDER FORM'!N:N,MATCH(TRIM(IMPORT!E345),'ORDER FORM'!B:B,0))),\"\")","v":{"v":13.5,"d":"13.50"}}]
["UPLOADUSD",{"$f":"IF('ORDER FORM'!$O$7=\"\",\"ENTER-PO\",'ORDER FORM'!$O$7)","v":"ENTER-PO"},"2021 Spring/Summer",{"$f":"IF('ORDER FORM'!$O$9=\"\",TODAY(),'ORDER FORM'!$O$9)","v":"2023-11-02"},710152,"845","M","2","610306136466",{"$f":"IF(IFERROR(INDEX('ORDER FORM'!$I$96:$L$125,MATCH(CONCATENATE(E346,F346),'ORDER FORM'!$A$96:$A$125,0),MATCH(G346,'ORDER FORM'!$I$119:$L$119,0)),\"\")=0,\"\",IFERROR(INDEX('ORDER FORM'!$I$96:$L$125,MATCH(CONCATENATE(E346,F346),'ORDER FORM'!$A$96:A$125,0),MATCH(G346,'ORDER FORM'!$I$119:$L$119,0)),\"\"))","v":""},{"$f":"IFERROR(IFERROR(INDEX('ORDER FORM'!N:N,MATCH(IMPORT!E346,'ORDER FORM'!B:B,0)),INDEX('ORDER FORM'!N:N,MATCH(TRIM(IMPORT!E346),'ORDER FORM'!B:B,0))),\"\")","v":{"v":13.5,"d":"13.50"}}]
["UPLOADUSD",{"$f":"IF('ORDER FORM'!$O$7=\"\",\"ENTER-PO\",'ORDER FORM'!$O$7)","v":"ENTER-PO"},"2021 Spring/Summer",{"$f":"IF('ORDER FORM'!$O$9=\"\",TODAY(),'ORDER FORM'!$O$9)","v":"2023-11-02"},710152,"845","L","2","610306136473",{"$f":"IF(IFERROR(INDEX('ORDER FORM'!$I$96:$L$125,MATCH(CONCATENATE(E347,F347),'ORDER FORM'!$A$96:$A$125,0),MATCH(G347,'ORDER FORM'!$I$119:$L$119,0)),\"\")=0,\"\",IFERROR(INDEX('ORDER FORM'!$I$96:$L$125,MATCH(CONCATENATE(E347,F347),'ORDER FORM'!$A$96:A$125,0),MATCH(G347,'ORDER FORM'!$I$119:$L$119,0)),\"\"))","v":""},{"$f":"IFERROR(IFERROR(INDEX('ORDER FORM'!N:N,MATCH(IMPORT!E347,'ORDER FORM'!B:B,0)),INDEX('ORDER FORM'!N:N,MATCH(TRIM(IMPORT!E347),'ORDER FORM'!B:B,0))),\"\")","v":{"v":13.5,"d":"13.50"}}]
["UPLOADUSD",{"$f":"IF('ORDER FORM'!$O$7=\"\",\"ENTER-PO\",'ORDER FORM'!$O$7)","v":"ENTER-PO"},"2021 Spring/Summer",{"$f":"IF('ORDER FORM'!$O$9=\"\",TODAY(),'ORDER FORM'!$O$9)","v":"2023-11-02"},710152,"845","XL","2","610306136480",{"$f":"IF(IFERROR(INDEX('ORDER FORM'!$I$96:$L$125,MATCH(CONCATENATE(E348,F348),'ORDER FORM'!$A$96:$A$125,0),MATCH(G348,'ORDER FORM'!$I$119:$L$119,0)),\"\")=0,\"\",IFERROR(INDEX('ORDER FORM'!$I$96:$L$125,MATCH(CONCATENATE(E348,F348),'ORDER FORM'!$A$96:A$125,0),MATCH(G348,'ORDER FORM'!$I$119:$L$119,0)),\"\"))","v":""},{"$f":"IFERROR(IFERROR(INDEX('ORDER FORM'!N:N,MATCH(IMPORT!E348,'ORDER FORM'!B:B,0)),INDEX('ORDER FORM'!N:N,MATCH(TRIM(IMPORT!E348),'ORDER FORM'!B:B,0))),\"\")","v":{"v":13.5,"d":"13.50"}}]
["UPLOADUSD",{"$f":"IF('ORDER FORM'!$O$7=\"\",\"ENTER-PO\",'ORDER FORM'!$O$7)","v":"ENTER-PO"},"2021 Spring/Summer",{"$f":"IF('ORDER FORM'!$O$9=\"\",TODAY(),'ORDER FORM'!$O$9)","v":"2023-11-02"},710153,"531","S","2","610306135674",{"$f":"IF(IFERROR(INDEX('ORDER FORM'!$I$96:$L$125,MATCH(CONCATENATE(E349,F349),'ORDER FORM'!$A$96:$A$125,0),MATCH(G349,'ORDER FORM'!$I$119:$L$119,0)),\"\")=0,\"\",IFERROR(INDEX('ORDER FORM'!$I$96:$L$125,MATCH(CONCATENATE(E349,F349),'ORDER FORM'!$A$96:A$125,0),MATCH(G349,'ORDER FORM'!$I$119:$L$119,0)),\"\"))","v":""},{"$f":"IFERROR(IFERROR(INDEX('ORDER FORM'!N:N,MATCH(IMPORT!E349,'ORDER FORM'!B:B,0)),INDEX('ORDER FORM'!N:N,MATCH(TRIM(IMPORT!E349),'ORDER FORM'!B:B,0))),\"\")","v":{"v":21,"d":"21.00"}}]
["UPLOADUSD",{"$f":"IF('ORDER FORM'!$O$7=\"\",\"ENTER-PO\",'ORDER FORM'!$O$7)","v":"ENTER-PO"},"2021 Spring/Summer",{"$f":"IF('ORDER FORM'!$O$9=\"\",TODAY(),'ORDER FORM'!$O$9)","v":"2023-11-02"},710153,"531","M","2","610306135681",{"$f":"IF(IFERROR(INDEX('ORDER FORM'!$I$96:$L$125,MATCH(CONCATENATE(E350,F350),'ORDER FORM'!$A$96:$A$125,0),MATCH(G350,'ORDER FORM'!$I$119:$L$119,0)),\"\")=0,\"\",IFERROR(INDEX('ORDER FORM'!$I$96:$L$125,MATCH(CONCATENATE(E350,F350),'ORDER FORM'!$A$96:A$125,0),MATCH(G350,'ORDER FORM'!$I$119:$L$119,0)),\"\"))","v":""},{"$f":"IFERROR(IFERROR(INDEX('ORDER FORM'!N:N,MATCH(IMPORT!E350,'ORDER FORM'!B:B,0)),INDEX('ORDER FORM'!N:N,MATCH(TRIM(IMPORT!E350),'ORDER FORM'!B:B,0))),\"\")","v":{"v":21,"d":"21.00"}}]
["UPLOADUSD",{"$f":"IF('ORDER FORM'!$O$7=\"\",\"ENTER-PO\",'ORDER FORM'!$O$7)","v":"ENTER-PO"},"2021 Spring/Summer",{"$f":"IF('ORDER FORM'!$O$9=\"\",TODAY(),'ORDER FORM'!$O$9)","v":"2023-11-02"},710153,"531","L","2","610306135698",{"$f":"IF(IFERROR(INDEX('ORDER FORM'!$I$96:$L$125,MATCH(CONCATENATE(E351,F351),'ORDER FORM'!$A$96:$A$125,0),MATCH(G351,'ORDER FORM'!$I$119:$L$119,0)),\"\")=0,\"\",IFERROR(INDEX('ORDER FORM'!$I$96:$L$125,MATCH(CONCATENATE(E351,F351),'ORDER FORM'!$A$96:A$125,0),MATCH(G351,'ORDER FORM'!$I$119:$L$119,0)),\"\"))","v":""},{"$f":"IFERROR(IFERROR(INDEX('ORDER FORM'!N:N,MATCH(IMPORT!E351,'ORDER FORM'!B:B,0)),INDEX('ORDER FORM'!N:N,MATCH(TRIM(IMPORT!E351),'ORDER FORM'!B:B,0))),\"\")","v":{"v":21,"d":"21.00"}}]
["UPLOADUSD",{"$f":"IF('ORDER FORM'!$O$7=\"\",\"ENTER-PO\",'ORDER FORM'!$O$7)","v":"ENTER-PO"},"2021 Spring/Summer",{"$f":"IF('ORDER FORM'!$O$9=\"\",TODAY(),'ORDER FORM'!$O$9)","v":"2023-11-02"},710153,"531","XL","2","610306135704",{"$f":"IF(IFERROR(INDEX('ORDER FORM'!$I$96:$L$125,MATCH(CONCATENATE(E352,F352),'ORDER FORM'!$A$96:$A$125,0),MATCH(G352,'ORDER FORM'!$I$119:$L$119,0)),\"\")=0,\"\",IFERROR(INDEX('ORDER FORM'!$I$96:$L$125,MATCH(CONCATENATE(E352,F352),'ORDER FORM'!$A$96:A$125,0),MATCH(G352,'ORDER FORM'!$I$119:$L$119,0)),\"\"))","v":""},{"$f":"IFERROR(IFERROR(INDEX('ORDER FORM'!N:N,MATCH(IMPORT!E352,'ORDER FORM'!B:B,0)),INDEX('ORDER FORM'!N:N,MATCH(TRIM(IMPORT!E352),'ORDER FORM'!B:B,0))),\"\")","v":{"v":21,"d":"21.00"}}]
["UPLOADUSD",{"$f":"IF('ORDER FORM'!$O$7=\"\",\"ENTER-PO\",'ORDER FORM'!$O$7)","v":"ENTER-PO"},"2021 Spring/Summer",{"$f":"IF('ORDER FORM'!$O$9=\"\",TODAY(),'ORDER FORM'!$O$9)","v":"2023-11-02"},710153,"818","S","2","610306135711",{"$f":"IF(IFERROR(INDEX('ORDER FORM'!$I$96:$L$125,MATCH(CONCATENATE(E353,F353),'ORDER FORM'!$A$96:$A$125,0),MATCH(G353,'ORDER FORM'!$I$119:$L$119,0)),\"\")=0,\"\",IFERROR(INDEX('ORDER FORM'!$I$96:$L$125,MATCH(CONCATENATE(E353,F353),'ORDER FORM'!$A$96:A$125,0),MATCH(G353,'ORDER FORM'!$I$119:$L$119,0)),\"\"))","v":""},{"$f":"IFERROR(IFERROR(INDEX('ORDER FORM'!N:N,MATCH(IMPORT!E353,'ORDER FORM'!B:B,0)),INDEX('ORDER FORM'!N:N,MATCH(TRIM(IMPORT!E353),'ORDER FORM'!B:B,0))),\"\")","v":{"v":21,"d":"21.00"}}]
["UPLOADUSD",{"$f":"IF('ORDER FORM'!$O$7=\"\",\"ENTER-PO\",'ORDER FORM'!$O$7)","v":"ENTER-PO"},"2021 Spring/Summer",{"$f":"IF('ORDER FORM'!$O$9=\"\",TODAY(),'ORDER FORM'!$O$9)","v":"2023-11-02"},710153,"818","M","2","610306135728",{"$f":"IF(IFERROR(INDEX('ORDER FORM'!$I$96:$L$125,MATCH(CONCATENATE(E354,F354),'ORDER FORM'!$A$96:$A$125,0),MATCH(G354,'ORDER FORM'!$I$119:$L$119,0)),\"\")=0,\"\",IFERROR(INDEX('ORDER FORM'!$I$96:$L$125,MATCH(CONCATENATE(E354,F354),'ORDER FORM'!$A$96:A$125,0),MATCH(G354,'ORDER FORM'!$I$119:$L$119,0)),\"\"))","v":""},{"$f":"IFERROR(IFERROR(INDEX('ORDER FORM'!N:N,MATCH(IMPORT!E354,'ORDER FORM'!B:B,0)),INDEX('ORDER FORM'!N:N,MATCH(TRIM(IMPORT!E354),'ORDER FORM'!B:B,0))),\"\")","v":{"v":21,"d":"21.00"}}]
["UPLOADUSD",{"$f":"IF('ORDER FORM'!$O$7=\"\",\"ENTER-PO\",'ORDER FORM'!$O$7)","v":"ENTER-PO"},"2021 Spring/Summer",{"$f":"IF('ORDER FORM'!$O$9=\"\",TODAY(),'ORDER FORM'!$O$9)","v":"2023-11-02"},710153,"818","L","2","610306135735",{"$f":"IF(IFERROR(INDEX('ORDER FORM'!$I$96:$L$125,MATCH(CONCATENATE(E355,F355),'ORDER FORM'!$A$96:$A$125,0),MATCH(G355,'ORDER FORM'!$I$119:$L$119,0)),\"\")=0,\"\",IFERROR(INDEX('ORDER FORM'!$I$96:$L$125,MATCH(CONCATENATE(E355,F355),'ORDER FORM'!$A$96:A$125,0),MATCH(G355,'ORDER FORM'!$I$119:$L$119,0)),\"\"))","v":""},{"$f":"IFERROR(IFERROR(INDEX('ORDER FORM'!N:N,MATCH(IMPORT!E355,'ORDER FORM'!B:B,0)),INDEX('ORDER FORM'!N:N,MATCH(TRIM(IMPORT!E355),'ORDER FORM'!B:B,0))),\"\")","v":{"v":21,"d":"21.00"}}]
["UPLOADUSD",{"$f":"IF('ORDER FORM'!$O$7=\"\",\"ENTER-PO\",'ORDER FORM'!$O$7)","v":"ENTER-PO"},"2021 Spring/Summer",{"$f":"IF('ORDER FORM'!$O$9=\"\",TODAY(),'ORDER FORM'!$O$9)","v":"2023-11-02"},710153,"818","XL","2","610306135742",{"$f":"IF(IFERROR(INDEX('ORDER FORM'!$I$96:$L$125,MATCH(CONCATENATE(E356,F356),'ORDER FORM'!$A$96:$A$125,0),MATCH(G356,'ORDER FORM'!$I$119:$L$119,0)),\"\")=0,\"\",IFERROR(INDEX('ORDER FORM'!$I$96:$L$125,MATCH(CONCATENATE(E356,F356),'ORDER FORM'!$A$96:A$125,0),MATCH(G356,'ORDER FORM'!$I$119:$L$119,0)),\"\"))","v":""},{"$f":"IFERROR(IFERROR(INDEX('ORDER FORM'!N:N,MATCH(IMPORT!E356,'ORDER FORM'!B:B,0)),INDEX('ORDER FORM'!N:N,MATCH(TRIM(IMPORT!E356),'ORDER FORM'!B:B,0))),\"\")","v":{"v":21,"d":"21.00"}}]
["UPLOADUSD",{"$f":"IF('ORDER FORM'!$O$7=\"\",\"ENTER-PO\",'ORDER FORM'!$O$7)","v":"ENTER-PO"},"2021 Spring/Summer",{"$f":"IF('ORDER FORM'!$O$9=\"\",TODAY(),'ORDER FORM'!$O$9)","v":"2023-11-02"},710169,"013","S","2","610306135902",{"$f":"IF(IFERROR(INDEX('ORDER FORM'!$I$96:$L$125,MATCH(CONCATENATE(E357,F357),'ORDER FORM'!$A$96:$A$125,0),MATCH(G357,'ORDER FORM'!$I$119:$L$119,0)),\"\")=0,\"\",IFERROR(INDEX('ORDER FORM'!$I$96:$L$125,MATCH(CONCATENATE(E357,F357),'ORDER FORM'!$A$96:A$125,0),MATCH(G357,'ORDER FORM'!$I$119:$L$119,0)),\"\"))","v":""},{"$f":"IFERROR(IFERROR(INDEX('ORDER FORM'!N:N,MATCH(IMPORT!E357,'ORDER FORM'!B:B,0)),INDEX('ORDER FORM'!N:N,MATCH(TRIM(IMPORT!E357),'ORDER FORM'!B:B,0))),\"\")","v":{"v":14,"d":"14.00"}}]
["UPLOADUSD",{"$f":"IF('ORDER FORM'!$O$7=\"\",\"ENTER-PO\",'ORDER FORM'!$O$7)","v":"ENTER-PO"},"2021 Spring/Summer",{"$f":"IF('ORDER FORM'!$O$9=\"\",TODAY(),'ORDER FORM'!$O$9)","v":"2023-11-02"},710169,"013","M","2","610306135919",{"$f":"IF(IFERROR(INDEX('ORDER FORM'!$I$96:$L$125,MATCH(CONCATENATE(E358,F358),'ORDER FORM'!$A$96:$A$125,0),MATCH(G358,'ORDER FORM'!$I$119:$L$119,0)),\"\")=0,\"\",IFERROR(INDEX('ORDER FORM'!$I$96:$L$125,MATCH(CONCATENATE(E358,F358),'ORDER FORM'!$A$96:A$125,0),MATCH(G358,'ORDER FORM'!$I$119:$L$119,0)),\"\"))","v":""},{"$f":"IFERROR(IFERROR(INDEX('ORDER FORM'!N:N,MATCH(IMPORT!E358,'ORDER FORM'!B:B,0)),INDEX('ORDER FORM'!N:N,MATCH(TRIM(IMPORT!E358),'ORDER FORM'!B:B,0))),\"\")","v":{"v":14,"d":"14.00"}}]
["UPLOADUSD",{"$f":"IF('ORDER FORM'!$O$7=\"\",\"ENTER-PO\",'ORDER FORM'!$O$7)","v":"ENTER-PO"},"2021 Spring/Summer",{"$f":"IF('ORDER FORM'!$O$9=\"\",TODAY(),'ORDER FORM'!$O$9)","v":"2023-11-02"},710169,"013","L","2","610306135926",{"$f":"IF(IFERROR(INDEX('ORDER FORM'!$I$96:$L$125,MATCH(CONCATENATE(E359,F359),'ORDER FORM'!$A$96:$A$125,0),MATCH(G359,'ORDER FORM'!$I$119:$L$119,0)),\"\")=0,\"\",IFERROR(INDEX('ORDER FORM'!$I$96:$L$125,MATCH(CONCATENATE(E359,F359),'ORDER FORM'!$A$96:A$125,0),MATCH(G359,'ORDER FORM'!$I$119:$L$119,0)),\"\"))","v":""},{"$f":"IFERROR(IFERROR(INDEX('ORDER FORM'!N:N,MATCH(IMPORT!E359,'ORDER FORM'!B:B,0)),INDEX('ORDER FORM'!N:N,MATCH(TRIM(IMPORT!E359),'ORDER FORM'!B:B,0))),\"\")","v":{"v":14,"d":"14.00"}}]
["UPLOADUSD",{"$f":"IF('ORDER FORM'!$O$7=\"\",\"ENTER-PO\",'ORDER FORM'!$O$7)","v":"ENTER-PO"},"2021 Spring/Summer",{"$f":"IF('ORDER FORM'!$O$9=\"\",TODAY(),'ORDER FORM'!$O$9)","v":"2023-11-02"},710169,"013","XL","2","610306135933",{"$f":"IF(IFERROR(INDEX('ORDER FORM'!$I$96:$L$125,MATCH(CONCATENATE(E360,F360),'ORDER FORM'!$A$96:$A$125,0),MATCH(G360,'ORDER FORM'!$I$119:$L$119,0)),\"\")=0,\"\",IFERROR(INDEX('ORDER FORM'!$I$96:$L$125,MATCH(CONCATENATE(E360,F360),'ORDER FORM'!$A$96:A$125,0),MATCH(G360,'ORDER FORM'!$I$119:$L$119,0)),\"\"))","v":""},{"$f":"IFERROR(IFERROR(INDEX('ORDER FORM'!N:N,MATCH(IMPORT!E360,'ORDER FORM'!B:B,0)),INDEX('ORDER FORM'!N:N,MATCH(TRIM(IMPORT!E360),'ORDER FORM'!B:B,0))),\"\")","v":{"v":14,"d":"14.00"}}]
["UPLOADUSD",{"$f":"IF('ORDER FORM'!$O$7=\"\",\"ENTER-PO\",'ORDER FORM'!$O$7)","v":"ENTER-PO"},"2021 Spring/Summer",{"$f":"IF('ORDER FORM'!$O$9=\"\",TODAY(),'ORDER FORM'!$O$9)","v":"2023-11-02"},710169,"736","S","2","610306135988",{"$f":"IF(IFERROR(INDEX('ORDER FORM'!$I$96:$L$125,MATCH(CONCATENATE(E361,F361),'ORDER FORM'!$A$96:$A$125,0),MATCH(G361,'ORDER FORM'!$I$119:$L$119,0)),\"\")=0,\"\",IFERROR(INDEX('ORDER FORM'!$I$96:$L$125,MATCH(CONCATENATE(E361,F361),'ORDER FORM'!$A$96:A$125,0),MATCH(G361,'ORDER FORM'!$I$119:$L$119,0)),\"\"))","v":""},{"$f":"IFERROR(IFERROR(INDEX('ORDER FORM'!N:N,MATCH(IMPORT!E361,'ORDER FORM'!B:B,0)),INDEX('ORDER FORM'!N:N,MATCH(TRIM(IMPORT!E361),'ORDER FORM'!B:B,0))),\"\")","v":{"v":14,"d":"14.00"}}]
["UPLOADUSD",{"$f":"IF('ORDER FORM'!$O$7=\"\",\"ENTER-PO\",'ORDER FORM'!$O$7)","v":"ENTER-PO"},"2021 Spring/Summer",{"$f":"IF('ORDER FORM'!$O$9=\"\",TODAY(),'ORDER FORM'!$O$9)","v":"2023-11-02"},710169,"736","M","2","610306135995",{"$f":"IF(IFERROR(INDEX('ORDER FORM'!$I$96:$L$125,MATCH(CONCATENATE(E362,F362),'ORDER FORM'!$A$96:$A$125,0),MATCH(G362,'ORDER FORM'!$I$119:$L$119,0)),\"\")=0,\"\",IFERROR(INDEX('ORDER FORM'!$I$96:$L$125,MATCH(CONCATENATE(E362,F362),'ORDER FORM'!$A$96:A$125,0),MATCH(G362,'ORDER FORM'!$I$119:$L$119,0)),\"\"))","v":""},{"$f":"IFERROR(IFERROR(INDEX('ORDER FORM'!N:N,MATCH(IMPORT!E362,'ORDER FORM'!B:B,0)),INDEX('ORDER FORM'!N:N,MATCH(TRIM(IMPORT!E362),'ORDER FORM'!B:B,0))),\"\")","v":{"v":14,"d":"14.00"}}]
["UPLOADUSD",{"$f":"IF('ORDER FORM'!$O$7=\"\",\"ENTER-PO\",'ORDER FORM'!$O$7)","v":"ENTER-PO"},"2021 Spring/Summer",{"$f":"IF('ORDER FORM'!$O$9=\"\",TODAY(),'ORDER FORM'!$O$9)","v":"2023-11-02"},710169,"736","L","2","610306136008",{"$f":"IF(IFERROR(INDEX('ORDER FORM'!$I$96:$L$125,MATCH(CONCATENATE(E363,F363),'ORDER FORM'!$A$96:$A$125,0),MATCH(G363,'ORDER FORM'!$I$119:$L$119,0)),\"\")=0,\"\",IFERROR(INDEX('ORDER FORM'!$I$96:$L$125,MATCH(CONCATENATE(E363,F363),'ORDER FORM'!$A$96:A$125,0),MATCH(G363,'ORDER FORM'!$I$119:$L$119,0)),\"\"))","v":""},{"$f":"IFERROR(IFERROR(INDEX('ORDER FORM'!N:N,MATCH(IMPORT!E363,'ORDER FORM'!B:B,0)),INDEX('ORDER FORM'!N:N,MATCH(TRIM(IMPORT!E363),'ORDER FORM'!B:B,0))),\"\")","v":{"v":14,"d":"14.00"}}]
["UPLOADUSD",{"$f":"IF('ORDER FORM'!$O$7=\"\",\"ENTER-PO\",'ORDER FORM'!$O$7)","v":"ENTER-PO"},"2021 Spring/Summer",{"$f":"IF('ORDER FORM'!$O$9=\"\",TODAY(),'ORDER FORM'!$O$9)","v":"2023-11-02"},710169,"736","XL","2","610306136015",{"$f":"IF(IFERROR(INDEX('ORDER FORM'!$I$96:$L$125,MATCH(CONCATENATE(E364,F364),'ORDER FORM'!$A$96:$A$125,0),MATCH(G364,'ORDER FORM'!$I$119:$L$119,0)),\"\")=0,\"\",IFERROR(INDEX('ORDER FORM'!$I$96:$L$125,MATCH(CONCATENATE(E364,F364),'ORDER FORM'!$A$96:A$125,0),MATCH(G364,'ORDER FORM'!$I$119:$L$119,0)),\"\"))","v":""},{"$f":"IFERROR(IFERROR(INDEX('ORDER FORM'!N:N,MATCH(IMPORT!E364,'ORDER FORM'!B:B,0)),INDEX('ORDER FORM'!N:N,MATCH(TRIM(IMPORT!E364),'ORDER FORM'!B:B,0))),\"\")","v":{"v":14,"d":"14.00"}}]
["UPLOADUSD",{"$f":"IF('ORDER FORM'!$O$7=\"\",\"ENTER-PO\",'ORDER FORM'!$O$7)","v":"ENTER-PO"},"2021 Spring/Summer",{"$f":"IF('ORDER FORM'!$O$9=\"\",TODAY(),'ORDER FORM'!$O$9)","v":"2023-11-02"},710169,"846","S","2","610306136022",{"$f":"IF(IFERROR(INDEX('ORDER FORM'!$I$96:$L$125,MATCH(CONCATENATE(E365,F365),'ORDER FORM'!$A$96:$A$125,0),MATCH(G365,'ORDER FORM'!$I$119:$L$119,0)),\"\")=0,\"\",IFERROR(INDEX('ORDER FORM'!$I$96:$L$125,MATCH(CONCATENATE(E365,F365),'ORDER FORM'!$A$96:A$125,0),MATCH(G365,'ORDER FORM'!$I$119:$L$119,0)),\"\"))","v":""},{"$f":"IFERROR(IFERROR(INDEX('ORDER FORM'!N:N,MATCH(IMPORT!E365,'ORDER FORM'!B:B,0)),INDEX('ORDER FORM'!N:N,MATCH(TRIM(IMPORT!E365),'ORDER FORM'!B:B,0))),\"\")","v":{"v":14,"d":"14.00"}}]
["UPLOADUSD",{"$f":"IF('ORDER FORM'!$O$7=\"\",\"ENTER-PO\",'ORDER FORM'!$O$7)","v":"ENTER-PO"},"2021 Spring/Summer",{"$f":"IF('ORDER FORM'!$O$9=\"\",TODAY(),'ORDER FORM'!$O$9)","v":"2023-11-02"},710169,"846","M","2","610306136039",{"$f":"IF(IFERROR(INDEX('ORDER FORM'!$I$96:$L$125,MATCH(CONCATENATE(E366,F366),'ORDER FORM'!$A$96:$A$125,0),MATCH(G366,'ORDER FORM'!$I$119:$L$119,0)),\"\")=0,\"\",IFERROR(INDEX('ORDER FORM'!$I$96:$L$125,MATCH(CONCATENATE(E366,F366),'ORDER FORM'!$A$96:A$125,0),MATCH(G366,'ORDER FORM'!$I$119:$L$119,0)),\"\"))","v":""},{"$f":"IFERROR(IFERROR(INDEX('ORDER FORM'!N:N,MATCH(IMPORT!E366,'ORDER FORM'!B:B,0)),INDEX('ORDER FORM'!N:N,MATCH(TRIM(IMPORT!E366),'ORDER FORM'!B:B,0))),\"\")","v":{"v":14,"d":"14.00"}}]
["UPLOADUSD",{"$f":"IF('ORDER FORM'!$O$7=\"\",\"ENTER-PO\",'ORDER FORM'!$O$7)","v":"ENTER-PO"},"2021 Spring/Summer",{"$f":"IF('ORDER FORM'!$O$9=\"\",TODAY(),'ORDER FORM'!$O$9)","v":"2023-11-02"},710169,"846","L","2","610306136046",{"$f":"IF(IFERROR(INDEX('ORDER FORM'!$I$96:$L$125,MATCH(CONCATENATE(E367,F367),'ORDER FORM'!$A$96:$A$125,0),MATCH(G367,'ORDER FORM'!$I$119:$L$119,0)),\"\")=0,\"\",IFERROR(INDEX('ORDER FORM'!$I$96:$L$125,MATCH(CONCATENATE(E367,F367),'ORDER FORM'!$A$96:A$125,0),MATCH(G367,'ORDER FORM'!$I$119:$L$119,0)),\"\"))","v":""},{"$f":"IFERROR(IFERROR(INDEX('ORDER FORM'!N:N,MATCH(IMPORT!E367,'ORDER FORM'!B:B,0)),INDEX('ORDER FORM'!N:N,MATCH(TRIM(IMPORT!E367),'ORDER FORM'!B:B,0))),\"\")","v":{"v":14,"d":"14.00"}}]
["UPLOADUSD",{"$f":"IF('ORDER FORM'!$O$7=\"\",\"ENTER-PO\",'ORDER FORM'!$O$7)","v":"ENTER-PO"},"2021 Spring/Summer",{"$f":"IF('ORDER FORM'!$O$9=\"\",TODAY(),'ORDER FORM'!$O$9)","v":"2023-11-02"},710169,"846","XL","2","610306136053",{"$f":"IF(IFERROR(INDEX('ORDER FORM'!$I$96:$L$125,MATCH(CONCATENATE(E368,F368),'ORDER FORM'!$A$96:$A$125,0),MATCH(G368,'ORDER FORM'!$I$119:$L$119,0)),\"\")=0,\"\",IFERROR(INDEX('ORDER FORM'!$I$96:$L$125,MATCH(CONCATENATE(E368,F368),'ORDER FORM'!$A$96:A$125,0),MATCH(G368,'ORDER FORM'!$I$119:$L$119,0)),\"\"))","v":""},{"$f":"IFERROR(IFERROR(INDEX('ORDER FORM'!N:N,MATCH(IMPORT!E368,'ORDER FORM'!B:B,0)),INDEX('ORDER FORM'!N:N,MATCH(TRIM(IMPORT!E368),'ORDER FORM'!B:B,0))),\"\")","v":{"v":14,"d":"14.00"}}]
["UPLOADUSD",{"$f":"IF('ORDER FORM'!$O$7=\"\",\"ENTER-PO\",'ORDER FORM'!$O$7)","v":"ENTER-PO"},"2021 Spring/Summer",{"$f":"IF('ORDER FORM'!$O$9=\"\",TODAY(),'ORDER FORM'!$O$9)","v":"2023-11-02"},710169,"866","S","2","610306136060",{"$f":"IF(IFERROR(INDEX('ORDER FORM'!$I$96:$L$125,MATCH(CONCATENATE(E369,F369),'ORDER FORM'!$A$96:$A$125,0),MATCH(G369,'ORDER FORM'!$I$119:$L$119,0)),\"\")=0,\"\",IFERROR(INDEX('ORDER FORM'!$I$96:$L$125,MATCH(CONCATENATE(E369,F369),'ORDER FORM'!$A$96:A$125,0),MATCH(G369,'ORDER FORM'!$I$119:$L$119,0)),\"\"))","v":""},{"$f":"IFERROR(IFERROR(INDEX('ORDER FORM'!N:N,MATCH(IMPORT!E369,'ORDER FORM'!B:B,0)),INDEX('ORDER FORM'!N:N,MATCH(TRIM(IMPORT!E369),'ORDER FORM'!B:B,0))),\"\")","v":{"v":14,"d":"14.00"}}]
["UPLOADUSD",{"$f":"IF('ORDER FORM'!$O$7=\"\",\"ENTER-PO\",'ORDER FORM'!$O$7)","v":"ENTER-PO"},"2021 Spring/Summer",{"$f":"IF('ORDER FORM'!$O$9=\"\",TODAY(),'ORDER FORM'!$O$9)","v":"2023-11-02"},710169,"866","M","2","610306136077",{"$f":"IF(IFERROR(INDEX('ORDER FORM'!$I$96:$L$125,MATCH(CONCATENATE(E370,F370),'ORDER FORM'!$A$96:$A$125,0),MATCH(G370,'ORDER FORM'!$I$119:$L$119,0)),\"\")=0,\"\",IFERROR(INDEX('ORDER FORM'!$I$96:$L$125,MATCH(CONCATENATE(E370,F370),'ORDER FORM'!$A$96:A$125,0),MATCH(G370,'ORDER FORM'!$I$119:$L$119,0)),\"\"))","v":""},{"$f":"IFERROR(IFERROR(INDEX('ORDER FORM'!N:N,MATCH(IMPORT!E370,'ORDER FORM'!B:B,0)),INDEX('ORDER FORM'!N:N,MATCH(TRIM(IMPORT!E370),'ORDER FORM'!B:B,0))),\"\")","v":{"v":14,"d":"14.00"}}]
["UPLOADUSD",{"$f":"IF('ORDER FORM'!$O$7=\"\",\"ENTER-PO\",'ORDER FORM'!$O$7)","v":"ENTER-PO"},"2021 Spring/Summer",{"$f":"IF('ORDER FORM'!$O$9=\"\",TODAY(),'ORDER FORM'!$O$9)","v":"2023-11-02"},710169,"866","L","2","610306136084",{"$f":"IF(IFERROR(INDEX('ORDER FORM'!$I$96:$L$125,MATCH(CONCATENATE(E371,F371),'ORDER FORM'!$A$96:$A$125,0),MATCH(G371,'ORDER FORM'!$I$119:$L$119,0)),\"\")=0,\"\",IFERROR(INDEX('ORDER FORM'!$I$96:$L$125,MATCH(CONCATENATE(E371,F371),'ORDER FORM'!$A$96:A$125,0),MATCH(G371,'ORDER FORM'!$I$119:$L$119,0)),\"\"))","v":""},{"$f":"IFERROR(IFERROR(INDEX('ORDER FORM'!N:N,MATCH(IMPORT!E371,'ORDER FORM'!B:B,0)),INDEX('ORDER FORM'!N:N,MATCH(TRIM(IMPORT!E371),'ORDER FORM'!B:B,0))),\"\")","v":{"v":14,"d":"14.00"}}]
["UPLOADUSD",{"$f":"IF('ORDER FORM'!$O$7=\"\",\"ENTER-PO\",'ORDER FORM'!$O$7)","v":"ENTER-PO"},"2021 Spring/Summer",{"$f":"IF('ORDER FORM'!$O$9=\"\",TODAY(),'ORDER FORM'!$O$9)","v":"2023-11-02"},710169,"866","XL","2","610306136091",{"$f":"IF(IFERROR(INDEX('ORDER FORM'!$I$96:$L$125,MATCH(CONCATENATE(E372,F372),'ORDER FORM'!$A$96:$A$125,0),MATCH(G372,'ORDER FORM'!$I$119:$L$119,0)),\"\")=0,\"\",IFERROR(INDEX('ORDER FORM'!$I$96:$L$125,MATCH(CONCATENATE(E372,F372),'ORDER FORM'!$A$96:A$125,0),MATCH(G372,'ORDER FORM'!$I$119:$L$119,0)),\"\"))","v":""},{"$f":"IFERROR(IFERROR(INDEX('ORDER FORM'!N:N,MATCH(IMPORT!E372,'ORDER FORM'!B:B,0)),INDEX('ORDER FORM'!N:N,MATCH(TRIM(IMPORT!E372),'ORDER FORM'!B:B,0))),\"\")","v":{"v":14,"d":"14.00"}}]
["UPLOADUSD",{"$f":"IF('ORDER FORM'!$O$7=\"\",\"ENTER-PO\",'ORDER FORM'!$O$7)","v":"ENTER-PO"},"2021 Spring/Summer",{"$f":"IF('ORDER FORM'!$O$9=\"\",TODAY(),'ORDER FORM'!$O$9)","v":"2023-11-02"},710172,"863","S","2","610306137678",{"$f":"IF(IFERROR(INDEX('ORDER FORM'!$I$96:$L$125,MATCH(CONCATENATE(E373,F373),'ORDER FORM'!$A$96:$A$125,0),MATCH(G373,'ORDER FORM'!$I$119:$L$119,0)),\"\")=0,\"\",IFERROR(INDEX('ORDER FORM'!$I$96:$L$125,MATCH(CONCATENATE(E373,F373),'ORDER FORM'!$A$96:A$125,0),MATCH(G373,'ORDER FORM'!$I$119:$L$119,0)),\"\"))","v":""},{"$f":"IFERROR(IFERROR(INDEX('ORDER FORM'!N:N,MATCH(IMPORT!E373,'ORDER FORM'!B:B,0)),INDEX('ORDER FORM'!N:N,MATCH(TRIM(IMPORT!E373),'ORDER FORM'!B:B,0))),\"\")","v":""}]
["UPLOADUSD",{"$f":"IF('ORDER FORM'!$O$7=\"\",\"ENTER-PO\",'ORDER FORM'!$O$7)","v":"ENTER-PO"},"2021 Spring/Summer",{"$f":"IF('ORDER FORM'!$O$9=\"\",TODAY(),'ORDER FORM'!$O$9)","v":"2023-11-02"},710172,"863","M","2","610306137685",{"$f":"IF(IFERROR(INDEX('ORDER FORM'!$I$96:$L$125,MATCH(CONCATENATE(E374,F374),'ORDER FORM'!$A$96:$A$125,0),MATCH(G374,'ORDER FORM'!$I$119:$L$119,0)),\"\")=0,\"\",IFERROR(INDEX('ORDER FORM'!$I$96:$L$125,MATCH(CONCATENATE(E374,F374),'ORDER FORM'!$A$96:A$125,0),MATCH(G374,'ORDER FORM'!$I$119:$L$119,0)),\"\"))","v":""},{"$f":"IFERROR(IFERROR(INDEX('ORDER FORM'!N:N,MATCH(IMPORT!E374,'ORDER FORM'!B:B,0)),INDEX('ORDER FORM'!N:N,MATCH(TRIM(IMPORT!E374),'ORDER FORM'!B:B,0))),\"\")","v":""}]
["UPLOADUSD",{"$f":"IF('ORDER FORM'!$O$7=\"\",\"ENTER-PO\",'ORDER FORM'!$O$7)","v":"ENTER-PO"},"2021 Spring/Summer",{"$f":"IF('ORDER FORM'!$O$9=\"\",TODAY(),'ORDER FORM'!$O$9)","v":"2023-11-02"},710172,"863","L","2","610306137692",{"$f":"IF(IFERROR(INDEX('ORDER FORM'!$I$96:$L$125,MATCH(CONCATENATE(E375,F375),'ORDER FORM'!$A$96:$A$125,0),MATCH(G375,'ORDER FORM'!$I$119:$L$119,0)),\"\")=0,\"\",IFERROR(INDEX('ORDER FORM'!$I$96:$L$125,MATCH(CONCATENATE(E375,F375),'ORDER FORM'!$A$96:A$125,0),MATCH(G375,'ORDER FORM'!$I$119:$L$119,0)),\"\"))","v":""},{"$f":"IFERROR(IFERROR(INDEX('ORDER FORM'!N:N,MATCH(IMPORT!E375,'ORDER FORM'!B:B,0)),INDEX('ORDER FORM'!N:N,MATCH(TRIM(IMPORT!E375),'ORDER FORM'!B:B,0))),\"\")","v":""}]
["UPLOADUSD",{"$f":"IF('ORDER FORM'!$O$7=\"\",\"ENTER-PO\",'ORDER FORM'!$O$7)","v":"ENTER-PO"},"2021 Spring/Summer",{"$f":"IF('ORDER FORM'!$O$9=\"\",TODAY(),'ORDER FORM'!$O$9)","v":"2023-11-02"},710172,"863","XL","2","610306137708",{"$f":"IF(IFERROR(INDEX('ORDER FORM'!$I$96:$L$125,MATCH(CONCATENATE(E376,F376),'ORDER FORM'!$A$96:$A$125,0),MATCH(G376,'ORDER FORM'!$I$119:$L$119,0)),\"\")=0,\"\",IFERROR(INDEX('ORDER FORM'!$I$96:$L$125,MATCH(CONCATENATE(E376,F376),'ORDER FORM'!$A$96:A$125,0),MATCH(G376,'ORDER FORM'!$I$119:$L$119,0)),\"\"))","v":""},{"$f":"IFERROR(IFERROR(INDEX('ORDER FORM'!N:N,MATCH(IMPORT!E376,'ORDER FORM'!B:B,0)),INDEX('ORDER FORM'!N:N,MATCH(TRIM(IMPORT!E376),'ORDER FORM'!B:B,0))),\"\")","v":""}]
["UPLOADUSD",{"$f":"IF('ORDER FORM'!$O$7=\"\",\"ENTER-PO\",'ORDER FORM'!$O$7)","v":"ENTER-PO"},"2021 Spring/Summer",{"$f":"IF('ORDER FORM'!$O$9=\"\",TODAY(),'ORDER FORM'!$O$9)","v":"2023-11-02"},710172,"908","S","2","610306137715",{"$f":"IF(IFERROR(INDEX('ORDER FORM'!$I$96:$L$125,MATCH(CONCATENATE(E377,F377),'ORDER FORM'!$A$96:$A$125,0),MATCH(G377,'ORDER FORM'!$I$119:$L$119,0)),\"\")=0,\"\",IFERROR(INDEX('ORDER FORM'!$I$96:$L$125,MATCH(CONCATENATE(E377,F377),'ORDER FORM'!$A$96:A$125,0),MATCH(G377,'ORDER FORM'!$I$119:$L$119,0)),\"\"))","v":""},{"$f":"IFERROR(IFERROR(INDEX('ORDER FORM'!N:N,MATCH(IMPORT!E377,'ORDER FORM'!B:B,0)),INDEX('ORDER FORM'!N:N,MATCH(TRIM(IMPORT!E377),'ORDER FORM'!B:B,0))),\"\")","v":""}]
["UPLOADUSD",{"$f":"IF('ORDER FORM'!$O$7=\"\",\"ENTER-PO\",'ORDER FORM'!$O$7)","v":"ENTER-PO"},"2021 Spring/Summer",{"$f":"IF('ORDER FORM'!$O$9=\"\",TODAY(),'ORDER FORM'!$O$9)","v":"2023-11-02"},710172,"908","M","2","610306137722",{"$f":"IF(IFERROR(INDEX('ORDER FORM'!$I$96:$L$125,MATCH(CONCATENATE(E378,F378),'ORDER FORM'!$A$96:$A$125,0),MATCH(G378,'ORDER FORM'!$I$119:$L$119,0)),\"\")=0,\"\",IFERROR(INDEX('ORDER FORM'!$I$96:$L$125,MATCH(CONCATENATE(E378,F378),'ORDER FORM'!$A$96:A$125,0),MATCH(G378,'ORDER FORM'!$I$119:$L$119,0)),\"\"))","v":""},{"$f":"IFERROR(IFERROR(INDEX('ORDER FORM'!N:N,MATCH(IMPORT!E378,'ORDER FORM'!B:B,0)),INDEX('ORDER FORM'!N:N,MATCH(TRIM(IMPORT!E378),'ORDER FORM'!B:B,0))),\"\")","v":""}]
["UPLOADUSD",{"$f":"IF('ORDER FORM'!$O$7=\"\",\"ENTER-PO\",'ORDER FORM'!$O$7)","v":"ENTER-PO"},"2021 Spring/Summer",{"$f":"IF('ORDER FORM'!$O$9=\"\",TODAY(),'ORDER FORM'!$O$9)","v":"2023-11-02"},710172,"908","L","2","610306137739",{"$f":"IF(IFERROR(INDEX('ORDER FORM'!$I$96:$L$125,MATCH(CONCATENATE(E379,F379),'ORDER FORM'!$A$96:$A$125,0),MATCH(G379,'ORDER FORM'!$I$119:$L$119,0)),\"\")=0,\"\",IFERROR(INDEX('ORDER FORM'!$I$96:$L$125,MATCH(CONCATENATE(E379,F379),'ORDER FORM'!$A$96:A$125,0),MATCH(G379,'ORDER FORM'!$I$119:$L$119,0)),\"\"))","v":""},{"$f":"IFERROR(IFERROR(INDEX('ORDER FORM'!N:N,MATCH(IMPORT!E379,'ORDER FORM'!B:B,0)),INDEX('ORDER FORM'!N:N,MATCH(TRIM(IMPORT!E379),'ORDER FORM'!B:B,0))),\"\")","v":""}]
["UPLOADUSD",{"$f":"IF('ORDER FORM'!$O$7=\"\",\"ENTER-PO\",'ORDER FORM'!$O$7)","v":"ENTER-PO"},"2021 Spring/Summer",{"$f":"IF('ORDER FORM'!$O$9=\"\",TODAY(),'ORDER FORM'!$O$9)","v":"2023-11-02"},710172,"908","XL","2","610306137746",{"$f":"IF(IFERROR(INDEX('ORDER FORM'!$I$96:$L$125,MATCH(CONCATENATE(E380,F380),'ORDER FORM'!$A$96:$A$125,0),MATCH(G380,'ORDER FORM'!$I$119:$L$119,0)),\"\")=0,\"\",IFERROR(INDEX('ORDER FORM'!$I$96:$L$125,MATCH(CONCATENATE(E380,F380),'ORDER FORM'!$A$96:A$125,0),MATCH(G380,'ORDER FORM'!$I$119:$L$119,0)),\"\"))","v":""},{"$f":"IFERROR(IFERROR(INDEX('ORDER FORM'!N:N,MATCH(IMPORT!E380,'ORDER FORM'!B:B,0)),INDEX('ORDER FORM'!N:N,MATCH(TRIM(IMPORT!E380),'ORDER FORM'!B:B,0))),\"\")","v":""}]
["UPLOADUSD",{"$f":"IF('ORDER FORM'!$O$7=\"\",\"ENTER-PO\",'ORDER FORM'!$O$7)","v":"ENTER-PO"},"2021 Spring/Summer",{"$f":"IF('ORDER FORM'!$O$9=\"\",TODAY(),'ORDER FORM'!$O$9)","v":"2023-11-02"},710174,"845","S","2","610306136831",{"$f":"IF(IFERROR(INDEX('ORDER FORM'!$I$96:$L$125,MATCH(CONCATENATE(E381,F381),'ORDER FORM'!$A$96:$A$125,0),MATCH(G381,'ORDER FORM'!$I$119:$L$119,0)),\"\")=0,\"\",IFERROR(INDEX('ORDER FORM'!$I$96:$L$125,MATCH(CONCATENATE(E381,F381),'ORDER FORM'!$A$96:A$125,0),MATCH(G381,'ORDER FORM'!$I$119:$L$119,0)),\"\"))","v":""},{"$f":"IFERROR(IFERROR(INDEX('ORDER FORM'!N:N,MATCH(IMPORT!E381,'ORDER FORM'!B:B,0)),INDEX('ORDER FORM'!N:N,MATCH(TRIM(IMPORT!E381),'ORDER FORM'!B:B,0))),\"\")","v":""}]
["UPLOADUSD",{"$f":"IF('ORDER FORM'!$O$7=\"\",\"ENTER-PO\",'ORDER FORM'!$O$7)","v":"ENTER-PO"},"2021 Spring/Summer",{"$f":"IF('ORDER FORM'!$O$9=\"\",TODAY(),'ORDER FORM'!$O$9)","v":"2023-11-02"},710174,"845","M","2","610306136848",{"$f":"IF(IFERROR(INDEX('ORDER FORM'!$I$96:$L$125,MATCH(CONCATENATE(E382,F382),'ORDER FORM'!$A$96:$A$125,0),MATCH(G382,'ORDER FORM'!$I$119:$L$119,0)),\"\")=0,\"\",IFERROR(INDEX('ORDER FORM'!$I$96:$L$125,MATCH(CONCATENATE(E382,F382),'ORDER FORM'!$A$96:A$125,0),MATCH(G382,'ORDER FORM'!$I$119:$L$119,0)),\"\"))","v":""},{"$f":"IFERROR(IFERROR(INDEX('ORDER FORM'!N:N,MATCH(IMPORT!E382,'ORDER FORM'!B:B,0)),INDEX('ORDER FORM'!N:N,MATCH(TRIM(IMPORT!E382),'ORDER FORM'!B:B,0))),\"\")","v":""}]
["UPLOADUSD",{"$f":"IF('ORDER FORM'!$O$7=\"\",\"ENTER-PO\",'ORDER FORM'!$O$7)","v":"ENTER-PO"},"2021 Spring/Summer",{"$f":"IF('ORDER FORM'!$O$9=\"\",TODAY(),'ORDER FORM'!$O$9)","v":"2023-11-02"},710174,"845","L","2","610306136855",{"$f":"IF(IFERROR(INDEX('ORDER FORM'!$I$96:$L$125,MATCH(CONCATENATE(E383,F383),'ORDER FORM'!$A$96:$A$125,0),MATCH(G383,'ORDER FORM'!$I$119:$L$119,0)),\"\")=0,\"\",IFERROR(INDEX('ORDER FORM'!$I$96:$L$125,MATCH(CONCATENATE(E383,F383),'ORDER FORM'!$A$96:A$125,0),MATCH(G383,'ORDER FORM'!$I$119:$L$119,0)),\"\"))","v":""},{"$f":"IFERROR(IFERROR(INDEX('ORDER FORM'!N:N,MATCH(IMPORT!E383,'ORDER FORM'!B:B,0)),INDEX('ORDER FORM'!N:N,MATCH(TRIM(IMPORT!E383),'ORDER FORM'!B:B,0))),\"\")","v":""}]
["UPLOADUSD",{"$f":"IF('ORDER FORM'!$O$7=\"\",\"ENTER-PO\",'ORDER FORM'!$O$7)","v":"ENTER-PO"},"2021 Spring/Summer",{"$f":"IF('ORDER FORM'!$O$9=\"\",TODAY(),'ORDER FORM'!$O$9)","v":"2023-11-02"},710174,"845","XL","2","610306136862",{"$f":"IF(IFERROR(INDEX('ORDER FORM'!$I$96:$L$125,MATCH(CONCATENATE(E384,F384),'ORDER FORM'!$A$96:$A$125,0),MATCH(G384,'ORDER FORM'!$I$119:$L$119,0)),\"\")=0,\"\",IFERROR(INDEX('ORDER FORM'!$I$96:$L$125,MATCH(CONCATENATE(E384,F384),'ORDER FORM'!$A$96:A$125,0),MATCH(G384,'ORDER FORM'!$I$119:$L$119,0)),\"\"))","v":""},{"$f":"IFERROR(IFERROR(INDEX('ORDER FORM'!N:N,MATCH(IMPORT!E384,'ORDER FORM'!B:B,0)),INDEX('ORDER FORM'!N:N,MATCH(TRIM(IMPORT!E384),'ORDER FORM'!B:B,0))),\"\")","v":""}]
["UPLOADUSD",{"$f":"IF('ORDER FORM'!$O$7=\"\",\"ENTER-PO\",'ORDER FORM'!$O$7)","v":"ENTER-PO"},"2021 Spring/Summer",{"$f":"IF('ORDER FORM'!$O$9=\"\",TODAY(),'ORDER FORM'!$O$9)","v":"2023-11-02"},710174,"866","S","2","610306136879",{"$f":"IF(IFERROR(INDEX('ORDER FORM'!$I$96:$L$125,MATCH(CONCATENATE(E385,F385),'ORDER FORM'!$A$96:$A$125,0),MATCH(G385,'ORDER FORM'!$I$119:$L$119,0)),\"\")=0,\"\",IFERROR(INDEX('ORDER FORM'!$I$96:$L$125,MATCH(CONCATENATE(E385,F385),'ORDER FORM'!$A$96:A$125,0),MATCH(G385,'ORDER FORM'!$I$119:$L$119,0)),\"\"))","v":""},{"$f":"IFERROR(IFERROR(INDEX('ORDER FORM'!N:N,MATCH(IMPORT!E385,'ORDER FORM'!B:B,0)),INDEX('ORDER FORM'!N:N,MATCH(TRIM(IMPORT!E385),'ORDER FORM'!B:B,0))),\"\")","v":""}]
["UPLOADUSD",{"$f":"IF('ORDER FORM'!$O$7=\"\",\"ENTER-PO\",'ORDER FORM'!$O$7)","v":"ENTER-PO"},"2021 Spring/Summer",{"$f":"IF('ORDER FORM'!$O$9=\"\",TODAY(),'ORDER FORM'!$O$9)","v":"2023-11-02"},710174,"866","M","2","610306136886",{"$f":"IF(IFERROR(INDEX('ORDER FORM'!$I$96:$L$125,MATCH(CONCATENATE(E386,F386),'ORDER FORM'!$A$96:$A$125,0),MATCH(G386,'ORDER FORM'!$I$119:$L$119,0)),\"\")=0,\"\",IFERROR(INDEX('ORDER FORM'!$I$96:$L$125,MATCH(CONCATENATE(E386,F386),'ORDER FORM'!$A$96:A$125,0),MATCH(G386,'ORDER FORM'!$I$119:$L$119,0)),\"\"))","v":""},{"$f":"IFERROR(IFERROR(INDEX('ORDER FORM'!N:N,MATCH(IMPORT!E386,'ORDER FORM'!B:B,0)),INDEX('ORDER FORM'!N:N,MATCH(TRIM(IMPORT!E386),'ORDER FORM'!B:B,0))),\"\")","v":""}]
["UPLOADUSD",{"$f":"IF('ORDER FORM'!$O$7=\"\",\"ENTER-PO\",'ORDER FORM'!$O$7)","v":"ENTER-PO"},"2021 Spring/Summer",{"$f":"IF('ORDER FORM'!$O$9=\"\",TODAY(),'ORDER FORM'!$O$9)","v":"2023-11-02"},710174,"866","L","2","610306136893",{"$f":"IF(IFERROR(INDEX('ORDER FORM'!$I$96:$L$125,MATCH(CONCATENATE(E387,F387),'ORDER FORM'!$A$96:$A$125,0),MATCH(G387,'ORDER FORM'!$I$119:$L$119,0)),\"\")=0,\"\",IFERROR(INDEX('ORDER FORM'!$I$96:$L$125,MATCH(CONCATENATE(E387,F387),'ORDER FORM'!$A$96:A$125,0),MATCH(G387,'ORDER FORM'!$I$119:$L$119,0)),\"\"))","v":""},{"$f":"IFERROR(IFERROR(INDEX('ORDER FORM'!N:N,MATCH(IMPORT!E387,'ORDER FORM'!B:B,0)),INDEX('ORDER FORM'!N:N,MATCH(TRIM(IMPORT!E387),'ORDER FORM'!B:B,0))),\"\")","v":""}]
[{"$f":"IF(IF($B$1=0,\"ENTER ACCOUNT\",$B$1)=\"\",\"UPLOADUSD\",IF($B$1=0,\"ENTER ACCOUNT\",$B$1))","v":"UPLOADUSD"},{"$f":"IF('ORDER FORM'!$O$7=\"\",\"ENTER-PO\",'ORDER FORM'!$O$7)","v":"ENTER-PO"},{"$f":"$D$1","v":"2021 Spring/Summer"},{"$f":"IF('ORDER FORM'!$O$9=\"\",TODAY(),'ORDER FORM'!$O$9)","v":"2023-11-02"},710174,"866","XL","2","610306136909",{"$f":"IF(IFERROR(INDEX('ORDER FORM'!$I$96:$L$125,MATCH(CONCATENATE(E388,F388),'ORDER FORM'!$A$96:$A$125,0),MATCH(G388,'ORDER FORM'!$I$119:$L$119,0)),\"\")=0,\"\",IFERROR(INDEX('ORDER FORM'!$I$96:$L$125,MATCH(CONCATENATE(E388,F388),'ORDER FORM'!$A$96:A$125,0),MATCH(G388,'ORDER FORM'!$I$119:$L$119,0)),\"\"))","v":""},{"$f":"IFERROR(IFERROR(INDEX('ORDER FORM'!N:N,MATCH(IMPORT!E388,'ORDER FORM'!B:B,0)),INDEX('ORDER FORM'!N:N,MATCH(TRIM(IMPORT!E388),'ORDER FORM'!B:B,0))),\"\")","v":""}]
["UPLOADUSD",{"$f":"IF('ORDER FORM'!$O$7=\"\",\"ENTER-PO\",'ORDER FORM'!$O$7)","v":"ENTER-PO"},"2021 Spring/Summer",{"$f":"IF('ORDER FORM'!$O$9=\"\",TODAY(),'ORDER FORM'!$O$9)","v":"2023-11-02"},710180,"454","S","2","610306137784",{"$f":"IF(IFERROR(INDEX('ORDER FORM'!$I$96:$L$125,MATCH(CONCATENATE(E389,F389),'ORDER FORM'!$A$96:$A$125,0),MATCH(G389,'ORDER FORM'!$I$119:$L$119,0)),\"\")=0,\"\",IFERROR(INDEX('ORDER FORM'!$I$96:$L$125,MATCH(CONCATENATE(E389,F389),'ORDER FORM'!$A$96:A$125,0),MATCH(G389,'ORDER FORM'!$I$119:$L$119,0)),\"\"))","v":""},{"$f":"IFERROR(IFERROR(INDEX('ORDER FORM'!N:N,MATCH(IMPORT!E389,'ORDER FORM'!B:B,0)),INDEX('ORDER FORM'!N:N,MATCH(TRIM(IMPORT!E389),'ORDER FORM'!B:B,0))),\"\")","v":""}]
["UPLOADUSD",{"$f":"IF('ORDER FORM'!$O$7=\"\",\"ENTER-PO\",'ORDER FORM'!$O$7)","v":"ENTER-PO"},"2021 Spring/Summer",{"$f":"IF('ORDER FORM'!$O$9=\"\",TODAY(),'ORDER FORM'!$O$9)","v":"2023-11-02"},710180,"454","M","2","610306137791",{"$f":"IF(IFERROR(INDEX('ORDER FORM'!$I$96:$L$125,MATCH(CONCATENATE(E390,F390),'ORDER FORM'!$A$96:$A$125,0),MATCH(G390,'ORDER FORM'!$I$119:$L$119,0)),\"\")=0,\"\",IFERROR(INDEX('ORDER FORM'!$I$96:$L$125,MATCH(CONCATENATE(E390,F390),'ORDER FORM'!$A$96:A$125,0),MATCH(G390,'ORDER FORM'!$I$119:$L$119,0)),\"\"))","v":""},{"$f":"IFERROR(IFERROR(INDEX('ORDER FORM'!N:N,MATCH(IMPORT!E390,'ORDER FORM'!B:B,0)),INDEX('ORDER FORM'!N:N,MATCH(TRIM(IMPORT!E390),'ORDER FORM'!B:B,0))),\"\")","v":""}]
["UPLOADUSD",{"$f":"IF('ORDER FORM'!$O$7=\"\",\"ENTER-PO\",'ORDER FORM'!$O$7)","v":"ENTER-PO"},"2021 Spring/Summer",{"$f":"IF('ORDER FORM'!$O$9=\"\",TODAY(),'ORDER FORM'!$O$9)","v":"2023-11-02"},710180,"454","L","2","610306137807",{"$f":"IF(IFERROR(INDEX('ORDER FORM'!$I$96:$L$125,MATCH(CONCATENATE(E391,F391),'ORDER FORM'!$A$96:$A$125,0),MATCH(G391,'ORDER FORM'!$I$119:$L$119,0)),\"\")=0,\"\",IFERROR(INDEX('ORDER FORM'!$I$96:$L$125,MATCH(CONCATENATE(E391,F391),'ORDER FORM'!$A$96:A$125,0),MATCH(G391,'ORDER FORM'!$I$119:$L$119,0)),\"\"))","v":""},{"$f":"IFERROR(IFERROR(INDEX('ORDER FORM'!N:N,MATCH(IMPORT!E391,'ORDER FORM'!B:B,0)),INDEX('ORDER FORM'!N:N,MATCH(TRIM(IMPORT!E391),'ORDER FORM'!B:B,0))),\"\")","v":""}]
["UPLOADUSD",{"$f":"IF('ORDER FORM'!$O$7=\"\",\"ENTER-PO\",'ORDER FORM'!$O$7)","v":"ENTER-PO"},"2021 Spring/Summer",{"$f":"IF('ORDER FORM'!$O$9=\"\",TODAY(),'ORDER FORM'!$O$9)","v":"2023-11-02"},710180,"454","XL","2","610306137814",{"$f":"IF(IFERROR(INDEX('ORDER FORM'!$I$96:$L$125,MATCH(CONCATENATE(E392,F392),'ORDER FORM'!$A$96:$A$125,0),MATCH(G392,'ORDER FORM'!$I$119:$L$119,0)),\"\")=0,\"\",IFERROR(INDEX('ORDER FORM'!$I$96:$L$125,MATCH(CONCATENATE(E392,F392),'ORDER FORM'!$A$96:A$125,0),MATCH(G392,'ORDER FORM'!$I$119:$L$119,0)),\"\"))","v":""},{"$f":"IFERROR(IFERROR(INDEX('ORDER FORM'!N:N,MATCH(IMPORT!E392,'ORDER FORM'!B:B,0)),INDEX('ORDER FORM'!N:N,MATCH(TRIM(IMPORT!E392),'ORDER FORM'!B:B,0))),\"\")","v":""}]
["UPLOADUSD",{"$f":"IF('ORDER FORM'!$O$7=\"\",\"ENTER-PO\",'ORDER FORM'!$O$7)","v":"ENTER-PO"},"2021 Spring/Summer",{"$f":"IF('ORDER FORM'!$O$9=\"\",TODAY(),'ORDER FORM'!$O$9)","v":"2023-11-02"},710180,"843","S","2","610306137821",{"$f":"IF(IFERROR(INDEX('ORDER FORM'!$I$96:$L$125,MATCH(CONCATENATE(E393,F393),'ORDER FORM'!$A$96:$A$125,0),MATCH(G393,'ORDER FORM'!$I$119:$L$119,0)),\"\")=0,\"\",IFERROR(INDEX('ORDER FORM'!$I$96:$L$125,MATCH(CONCATENATE(E393,F393),'ORDER FORM'!$A$96:A$125,0),MATCH(G393,'ORDER FORM'!$I$119:$L$119,0)),\"\"))","v":""},{"$f":"IFERROR(IFERROR(INDEX('ORDER FORM'!N:N,MATCH(IMPORT!E393,'ORDER FORM'!B:B,0)),INDEX('ORDER FORM'!N:N,MATCH(TRIM(IMPORT!E393),'ORDER FORM'!B:B,0))),\"\")","v":""}]
["UPLOADUSD",{"$f":"IF('ORDER FORM'!$O$7=\"\",\"ENTER-PO\",'ORDER FORM'!$O$7)","v":"ENTER-PO"},"2021 Spring/Summer",{"$f":"IF('ORDER FORM'!$O$9=\"\",TODAY(),'ORDER FORM'!$O$9)","v":"2023-11-02"},710180,"843","M","2","610306137838",{"$f":"IF(IFERROR(INDEX('ORDER FORM'!$I$96:$L$125,MATCH(CONCATENATE(E394,F394),'ORDER FORM'!$A$96:$A$125,0),MATCH(G394,'ORDER FORM'!$I$119:$L$119,0)),\"\")=0,\"\",IFERROR(INDEX('ORDER FORM'!$I$96:$L$125,MATCH(CONCATENATE(E394,F394),'ORDER FORM'!$A$96:A$125,0),MATCH(G394,'ORDER FORM'!$I$119:$L$119,0)),\"\"))","v":""},{"$f":"IFERROR(IFERROR(INDEX('ORDER FORM'!N:N,MATCH(IMPORT!E394,'ORDER FORM'!B:B,0)),INDEX('ORDER FORM'!N:N,MATCH(TRIM(IMPORT!E394),'ORDER FORM'!B:B,0))),\"\")","v":""}]
["UPLOADUSD",{"$f":"IF('ORDER FORM'!$O$7=\"\",\"ENTER-PO\",'ORDER FORM'!$O$7)","v":"ENTER-PO"},"2021 Spring/Summer",{"$f":"IF('ORDER FORM'!$O$9=\"\",TODAY(),'ORDER FORM'!$O$9)","v":"2023-11-02"},710180,"843","L","2","610306137845",{"$f":"IF(IFERROR(INDEX('ORDER FORM'!$I$96:$L$125,MATCH(CONCATENATE(E395,F395),'ORDER FORM'!$A$96:$A$125,0),MATCH(G395,'ORDER FORM'!$I$119:$L$119,0)),\"\")=0,\"\",IFERROR(INDEX('ORDER FORM'!$I$96:$L$125,MATCH(CONCATENATE(E395,F395),'ORDER FORM'!$A$96:A$125,0),MATCH(G395,'ORDER FORM'!$I$119:$L$119,0)),\"\"))","v":""},{"$f":"IFERROR(IFERROR(INDEX('ORDER FORM'!N:N,MATCH(IMPORT!E395,'ORDER FORM'!B:B,0)),INDEX('ORDER FORM'!N:N,MATCH(TRIM(IMPORT!E395),'ORDER FORM'!B:B,0))),\"\")","v":""}]
["UPLOADUSD",{"$f":"IF('ORDER FORM'!$O$7=\"\",\"ENTER-PO\",'ORDER FORM'!$O$7)","v":"ENTER-PO"},"2021 Spring/Summer",{"$f":"IF('ORDER FORM'!$O$9=\"\",TODAY(),'ORDER FORM'!$O$9)","v":"2023-11-02"},710180,"843","XL","2","610306137852",{"$f":"IF(IFERROR(INDEX('ORDER FORM'!$I$96:$L$125,MATCH(CONCATENATE(E396,F396),'ORDER FORM'!$A$96:$A$125,0),MATCH(G396,'ORDER FORM'!$I$119:$L$119,0)),\"\")=0,\"\",IFERROR(INDEX('ORDER FORM'!$I$96:$L$125,MATCH(CONCATENATE(E396,F396),'ORDER FORM'!$A$96:A$125,0),MATCH(G396,'ORDER FORM'!$I$119:$L$119,0)),\"\"))","v":""},{"$f":"IFERROR(IFERROR(INDEX('ORDER FORM'!N:N,MATCH(IMPORT!E396,'ORDER FORM'!B:B,0)),INDEX('ORDER FORM'!N:N,MATCH(TRIM(IMPORT!E396),'ORDER FORM'!B:B,0))),\"\")","v":""}]
["UPLOADUSD",{"$f":"IF('ORDER FORM'!$O$7=\"\",\"ENTER-PO\",'ORDER FORM'!$O$7)","v":"ENTER-PO"},"2021 Spring/Summer",{"$f":"IF('ORDER FORM'!$O$9=\"\",TODAY(),'ORDER FORM'!$O$9)","v":"2023-11-02"},710181,"863","S","2","610306138453",{"$f":"IF(IFERROR(INDEX('ORDER FORM'!$I$96:$L$125,MATCH(CONCATENATE(E397,F397),'ORDER FORM'!$A$96:$A$125,0),MATCH(G397,'ORDER FORM'!$I$119:$L$119,0)),\"\")=0,\"\",IFERROR(INDEX('ORDER FORM'!$I$96:$L$125,MATCH(CONCATENATE(E397,F397),'ORDER FORM'!$A$96:A$125,0),MATCH(G397,'ORDER FORM'!$I$119:$L$119,0)),\"\"))","v":""},{"$f":"IFERROR(IFERROR(INDEX('ORDER FORM'!N:N,MATCH(IMPORT!E397,'ORDER FORM'!B:B,0)),INDEX('ORDER FORM'!N:N,MATCH(TRIM(IMPORT!E397),'ORDER FORM'!B:B,0))),\"\")","v":""}]
["UPLOADUSD",{"$f":"IF('ORDER FORM'!$O$7=\"\",\"ENTER-PO\",'ORDER FORM'!$O$7)","v":"ENTER-PO"},"2021 Spring/Summer",{"$f":"IF('ORDER FORM'!$O$9=\"\",TODAY(),'ORDER FORM'!$O$9)","v":"2023-11-02"},710181,"863","M","2","610306138460",{"$f":"IF(IFERROR(INDEX('ORDER FORM'!$I$96:$L$125,MATCH(CONCATENATE(E398,F398),'ORDER FORM'!$A$96:$A$125,0),MATCH(G398,'ORDER FORM'!$I$119:$L$119,0)),\"\")=0,\"\",IFERROR(INDEX('ORDER FORM'!$I$96:$L$125,MATCH(CONCATENATE(E398,F398),'ORDER FORM'!$A$96:A$125,0),MATCH(G398,'ORDER FORM'!$I$119:$L$119,0)),\"\"))","v":""},{"$f":"IFERROR(IFERROR(INDEX('ORDER FORM'!N:N,MATCH(IMPORT!E398,'ORDER FORM'!B:B,0)),INDEX('ORDER FORM'!N:N,MATCH(TRIM(IMPORT!E398),'ORDER FORM'!B:B,0))),\"\")","v":""}]
["UPLOADUSD",{"$f":"IF('ORDER FORM'!$O$7=\"\",\"ENTER-PO\",'ORDER FORM'!$O$7)","v":"ENTER-PO"},"2021 Spring/Summer",{"$f":"IF('ORDER FORM'!$O$9=\"\",TODAY(),'ORDER FORM'!$O$9)","v":"2023-11-02"},710181,"863","L","2","610306138477",{"$f":"IF(IFERROR(INDEX('ORDER FORM'!$I$96:$L$125,MATCH(CONCATENATE(E399,F399),'ORDER FORM'!$A$96:$A$125,0),MATCH(G399,'ORDER FORM'!$I$119:$L$119,0)),\"\")=0,\"\",IFERROR(INDEX('ORDER FORM'!$I$96:$L$125,MATCH(CONCATENATE(E399,F399),'ORDER FORM'!$A$96:A$125,0),MATCH(G399,'ORDER FORM'!$I$119:$L$119,0)),\"\"))","v":""},{"$f":"IFERROR(IFERROR(INDEX('ORDER FORM'!N:N,MATCH(IMPORT!E399,'ORDER FORM'!B:B,0)),INDEX('ORDER FORM'!N:N,MATCH(TRIM(IMPORT!E399),'ORDER FORM'!B:B,0))),\"\")","v":""}]
["UPLOADUSD",{"$f":"IF('ORDER FORM'!$O$7=\"\",\"ENTER-PO\",'ORDER FORM'!$O$7)","v":"ENTER-PO"},"2021 Spring/Summer",{"$f":"IF('ORDER FORM'!$O$9=\"\",TODAY(),'ORDER FORM'!$O$9)","v":"2023-11-02"},710181,"863","XL","2","610306138484",{"$f":"IF(IFERROR(INDEX('ORDER FORM'!$I$96:$L$125,MATCH(CONCATENATE(E400,F400),'ORDER FORM'!$A$96:$A$125,0),MATCH(G400,'ORDER FORM'!$I$119:$L$119,0)),\"\")=0,\"\",IFERROR(INDEX('ORDER FORM'!$I$96:$L$125,MATCH(CONCATENATE(E400,F400),'ORDER FORM'!$A$96:A$125,0),MATCH(G400,'ORDER FORM'!$I$119:$L$119,0)),\"\"))","v":""},{"$f":"IFERROR(IFERROR(INDEX('ORDER FORM'!N:N,MATCH(IMPORT!E400,'ORDER FORM'!B:B,0)),INDEX('ORDER FORM'!N:N,MATCH(TRIM(IMPORT!E400),'ORDER FORM'!B:B,0))),\"\")","v":""}]
["UPLOADUSD",{"$f":"IF('ORDER FORM'!$O$7=\"\",\"ENTER-PO\",'ORDER FORM'!$O$7)","v":"ENTER-PO"},"2021 Spring/Summer",{"$f":"IF('ORDER FORM'!$O$9=\"\",TODAY(),'ORDER FORM'!$O$9)","v":"2023-11-02"},710182,"436","S","2","610306138170",{"$f":"IF(IFERROR(INDEX('ORDER FORM'!$I$96:$L$125,MATCH(CONCATENATE(E401,F401),'ORDER FORM'!$A$96:$A$125,0),MATCH(G401,'ORDER FORM'!$I$119:$L$119,0)),\"\")=0,\"\",IFERROR(INDEX('ORDER FORM'!$I$96:$L$125,MATCH(CONCATENATE(E401,F401),'ORDER FORM'!$A$96:A$125,0),MATCH(G401,'ORDER FORM'!$I$119:$L$119,0)),\"\"))","v":""},{"$f":"IFERROR(IFERROR(INDEX('ORDER FORM'!N:N,MATCH(IMPORT!E401,'ORDER FORM'!B:B,0)),INDEX('ORDER FORM'!N:N,MATCH(TRIM(IMPORT!E401),'ORDER FORM'!B:B,0))),\"\")","v":""}]
["UPLOADUSD",{"$f":"IF('ORDER FORM'!$O$7=\"\",\"ENTER-PO\",'ORDER FORM'!$O$7)","v":"ENTER-PO"},"2021 Spring/Summer",{"$f":"IF('ORDER FORM'!$O$9=\"\",TODAY(),'ORDER FORM'!$O$9)","v":"2023-11-02"},710182,"436","M","2","610306138187",{"$f":"IF(IFERROR(INDEX('ORDER FORM'!$I$96:$L$125,MATCH(CONCATENATE(E402,F402),'ORDER FORM'!$A$96:$A$125,0),MATCH(G402,'ORDER FORM'!$I$119:$L$119,0)),\"\")=0,\"\",IFERROR(INDEX('ORDER FORM'!$I$96:$L$125,MATCH(CONCATENATE(E402,F402),'ORDER FORM'!$A$96:A$125,0),MATCH(G402,'ORDER FORM'!$I$119:$L$119,0)),\"\"))","v":""},{"$f":"IFERROR(IFERROR(INDEX('ORDER FORM'!N:N,MATCH(IMPORT!E402,'ORDER FORM'!B:B,0)),INDEX('ORDER FORM'!N:N,MATCH(TRIM(IMPORT!E402),'ORDER FORM'!B:B,0))),\"\")","v":""}]
["UPLOADUSD",{"$f":"IF('ORDER FORM'!$O$7=\"\",\"ENTER-PO\",'ORDER FORM'!$O$7)","v":"ENTER-PO"},"2021 Spring/Summer",{"$f":"IF('ORDER FORM'!$O$9=\"\",TODAY(),'ORDER FORM'!$O$9)","v":"2023-11-02"},710182,"436","L","2","610306138194",{"$f":"IF(IFERROR(INDEX('ORDER FORM'!$I$96:$L$125,MATCH(CONCATENATE(E403,F403),'ORDER FORM'!$A$96:$A$125,0),MATCH(G403,'ORDER FORM'!$I$119:$L$119,0)),\"\")=0,\"\",IFERROR(INDEX('ORDER FORM'!$I$96:$L$125,MATCH(CONCATENATE(E403,F403),'ORDER FORM'!$A$96:A$125,0),MATCH(G403,'ORDER FORM'!$I$119:$L$119,0)),\"\"))","v":""},{"$f":"IFERROR(IFERROR(INDEX('ORDER FORM'!N:N,MATCH(IMPORT!E403,'ORDER FORM'!B:B,0)),INDEX('ORDER FORM'!N:N,MATCH(TRIM(IMPORT!E403),'ORDER FORM'!B:B,0))),\"\")","v":""}]
["UPLOADUSD",{"$f":"IF('ORDER FORM'!$O$7=\"\",\"ENTER-PO\",'ORDER FORM'!$O$7)","v":"ENTER-PO"},"2021 Spring/Summer",{"$f":"IF('ORDER FORM'!$O$9=\"\",TODAY(),'ORDER FORM'!$O$9)","v":"2023-11-02"},710182,"436","XL","2","610306138200",{"$f":"IF(IFERROR(INDEX('ORDER FORM'!$I$96:$L$125,MATCH(CONCATENATE(E404,F404),'ORDER FORM'!$A$96:$A$125,0),MATCH(G404,'ORDER FORM'!$I$119:$L$119,0)),\"\")=0,\"\",IFERROR(INDEX('ORDER FORM'!$I$96:$L$125,MATCH(CONCATENATE(E404,F404),'ORDER FORM'!$A$96:A$125,0),MATCH(G404,'ORDER FORM'!$I$119:$L$119,0)),\"\"))","v":""},{"$f":"IFERROR(IFERROR(INDEX('ORDER FORM'!N:N,MATCH(IMPORT!E404,'ORDER FORM'!B:B,0)),INDEX('ORDER FORM'!N:N,MATCH(TRIM(IMPORT!E404),'ORDER FORM'!B:B,0))),\"\")","v":""}]
["UPLOADUSD",{"$f":"IF('ORDER FORM'!$O$7=\"\",\"ENTER-PO\",'ORDER FORM'!$O$7)","v":"ENTER-PO"},"2021 Spring/Summer",{"$f":"IF('ORDER FORM'!$O$9=\"\",TODAY(),'ORDER FORM'!$O$9)","v":"2023-11-02"},710182,"845","S","2","610306138217",{"$f":"IF(IFERROR(INDEX('ORDER FORM'!$I$96:$L$125,MATCH(CONCATENATE(E405,F405),'ORDER FORM'!$A$96:$A$125,0),MATCH(G405,'ORDER FORM'!$I$119:$L$119,0)),\"\")=0,\"\",IFERROR(INDEX('ORDER FORM'!$I$96:$L$125,MATCH(CONCATENATE(E405,F405),'ORDER FORM'!$A$96:A$125,0),MATCH(G405,'ORDER FORM'!$I$119:$L$119,0)),\"\"))","v":""},{"$f":"IFERROR(IFERROR(INDEX('ORDER FORM'!N:N,MATCH(IMPORT!E405,'ORDER FORM'!B:B,0)),INDEX('ORDER FORM'!N:N,MATCH(TRIM(IMPORT!E405),'ORDER FORM'!B:B,0))),\"\")","v":""}]
["UPLOADUSD",{"$f":"IF('ORDER FORM'!$O$7=\"\",\"ENTER-PO\",'ORDER FORM'!$O$7)","v":"ENTER-PO"},"2021 Spring/Summer",{"$f":"IF('ORDER FORM'!$O$9=\"\",TODAY(),'ORDER FORM'!$O$9)","v":"2023-11-02"},710182,"845","M","2","610306138224",{"$f":"IF(IFERROR(INDEX('ORDER FORM'!$I$96:$L$125,MATCH(CONCATENATE(E406,F406),'ORDER FORM'!$A$96:$A$125,0),MATCH(G406,'ORDER FORM'!$I$119:$L$119,0)),\"\")=0,\"\",IFERROR(INDEX('ORDER FORM'!$I$96:$L$125,MATCH(CONCATENATE(E406,F406),'ORDER FORM'!$A$96:A$125,0),MATCH(G406,'ORDER FORM'!$I$119:$L$119,0)),\"\"))","v":""},{"$f":"IFERROR(IFERROR(INDEX('ORDER FORM'!N:N,MATCH(IMPORT!E406,'ORDER FORM'!B:B,0)),INDEX('ORDER FORM'!N:N,MATCH(TRIM(IMPORT!E406),'ORDER FORM'!B:B,0))),\"\")","v":""}]
["UPLOADUSD",{"$f":"IF('ORDER FORM'!$O$7=\"\",\"ENTER-PO\",'ORDER FORM'!$O$7)","v":"ENTER-PO"},"2021 Spring/Summer",{"$f":"IF('ORDER FORM'!$O$9=\"\",TODAY(),'ORDER FORM'!$O$9)","v":"2023-11-02"},710182,"845","L","2","610306138231",{"$f":"IF(IFERROR(INDEX('ORDER FORM'!$I$96:$L$125,MATCH(CONCATENATE(E407,F407),'ORDER FORM'!$A$96:$A$125,0),MATCH(G407,'ORDER FORM'!$I$119:$L$119,0)),\"\")=0,\"\",IFERROR(INDEX('ORDER FORM'!$I$96:$L$125,MATCH(CONCATENATE(E407,F407),'ORDER FORM'!$A$96:A$125,0),MATCH(G407,'ORDER FORM'!$I$119:$L$119,0)),\"\"))","v":""},{"$f":"IFERROR(IFERROR(INDEX('ORDER FORM'!N:N,MATCH(IMPORT!E407,'ORDER FORM'!B:B,0)),INDEX('ORDER FORM'!N:N,MATCH(TRIM(IMPORT!E407),'ORDER FORM'!B:B,0))),\"\")","v":""}]
["UPLOADUSD",{"$f":"IF('ORDER FORM'!$O$7=\"\",\"ENTER-PO\",'ORDER FORM'!$O$7)","v":"ENTER-PO"},"2021 Spring/Summer",{"$f":"IF('ORDER FORM'!$O$9=\"\",TODAY(),'ORDER FORM'!$O$9)","v":"2023-11-02"},710182,"845","XL","2","610306138248",{"$f":"IF(IFERROR(INDEX('ORDER FORM'!$I$96:$L$125,MATCH(CONCATENATE(E408,F408),'ORDER FORM'!$A$96:$A$125,0),MATCH(G408,'ORDER FORM'!$I$119:$L$119,0)),\"\")=0,\"\",IFERROR(INDEX('ORDER FORM'!$I$96:$L$125,MATCH(CONCATENATE(E408,F408),'ORDER FORM'!$A$96:A$125,0),MATCH(G408,'ORDER FORM'!$I$119:$L$119,0)),\"\"))","v":""},{"$f":"IFERROR(IFERROR(INDEX('ORDER FORM'!N:N,MATCH(IMPORT!E408,'ORDER FORM'!B:B,0)),INDEX('ORDER FORM'!N:N,MATCH(TRIM(IMPORT!E408),'ORDER FORM'!B:B,0))),\"\")","v":""}]
["UPLOADUSD",{"$f":"IF('ORDER FORM'!$O$7=\"\",\"ENTER-PO\",'ORDER FORM'!$O$7)","v":"ENTER-PO"},"2021 Spring/Summer",{"$f":"IF('ORDER FORM'!$O$9=\"\",TODAY(),'ORDER FORM'!$O$9)","v":"2023-11-02"},710184,"621","S","2","610306138316",{"$f":"IF(IFERROR(INDEX('ORDER FORM'!$I$96:$L$125,MATCH(CONCATENATE(E409,F409),'ORDER FORM'!$A$96:$A$125,0),MATCH(G409,'ORDER FORM'!$I$119:$L$119,0)),\"\")=0,\"\",IFERROR(INDEX('ORDER FORM'!$I$96:$L$125,MATCH(CONCATENATE(E409,F409),'ORDER FORM'!$A$96:A$125,0),MATCH(G409,'ORDER FORM'!$I$119:$L$119,0)),\"\"))","v":""},{"$f":"IFERROR(IFERROR(INDEX('ORDER FORM'!N:N,MATCH(IMPORT!E409,'ORDER FORM'!B:B,0)),INDEX('ORDER FORM'!N:N,MATCH(TRIM(IMPORT!E409),'ORDER FORM'!B:B,0))),\"\")","v":""}]
["UPLOADUSD",{"$f":"IF('ORDER FORM'!$O$7=\"\",\"ENTER-PO\",'ORDER FORM'!$O$7)","v":"ENTER-PO"},"2021 Spring/Summer",{"$f":"IF('ORDER FORM'!$O$9=\"\",TODAY(),'ORDER FORM'!$O$9)","v":"2023-11-02"},710184,"621","M","2","610306138323",{"$f":"IF(IFERROR(INDEX('ORDER FORM'!$I$96:$L$125,MATCH(CONCATENATE(E410,F410),'ORDER FORM'!$A$96:$A$125,0),MATCH(G410,'ORDER FORM'!$I$119:$L$119,0)),\"\")=0,\"\",IFERROR(INDEX('ORDER FORM'!$I$96:$L$125,MATCH(CONCATENATE(E410,F410),'ORDER FORM'!$A$96:A$125,0),MATCH(G410,'ORDER FORM'!$I$119:$L$119,0)),\"\"))","v":""},{"$f":"IFERROR(IFERROR(INDEX('ORDER FORM'!N:N,MATCH(IMPORT!E410,'ORDER FORM'!B:B,0)),INDEX('ORDER FORM'!N:N,MATCH(TRIM(IMPORT!E410),'ORDER FORM'!B:B,0))),\"\")","v":""}]
["UPLOADUSD",{"$f":"IF('ORDER FORM'!$O$7=\"\",\"ENTER-PO\",'ORDER FORM'!$O$7)","v":"ENTER-PO"},"2021 Spring/Summer",{"$f":"IF('ORDER FORM'!$O$9=\"\",TODAY(),'ORDER FORM'!$O$9)","v":"2023-11-02"},710184,"621","L","2","610306138330",{"$f":"IF(IFERROR(INDEX('ORDER FORM'!$I$96:$L$125,MATCH(CONCATENATE(E411,F411),'ORDER FORM'!$A$96:$A$125,0),MATCH(G411,'ORDER FORM'!$I$119:$L$119,0)),\"\")=0,\"\",IFERROR(INDEX('ORDER FORM'!$I$96:$L$125,MATCH(CONCATENATE(E411,F411),'ORDER FORM'!$A$96:A$125,0),MATCH(G411,'ORDER FORM'!$I$119:$L$119,0)),\"\"))","v":""},{"$f":"IFERROR(IFERROR(INDEX('ORDER FORM'!N:N,MATCH(IMPORT!E411,'ORDER FORM'!B:B,0)),INDEX('ORDER FORM'!N:N,MATCH(TRIM(IMPORT!E411),'ORDER FORM'!B:B,0))),\"\")","v":""}]
["UPLOADUSD",{"$f":"IF('ORDER FORM'!$O$7=\"\",\"ENTER-PO\",'ORDER FORM'!$O$7)","v":"ENTER-PO"},"2021 Spring/Summer",{"$f":"IF('ORDER FORM'!$O$9=\"\",TODAY(),'ORDER FORM'!$O$9)","v":"2023-11-02"},710184,"621","XL","2","610306138347",{"$f":"IF(IFERROR(INDEX('ORDER FORM'!$I$96:$L$125,MATCH(CONCATENATE(E412,F412),'ORDER FORM'!$A$96:$A$125,0),MATCH(G412,'ORDER FORM'!$I$119:$L$119,0)),\"\")=0,\"\",IFERROR(INDEX('ORDER FORM'!$I$96:$L$125,MATCH(CONCATENATE(E412,F412),'ORDER FORM'!$A$96:A$125,0),MATCH(G412,'ORDER FORM'!$I$119:$L$119,0)),\"\"))","v":""},{"$f":"IFERROR(IFERROR(INDEX('ORDER FORM'!N:N,MATCH(IMPORT!E412,'ORDER FORM'!B:B,0)),INDEX('ORDER FORM'!N:N,MATCH(TRIM(IMPORT!E412),'ORDER FORM'!B:B,0))),\"\")","v":""}]
["UPLOADUSD",{"$f":"IF('ORDER FORM'!$O$7=\"\",\"ENTER-PO\",'ORDER FORM'!$O$7)","v":"ENTER-PO"},"2021 Spring/Summer",{"$f":"IF('ORDER FORM'!$O$9=\"\",TODAY(),'ORDER FORM'!$O$9)","v":"2023-11-02"},710184,"715","S","2","610306138354",{"$f":"IF(IFERROR(INDEX('ORDER FORM'!$I$96:$L$125,MATCH(CONCATENATE(E413,F413),'ORDER FORM'!$A$96:$A$125,0),MATCH(G413,'ORDER FORM'!$I$119:$L$119,0)),\"\")=0,\"\",IFERROR(INDEX('ORDER FORM'!$I$96:$L$125,MATCH(CONCATENATE(E413,F413),'ORDER FORM'!$A$96:A$125,0),MATCH(G413,'ORDER FORM'!$I$119:$L$119,0)),\"\"))","v":""},{"$f":"IFERROR(IFERROR(INDEX('ORDER FORM'!N:N,MATCH(IMPORT!E413,'ORDER FORM'!B:B,0)),INDEX('ORDER FORM'!N:N,MATCH(TRIM(IMPORT!E413),'ORDER FORM'!B:B,0))),\"\")","v":""}]
["UPLOADUSD",{"$f":"IF('ORDER FORM'!$O$7=\"\",\"ENTER-PO\",'ORDER FORM'!$O$7)","v":"ENTER-PO"},"2021 Spring/Summer",{"$f":"IF('ORDER FORM'!$O$9=\"\",TODAY(),'ORDER FORM'!$O$9)","v":"2023-11-02"},710184,"715","M","2","610306138361",{"$f":"IF(IFERROR(INDEX('ORDER FORM'!$I$96:$L$125,MATCH(CONCATENATE(E414,F414),'ORDER FORM'!$A$96:$A$125,0),MATCH(G414,'ORDER FORM'!$I$119:$L$119,0)),\"\")=0,\"\",IFERROR(INDEX('ORDER FORM'!$I$96:$L$125,MATCH(CONCATENATE(E414,F414),'ORDER FORM'!$A$96:A$125,0),MATCH(G414,'ORDER FORM'!$I$119:$L$119,0)),\"\"))","v":""},{"$f":"IFERROR(IFERROR(INDEX('ORDER FORM'!N:N,MATCH(IMPORT!E414,'ORDER FORM'!B:B,0)),INDEX('ORDER FORM'!N:N,MATCH(TRIM(IMPORT!E414),'ORDER FORM'!B:B,0))),\"\")","v":""}]
["UPLOADUSD",{"$f":"IF('ORDER FORM'!$O$7=\"\",\"ENTER-PO\",'ORDER FORM'!$O$7)","v":"ENTER-PO"},"2021 Spring/Summer",{"$f":"IF('ORDER FORM'!$O$9=\"\",TODAY(),'ORDER FORM'!$O$9)","v":"2023-11-02"},710184,"715","L","2","610306138378",{"$f":"IF(IFERROR(INDEX('ORDER FORM'!$I$96:$L$125,MATCH(CONCATENATE(E415,F415),'ORDER FORM'!$A$96:$A$125,0),MATCH(G415,'ORDER FORM'!$I$119:$L$119,0)),\"\")=0,\"\",IFERROR(INDEX('ORDER FORM'!$I$96:$L$125,MATCH(CONCATENATE(E415,F415),'ORDER FORM'!$A$96:A$125,0),MATCH(G415,'ORDER FORM'!$I$119:$L$119,0)),\"\"))","v":""},{"$f":"IFERROR(IFERROR(INDEX('ORDER FORM'!N:N,MATCH(IMPORT!E415,'ORDER FORM'!B:B,0)),INDEX('ORDER FORM'!N:N,MATCH(TRIM(IMPORT!E415),'ORDER FORM'!B:B,0))),\"\")","v":""}]
["UPLOADUSD",{"$f":"IF('ORDER FORM'!$O$7=\"\",\"ENTER-PO\",'ORDER FORM'!$O$7)","v":"ENTER-PO"},"2021 Spring/Summer",{"$f":"IF('ORDER FORM'!$O$9=\"\",TODAY(),'ORDER FORM'!$O$9)","v":"2023-11-02"},710184,"715","XL","2","610306138385",{"$f":"IF(IFERROR(INDEX('ORDER FORM'!$I$96:$L$125,MATCH(CONCATENATE(E416,F416),'ORDER FORM'!$A$96:$A$125,0),MATCH(G416,'ORDER FORM'!$I$119:$L$119,0)),\"\")=0,\"\",IFERROR(INDEX('ORDER FORM'!$I$96:$L$125,MATCH(CONCATENATE(E416,F416),'ORDER FORM'!$A$96:A$125,0),MATCH(G416,'ORDER FORM'!$I$119:$L$119,0)),\"\"))","v":""},{"$f":"IFERROR(IFERROR(INDEX('ORDER FORM'!N:N,MATCH(IMPORT!E416,'ORDER FORM'!B:B,0)),INDEX('ORDER FORM'!N:N,MATCH(TRIM(IMPORT!E416),'ORDER FORM'!B:B,0))),\"\")","v":""}]
["UPLOADUSD",{"$f":"IF('ORDER FORM'!$O$7=\"\",\"ENTER-PO\",'ORDER FORM'!$O$7)","v":"ENTER-PO"},"2021 Spring/Summer",{"$f":"IF('ORDER FORM'!$O$9=\"\",TODAY(),'ORDER FORM'!$O$9)","v":"2023-11-02"},710190,"806","M","2","610306138521",{"$f":"IF(IFERROR(INDEX('ORDER FORM'!$I$96:$L$125,MATCH(CONCATENATE(E417,F417),'ORDER FORM'!$A$96:$A$125,0),MATCH(G417,'ORDER FORM'!$I$119:$L$119,0)),\"\")=0,\"\",IFERROR(INDEX('ORDER FORM'!$I$96:$L$125,MATCH(CONCATENATE(E417,F417),'ORDER FORM'!$A$96:A$125,0),MATCH(G417,'ORDER FORM'!$I$119:$L$119,0)),\"\"))","v":""},{"$f":"IFERROR(IFERROR(INDEX('ORDER FORM'!N:N,MATCH(IMPORT!E417,'ORDER FORM'!B:B,0)),INDEX('ORDER FORM'!N:N,MATCH(TRIM(IMPORT!E417),'ORDER FORM'!B:B,0))),\"\")","v":""}]
["UPLOADUSD",{"$f":"IF('ORDER FORM'!$O$7=\"\",\"ENTER-PO\",'ORDER FORM'!$O$7)","v":"ENTER-PO"},"2021 Spring/Summer",{"$f":"IF('ORDER FORM'!$O$9=\"\",TODAY(),'ORDER FORM'!$O$9)","v":"2023-11-02"},710190,"806","L","2","610306138538",{"$f":"IF(IFERROR(INDEX('ORDER FORM'!$I$96:$L$125,MATCH(CONCATENATE(E418,F418),'ORDER FORM'!$A$96:$A$125,0),MATCH(G418,'ORDER FORM'!$I$119:$L$119,0)),\"\")=0,\"\",IFERROR(INDEX('ORDER FORM'!$I$96:$L$125,MATCH(CONCATENATE(E418,F418),'ORDER FORM'!$A$96:A$125,0),MATCH(G418,'ORDER FORM'!$I$119:$L$119,0)),\"\"))","v":""},{"$f":"IFERROR(IFERROR(INDEX('ORDER FORM'!N:N,MATCH(IMPORT!E418,'ORDER FORM'!B:B,0)),INDEX('ORDER FORM'!N:N,MATCH(TRIM(IMPORT!E418),'ORDER FORM'!B:B,0))),\"\")","v":""}]
["UPLOADUSD",{"$f":"IF('ORDER FORM'!$O$7=\"\",\"ENTER-PO\",'ORDER FORM'!$O$7)","v":"ENTER-PO"},"2021 Spring/Summer",{"$f":"IF('ORDER FORM'!$O$9=\"\",TODAY(),'ORDER FORM'!$O$9)","v":"2023-11-02"},710190,"806","XL","2","610306138545",{"$f":"IF(IFERROR(INDEX('ORDER FORM'!$I$96:$L$125,MATCH(CONCATENATE(E419,F419),'ORDER FORM'!$A$96:$A$125,0),MATCH(G419,'ORDER FORM'!$I$119:$L$119,0)),\"\")=0,\"\",IFERROR(INDEX('ORDER FORM'!$I$96:$L$125,MATCH(CONCATENATE(E419,F419),'ORDER FORM'!$A$96:A$125,0),MATCH(G419,'ORDER FORM'!$I$119:$L$119,0)),\"\"))","v":""},{"$f":"IFERROR(IFERROR(INDEX('ORDER FORM'!N:N,MATCH(IMPORT!E419,'ORDER FORM'!B:B,0)),INDEX('ORDER FORM'!N:N,MATCH(TRIM(IMPORT!E419),'ORDER FORM'!B:B,0))),\"\")","v":""}]
["UPLOADUSD",{"$f":"IF('ORDER FORM'!$O$7=\"\",\"ENTER-PO\",'ORDER FORM'!$O$7)","v":"ENTER-PO"},"2021 Spring/Summer",{"$f":"IF('ORDER FORM'!$O$9=\"\",TODAY(),'ORDER FORM'!$O$9)","v":"2023-11-02"},710190,"846","M","2","610306138552",{"$f":"IF(IFERROR(INDEX('ORDER FORM'!$I$96:$L$125,MATCH(CONCATENATE(E420,F420),'ORDER FORM'!$A$96:$A$125,0),MATCH(G420,'ORDER FORM'!$I$119:$L$119,0)),\"\")=0,\"\",IFERROR(INDEX('ORDER FORM'!$I$96:$L$125,MATCH(CONCATENATE(E420,F420),'ORDER FORM'!$A$96:A$125,0),MATCH(G420,'ORDER FORM'!$I$119:$L$119,0)),\"\"))","v":""},{"$f":"IFERROR(IFERROR(INDEX('ORDER FORM'!N:N,MATCH(IMPORT!E420,'ORDER FORM'!B:B,0)),INDEX('ORDER FORM'!N:N,MATCH(TRIM(IMPORT!E420),'ORDER FORM'!B:B,0))),\"\")","v":""}]
["UPLOADUSD",{"$f":"IF('ORDER FORM'!$O$7=\"\",\"ENTER-PO\",'ORDER FORM'!$O$7)","v":"ENTER-PO"},"2021 Spring/Summer",{"$f":"IF('ORDER FORM'!$O$9=\"\",TODAY(),'ORDER FORM'!$O$9)","v":"2023-11-02"},710190,"846","L","2","610306138569",{"$f":"IF(IFERROR(INDEX('ORDER FORM'!$I$96:$L$125,MATCH(CONCATENATE(E421,F421),'ORDER FORM'!$A$96:$A$125,0),MATCH(G421,'ORDER FORM'!$I$119:$L$119,0)),\"\")=0,\"\",IFERROR(INDEX('ORDER FORM'!$I$96:$L$125,MATCH(CONCATENATE(E421,F421),'ORDER FORM'!$A$96:A$125,0),MATCH(G421,'ORDER FORM'!$I$119:$L$119,0)),\"\"))","v":""},{"$f":"IFERROR(IFERROR(INDEX('ORDER FORM'!N:N,MATCH(IMPORT!E421,'ORDER FORM'!B:B,0)),INDEX('ORDER FORM'!N:N,MATCH(TRIM(IMPORT!E421),'ORDER FORM'!B:B,0))),\"\")","v":""}]
["UPLOADUSD",{"$f":"IF('ORDER FORM'!$O$7=\"\",\"ENTER-PO\",'ORDER FORM'!$O$7)","v":"ENTER-PO"},"2021 Spring/Summer",{"$f":"IF('ORDER FORM'!$O$9=\"\",TODAY(),'ORDER FORM'!$O$9)","v":"2023-11-02"},710190,"846","XL","2","610306138576",{"$f":"IF(IFERROR(INDEX('ORDER FORM'!$I$96:$L$125,MATCH(CONCATENATE(E422,F422),'ORDER FORM'!$A$96:$A$125,0),MATCH(G422,'ORDER FORM'!$I$119:$L$119,0)),\"\")=0,\"\",IFERROR(INDEX('ORDER FORM'!$I$96:$L$125,MATCH(CONCATENATE(E422,F422),'ORDER FORM'!$A$96:A$125,0),MATCH(G422,'ORDER FORM'!$I$119:$L$119,0)),\"\"))","v":""},{"$f":"IFERROR(IFERROR(INDEX('ORDER FORM'!N:N,MATCH(IMPORT!E422,'ORDER FORM'!B:B,0)),INDEX('ORDER FORM'!N:N,MATCH(TRIM(IMPORT!E422),'ORDER FORM'!B:B,0))),\"\")","v":""}]
["UPLOADUSD",{"$f":"IF('ORDER FORM'!$O$7=\"\",\"ENTER-PO\",'ORDER FORM'!$O$7)","v":"ENTER-PO"},"2021 Spring/Summer",{"$f":"IF('ORDER FORM'!$O$9=\"\",TODAY(),'ORDER FORM'!$O$9)","v":"2023-11-02"},710190,"866","M","2","610306138583",{"$f":"IF(IFERROR(INDEX('ORDER FORM'!$I$96:$L$125,MATCH(CONCATENATE(E423,F423),'ORDER FORM'!$A$96:$A$125,0),MATCH(G423,'ORDER FORM'!$I$119:$L$119,0)),\"\")=0,\"\",IFERROR(INDEX('ORDER FORM'!$I$96:$L$125,MATCH(CONCATENATE(E423,F423),'ORDER FORM'!$A$96:A$125,0),MATCH(G423,'ORDER FORM'!$I$119:$L$119,0)),\"\"))","v":""},{"$f":"IFERROR(IFERROR(INDEX('ORDER FORM'!N:N,MATCH(IMPORT!E423,'ORDER FORM'!B:B,0)),INDEX('ORDER FORM'!N:N,MATCH(TRIM(IMPORT!E423),'ORDER FORM'!B:B,0))),\"\")","v":""}]
["UPLOADUSD",{"$f":"IF('ORDER FORM'!$O$7=\"\",\"ENTER-PO\",'ORDER FORM'!$O$7)","v":"ENTER-PO"},"2021 Spring/Summer",{"$f":"IF('ORDER FORM'!$O$9=\"\",TODAY(),'ORDER FORM'!$O$9)","v":"2023-11-02"},710190,"866","L","2","610306138590",{"$f":"IF(IFERROR(INDEX('ORDER FORM'!$I$96:$L$125,MATCH(CONCATENATE(E424,F424),'ORDER FORM'!$A$96:$A$125,0),MATCH(G424,'ORDER FORM'!$I$119:$L$119,0)),\"\")=0,\"\",IFERROR(INDEX('ORDER FORM'!$I$96:$L$125,MATCH(CONCATENATE(E424,F424),'ORDER FORM'!$A$96:A$125,0),MATCH(G424,'ORDER FORM'!$I$119:$L$119,0)),\"\"))","v":""},{"$f":"IFERROR(IFERROR(INDEX('ORDER FORM'!N:N,MATCH(IMPORT!E424,'ORDER FORM'!B:B,0)),INDEX('ORDER FORM'!N:N,MATCH(TRIM(IMPORT!E424),'ORDER FORM'!B:B,0))),\"\")","v":""}]
["UPLOADUSD",{"$f":"IF('ORDER FORM'!$O$7=\"\",\"ENTER-PO\",'ORDER FORM'!$O$7)","v":"ENTER-PO"},"2021 Spring/Summer",{"$f":"IF('ORDER FORM'!$O$9=\"\",TODAY(),'ORDER FORM'!$O$9)","v":"2023-11-02"},710190,"866","XL","2","610306138606",{"$f":"IF(IFERROR(INDEX('ORDER FORM'!$I$96:$L$125,MATCH(CONCATENATE(E425,F425),'ORDER FORM'!$A$96:$A$125,0),MATCH(G425,'ORDER FORM'!$I$119:$L$119,0)),\"\")=0,\"\",IFERROR(INDEX('ORDER FORM'!$I$96:$L$125,MATCH(CONCATENATE(E425,F425),'ORDER FORM'!$A$96:A$125,0),MATCH(G425,'ORDER FORM'!$I$119:$L$119,0)),\"\"))","v":""},{"$f":"IFERROR(IFERROR(INDEX('ORDER FORM'!N:N,MATCH(IMPORT!E425,'ORDER FORM'!B:B,0)),INDEX('ORDER FORM'!N:N,MATCH(TRIM(IMPORT!E425),'ORDER FORM'!B:B,0))),\"\")","v":""}]
["UPLOADUSD",{"$f":"IF('ORDER FORM'!$O$7=\"\",\"ENTER-PO\",'ORDER FORM'!$O$7)","v":"ENTER-PO"},"2021 Spring/Summer",{"$f":"IF('ORDER FORM'!$O$9=\"\",TODAY(),'ORDER FORM'!$O$9)","v":"2023-11-02"},710196,"845","S","2","610306139030",{"$f":"IF(IFERROR(INDEX('ORDER FORM'!$I$96:$L$125,MATCH(CONCATENATE(E426,F426),'ORDER FORM'!$A$96:$A$125,0),MATCH(G426,'ORDER FORM'!$I$119:$L$119,0)),\"\")=0,\"\",IFERROR(INDEX('ORDER FORM'!$I$96:$L$125,MATCH(CONCATENATE(E426,F426),'ORDER FORM'!$A$96:A$125,0),MATCH(G426,'ORDER FORM'!$I$119:$L$119,0)),\"\"))","v":""},{"$f":"IFERROR(IFERROR(INDEX('ORDER FORM'!N:N,MATCH(IMPORT!E426,'ORDER FORM'!B:B,0)),INDEX('ORDER FORM'!N:N,MATCH(TRIM(IMPORT!E426),'ORDER FORM'!B:B,0))),\"\")","v":""}]
["UPLOADUSD",{"$f":"IF('ORDER FORM'!$O$7=\"\",\"ENTER-PO\",'ORDER FORM'!$O$7)","v":"ENTER-PO"},"2021 Spring/Summer",{"$f":"IF('ORDER FORM'!$O$9=\"\",TODAY(),'ORDER FORM'!$O$9)","v":"2023-11-02"},710196,"845","M","2","610306139047",{"$f":"IF(IFERROR(INDEX('ORDER FORM'!$I$96:$L$125,MATCH(CONCATENATE(E427,F427),'ORDER FORM'!$A$96:$A$125,0),MATCH(G427,'ORDER FORM'!$I$119:$L$119,0)),\"\")=0,\"\",IFERROR(INDEX('ORDER FORM'!$I$96:$L$125,MATCH(CONCATENATE(E427,F427),'ORDER FORM'!$A$96:A$125,0),MATCH(G427,'ORDER FORM'!$I$119:$L$119,0)),\"\"))","v":""},{"$f":"IFERROR(IFERROR(INDEX('ORDER FORM'!N:N,MATCH(IMPORT!E427,'ORDER FORM'!B:B,0)),INDEX('ORDER FORM'!N:N,MATCH(TRIM(IMPORT!E427),'ORDER FORM'!B:B,0))),\"\")","v":""}]
["UPLOADUSD",{"$f":"IF('ORDER FORM'!$O$7=\"\",\"ENTER-PO\",'ORDER FORM'!$O$7)","v":"ENTER-PO"},"2021 Spring/Summer",{"$f":"IF('ORDER FORM'!$O$9=\"\",TODAY(),'ORDER FORM'!$O$9)","v":"2023-11-02"},710196,"845","L","2","610306139054",{"$f":"IF(IFERROR(INDEX('ORDER FORM'!$I$96:$L$125,MATCH(CONCATENATE(E428,F428),'ORDER FORM'!$A$96:$A$125,0),MATCH(G428,'ORDER FORM'!$I$119:$L$119,0)),\"\")=0,\"\",IFERROR(INDEX('ORDER FORM'!$I$96:$L$125,MATCH(CONCATENATE(E428,F428),'ORDER FORM'!$A$96:A$125,0),MATCH(G428,'ORDER FORM'!$I$119:$L$119,0)),\"\"))","v":""},{"$f":"IFERROR(IFERROR(INDEX('ORDER FORM'!N:N,MATCH(IMPORT!E428,'ORDER FORM'!B:B,0)),INDEX('ORDER FORM'!N:N,MATCH(TRIM(IMPORT!E428),'ORDER FORM'!B:B,0))),\"\")","v":""}]
["UPLOADUSD",{"$f":"IF('ORDER FORM'!$O$7=\"\",\"ENTER-PO\",'ORDER FORM'!$O$7)","v":"ENTER-PO"},"2021 Spring/Summer",{"$f":"IF('ORDER FORM'!$O$9=\"\",TODAY(),'ORDER FORM'!$O$9)","v":"2023-11-02"},710199,"013","S","2","610306155078",{"$f":"IF(IFERROR(INDEX('ORDER FORM'!$I$96:$L$125,MATCH(CONCATENATE(E429,F429),'ORDER FORM'!$A$96:$A$125,0),MATCH(G429,'ORDER FORM'!$I$119:$L$119,0)),\"\")=0,\"\",IFERROR(INDEX('ORDER FORM'!$I$96:$L$125,MATCH(CONCATENATE(E429,F429),'ORDER FORM'!$A$96:A$125,0),MATCH(G429,'ORDER FORM'!$I$119:$L$119,0)),\"\"))","v":""},{"$f":"IFERROR(IFERROR(INDEX('ORDER FORM'!N:N,MATCH(IMPORT!E429,'ORDER FORM'!B:B,0)),INDEX('ORDER FORM'!N:N,MATCH(TRIM(IMPORT!E429),'ORDER FORM'!B:B,0))),\"\")","v":{"v":12,"d":"12.00"}}]
["UPLOADUSD",{"$f":"IF('ORDER FORM'!$O$7=\"\",\"ENTER-PO\",'ORDER FORM'!$O$7)","v":"ENTER-PO"},"2021 Spring/Summer",{"$f":"IF('ORDER FORM'!$O$9=\"\",TODAY(),'ORDER FORM'!$O$9)","v":"2023-11-02"},710199,"013","M","2","610306155085",{"$f":"IF(IFERROR(INDEX('ORDER FORM'!$I$96:$L$125,MATCH(CONCATENATE(E430,F430),'ORDER FORM'!$A$96:$A$125,0),MATCH(G430,'ORDER FORM'!$I$119:$L$119,0)),\"\")=0,\"\",IFERROR(INDEX('ORDER FORM'!$I$96:$L$125,MATCH(CONCATENATE(E430,F430),'ORDER FORM'!$A$96:A$125,0),MATCH(G430,'ORDER FORM'!$I$119:$L$119,0)),\"\"))","v":""},{"$f":"IFERROR(IFERROR(INDEX('ORDER FORM'!N:N,MATCH(IMPORT!E430,'ORDER FORM'!B:B,0)),INDEX('ORDER FORM'!N:N,MATCH(TRIM(IMPORT!E430),'ORDER FORM'!B:B,0))),\"\")","v":{"v":12,"d":"12.00"}}]
["UPLOADUSD",{"$f":"IF('ORDER FORM'!$O$7=\"\",\"ENTER-PO\",'ORDER FORM'!$O$7)","v":"ENTER-PO"},"2021 Spring/Summer",{"$f":"IF('ORDER FORM'!$O$9=\"\",TODAY(),'ORDER FORM'!$O$9)","v":"2023-11-02"},710199,"013","L","2","610306155092",{"$f":"IF(IFERROR(INDEX('ORDER FORM'!$I$96:$L$125,MATCH(CONCATENATE(E431,F431),'ORDER FORM'!$A$96:$A$125,0),MATCH(G431,'ORDER FORM'!$I$119:$L$119,0)),\"\")=0,\"\",IFERROR(INDEX('ORDER FORM'!$I$96:$L$125,MATCH(CONCATENATE(E431,F431),'ORDER FORM'!$A$96:A$125,0),MATCH(G431,'ORDER FORM'!$I$119:$L$119,0)),\"\"))","v":""},{"$f":"IFERROR(IFERROR(INDEX('ORDER FORM'!N:N,MATCH(IMPORT!E431,'ORDER FORM'!B:B,0)),INDEX('ORDER FORM'!N:N,MATCH(TRIM(IMPORT!E431),'ORDER FORM'!B:B,0))),\"\")","v":{"v":12,"d":"12.00"}}]
["UPLOADUSD",{"$f":"IF('ORDER FORM'!$O$7=\"\",\"ENTER-PO\",'ORDER FORM'!$O$7)","v":"ENTER-PO"},"2021 Spring/Summer",{"$f":"IF('ORDER FORM'!$O$9=\"\",TODAY(),'ORDER FORM'!$O$9)","v":"2023-11-02"},710199,"013","XL","2","610306155108",{"$f":"IF(IFERROR(INDEX('ORDER FORM'!$I$96:$L$125,MATCH(CONCATENATE(E432,F432),'ORDER FORM'!$A$96:$A$125,0),MATCH(G432,'ORDER FORM'!$I$119:$L$119,0)),\"\")=0,\"\",IFERROR(INDEX('ORDER FORM'!$I$96:$L$125,MATCH(CONCATENATE(E432,F432),'ORDER FORM'!$A$96:A$125,0),MATCH(G432,'ORDER FORM'!$I$119:$L$119,0)),\"\"))","v":""},{"$f":"IFERROR(IFERROR(INDEX('ORDER FORM'!N:N,MATCH(IMPORT!E432,'ORDER FORM'!B:B,0)),INDEX('ORDER FORM'!N:N,MATCH(TRIM(IMPORT!E432),'ORDER FORM'!B:B,0))),\"\")","v":{"v":12,"d":"12.00"}}]
["UPLOADUSD",{"$f":"IF('ORDER FORM'!$O$7=\"\",\"ENTER-PO\",'ORDER FORM'!$O$7)","v":"ENTER-PO"},"2021 Spring/Summer",{"$f":"IF('ORDER FORM'!$O$9=\"\",TODAY(),'ORDER FORM'!$O$9)","v":"2023-11-02"},710199,"219","S","2","610306155115",{"$f":"IF(IFERROR(INDEX('ORDER FORM'!$I$96:$L$125,MATCH(CONCATENATE(E433,F433),'ORDER FORM'!$A$96:$A$125,0),MATCH(G433,'ORDER FORM'!$I$119:$L$119,0)),\"\")=0,\"\",IFERROR(INDEX('ORDER FORM'!$I$96:$L$125,MATCH(CONCATENATE(E433,F433),'ORDER FORM'!$A$96:A$125,0),MATCH(G433,'ORDER FORM'!$I$119:$L$119,0)),\"\"))","v":""},{"$f":"IFERROR(IFERROR(INDEX('ORDER FORM'!N:N,MATCH(IMPORT!E433,'ORDER FORM'!B:B,0)),INDEX('ORDER FORM'!N:N,MATCH(TRIM(IMPORT!E433),'ORDER FORM'!B:B,0))),\"\")","v":{"v":12,"d":"12.00"}}]
["UPLOADUSD",{"$f":"IF('ORDER FORM'!$O$7=\"\",\"ENTER-PO\",'ORDER FORM'!$O$7)","v":"ENTER-PO"},"2021 Spring/Summer",{"$f":"IF('ORDER FORM'!$O$9=\"\",TODAY(),'ORDER FORM'!$O$9)","v":"2023-11-02"},710199,"219","M","2","610306155122",{"$f":"IF(IFERROR(INDEX('ORDER FORM'!$I$96:$L$125,MATCH(CONCATENATE(E434,F434),'ORDER FORM'!$A$96:$A$125,0),MATCH(G434,'ORDER FORM'!$I$119:$L$119,0)),\"\")=0,\"\",IFERROR(INDEX('ORDER FORM'!$I$96:$L$125,MATCH(CONCATENATE(E434,F434),'ORDER FORM'!$A$96:A$125,0),MATCH(G434,'ORDER FORM'!$I$119:$L$119,0)),\"\"))","v":""},{"$f":"IFERROR(IFERROR(INDEX('ORDER FORM'!N:N,MATCH(IMPORT!E434,'ORDER FORM'!B:B,0)),INDEX('ORDER FORM'!N:N,MATCH(TRIM(IMPORT!E434),'ORDER FORM'!B:B,0))),\"\")","v":{"v":12,"d":"12.00"}}]
["UPLOADUSD",{"$f":"IF('ORDER FORM'!$O$7=\"\",\"ENTER-PO\",'ORDER FORM'!$O$7)","v":"ENTER-PO"},"2021 Spring/Summer",{"$f":"IF('ORDER FORM'!$O$9=\"\",TODAY(),'ORDER FORM'!$O$9)","v":"2023-11-02"},710199,"219","L","2","610306155139",{"$f":"IF(IFERROR(INDEX('ORDER FORM'!$I$96:$L$125,MATCH(CONCATENATE(E435,F435),'ORDER FORM'!$A$96:$A$125,0),MATCH(G435,'ORDER FORM'!$I$119:$L$119,0)),\"\")=0,\"\",IFERROR(INDEX('ORDER FORM'!$I$96:$L$125,MATCH(CONCATENATE(E435,F435),'ORDER FORM'!$A$96:A$125,0),MATCH(G435,'ORDER FORM'!$I$119:$L$119,0)),\"\"))","v":""},{"$f":"IFERROR(IFERROR(INDEX('ORDER FORM'!N:N,MATCH(IMPORT!E435,'ORDER FORM'!B:B,0)),INDEX('ORDER FORM'!N:N,MATCH(TRIM(IMPORT!E435),'ORDER FORM'!B:B,0))),\"\")","v":{"v":12,"d":"12.00"}}]
["UPLOADUSD",{"$f":"IF('ORDER FORM'!$O$7=\"\",\"ENTER-PO\",'ORDER FORM'!$O$7)","v":"ENTER-PO"},"2021 Spring/Summer",{"$f":"IF('ORDER FORM'!$O$9=\"\",TODAY(),'ORDER FORM'!$O$9)","v":"2023-11-02"},710199,"219","XL","2","610306155146",{"$f":"IF(IFERROR(INDEX('ORDER FORM'!$I$96:$L$125,MATCH(CONCATENATE(E436,F436),'ORDER FORM'!$A$96:$A$125,0),MATCH(G436,'ORDER FORM'!$I$119:$L$119,0)),\"\")=0,\"\",IFERROR(INDEX('ORDER FORM'!$I$96:$L$125,MATCH(CONCATENATE(E436,F436),'ORDER FORM'!$A$96:A$125,0),MATCH(G436,'ORDER FORM'!$I$119:$L$119,0)),\"\"))","v":""},{"$f":"IFERROR(IFERROR(INDEX('ORDER FORM'!N:N,MATCH(IMPORT!E436,'ORDER FORM'!B:B,0)),INDEX('ORDER FORM'!N:N,MATCH(TRIM(IMPORT!E436),'ORDER FORM'!B:B,0))),\"\")","v":{"v":12,"d":"12.00"}}]
["UPLOADUSD",{"$f":"IF('ORDER FORM'!$O$7=\"\",\"ENTER-PO\",'ORDER FORM'!$O$7)","v":"ENTER-PO"},"2021 Spring/Summer",{"$f":"IF('ORDER FORM'!$O$9=\"\",TODAY(),'ORDER FORM'!$O$9)","v":"2023-11-02"},710199,"325","S","2","610306160362",{"$f":"IF(IFERROR(INDEX('ORDER FORM'!$I$96:$L$125,MATCH(CONCATENATE(E437,F437),'ORDER FORM'!$A$96:$A$125,0),MATCH(G437,'ORDER FORM'!$I$119:$L$119,0)),\"\")=0,\"\",IFERROR(INDEX('ORDER FORM'!$I$96:$L$125,MATCH(CONCATENATE(E437,F437),'ORDER FORM'!$A$96:A$125,0),MATCH(G437,'ORDER FORM'!$I$119:$L$119,0)),\"\"))","v":""},{"$f":"IFERROR(IFERROR(INDEX('ORDER FORM'!N:N,MATCH(IMPORT!E437,'ORDER FORM'!B:B,0)),INDEX('ORDER FORM'!N:N,MATCH(TRIM(IMPORT!E437),'ORDER FORM'!B:B,0))),\"\")","v":{"v":12,"d":"12.00"}}]
["UPLOADUSD",{"$f":"IF('ORDER FORM'!$O$7=\"\",\"ENTER-PO\",'ORDER FORM'!$O$7)","v":"ENTER-PO"},"2021 Spring/Summer",{"$f":"IF('ORDER FORM'!$O$9=\"\",TODAY(),'ORDER FORM'!$O$9)","v":"2023-11-02"},710199,"325","M","2","610306160379",{"$f":"IF(IFERROR(INDEX('ORDER FORM'!$I$96:$L$125,MATCH(CONCATENATE(E438,F438),'ORDER FORM'!$A$96:$A$125,0),MATCH(G438,'ORDER FORM'!$I$119:$L$119,0)),\"\")=0,\"\",IFERROR(INDEX('ORDER FORM'!$I$96:$L$125,MATCH(CONCATENATE(E438,F438),'ORDER FORM'!$A$96:A$125,0),MATCH(G438,'ORDER FORM'!$I$119:$L$119,0)),\"\"))","v":""},{"$f":"IFERROR(IFERROR(INDEX('ORDER FORM'!N:N,MATCH(IMPORT!E438,'ORDER FORM'!B:B,0)),INDEX('ORDER FORM'!N:N,MATCH(TRIM(IMPORT!E438),'ORDER FORM'!B:B,0))),\"\")","v":{"v":12,"d":"12.00"}}]
["UPLOADUSD",{"$f":"IF('ORDER FORM'!$O$7=\"\",\"ENTER-PO\",'ORDER FORM'!$O$7)","v":"ENTER-PO"},"2021 Spring/Summer",{"$f":"IF('ORDER FORM'!$O$9=\"\",TODAY(),'ORDER FORM'!$O$9)","v":"2023-11-02"},710199,"325","L","2","610306160386",{"$f":"IF(IFERROR(INDEX('ORDER FORM'!$I$96:$L$125,MATCH(CONCATENATE(E439,F439),'ORDER FORM'!$A$96:$A$125,0),MATCH(G439,'ORDER FORM'!$I$119:$L$119,0)),\"\")=0,\"\",IFERROR(INDEX('ORDER FORM'!$I$96:$L$125,MATCH(CONCATENATE(E439,F439),'ORDER FORM'!$A$96:A$125,0),MATCH(G439,'ORDER FORM'!$I$119:$L$119,0)),\"\"))","v":""},{"$f":"IFERROR(IFERROR(INDEX('ORDER FORM'!N:N,MATCH(IMPORT!E439,'ORDER FORM'!B:B,0)),INDEX('ORDER FORM'!N:N,MATCH(TRIM(IMPORT!E439),'ORDER FORM'!B:B,0))),\"\")","v":{"v":12,"d":"12.00"}}]
["UPLOADUSD",{"$f":"IF('ORDER FORM'!$O$7=\"\",\"ENTER-PO\",'ORDER FORM'!$O$7)","v":"ENTER-PO"},"2021 Spring/Summer",{"$f":"IF('ORDER FORM'!$O$9=\"\",TODAY(),'ORDER FORM'!$O$9)","v":"2023-11-02"},710199,"325","XL","2","610306160393",{"$f":"IF(IFERROR(INDEX('ORDER FORM'!$I$96:$L$125,MATCH(CONCATENATE(E440,F440),'ORDER FORM'!$A$96:$A$125,0),MATCH(G440,'ORDER FORM'!$I$119:$L$119,0)),\"\")=0,\"\",IFERROR(INDEX('ORDER FORM'!$I$96:$L$125,MATCH(CONCATENATE(E440,F440),'ORDER FORM'!$A$96:A$125,0),MATCH(G440,'ORDER FORM'!$I$119:$L$119,0)),\"\"))","v":""},{"$f":"IFERROR(IFERROR(INDEX('ORDER FORM'!N:N,MATCH(IMPORT!E440,'ORDER FORM'!B:B,0)),INDEX('ORDER FORM'!N:N,MATCH(TRIM(IMPORT!E440),'ORDER FORM'!B:B,0))),\"\")","v":{"v":12,"d":"12.00"}}]
["UPLOADUSD",{"$f":"IF('ORDER FORM'!$O$7=\"\",\"ENTER-PO\",'ORDER FORM'!$O$7)","v":"ENTER-PO"},"2021 Spring/Summer",{"$f":"IF('ORDER FORM'!$O$9=\"\",TODAY(),'ORDER FORM'!$O$9)","v":"2023-11-02"},710199,"436","S","2","610306160287",{"$f":"IF(IFERROR(INDEX('ORDER FORM'!$I$96:$L$125,MATCH(CONCATENATE(E441,F441),'ORDER FORM'!$A$96:$A$125,0),MATCH(G441,'ORDER FORM'!$I$119:$L$119,0)),\"\")=0,\"\",IFERROR(INDEX('ORDER FORM'!$I$96:$L$125,MATCH(CONCATENATE(E441,F441),'ORDER FORM'!$A$96:A$125,0),MATCH(G441,'ORDER FORM'!$I$119:$L$119,0)),\"\"))","v":""},{"$f":"IFERROR(IFERROR(INDEX('ORDER FORM'!N:N,MATCH(IMPORT!E441,'ORDER FORM'!B:B,0)),INDEX('ORDER FORM'!N:N,MATCH(TRIM(IMPORT!E441),'ORDER FORM'!B:B,0))),\"\")","v":{"v":12,"d":"12.00"}}]
["UPLOADUSD",{"$f":"IF('ORDER FORM'!$O$7=\"\",\"ENTER-PO\",'ORDER FORM'!$O$7)","v":"ENTER-PO"},"2021 Spring/Summer",{"$f":"IF('ORDER FORM'!$O$9=\"\",TODAY(),'ORDER FORM'!$O$9)","v":"2023-11-02"},710199,"436","M","2","610306160294",{"$f":"IF(IFERROR(INDEX('ORDER FORM'!$I$96:$L$125,MATCH(CONCATENATE(E442,F442),'ORDER FORM'!$A$96:$A$125,0),MATCH(G442,'ORDER FORM'!$I$119:$L$119,0)),\"\")=0,\"\",IFERROR(INDEX('ORDER FORM'!$I$96:$L$125,MATCH(CONCATENATE(E442,F442),'ORDER FORM'!$A$96:A$125,0),MATCH(G442,'ORDER FORM'!$I$119:$L$119,0)),\"\"))","v":""},{"$f":"IFERROR(IFERROR(INDEX('ORDER FORM'!N:N,MATCH(IMPORT!E442,'ORDER FORM'!B:B,0)),INDEX('ORDER FORM'!N:N,MATCH(TRIM(IMPORT!E442),'ORDER FORM'!B:B,0))),\"\")","v":{"v":12,"d":"12.00"}}]
["UPLOADUSD",{"$f":"IF('ORDER FORM'!$O$7=\"\",\"ENTER-PO\",'ORDER FORM'!$O$7)","v":"ENTER-PO"},"2021 Spring/Summer",{"$f":"IF('ORDER FORM'!$O$9=\"\",TODAY(),'ORDER FORM'!$O$9)","v":"2023-11-02"},710199,"436","L","2","610306160300",{"$f":"IF(IFERROR(INDEX('ORDER FORM'!$I$96:$L$125,MATCH(CONCATENATE(E443,F443),'ORDER FORM'!$A$96:$A$125,0),MATCH(G443,'ORDER FORM'!$I$119:$L$119,0)),\"\")=0,\"\",IFERROR(INDEX('ORDER FORM'!$I$96:$L$125,MATCH(CONCATENATE(E443,F443),'ORDER FORM'!$A$96:A$125,0),MATCH(G443,'ORDER FORM'!$I$119:$L$119,0)),\"\"))","v":""},{"$f":"IFERROR(IFERROR(INDEX('ORDER FORM'!N:N,MATCH(IMPORT!E443,'ORDER FORM'!B:B,0)),INDEX('ORDER FORM'!N:N,MATCH(TRIM(IMPORT!E443),'ORDER FORM'!B:B,0))),\"\")","v":{"v":12,"d":"12.00"}}]
["UPLOADUSD",{"$f":"IF('ORDER FORM'!$O$7=\"\",\"ENTER-PO\",'ORDER FORM'!$O$7)","v":"ENTER-PO"},"2021 Spring/Summer",{"$f":"IF('ORDER FORM'!$O$9=\"\",TODAY(),'ORDER FORM'!$O$9)","v":"2023-11-02"},710199,"436","XL","2","610306160317",{"$f":"IF(IFERROR(INDEX('ORDER FORM'!$I$96:$L$125,MATCH(CONCATENATE(E444,F444),'ORDER FORM'!$A$96:$A$125,0),MATCH(G444,'ORDER FORM'!$I$119:$L$119,0)),\"\")=0,\"\",IFERROR(INDEX('ORDER FORM'!$I$96:$L$125,MATCH(CONCATENATE(E444,F444),'ORDER FORM'!$A$96:A$125,0),MATCH(G444,'ORDER FORM'!$I$119:$L$119,0)),\"\"))","v":""},{"$f":"IFERROR(IFERROR(INDEX('ORDER FORM'!N:N,MATCH(IMPORT!E444,'ORDER FORM'!B:B,0)),INDEX('ORDER FORM'!N:N,MATCH(TRIM(IMPORT!E444),'ORDER FORM'!B:B,0))),\"\")","v":{"v":12,"d":"12.00"}}]
["UPLOADUSD",{"$f":"IF('ORDER FORM'!$O$7=\"\",\"ENTER-PO\",'ORDER FORM'!$O$7)","v":"ENTER-PO"},"2021 Spring/Summer",{"$f":"IF('ORDER FORM'!$O$9=\"\",TODAY(),'ORDER FORM'!$O$9)","v":"2023-11-02"},710199,"845","S","2","610306160324",{"$f":"IF(IFERROR(INDEX('ORDER FORM'!$I$96:$L$125,MATCH(CONCATENATE(E445,F445),'ORDER FORM'!$A$96:$A$125,0),MATCH(G445,'ORDER FORM'!$I$119:$L$119,0)),\"\")=0,\"\",IFERROR(INDEX('ORDER FORM'!$I$96:$L$125,MATCH(CONCATENATE(E445,F445),'ORDER FORM'!$A$96:A$125,0),MATCH(G445,'ORDER FORM'!$I$119:$L$119,0)),\"\"))","v":""},{"$f":"IFERROR(IFERROR(INDEX('ORDER FORM'!N:N,MATCH(IMPORT!E445,'ORDER FORM'!B:B,0)),INDEX('ORDER FORM'!N:N,MATCH(TRIM(IMPORT!E445),'ORDER FORM'!B:B,0))),\"\")","v":{"v":12,"d":"12.00"}}]
["UPLOADUSD",{"$f":"IF('ORDER FORM'!$O$7=\"\",\"ENTER-PO\",'ORDER FORM'!$O$7)","v":"ENTER-PO"},"2021 Spring/Summer",{"$f":"IF('ORDER FORM'!$O$9=\"\",TODAY(),'ORDER FORM'!$O$9)","v":"2023-11-02"},710199,"845","M","2","610306160331",{"$f":"IF(IFERROR(INDEX('ORDER FORM'!$I$96:$L$125,MATCH(CONCATENATE(E446,F446),'ORDER FORM'!$A$96:$A$125,0),MATCH(G446,'ORDER FORM'!$I$119:$L$119,0)),\"\")=0,\"\",IFERROR(INDEX('ORDER FORM'!$I$96:$L$125,MATCH(CONCATENATE(E446,F446),'ORDER FORM'!$A$96:A$125,0),MATCH(G446,'ORDER FORM'!$I$119:$L$119,0)),\"\"))","v":""},{"$f":"IFERROR(IFERROR(INDEX('ORDER FORM'!N:N,MATCH(IMPORT!E446,'ORDER FORM'!B:B,0)),INDEX('ORDER FORM'!N:N,MATCH(TRIM(IMPORT!E446),'ORDER FORM'!B:B,0))),\"\")","v":{"v":12,"d":"12.00"}}]
["UPLOADUSD",{"$f":"IF('ORDER FORM'!$O$7=\"\",\"ENTER-PO\",'ORDER FORM'!$O$7)","v":"ENTER-PO"},"2021 Spring/Summer",{"$f":"IF('ORDER FORM'!$O$9=\"\",TODAY(),'ORDER FORM'!$O$9)","v":"2023-11-02"},710199,"845","L","2","610306160348",{"$f":"IF(IFERROR(INDEX('ORDER FORM'!$I$96:$L$125,MATCH(CONCATENATE(E447,F447),'ORDER FORM'!$A$96:$A$125,0),MATCH(G447,'ORDER FORM'!$I$119:$L$119,0)),\"\")=0,\"\",IFERROR(INDEX('ORDER FORM'!$I$96:$L$125,MATCH(CONCATENATE(E447,F447),'ORDER FORM'!$A$96:A$125,0),MATCH(G447,'ORDER FORM'!$I$119:$L$119,0)),\"\"))","v":""},{"$f":"IFERROR(IFERROR(INDEX('ORDER FORM'!N:N,MATCH(IMPORT!E447,'ORDER FORM'!B:B,0)),INDEX('ORDER FORM'!N:N,MATCH(TRIM(IMPORT!E447),'ORDER FORM'!B:B,0))),\"\")","v":{"v":12,"d":"12.00"}}]
["UPLOADUSD",{"$f":"IF('ORDER FORM'!$O$7=\"\",\"ENTER-PO\",'ORDER FORM'!$O$7)","v":"ENTER-PO"},"2021 Spring/Summer",{"$f":"IF('ORDER FORM'!$O$9=\"\",TODAY(),'ORDER FORM'!$O$9)","v":"2023-11-02"},710199,"845","XL","2","610306160355",{"$f":"IF(IFERROR(INDEX('ORDER FORM'!$I$96:$L$125,MATCH(CONCATENATE(E448,F448),'ORDER FORM'!$A$96:$A$125,0),MATCH(G448,'ORDER FORM'!$I$119:$L$119,0)),\"\")=0,\"\",IFERROR(INDEX('ORDER FORM'!$I$96:$L$125,MATCH(CONCATENATE(E448,F448),'ORDER FORM'!$A$96:A$125,0),MATCH(G448,'ORDER FORM'!$I$119:$L$119,0)),\"\"))","v":""},{"$f":"IFERROR(IFERROR(INDEX('ORDER FORM'!N:N,MATCH(IMPORT!E448,'ORDER FORM'!B:B,0)),INDEX('ORDER FORM'!N:N,MATCH(TRIM(IMPORT!E448),'ORDER FORM'!B:B,0))),\"\")","v":{"v":12,"d":"12.00"}}]
["UPLOADUSD",{"$f":"IF('ORDER FORM'!$O$7=\"\",\"ENTER-PO\",'ORDER FORM'!$O$7)","v":"ENTER-PO"},"2021 Spring/Summer",{"$f":"IF('ORDER FORM'!$O$9=\"\",TODAY(),'ORDER FORM'!$O$9)","v":"2023-11-02"},710199,"866","S","2","610306160409",{"$f":"IF(IFERROR(INDEX('ORDER FORM'!$I$96:$L$125,MATCH(CONCATENATE(E449,F449),'ORDER FORM'!$A$96:$A$125,0),MATCH(G449,'ORDER FORM'!$I$119:$L$119,0)),\"\")=0,\"\",IFERROR(INDEX('ORDER FORM'!$I$96:$L$125,MATCH(CONCATENATE(E449,F449),'ORDER FORM'!$A$96:A$125,0),MATCH(G449,'ORDER FORM'!$I$119:$L$119,0)),\"\"))","v":""},{"$f":"IFERROR(IFERROR(INDEX('ORDER FORM'!N:N,MATCH(IMPORT!E449,'ORDER FORM'!B:B,0)),INDEX('ORDER FORM'!N:N,MATCH(TRIM(IMPORT!E449),'ORDER FORM'!B:B,0))),\"\")","v":{"v":12,"d":"12.00"}}]
["UPLOADUSD",{"$f":"IF('ORDER FORM'!$O$7=\"\",\"ENTER-PO\",'ORDER FORM'!$O$7)","v":"ENTER-PO"},"2021 Spring/Summer",{"$f":"IF('ORDER FORM'!$O$9=\"\",TODAY(),'ORDER FORM'!$O$9)","v":"2023-11-02"},710199,"866","M","2","610306160416",{"$f":"IF(IFERROR(INDEX('ORDER FORM'!$I$96:$L$125,MATCH(CONCATENATE(E450,F450),'ORDER FORM'!$A$96:$A$125,0),MATCH(G450,'ORDER FORM'!$I$119:$L$119,0)),\"\")=0,\"\",IFERROR(INDEX('ORDER FORM'!$I$96:$L$125,MATCH(CONCATENATE(E450,F450),'ORDER FORM'!$A$96:A$125,0),MATCH(G450,'ORDER FORM'!$I$119:$L$119,0)),\"\"))","v":""},{"$f":"IFERROR(IFERROR(INDEX('ORDER FORM'!N:N,MATCH(IMPORT!E450,'ORDER FORM'!B:B,0)),INDEX('ORDER FORM'!N:N,MATCH(TRIM(IMPORT!E450),'ORDER FORM'!B:B,0))),\"\")","v":{"v":12,"d":"12.00"}}]
["UPLOADUSD",{"$f":"IF('ORDER FORM'!$O$7=\"\",\"ENTER-PO\",'ORDER FORM'!$O$7)","v":"ENTER-PO"},"2021 Spring/Summer",{"$f":"IF('ORDER FORM'!$O$9=\"\",TODAY(),'ORDER FORM'!$O$9)","v":"2023-11-02"},710199,"866","L","2","610306160423",{"$f":"IF(IFERROR(INDEX('ORDER FORM'!$I$96:$L$125,MATCH(CONCATENATE(E451,F451),'ORDER FORM'!$A$96:$A$125,0),MATCH(G451,'ORDER FORM'!$I$119:$L$119,0)),\"\")=0,\"\",IFERROR(INDEX('ORDER FORM'!$I$96:$L$125,MATCH(CONCATENATE(E451,F451),'ORDER FORM'!$A$96:A$125,0),MATCH(G451,'ORDER FORM'!$I$119:$L$119,0)),\"\"))","v":""},{"$f":"IFERROR(IFERROR(INDEX('ORDER FORM'!N:N,MATCH(IMPORT!E451,'ORDER FORM'!B:B,0)),INDEX('ORDER FORM'!N:N,MATCH(TRIM(IMPORT!E451),'ORDER FORM'!B:B,0))),\"\")","v":{"v":12,"d":"12.00"}}]
[{"$f":"IF(IF($B$1=0,\"ENTER ACCOUNT\",$B$1)=\"\",\"UPLOADUSD\",IF($B$1=0,\"ENTER ACCOUNT\",$B$1))","v":"UPLOADUSD"},{"$f":"IF('ORDER FORM'!$O$7=\"\",\"ENTER-PO\",'ORDER FORM'!$O$7)","v":"ENTER-PO"},{"$f":"$D$1","v":"2021 Spring/Summer"},{"$f":"IF('ORDER FORM'!$O$9=\"\",TODAY(),'ORDER FORM'!$O$9)","v":"2023-11-02"},710199,"866","XL","2","610306160430",{"$f":"IF(IFERROR(INDEX('ORDER FORM'!$I$96:$L$125,MATCH(CONCATENATE(E452,F452),'ORDER FORM'!$A$96:$A$125,0),MATCH(G452,'ORDER FORM'!$I$119:$L$119,0)),\"\")=0,\"\",IFERROR(INDEX('ORDER FORM'!$I$96:$L$125,MATCH(CONCATENATE(E452,F452),'ORDER FORM'!$A$96:A$125,0),MATCH(G452,'ORDER FORM'!$I$119:$L$119,0)),\"\"))","v":""},{"$f":"IFERROR(IFERROR(INDEX('ORDER FORM'!N:N,MATCH(IMPORT!E452,'ORDER FORM'!B:B,0)),INDEX('ORDER FORM'!N:N,MATCH(TRIM(IMPORT!E452),'ORDER FORM'!B:B,0))),\"\")","v":{"v":12,"d":"12.00"}}]
["UPLOADUSD",{"$f":"IF('ORDER FORM'!$O$7=\"\",\"ENTER-PO\",'ORDER FORM'!$O$7)","v":"ENTER-PO"},"2021 Spring/Summer",{"$f":"IF('ORDER FORM'!$O$9=\"\",TODAY(),'ORDER FORM'!$O$9)","v":"2023-11-02"},710200,"121","S","2","610306155184",{"$f":"IF(IFERROR(INDEX('ORDER FORM'!$I$96:$L$125,MATCH(CONCATENATE(E453,F453),'ORDER FORM'!$A$96:$A$125,0),MATCH(G453,'ORDER FORM'!$I$119:$L$119,0)),\"\")=0,\"\",IFERROR(INDEX('ORDER FORM'!$I$96:$L$125,MATCH(CONCATENATE(E453,F453),'ORDER FORM'!$A$96:A$125,0),MATCH(G453,'ORDER FORM'!$I$119:$L$119,0)),\"\"))","v":""},{"$f":"IFERROR(IFERROR(INDEX('ORDER FORM'!N:N,MATCH(IMPORT!E453,'ORDER FORM'!B:B,0)),INDEX('ORDER FORM'!N:N,MATCH(TRIM(IMPORT!E453),'ORDER FORM'!B:B,0))),\"\")","v":{"v":12,"d":"12.00"}}]
["UPLOADUSD",{"$f":"IF('ORDER FORM'!$O$7=\"\",\"ENTER-PO\",'ORDER FORM'!$O$7)","v":"ENTER-PO"},"2021 Spring/Summer",{"$f":"IF('ORDER FORM'!$O$9=\"\",TODAY(),'ORDER FORM'!$O$9)","v":"2023-11-02"},710200,"121","M","2","610306155191",{"$f":"IF(IFERROR(INDEX('ORDER FORM'!$I$96:$L$125,MATCH(CONCATENATE(E454,F454),'ORDER FORM'!$A$96:$A$125,0),MATCH(G454,'ORDER FORM'!$I$119:$L$119,0)),\"\")=0,\"\",IFERROR(INDEX('ORDER FORM'!$I$96:$L$125,MATCH(CONCATENATE(E454,F454),'ORDER FORM'!$A$96:A$125,0),MATCH(G454,'ORDER FORM'!$I$119:$L$119,0)),\"\"))","v":""},{"$f":"IFERROR(IFERROR(INDEX('ORDER FORM'!N:N,MATCH(IMPORT!E454,'ORDER FORM'!B:B,0)),INDEX('ORDER FORM'!N:N,MATCH(TRIM(IMPORT!E454),'ORDER FORM'!B:B,0))),\"\")","v":{"v":12,"d":"12.00"}}]
["UPLOADUSD",{"$f":"IF('ORDER FORM'!$O$7=\"\",\"ENTER-PO\",'ORDER FORM'!$O$7)","v":"ENTER-PO"},"2021 Spring/Summer",{"$f":"IF('ORDER FORM'!$O$9=\"\",TODAY(),'ORDER FORM'!$O$9)","v":"2023-11-02"},710200,"121","L","2","610306155207",{"$f":"IF(IFERROR(INDEX('ORDER FORM'!$I$96:$L$125,MATCH(CONCATENATE(E455,F455),'ORDER FORM'!$A$96:$A$125,0),MATCH(G455,'ORDER FORM'!$I$119:$L$119,0)),\"\")=0,\"\",IFERROR(INDEX('ORDER FORM'!$I$96:$L$125,MATCH(CONCATENATE(E455,F455),'ORDER FORM'!$A$96:A$125,0),MATCH(G455,'ORDER FORM'!$I$119:$L$119,0)),\"\"))","v":""},{"$f":"IFERROR(IFERROR(INDEX('ORDER FORM'!N:N,MATCH(IMPORT!E455,'ORDER FORM'!B:B,0)),INDEX('ORDER FORM'!N:N,MATCH(TRIM(IMPORT!E455),'ORDER FORM'!B:B,0))),\"\")","v":{"v":12,"d":"12.00"}}]
["UPLOADUSD",{"$f":"IF('ORDER FORM'!$O$7=\"\",\"ENTER-PO\",'ORDER FORM'!$O$7)","v":"ENTER-PO"},"2021 Spring/Summer",{"$f":"IF('ORDER FORM'!$O$9=\"\",TODAY(),'ORDER FORM'!$O$9)","v":"2023-11-02"},710200,"195","S","2","610306160478",{"$f":"IF(IFERROR(INDEX('ORDER FORM'!$I$96:$L$125,MATCH(CONCATENATE(E456,F456),'ORDER FORM'!$A$96:$A$125,0),MATCH(G456,'ORDER FORM'!$I$119:$L$119,0)),\"\")=0,\"\",IFERROR(INDEX('ORDER FORM'!$I$96:$L$125,MATCH(CONCATENATE(E456,F456),'ORDER FORM'!$A$96:A$125,0),MATCH(G456,'ORDER FORM'!$I$119:$L$119,0)),\"\"))","v":""},{"$f":"IFERROR(IFERROR(INDEX('ORDER FORM'!N:N,MATCH(IMPORT!E456,'ORDER FORM'!B:B,0)),INDEX('ORDER FORM'!N:N,MATCH(TRIM(IMPORT!E456),'ORDER FORM'!B:B,0))),\"\")","v":{"v":12,"d":"12.00"}}]
["UPLOADUSD",{"$f":"IF('ORDER FORM'!$O$7=\"\",\"ENTER-PO\",'ORDER FORM'!$O$7)","v":"ENTER-PO"},"2021 Spring/Summer",{"$f":"IF('ORDER FORM'!$O$9=\"\",TODAY(),'ORDER FORM'!$O$9)","v":"2023-11-02"},710200,"195","M","2","610306160485",{"$f":"IF(IFERROR(INDEX('ORDER FORM'!$I$96:$L$125,MATCH(CONCATENATE(E457,F457),'ORDER FORM'!$A$96:$A$125,0),MATCH(G457,'ORDER FORM'!$I$119:$L$119,0)),\"\")=0,\"\",IFERROR(INDEX('ORDER FORM'!$I$96:$L$125,MATCH(CONCATENATE(E457,F457),'ORDER FORM'!$A$96:A$125,0),MATCH(G457,'ORDER FORM'!$I$119:$L$119,0)),\"\"))","v":""},{"$f":"IFERROR(IFERROR(INDEX('ORDER FORM'!N:N,MATCH(IMPORT!E457,'ORDER FORM'!B:B,0)),INDEX('ORDER FORM'!N:N,MATCH(TRIM(IMPORT!E457),'ORDER FORM'!B:B,0))),\"\")","v":{"v":12,"d":"12.00"}}]
["UPLOADUSD",{"$f":"IF('ORDER FORM'!$O$7=\"\",\"ENTER-PO\",'ORDER FORM'!$O$7)","v":"ENTER-PO"},"2021 Spring/Summer",{"$f":"IF('ORDER FORM'!$O$9=\"\",TODAY(),'ORDER FORM'!$O$9)","v":"2023-11-02"},710200,"195","L","2","610306160492",{"$f":"IF(IFERROR(INDEX('ORDER FORM'!$I$96:$L$125,MATCH(CONCATENATE(E458,F458),'ORDER FORM'!$A$96:$A$125,0),MATCH(G458,'ORDER FORM'!$I$119:$L$119,0)),\"\")=0,\"\",IFERROR(INDEX('ORDER FORM'!$I$96:$L$125,MATCH(CONCATENATE(E458,F458),'ORDER FORM'!$A$96:A$125,0),MATCH(G458,'ORDER FORM'!$I$119:$L$119,0)),\"\"))","v":""},{"$f":"IFERROR(IFERROR(INDEX('ORDER FORM'!N:N,MATCH(IMPORT!E458,'ORDER FORM'!B:B,0)),INDEX('ORDER FORM'!N:N,MATCH(TRIM(IMPORT!E458),'ORDER FORM'!B:B,0))),\"\")","v":{"v":12,"d":"12.00"}}]
["UPLOADUSD",{"$f":"IF('ORDER FORM'!$O$7=\"\",\"ENTER-PO\",'ORDER FORM'!$O$7)","v":"ENTER-PO"},"2021 Spring/Summer",{"$f":"IF('ORDER FORM'!$O$9=\"\",TODAY(),'ORDER FORM'!$O$9)","v":"2023-11-02"},710200,"212","S","2","610306155153",{"$f":"IF(IFERROR(INDEX('ORDER FORM'!$I$96:$L$125,MATCH(CONCATENATE(E459,F459),'ORDER FORM'!$A$96:$A$125,0),MATCH(G459,'ORDER FORM'!$I$119:$L$119,0)),\"\")=0,\"\",IFERROR(INDEX('ORDER FORM'!$I$96:$L$125,MATCH(CONCATENATE(E459,F459),'ORDER FORM'!$A$96:A$125,0),MATCH(G459,'ORDER FORM'!$I$119:$L$119,0)),\"\"))","v":""},{"$f":"IFERROR(IFERROR(INDEX('ORDER FORM'!N:N,MATCH(IMPORT!E459,'ORDER FORM'!B:B,0)),INDEX('ORDER FORM'!N:N,MATCH(TRIM(IMPORT!E459),'ORDER FORM'!B:B,0))),\"\")","v":{"v":12,"d":"12.00"}}]
["UPLOADUSD",{"$f":"IF('ORDER FORM'!$O$7=\"\",\"ENTER-PO\",'ORDER FORM'!$O$7)","v":"ENTER-PO"},"2021 Spring/Summer",{"$f":"IF('ORDER FORM'!$O$9=\"\",TODAY(),'ORDER FORM'!$O$9)","v":"2023-11-02"},710200,"212","M","2","610306155160",{"$f":"IF(IFERROR(INDEX('ORDER FORM'!$I$96:$L$125,MATCH(CONCATENATE(E460,F460),'ORDER FORM'!$A$96:$A$125,0),MATCH(G460,'ORDER FORM'!$I$119:$L$119,0)),\"\")=0,\"\",IFERROR(INDEX('ORDER FORM'!$I$96:$L$125,MATCH(CONCATENATE(E460,F460),'ORDER FORM'!$A$96:A$125,0),MATCH(G460,'ORDER FORM'!$I$119:$L$119,0)),\"\"))","v":""},{"$f":"IFERROR(IFERROR(INDEX('ORDER FORM'!N:N,MATCH(IMPORT!E460,'ORDER FORM'!B:B,0)),INDEX('ORDER FORM'!N:N,MATCH(TRIM(IMPORT!E460),'ORDER FORM'!B:B,0))),\"\")","v":{"v":12,"d":"12.00"}}]
["UPLOADUSD",{"$f":"IF('ORDER FORM'!$O$7=\"\",\"ENTER-PO\",'ORDER FORM'!$O$7)","v":"ENTER-PO"},"2021 Spring/Summer",{"$f":"IF('ORDER FORM'!$O$9=\"\",TODAY(),'ORDER FORM'!$O$9)","v":"2023-11-02"},710200,"212","L","2","610306155177",{"$f":"IF(IFERROR(INDEX('ORDER FORM'!$I$96:$L$125,MATCH(CONCATENATE(E461,F461),'ORDER FORM'!$A$96:$A$125,0),MATCH(G461,'ORDER FORM'!$I$119:$L$119,0)),\"\")=0,\"\",IFERROR(INDEX('ORDER FORM'!$I$96:$L$125,MATCH(CONCATENATE(E461,F461),'ORDER FORM'!$A$96:A$125,0),MATCH(G461,'ORDER FORM'!$I$119:$L$119,0)),\"\"))","v":""},{"$f":"IFERROR(IFERROR(INDEX('ORDER FORM'!N:N,MATCH(IMPORT!E461,'ORDER FORM'!B:B,0)),INDEX('ORDER FORM'!N:N,MATCH(TRIM(IMPORT!E461),'ORDER FORM'!B:B,0))),\"\")","v":{"v":12,"d":"12.00"}}]
["UPLOADUSD",{"$f":"IF('ORDER FORM'!$O$7=\"\",\"ENTER-PO\",'ORDER FORM'!$O$7)","v":"ENTER-PO"},"2021 Spring/Summer",{"$f":"IF('ORDER FORM'!$O$9=\"\",TODAY(),'ORDER FORM'!$O$9)","v":"2023-11-02"},710200,"259","S","2","610306160447",{"$f":"IF(IFERROR(INDEX('ORDER FORM'!$I$96:$L$125,MATCH(CONCATENATE(E462,F462),'ORDER FORM'!$A$96:$A$125,0),MATCH(G462,'ORDER FORM'!$I$119:$L$119,0)),\"\")=0,\"\",IFERROR(INDEX('ORDER FORM'!$I$96:$L$125,MATCH(CONCATENATE(E462,F462),'ORDER FORM'!$A$96:A$125,0),MATCH(G462,'ORDER FORM'!$I$119:$L$119,0)),\"\"))","v":""},{"$f":"IFERROR(IFERROR(INDEX('ORDER FORM'!N:N,MATCH(IMPORT!E462,'ORDER FORM'!B:B,0)),INDEX('ORDER FORM'!N:N,MATCH(TRIM(IMPORT!E462),'ORDER FORM'!B:B,0))),\"\")","v":{"v":12,"d":"12.00"}}]
["UPLOADUSD",{"$f":"IF('ORDER FORM'!$O$7=\"\",\"ENTER-PO\",'ORDER FORM'!$O$7)","v":"ENTER-PO"},"2021 Spring/Summer",{"$f":"IF('ORDER FORM'!$O$9=\"\",TODAY(),'ORDER FORM'!$O$9)","v":"2023-11-02"},710200,"259","M","2","610306160454",{"$f":"IF(IFERROR(INDEX('ORDER FORM'!$I$96:$L$125,MATCH(CONCATENATE(E463,F463),'ORDER FORM'!$A$96:$A$125,0),MATCH(G463,'ORDER FORM'!$I$119:$L$119,0)),\"\")=0,\"\",IFERROR(INDEX('ORDER FORM'!$I$96:$L$125,MATCH(CONCATENATE(E463,F463),'ORDER FORM'!$A$96:A$125,0),MATCH(G463,'ORDER FORM'!$I$119:$L$119,0)),\"\"))","v":""},{"$f":"IFERROR(IFERROR(INDEX('ORDER FORM'!N:N,MATCH(IMPORT!E463,'ORDER FORM'!B:B,0)),INDEX('ORDER FORM'!N:N,MATCH(TRIM(IMPORT!E463),'ORDER FORM'!B:B,0))),\"\")","v":{"v":12,"d":"12.00"}}]
["UPLOADUSD",{"$f":"IF('ORDER FORM'!$O$7=\"\",\"ENTER-PO\",'ORDER FORM'!$O$7)","v":"ENTER-PO"},"2021 Spring/Summer",{"$f":"IF('ORDER FORM'!$O$9=\"\",TODAY(),'ORDER FORM'!$O$9)","v":"2023-11-02"},710200,"259","L","2","610306160461",{"$f":"IF(IFERROR(INDEX('ORDER FORM'!$I$96:$L$125,MATCH(CONCATENATE(E464,F464),'ORDER FORM'!$A$96:$A$125,0),MATCH(G464,'ORDER FORM'!$I$119:$L$119,0)),\"\")=0,\"\",IFERROR(INDEX('ORDER FORM'!$I$96:$L$125,MATCH(CONCATENATE(E464,F464),'ORDER FORM'!$A$96:A$125,0),MATCH(G464,'ORDER FORM'!$I$119:$L$119,0)),\"\"))","v":""},{"$f":"IFERROR(IFERROR(INDEX('ORDER FORM'!N:N,MATCH(IMPORT!E464,'ORDER FORM'!B:B,0)),INDEX('ORDER FORM'!N:N,MATCH(TRIM(IMPORT!E464),'ORDER FORM'!B:B,0))),\"\")","v":{"v":12,"d":"12.00"}}]
["UPLOADUSD",{"$f":"IF('ORDER FORM'!$O$7=\"\",\"ENTER-PO\",'ORDER FORM'!$O$7)","v":"ENTER-PO"},"2021 Spring/Summer",{"$f":"IF('ORDER FORM'!$O$9=\"\",TODAY(),'ORDER FORM'!$O$9)","v":"2023-11-02"},710200,"260","S","2","610306160508",{"$f":"IF(IFERROR(INDEX('ORDER FORM'!$I$96:$L$125,MATCH(CONCATENATE(E465,F465),'ORDER FORM'!$A$96:$A$125,0),MATCH(G465,'ORDER FORM'!$I$119:$L$119,0)),\"\")=0,\"\",IFERROR(INDEX('ORDER FORM'!$I$96:$L$125,MATCH(CONCATENATE(E465,F465),'ORDER FORM'!$A$96:A$125,0),MATCH(G465,'ORDER FORM'!$I$119:$L$119,0)),\"\"))","v":""},{"$f":"IFERROR(IFERROR(INDEX('ORDER FORM'!N:N,MATCH(IMPORT!E465,'ORDER FORM'!B:B,0)),INDEX('ORDER FORM'!N:N,MATCH(TRIM(IMPORT!E465),'ORDER FORM'!B:B,0))),\"\")","v":{"v":12,"d":"12.00"}}]
["UPLOADUSD",{"$f":"IF('ORDER FORM'!$O$7=\"\",\"ENTER-PO\",'ORDER FORM'!$O$7)","v":"ENTER-PO"},"2021 Spring/Summer",{"$f":"IF('ORDER FORM'!$O$9=\"\",TODAY(),'ORDER FORM'!$O$9)","v":"2023-11-02"},710200,"260","M","2","610306160515",{"$f":"IF(IFERROR(INDEX('ORDER FORM'!$I$96:$L$125,MATCH(CONCATENATE(E466,F466),'ORDER FORM'!$A$96:$A$125,0),MATCH(G466,'ORDER FORM'!$I$119:$L$119,0)),\"\")=0,\"\",IFERROR(INDEX('ORDER FORM'!$I$96:$L$125,MATCH(CONCATENATE(E466,F466),'ORDER FORM'!$A$96:A$125,0),MATCH(G466,'ORDER FORM'!$I$119:$L$119,0)),\"\"))","v":""},{"$f":"IFERROR(IFERROR(INDEX('ORDER FORM'!N:N,MATCH(IMPORT!E466,'ORDER FORM'!B:B,0)),INDEX('ORDER FORM'!N:N,MATCH(TRIM(IMPORT!E466),'ORDER FORM'!B:B,0))),\"\")","v":{"v":12,"d":"12.00"}}]
["UPLOADUSD",{"$f":"IF('ORDER FORM'!$O$7=\"\",\"ENTER-PO\",'ORDER FORM'!$O$7)","v":"ENTER-PO"},"2021 Spring/Summer",{"$f":"IF('ORDER FORM'!$O$9=\"\",TODAY(),'ORDER FORM'!$O$9)","v":"2023-11-02"},710200,"260","L","2","610306160522",{"$f":"IF(IFERROR(INDEX('ORDER FORM'!$I$96:$L$125,MATCH(CONCATENATE(E467,F467),'ORDER FORM'!$A$96:$A$125,0),MATCH(G467,'ORDER FORM'!$I$119:$L$119,0)),\"\")=0,\"\",IFERROR(INDEX('ORDER FORM'!$I$96:$L$125,MATCH(CONCATENATE(E467,F467),'ORDER FORM'!$A$96:A$125,0),MATCH(G467,'ORDER FORM'!$I$119:$L$119,0)),\"\"))","v":""},{"$f":"IFERROR(IFERROR(INDEX('ORDER FORM'!N:N,MATCH(IMPORT!E467,'ORDER FORM'!B:B,0)),INDEX('ORDER FORM'!N:N,MATCH(TRIM(IMPORT!E467),'ORDER FORM'!B:B,0))),\"\")","v":{"v":12,"d":"12.00"}}]
["UPLOADUSD",{"$f":"IF('ORDER FORM'!$O$7=\"\",\"ENTER-PO\",'ORDER FORM'!$O$7)","v":"ENTER-PO"},"2021 Spring/Summer",{"$f":"IF('ORDER FORM'!$O$9=\"\",TODAY(),'ORDER FORM'!$O$9)","v":"2023-11-02"},710200,"261","S","2","610306160539",{"$f":"IF(IFERROR(INDEX('ORDER FORM'!$I$96:$L$125,MATCH(CONCATENATE(E468,F468),'ORDER FORM'!$A$96:$A$125,0),MATCH(G468,'ORDER FORM'!$I$119:$L$119,0)),\"\")=0,\"\",IFERROR(INDEX('ORDER FORM'!$I$96:$L$125,MATCH(CONCATENATE(E468,F468),'ORDER FORM'!$A$96:A$125,0),MATCH(G468,'ORDER FORM'!$I$119:$L$119,0)),\"\"))","v":""},{"$f":"IFERROR(IFERROR(INDEX('ORDER FORM'!N:N,MATCH(IMPORT!E468,'ORDER FORM'!B:B,0)),INDEX('ORDER FORM'!N:N,MATCH(TRIM(IMPORT!E468),'ORDER FORM'!B:B,0))),\"\")","v":{"v":12,"d":"12.00"}}]
["UPLOADUSD",{"$f":"IF('ORDER FORM'!$O$7=\"\",\"ENTER-PO\",'ORDER FORM'!$O$7)","v":"ENTER-PO"},"2021 Spring/Summer",{"$f":"IF('ORDER FORM'!$O$9=\"\",TODAY(),'ORDER FORM'!$O$9)","v":"2023-11-02"},710200,"261","M","2","610306160546",{"$f":"IF(IFERROR(INDEX('ORDER FORM'!$I$96:$L$125,MATCH(CONCATENATE(E469,F469),'ORDER FORM'!$A$96:$A$125,0),MATCH(G469,'ORDER FORM'!$I$119:$L$119,0)),\"\")=0,\"\",IFERROR(INDEX('ORDER FORM'!$I$96:$L$125,MATCH(CONCATENATE(E469,F469),'ORDER FORM'!$A$96:A$125,0),MATCH(G469,'ORDER FORM'!$I$119:$L$119,0)),\"\"))","v":""},{"$f":"IFERROR(IFERROR(INDEX('ORDER FORM'!N:N,MATCH(IMPORT!E469,'ORDER FORM'!B:B,0)),INDEX('ORDER FORM'!N:N,MATCH(TRIM(IMPORT!E469),'ORDER FORM'!B:B,0))),\"\")","v":{"v":12,"d":"12.00"}}]
["UPLOADUSD",{"$f":"IF('ORDER FORM'!$O$7=\"\",\"ENTER-PO\",'ORDER FORM'!$O$7)","v":"ENTER-PO"},"2021 Spring/Summer",{"$f":"IF('ORDER FORM'!$O$9=\"\",TODAY(),'ORDER FORM'!$O$9)","v":"2023-11-02"},710200,"261","L","2","610306160553",{"$f":"IF(IFERROR(INDEX('ORDER FORM'!$I$96:$L$125,MATCH(CONCATENATE(E470,F470),'ORDER FORM'!$A$96:$A$125,0),MATCH(G470,'ORDER FORM'!$I$119:$L$119,0)),\"\")=0,\"\",IFERROR(INDEX('ORDER FORM'!$I$96:$L$125,MATCH(CONCATENATE(E470,F470),'ORDER FORM'!$A$96:A$125,0),MATCH(G470,'ORDER FORM'!$I$119:$L$119,0)),\"\"))","v":""},{"$f":"IFERROR(IFERROR(INDEX('ORDER FORM'!N:N,MATCH(IMPORT!E470,'ORDER FORM'!B:B,0)),INDEX('ORDER FORM'!N:N,MATCH(TRIM(IMPORT!E470),'ORDER FORM'!B:B,0))),\"\")","v":{"v":12,"d":"12.00"}}]
["UPLOADUSD",{"$f":"IF('ORDER FORM'!$O$7=\"\",\"ENTER-PO\",'ORDER FORM'!$O$7)","v":"ENTER-PO"},"2021 Spring/Summer",{"$f":"IF('ORDER FORM'!$O$9=\"\",TODAY(),'ORDER FORM'!$O$9)","v":"2023-11-02"},710201,"213","S","2","610306155252",{"$f":"IF(IFERROR(INDEX('ORDER FORM'!$I$96:$L$125,MATCH(CONCATENATE(E471,F471),'ORDER FORM'!$A$96:$A$125,0),MATCH(G471,'ORDER FORM'!$I$119:$L$119,0)),\"\")=0,\"\",IFERROR(INDEX('ORDER FORM'!$I$96:$L$125,MATCH(CONCATENATE(E471,F471),'ORDER FORM'!$A$96:A$125,0),MATCH(G471,'ORDER FORM'!$I$119:$L$119,0)),\"\"))","v":""},{"$f":"IFERROR(IFERROR(INDEX('ORDER FORM'!N:N,MATCH(IMPORT!E471,'ORDER FORM'!B:B,0)),INDEX('ORDER FORM'!N:N,MATCH(TRIM(IMPORT!E471),'ORDER FORM'!B:B,0))),\"\")","v":{"v":11.5,"d":"11.50"}}]
["UPLOADUSD",{"$f":"IF('ORDER FORM'!$O$7=\"\",\"ENTER-PO\",'ORDER FORM'!$O$7)","v":"ENTER-PO"},"2021 Spring/Summer",{"$f":"IF('ORDER FORM'!$O$9=\"\",TODAY(),'ORDER FORM'!$O$9)","v":"2023-11-02"},710201,"213","M","2","610306155269",{"$f":"IF(IFERROR(INDEX('ORDER FORM'!$I$96:$L$125,MATCH(CONCATENATE(E472,F472),'ORDER FORM'!$A$96:$A$125,0),MATCH(G472,'ORDER FORM'!$I$119:$L$119,0)),\"\")=0,\"\",IFERROR(INDEX('ORDER FORM'!$I$96:$L$125,MATCH(CONCATENATE(E472,F472),'ORDER FORM'!$A$96:A$125,0),MATCH(G472,'ORDER FORM'!$I$119:$L$119,0)),\"\"))","v":""},{"$f":"IFERROR(IFERROR(INDEX('ORDER FORM'!N:N,MATCH(IMPORT!E472,'ORDER FORM'!B:B,0)),INDEX('ORDER FORM'!N:N,MATCH(TRIM(IMPORT!E472),'ORDER FORM'!B:B,0))),\"\")","v":{"v":11.5,"d":"11.50"}}]
["UPLOADUSD",{"$f":"IF('ORDER FORM'!$O$7=\"\",\"ENTER-PO\",'ORDER FORM'!$O$7)","v":"ENTER-PO"},"2021 Spring/Summer",{"$f":"IF('ORDER FORM'!$O$9=\"\",TODAY(),'ORDER FORM'!$O$9)","v":"2023-11-02"},710201,"213","L","2","610306155276",{"$f":"IF(IFERROR(INDEX('ORDER FORM'!$I$96:$L$125,MATCH(CONCATENATE(E473,F473),'ORDER FORM'!$A$96:$A$125,0),MATCH(G473,'ORDER FORM'!$I$119:$L$119,0)),\"\")=0,\"\",IFERROR(INDEX('ORDER FORM'!$I$96:$L$125,MATCH(CONCATENATE(E473,F473),'ORDER FORM'!$A$96:A$125,0),MATCH(G473,'ORDER FORM'!$I$119:$L$119,0)),\"\"))","v":""},{"$f":"IFERROR(IFERROR(INDEX('ORDER FORM'!N:N,MATCH(IMPORT!E473,'ORDER FORM'!B:B,0)),INDEX('ORDER FORM'!N:N,MATCH(TRIM(IMPORT!E473),'ORDER FORM'!B:B,0))),\"\")","v":{"v":11.5,"d":"11.50"}}]
["UPLOADUSD",{"$f":"IF('ORDER FORM'!$O$7=\"\",\"ENTER-PO\",'ORDER FORM'!$O$7)","v":"ENTER-PO"},"2021 Spring/Summer",{"$f":"IF('ORDER FORM'!$O$9=\"\",TODAY(),'ORDER FORM'!$O$9)","v":"2023-11-02"},710201,"213","XL","2","610306155283",{"$f":"IF(IFERROR(INDEX('ORDER FORM'!$I$96:$L$125,MATCH(CONCATENATE(E474,F474),'ORDER FORM'!$A$96:$A$125,0),MATCH(G474,'ORDER FORM'!$I$119:$L$119,0)),\"\")=0,\"\",IFERROR(INDEX('ORDER FORM'!$I$96:$L$125,MATCH(CONCATENATE(E474,F474),'ORDER FORM'!$A$96:A$125,0),MATCH(G474,'ORDER FORM'!$I$119:$L$119,0)),\"\"))","v":""},{"$f":"IFERROR(IFERROR(INDEX('ORDER FORM'!N:N,MATCH(IMPORT!E474,'ORDER FORM'!B:B,0)),INDEX('ORDER FORM'!N:N,MATCH(TRIM(IMPORT!E474),'ORDER FORM'!B:B,0))),\"\")","v":{"v":11.5,"d":"11.50"}}]
["UPLOADUSD",{"$f":"IF('ORDER FORM'!$O$7=\"\",\"ENTER-PO\",'ORDER FORM'!$O$7)","v":"ENTER-PO"},"2021 Spring/Summer",{"$f":"IF('ORDER FORM'!$O$9=\"\",TODAY(),'ORDER FORM'!$O$9)","v":"2023-11-02"},710201,"325","S","2","610306160645",{"$f":"IF(IFERROR(INDEX('ORDER FORM'!$I$96:$L$125,MATCH(CONCATENATE(E475,F475),'ORDER FORM'!$A$96:$A$125,0),MATCH(G475,'ORDER FORM'!$I$119:$L$119,0)),\"\")=0,\"\",IFERROR(INDEX('ORDER FORM'!$I$96:$L$125,MATCH(CONCATENATE(E475,F475),'ORDER FORM'!$A$96:A$125,0),MATCH(G475,'ORDER FORM'!$I$119:$L$119,0)),\"\"))","v":""},{"$f":"IFERROR(IFERROR(INDEX('ORDER FORM'!N:N,MATCH(IMPORT!E475,'ORDER FORM'!B:B,0)),INDEX('ORDER FORM'!N:N,MATCH(TRIM(IMPORT!E475),'ORDER FORM'!B:B,0))),\"\")","v":{"v":11.5,"d":"11.50"}}]
["UPLOADUSD",{"$f":"IF('ORDER FORM'!$O$7=\"\",\"ENTER-PO\",'ORDER FORM'!$O$7)","v":"ENTER-PO"},"2021 Spring/Summer",{"$f":"IF('ORDER FORM'!$O$9=\"\",TODAY(),'ORDER FORM'!$O$9)","v":"2023-11-02"},710201,"325","M","2","610306160652",{"$f":"IF(IFERROR(INDEX('ORDER FORM'!$I$96:$L$125,MATCH(CONCATENATE(E476,F476),'ORDER FORM'!$A$96:$A$125,0),MATCH(G476,'ORDER FORM'!$I$119:$L$119,0)),\"\")=0,\"\",IFERROR(INDEX('ORDER FORM'!$I$96:$L$125,MATCH(CONCATENATE(E476,F476),'ORDER FORM'!$A$96:A$125,0),MATCH(G476,'ORDER FORM'!$I$119:$L$119,0)),\"\"))","v":""},{"$f":"IFERROR(IFERROR(INDEX('ORDER FORM'!N:N,MATCH(IMPORT!E476,'ORDER FORM'!B:B,0)),INDEX('ORDER FORM'!N:N,MATCH(TRIM(IMPORT!E476),'ORDER FORM'!B:B,0))),\"\")","v":{"v":11.5,"d":"11.50"}}]
["UPLOADUSD",{"$f":"IF('ORDER FORM'!$O$7=\"\",\"ENTER-PO\",'ORDER FORM'!$O$7)","v":"ENTER-PO"},"2021 Spring/Summer",{"$f":"IF('ORDER FORM'!$O$9=\"\",TODAY(),'ORDER FORM'!$O$9)","v":"2023-11-02"},710201,"325","L","2","610306160669",{"$f":"IF(IFERROR(INDEX('ORDER FORM'!$I$96:$L$125,MATCH(CONCATENATE(E477,F477),'ORDER FORM'!$A$96:$A$125,0),MATCH(G477,'ORDER FORM'!$I$119:$L$119,0)),\"\")=0,\"\",IFERROR(INDEX('ORDER FORM'!$I$96:$L$125,MATCH(CONCATENATE(E477,F477),'ORDER FORM'!$A$96:A$125,0),MATCH(G477,'ORDER FORM'!$I$119:$L$119,0)),\"\"))","v":""},{"$f":"IFERROR(IFERROR(INDEX('ORDER FORM'!N:N,MATCH(IMPORT!E477,'ORDER FORM'!B:B,0)),INDEX('ORDER FORM'!N:N,MATCH(TRIM(IMPORT!E477),'ORDER FORM'!B:B,0))),\"\")","v":{"v":11.5,"d":"11.50"}}]
["UPLOADUSD",{"$f":"IF('ORDER FORM'!$O$7=\"\",\"ENTER-PO\",'ORDER FORM'!$O$7)","v":"ENTER-PO"},"2021 Spring/Summer",{"$f":"IF('ORDER FORM'!$O$9=\"\",TODAY(),'ORDER FORM'!$O$9)","v":"2023-11-02"},710201,"325","XL","2","610306160676",{"$f":"IF(IFERROR(INDEX('ORDER FORM'!$I$96:$L$125,MATCH(CONCATENATE(E478,F478),'ORDER FORM'!$A$96:$A$125,0),MATCH(G478,'ORDER FORM'!$I$119:$L$119,0)),\"\")=0,\"\",IFERROR(INDEX('ORDER FORM'!$I$96:$L$125,MATCH(CONCATENATE(E478,F478),'ORDER FORM'!$A$96:A$125,0),MATCH(G478,'ORDER FORM'!$I$119:$L$119,0)),\"\"))","v":""},{"$f":"IFERROR(IFERROR(INDEX('ORDER FORM'!N:N,MATCH(IMPORT!E478,'ORDER FORM'!B:B,0)),INDEX('ORDER FORM'!N:N,MATCH(TRIM(IMPORT!E478),'ORDER FORM'!B:B,0))),\"\")","v":{"v":11.5,"d":"11.50"}}]
["UPLOADUSD",{"$f":"IF('ORDER FORM'!$O$7=\"\",\"ENTER-PO\",'ORDER FORM'!$O$7)","v":"ENTER-PO"},"2021 Spring/Summer",{"$f":"IF('ORDER FORM'!$O$9=\"\",TODAY(),'ORDER FORM'!$O$9)","v":"2023-11-02"},710201,"436","S","2","610306160560",{"$f":"IF(IFERROR(INDEX('ORDER FORM'!$I$96:$L$125,MATCH(CONCATENATE(E479,F479),'ORDER FORM'!$A$96:$A$125,0),MATCH(G479,'ORDER FORM'!$I$119:$L$119,0)),\"\")=0,\"\",IFERROR(INDEX('ORDER FORM'!$I$96:$L$125,MATCH(CONCATENATE(E479,F479),'ORDER FORM'!$A$96:A$125,0),MATCH(G479,'ORDER FORM'!$I$119:$L$119,0)),\"\"))","v":""},{"$f":"IFERROR(IFERROR(INDEX('ORDER FORM'!N:N,MATCH(IMPORT!E479,'ORDER FORM'!B:B,0)),INDEX('ORDER FORM'!N:N,MATCH(TRIM(IMPORT!E479),'ORDER FORM'!B:B,0))),\"\")","v":{"v":11.5,"d":"11.50"}}]
["UPLOADUSD",{"$f":"IF('ORDER FORM'!$O$7=\"\",\"ENTER-PO\",'ORDER FORM'!$O$7)","v":"ENTER-PO"},"2021 Spring/Summer",{"$f":"IF('ORDER FORM'!$O$9=\"\",TODAY(),'ORDER FORM'!$O$9)","v":"2023-11-02"},710201,"436","M","2","610306160577",{"$f":"IF(IFERROR(INDEX('ORDER FORM'!$I$96:$L$125,MATCH(CONCATENATE(E480,F480),'ORDER FORM'!$A$96:$A$125,0),MATCH(G480,'ORDER FORM'!$I$119:$L$119,0)),\"\")=0,\"\",IFERROR(INDEX('ORDER FORM'!$I$96:$L$125,MATCH(CONCATENATE(E480,F480),'ORDER FORM'!$A$96:A$125,0),MATCH(G480,'ORDER FORM'!$I$119:$L$119,0)),\"\"))","v":""},{"$f":"IFERROR(IFERROR(INDEX('ORDER FORM'!N:N,MATCH(IMPORT!E480,'ORDER FORM'!B:B,0)),INDEX('ORDER FORM'!N:N,MATCH(TRIM(IMPORT!E480),'ORDER FORM'!B:B,0))),\"\")","v":{"v":11.5,"d":"11.50"}}]
["UPLOADUSD",{"$f":"IF('ORDER FORM'!$O$7=\"\",\"ENTER-PO\",'ORDER FORM'!$O$7)","v":"ENTER-PO"},"2021 Spring/Summer",{"$f":"IF('ORDER FORM'!$O$9=\"\",TODAY(),'ORDER FORM'!$O$9)","v":"2023-11-02"},710201,"436","L","2","610306160584",{"$f":"IF(IFERROR(INDEX('ORDER FORM'!$I$96:$L$125,MATCH(CONCATENATE(E481,F481),'ORDER FORM'!$A$96:$A$125,0),MATCH(G481,'ORDER FORM'!$I$119:$L$119,0)),\"\")=0,\"\",IFERROR(INDEX('ORDER FORM'!$I$96:$L$125,MATCH(CONCATENATE(E481,F481),'ORDER FORM'!$A$96:A$125,0),MATCH(G481,'ORDER FORM'!$I$119:$L$119,0)),\"\"))","v":""},{"$f":"IFERROR(IFERROR(INDEX('ORDER FORM'!N:N,MATCH(IMPORT!E481,'ORDER FORM'!B:B,0)),INDEX('ORDER FORM'!N:N,MATCH(TRIM(IMPORT!E481),'ORDER FORM'!B:B,0))),\"\")","v":{"v":11.5,"d":"11.50"}}]
["UPLOADUSD",{"$f":"IF('ORDER FORM'!$O$7=\"\",\"ENTER-PO\",'ORDER FORM'!$O$7)","v":"ENTER-PO"},"2021 Spring/Summer",{"$f":"IF('ORDER FORM'!$O$9=\"\",TODAY(),'ORDER FORM'!$O$9)","v":"2023-11-02"},710201,"436","XL","2","610306160591",{"$f":"IF(IFERROR(INDEX('ORDER FORM'!$I$96:$L$125,MATCH(CONCATENATE(E482,F482),'ORDER FORM'!$A$96:$A$125,0),MATCH(G482,'ORDER FORM'!$I$119:$L$119,0)),\"\")=0,\"\",IFERROR(INDEX('ORDER FORM'!$I$96:$L$125,MATCH(CONCATENATE(E482,F482),'ORDER FORM'!$A$96:A$125,0),MATCH(G482,'ORDER FORM'!$I$119:$L$119,0)),\"\"))","v":""},{"$f":"IFERROR(IFERROR(INDEX('ORDER FORM'!N:N,MATCH(IMPORT!E482,'ORDER FORM'!B:B,0)),INDEX('ORDER FORM'!N:N,MATCH(TRIM(IMPORT!E482),'ORDER FORM'!B:B,0))),\"\")","v":{"v":11.5,"d":"11.50"}}]
["UPLOADUSD",{"$f":"IF('ORDER FORM'!$O$7=\"\",\"ENTER-PO\",'ORDER FORM'!$O$7)","v":"ENTER-PO"},"2021 Spring/Summer",{"$f":"IF('ORDER FORM'!$O$9=\"\",TODAY(),'ORDER FORM'!$O$9)","v":"2023-11-02"},710201,"845","S","2","610306160607",{"$f":"IF(IFERROR(INDEX('ORDER FORM'!$I$96:$L$125,MATCH(CONCATENATE(E483,F483),'ORDER FORM'!$A$96:$A$125,0),MATCH(G483,'ORDER FORM'!$I$119:$L$119,0)),\"\")=0,\"\",IFERROR(INDEX('ORDER FORM'!$I$96:$L$125,MATCH(CONCATENATE(E483,F483),'ORDER FORM'!$A$96:A$125,0),MATCH(G483,'ORDER FORM'!$I$119:$L$119,0)),\"\"))","v":""},{"$f":"IFERROR(IFERROR(INDEX('ORDER FORM'!N:N,MATCH(IMPORT!E483,'ORDER FORM'!B:B,0)),INDEX('ORDER FORM'!N:N,MATCH(TRIM(IMPORT!E483),'ORDER FORM'!B:B,0))),\"\")","v":{"v":11.5,"d":"11.50"}}]
["UPLOADUSD",{"$f":"IF('ORDER FORM'!$O$7=\"\",\"ENTER-PO\",'ORDER FORM'!$O$7)","v":"ENTER-PO"},"2021 Spring/Summer",{"$f":"IF('ORDER FORM'!$O$9=\"\",TODAY(),'ORDER FORM'!$O$9)","v":"2023-11-02"},710201,"845","M","2","610306160614",{"$f":"IF(IFERROR(INDEX('ORDER FORM'!$I$96:$L$125,MATCH(CONCATENATE(E484,F484),'ORDER FORM'!$A$96:$A$125,0),MATCH(G484,'ORDER FORM'!$I$119:$L$119,0)),\"\")=0,\"\",IFERROR(INDEX('ORDER FORM'!$I$96:$L$125,MATCH(CONCATENATE(E484,F484),'ORDER FORM'!$A$96:A$125,0),MATCH(G484,'ORDER FORM'!$I$119:$L$119,0)),\"\"))","v":""},{"$f":"IFERROR(IFERROR(INDEX('ORDER FORM'!N:N,MATCH(IMPORT!E484,'ORDER FORM'!B:B,0)),INDEX('ORDER FORM'!N:N,MATCH(TRIM(IMPORT!E484),'ORDER FORM'!B:B,0))),\"\")","v":{"v":11.5,"d":"11.50"}}]
["UPLOADUSD",{"$f":"IF('ORDER FORM'!$O$7=\"\",\"ENTER-PO\",'ORDER FORM'!$O$7)","v":"ENTER-PO"},"2021 Spring/Summer",{"$f":"IF('ORDER FORM'!$O$9=\"\",TODAY(),'ORDER FORM'!$O$9)","v":"2023-11-02"},710201,"845","L","2","610306160621",{"$f":"IF(IFERROR(INDEX('ORDER FORM'!$I$96:$L$125,MATCH(CONCATENATE(E485,F485),'ORDER FORM'!$A$96:$A$125,0),MATCH(G485,'ORDER FORM'!$I$119:$L$119,0)),\"\")=0,\"\",IFERROR(INDEX('ORDER FORM'!$I$96:$L$125,MATCH(CONCATENATE(E485,F485),'ORDER FORM'!$A$96:A$125,0),MATCH(G485,'ORDER FORM'!$I$119:$L$119,0)),\"\"))","v":""},{"$f":"IFERROR(IFERROR(INDEX('ORDER FORM'!N:N,MATCH(IMPORT!E485,'ORDER FORM'!B:B,0)),INDEX('ORDER FORM'!N:N,MATCH(TRIM(IMPORT!E485),'ORDER FORM'!B:B,0))),\"\")","v":{"v":11.5,"d":"11.50"}}]
["UPLOADUSD",{"$f":"IF('ORDER FORM'!$O$7=\"\",\"ENTER-PO\",'ORDER FORM'!$O$7)","v":"ENTER-PO"},"2021 Spring/Summer",{"$f":"IF('ORDER FORM'!$O$9=\"\",TODAY(),'ORDER FORM'!$O$9)","v":"2023-11-02"},710201,"845","XL","2","610306160638",{"$f":"IF(IFERROR(INDEX('ORDER FORM'!$I$96:$L$125,MATCH(CONCATENATE(E486,F486),'ORDER FORM'!$A$96:$A$125,0),MATCH(G486,'ORDER FORM'!$I$119:$L$119,0)),\"\")=0,\"\",IFERROR(INDEX('ORDER FORM'!$I$96:$L$125,MATCH(CONCATENATE(E486,F486),'ORDER FORM'!$A$96:A$125,0),MATCH(G486,'ORDER FORM'!$I$119:$L$119,0)),\"\"))","v":""},{"$f":"IFERROR(IFERROR(INDEX('ORDER FORM'!N:N,MATCH(IMPORT!E486,'ORDER FORM'!B:B,0)),INDEX('ORDER FORM'!N:N,MATCH(TRIM(IMPORT!E486),'ORDER FORM'!B:B,0))),\"\")","v":{"v":11.5,"d":"11.50"}}]
["UPLOADUSD",{"$f":"IF('ORDER FORM'!$O$7=\"\",\"ENTER-PO\",'ORDER FORM'!$O$7)","v":"ENTER-PO"},"2021 Spring/Summer",{"$f":"IF('ORDER FORM'!$O$9=\"\",TODAY(),'ORDER FORM'!$O$9)","v":"2023-11-02"},710201,"861","S","2","610306155214",{"$f":"IF(IFERROR(INDEX('ORDER FORM'!$I$96:$L$125,MATCH(CONCATENATE(E487,F487),'ORDER FORM'!$A$96:$A$125,0),MATCH(G487,'ORDER FORM'!$I$119:$L$119,0)),\"\")=0,\"\",IFERROR(INDEX('ORDER FORM'!$I$96:$L$125,MATCH(CONCATENATE(E487,F487),'ORDER FORM'!$A$96:A$125,0),MATCH(G487,'ORDER FORM'!$I$119:$L$119,0)),\"\"))","v":""},{"$f":"IFERROR(IFERROR(INDEX('ORDER FORM'!N:N,MATCH(IMPORT!E487,'ORDER FORM'!B:B,0)),INDEX('ORDER FORM'!N:N,MATCH(TRIM(IMPORT!E487),'ORDER FORM'!B:B,0))),\"\")","v":{"v":11.5,"d":"11.50"}}]
["UPLOADUSD",{"$f":"IF('ORDER FORM'!$O$7=\"\",\"ENTER-PO\",'ORDER FORM'!$O$7)","v":"ENTER-PO"},"2021 Spring/Summer",{"$f":"IF('ORDER FORM'!$O$9=\"\",TODAY(),'ORDER FORM'!$O$9)","v":"2023-11-02"},710201,"861","M","2","610306155221",{"$f":"IF(IFERROR(INDEX('ORDER FORM'!$I$96:$L$125,MATCH(CONCATENATE(E488,F488),'ORDER FORM'!$A$96:$A$125,0),MATCH(G488,'ORDER FORM'!$I$119:$L$119,0)),\"\")=0,\"\",IFERROR(INDEX('ORDER FORM'!$I$96:$L$125,MATCH(CONCATENATE(E488,F488),'ORDER FORM'!$A$96:A$125,0),MATCH(G488,'ORDER FORM'!$I$119:$L$119,0)),\"\"))","v":""},{"$f":"IFERROR(IFERROR(INDEX('ORDER FORM'!N:N,MATCH(IMPORT!E488,'ORDER FORM'!B:B,0)),INDEX('ORDER FORM'!N:N,MATCH(TRIM(IMPORT!E488),'ORDER FORM'!B:B,0))),\"\")","v":{"v":11.5,"d":"11.50"}}]
["UPLOADUSD",{"$f":"IF('ORDER FORM'!$O$7=\"\",\"ENTER-PO\",'ORDER FORM'!$O$7)","v":"ENTER-PO"},"2021 Spring/Summer",{"$f":"IF('ORDER FORM'!$O$9=\"\",TODAY(),'ORDER FORM'!$O$9)","v":"2023-11-02"},710201,"861","L","2","610306155238",{"$f":"IF(IFERROR(INDEX('ORDER FORM'!$I$96:$L$125,MATCH(CONCATENATE(E489,F489),'ORDER FORM'!$A$96:$A$125,0),MATCH(G489,'ORDER FORM'!$I$119:$L$119,0)),\"\")=0,\"\",IFERROR(INDEX('ORDER FORM'!$I$96:$L$125,MATCH(CONCATENATE(E489,F489),'ORDER FORM'!$A$96:A$125,0),MATCH(G489,'ORDER FORM'!$I$119:$L$119,0)),\"\"))","v":""},{"$f":"IFERROR(IFERROR(INDEX('ORDER FORM'!N:N,MATCH(IMPORT!E489,'ORDER FORM'!B:B,0)),INDEX('ORDER FORM'!N:N,MATCH(TRIM(IMPORT!E489),'ORDER FORM'!B:B,0))),\"\")","v":{"v":11.5,"d":"11.50"}}]
["UPLOADUSD",{"$f":"IF('ORDER FORM'!$O$7=\"\",\"ENTER-PO\",'ORDER FORM'!$O$7)","v":"ENTER-PO"},"2021 Spring/Summer",{"$f":"IF('ORDER FORM'!$O$9=\"\",TODAY(),'ORDER FORM'!$O$9)","v":"2023-11-02"},710201,"861","XL","2","610306155245",{"$f":"IF(IFERROR(INDEX('ORDER FORM'!$I$96:$L$125,MATCH(CONCATENATE(E490,F490),'ORDER FORM'!$A$96:$A$125,0),MATCH(G490,'ORDER FORM'!$I$119:$L$119,0)),\"\")=0,\"\",IFERROR(INDEX('ORDER FORM'!$I$96:$L$125,MATCH(CONCATENATE(E490,F490),'ORDER FORM'!$A$96:A$125,0),MATCH(G490,'ORDER FORM'!$I$119:$L$119,0)),\"\"))","v":""},{"$f":"IFERROR(IFERROR(INDEX('ORDER FORM'!N:N,MATCH(IMPORT!E490,'ORDER FORM'!B:B,0)),INDEX('ORDER FORM'!N:N,MATCH(TRIM(IMPORT!E490),'ORDER FORM'!B:B,0))),\"\")","v":{"v":11.5,"d":"11.50"}}]
["UPLOADUSD",{"$f":"IF('ORDER FORM'!$O$7=\"\",\"ENTER-PO\",'ORDER FORM'!$O$7)","v":"ENTER-PO"},"2021 Spring/Summer",{"$f":"IF('ORDER FORM'!$O$9=\"\",TODAY(),'ORDER FORM'!$O$9)","v":"2023-11-02"},710201,"866","S","2","610306160683",{"$f":"IF(IFERROR(INDEX('ORDER FORM'!$I$96:$L$125,MATCH(CONCATENATE(E491,F491),'ORDER FORM'!$A$96:$A$125,0),MATCH(G491,'ORDER FORM'!$I$119:$L$119,0)),\"\")=0,\"\",IFERROR(INDEX('ORDER FORM'!$I$96:$L$125,MATCH(CONCATENATE(E491,F491),'ORDER FORM'!$A$96:A$125,0),MATCH(G491,'ORDER FORM'!$I$119:$L$119,0)),\"\"))","v":""},{"$f":"IFERROR(IFERROR(INDEX('ORDER FORM'!N:N,MATCH(IMPORT!E491,'ORDER FORM'!B:B,0)),INDEX('ORDER FORM'!N:N,MATCH(TRIM(IMPORT!E491),'ORDER FORM'!B:B,0))),\"\")","v":{"v":11.5,"d":"11.50"}}]
["UPLOADUSD",{"$f":"IF('ORDER FORM'!$O$7=\"\",\"ENTER-PO\",'ORDER FORM'!$O$7)","v":"ENTER-PO"},"2021 Spring/Summer",{"$f":"IF('ORDER FORM'!$O$9=\"\",TODAY(),'ORDER FORM'!$O$9)","v":"2023-11-02"},710201,"866","M","2","610306160690",{"$f":"IF(IFERROR(INDEX('ORDER FORM'!$I$96:$L$125,MATCH(CONCATENATE(E492,F492),'ORDER FORM'!$A$96:$A$125,0),MATCH(G492,'ORDER FORM'!$I$119:$L$119,0)),\"\")=0,\"\",IFERROR(INDEX('ORDER FORM'!$I$96:$L$125,MATCH(CONCATENATE(E492,F492),'ORDER FORM'!$A$96:A$125,0),MATCH(G492,'ORDER FORM'!$I$119:$L$119,0)),\"\"))","v":""},{"$f":"IFERROR(IFERROR(INDEX('ORDER FORM'!N:N,MATCH(IMPORT!E492,'ORDER FORM'!B:B,0)),INDEX('ORDER FORM'!N:N,MATCH(TRIM(IMPORT!E492),'ORDER FORM'!B:B,0))),\"\")","v":{"v":11.5,"d":"11.50"}}]
["UPLOADUSD",{"$f":"IF('ORDER FORM'!$O$7=\"\",\"ENTER-PO\",'ORDER FORM'!$O$7)","v":"ENTER-PO"},"2021 Spring/Summer",{"$f":"IF('ORDER FORM'!$O$9=\"\",TODAY(),'ORDER FORM'!$O$9)","v":"2023-11-02"},710201,"866","L","2","610306160706",{"$f":"IF(IFERROR(INDEX('ORDER FORM'!$I$96:$L$125,MATCH(CONCATENATE(E493,F493),'ORDER FORM'!$A$96:$A$125,0),MATCH(G493,'ORDER FORM'!$I$119:$L$119,0)),\"\")=0,\"\",IFERROR(INDEX('ORDER FORM'!$I$96:$L$125,MATCH(CONCATENATE(E493,F493),'ORDER FORM'!$A$96:A$125,0),MATCH(G493,'ORDER FORM'!$I$119:$L$119,0)),\"\"))","v":""},{"$f":"IFERROR(IFERROR(INDEX('ORDER FORM'!N:N,MATCH(IMPORT!E493,'ORDER FORM'!B:B,0)),INDEX('ORDER FORM'!N:N,MATCH(TRIM(IMPORT!E493),'ORDER FORM'!B:B,0))),\"\")","v":{"v":11.5,"d":"11.50"}}]
["UPLOADUSD",{"$f":"IF('ORDER FORM'!$O$7=\"\",\"ENTER-PO\",'ORDER FORM'!$O$7)","v":"ENTER-PO"},"2021 Spring/Summer",{"$f":"IF('ORDER FORM'!$O$9=\"\",TODAY(),'ORDER FORM'!$O$9)","v":"2023-11-02"},710201,"866","XL","2","610306160713",{"$f":"IF(IFERROR(INDEX('ORDER FORM'!$I$96:$L$125,MATCH(CONCATENATE(E494,F494),'ORDER FORM'!$A$96:$A$125,0),MATCH(G494,'ORDER FORM'!$I$119:$L$119,0)),\"\")=0,\"\",IFERROR(INDEX('ORDER FORM'!$I$96:$L$125,MATCH(CONCATENATE(E494,F494),'ORDER FORM'!$A$96:A$125,0),MATCH(G494,'ORDER FORM'!$I$119:$L$119,0)),\"\"))","v":""},{"$f":"IFERROR(IFERROR(INDEX('ORDER FORM'!N:N,MATCH(IMPORT!E494,'ORDER FORM'!B:B,0)),INDEX('ORDER FORM'!N:N,MATCH(TRIM(IMPORT!E494),'ORDER FORM'!B:B,0))),\"\")","v":{"v":11.5,"d":"11.50"}}]
["UPLOADUSD",{"$f":"IF('ORDER FORM'!$O$7=\"\",\"ENTER-PO\",'ORDER FORM'!$O$7)","v":"ENTER-PO"},"2021 Spring/Summer",{"$f":"IF('ORDER FORM'!$O$9=\"\",TODAY(),'ORDER FORM'!$O$9)","v":"2023-11-02"},710202,"195","S","2","610306160751",{"$f":"IF(IFERROR(INDEX('ORDER FORM'!$I$96:$L$125,MATCH(CONCATENATE(E495,F495),'ORDER FORM'!$A$96:$A$125,0),MATCH(G495,'ORDER FORM'!$I$119:$L$119,0)),\"\")=0,\"\",IFERROR(INDEX('ORDER FORM'!$I$96:$L$125,MATCH(CONCATENATE(E495,F495),'ORDER FORM'!$A$96:A$125,0),MATCH(G495,'ORDER FORM'!$I$119:$L$119,0)),\"\"))","v":""},{"$f":"IFERROR(IFERROR(INDEX('ORDER FORM'!N:N,MATCH(IMPORT!E495,'ORDER FORM'!B:B,0)),INDEX('ORDER FORM'!N:N,MATCH(TRIM(IMPORT!E495),'ORDER FORM'!B:B,0))),\"\")","v":{"v":11.5,"d":"11.50"}}]
["UPLOADUSD",{"$f":"IF('ORDER FORM'!$O$7=\"\",\"ENTER-PO\",'ORDER FORM'!$O$7)","v":"ENTER-PO"},"2021 Spring/Summer",{"$f":"IF('ORDER FORM'!$O$9=\"\",TODAY(),'ORDER FORM'!$O$9)","v":"2023-11-02"},710202,"195","M","2","610306160768",{"$f":"IF(IFERROR(INDEX('ORDER FORM'!$I$96:$L$125,MATCH(CONCATENATE(E496,F496),'ORDER FORM'!$A$96:$A$125,0),MATCH(G496,'ORDER FORM'!$I$119:$L$119,0)),\"\")=0,\"\",IFERROR(INDEX('ORDER FORM'!$I$96:$L$125,MATCH(CONCATENATE(E496,F496),'ORDER FORM'!$A$96:A$125,0),MATCH(G496,'ORDER FORM'!$I$119:$L$119,0)),\"\"))","v":""},{"$f":"IFERROR(IFERROR(INDEX('ORDER FORM'!N:N,MATCH(IMPORT!E496,'ORDER FORM'!B:B,0)),INDEX('ORDER FORM'!N:N,MATCH(TRIM(IMPORT!E496),'ORDER FORM'!B:B,0))),\"\")","v":{"v":11.5,"d":"11.50"}}]
["UPLOADUSD",{"$f":"IF('ORDER FORM'!$O$7=\"\",\"ENTER-PO\",'ORDER FORM'!$O$7)","v":"ENTER-PO"},"2021 Spring/Summer",{"$f":"IF('ORDER FORM'!$O$9=\"\",TODAY(),'ORDER FORM'!$O$9)","v":"2023-11-02"},710202,"195","L","2","610306160775",{"$f":"IF(IFERROR(INDEX('ORDER FORM'!$I$96:$L$125,MATCH(CONCATENATE(E497,F497),'ORDER FORM'!$A$96:$A$125,0),MATCH(G497,'ORDER FORM'!$I$119:$L$119,0)),\"\")=0,\"\",IFERROR(INDEX('ORDER FORM'!$I$96:$L$125,MATCH(CONCATENATE(E497,F497),'ORDER FORM'!$A$96:A$125,0),MATCH(G497,'ORDER FORM'!$I$119:$L$119,0)),\"\"))","v":""},{"$f":"IFERROR(IFERROR(INDEX('ORDER FORM'!N:N,MATCH(IMPORT!E497,'ORDER FORM'!B:B,0)),INDEX('ORDER FORM'!N:N,MATCH(TRIM(IMPORT!E497),'ORDER FORM'!B:B,0))),\"\")","v":{"v":11.5,"d":"11.50"}}]
["UPLOADUSD",{"$f":"IF('ORDER FORM'!$O$7=\"\",\"ENTER-PO\",'ORDER FORM'!$O$7)","v":"ENTER-PO"},"2021 Spring/Summer",{"$f":"IF('ORDER FORM'!$O$9=\"\",TODAY(),'ORDER FORM'!$O$9)","v":"2023-11-02"},710202,"214","S","2","610306155320",{"$f":"IF(IFERROR(INDEX('ORDER FORM'!$I$96:$L$125,MATCH(CONCATENATE(E498,F498),'ORDER FORM'!$A$96:$A$125,0),MATCH(G498,'ORDER FORM'!$I$119:$L$119,0)),\"\")=0,\"\",IFERROR(INDEX('ORDER FORM'!$I$96:$L$125,MATCH(CONCATENATE(E498,F498),'ORDER FORM'!$A$96:A$125,0),MATCH(G498,'ORDER FORM'!$I$119:$L$119,0)),\"\"))","v":""},{"$f":"IFERROR(IFERROR(INDEX('ORDER FORM'!N:N,MATCH(IMPORT!E498,'ORDER FORM'!B:B,0)),INDEX('ORDER FORM'!N:N,MATCH(TRIM(IMPORT!E498),'ORDER FORM'!B:B,0))),\"\")","v":{"v":11.5,"d":"11.50"}}]
["UPLOADUSD",{"$f":"IF('ORDER FORM'!$O$7=\"\",\"ENTER-PO\",'ORDER FORM'!$O$7)","v":"ENTER-PO"},"2021 Spring/Summer",{"$f":"IF('ORDER FORM'!$O$9=\"\",TODAY(),'ORDER FORM'!$O$9)","v":"2023-11-02"},710202,"214","M","2","610306155337",{"$f":"IF(IFERROR(INDEX('ORDER FORM'!$I$96:$L$125,MATCH(CONCATENATE(E499,F499),'ORDER FORM'!$A$96:$A$125,0),MATCH(G499,'ORDER FORM'!$I$119:$L$119,0)),\"\")=0,\"\",IFERROR(INDEX('ORDER FORM'!$I$96:$L$125,MATCH(CONCATENATE(E499,F499),'ORDER FORM'!$A$96:A$125,0),MATCH(G499,'ORDER FORM'!$I$119:$L$119,0)),\"\"))","v":""},{"$f":"IFERROR(IFERROR(INDEX('ORDER FORM'!N:N,MATCH(IMPORT!E499,'ORDER FORM'!B:B,0)),INDEX('ORDER FORM'!N:N,MATCH(TRIM(IMPORT!E499),'ORDER FORM'!B:B,0))),\"\")","v":{"v":11.5,"d":"11.50"}}]
["UPLOADUSD",{"$f":"IF('ORDER FORM'!$O$7=\"\",\"ENTER-PO\",'ORDER FORM'!$O$7)","v":"ENTER-PO"},"2021 Spring/Summer",{"$f":"IF('ORDER FORM'!$O$9=\"\",TODAY(),'ORDER FORM'!$O$9)","v":"2023-11-02"},710202,"214","L","2","610306155344",{"$f":"IF(IFERROR(INDEX('ORDER FORM'!$I$96:$L$125,MATCH(CONCATENATE(E500,F500),'ORDER FORM'!$A$96:$A$125,0),MATCH(G500,'ORDER FORM'!$I$119:$L$119,0)),\"\")=0,\"\",IFERROR(INDEX('ORDER FORM'!$I$96:$L$125,MATCH(CONCATENATE(E500,F500),'ORDER FORM'!$A$96:A$125,0),MATCH(G500,'ORDER FORM'!$I$119:$L$119,0)),\"\"))","v":""},{"$f":"IFERROR(IFERROR(INDEX('ORDER FORM'!N:N,MATCH(IMPORT!E500,'ORDER FORM'!B:B,0)),INDEX('ORDER FORM'!N:N,MATCH(TRIM(IMPORT!E500),'ORDER FORM'!B:B,0))),\"\")","v":{"v":11.5,"d":"11.50"}}]
["UPLOADUSD",{"$f":"IF('ORDER FORM'!$O$7=\"\",\"ENTER-PO\",'ORDER FORM'!$O$7)","v":"ENTER-PO"},"2021 Spring/Summer",{"$f":"IF('ORDER FORM'!$O$9=\"\",TODAY(),'ORDER FORM'!$O$9)","v":"2023-11-02"},710202,"259","S","2","610306160720",{"$f":"IF(IFERROR(INDEX('ORDER FORM'!$I$96:$L$125,MATCH(CONCATENATE(E501,F501),'ORDER FORM'!$A$96:$A$125,0),MATCH(G501,'ORDER FORM'!$I$119:$L$119,0)),\"\")=0,\"\",IFERROR(INDEX('ORDER FORM'!$I$96:$L$125,MATCH(CONCATENATE(E501,F501),'ORDER FORM'!$A$96:A$125,0),MATCH(G501,'ORDER FORM'!$I$119:$L$119,0)),\"\"))","v":""},{"$f":"IFERROR(IFERROR(INDEX('ORDER FORM'!N:N,MATCH(IMPORT!E501,'ORDER FORM'!B:B,0)),INDEX('ORDER FORM'!N:N,MATCH(TRIM(IMPORT!E501),'ORDER FORM'!B:B,0))),\"\")","v":{"v":11.5,"d":"11.50"}}]
["UPLOADUSD",{"$f":"IF('ORDER FORM'!$O$7=\"\",\"ENTER-PO\",'ORDER FORM'!$O$7)","v":"ENTER-PO"},"2021 Spring/Summer",{"$f":"IF('ORDER FORM'!$O$9=\"\",TODAY(),'ORDER FORM'!$O$9)","v":"2023-11-02"},710202,"259","M","2","610306160737",{"$f":"IF(IFERROR(INDEX('ORDER FORM'!$I$96:$L$125,MATCH(CONCATENATE(E502,F502),'ORDER FORM'!$A$96:$A$125,0),MATCH(G502,'ORDER FORM'!$I$119:$L$119,0)),\"\")=0,\"\",IFERROR(INDEX('ORDER FORM'!$I$96:$L$125,MATCH(CONCATENATE(E502,F502),'ORDER FORM'!$A$96:A$125,0),MATCH(G502,'ORDER FORM'!$I$119:$L$119,0)),\"\"))","v":""},{"$f":"IFERROR(IFERROR(INDEX('ORDER FORM'!N:N,MATCH(IMPORT!E502,'ORDER FORM'!B:B,0)),INDEX('ORDER FORM'!N:N,MATCH(TRIM(IMPORT!E502),'ORDER FORM'!B:B,0))),\"\")","v":{"v":11.5,"d":"11.50"}}]
["UPLOADUSD",{"$f":"IF('ORDER FORM'!$O$7=\"\",\"ENTER-PO\",'ORDER FORM'!$O$7)","v":"ENTER-PO"},"2021 Spring/Summer",{"$f":"IF('ORDER FORM'!$O$9=\"\",TODAY(),'ORDER FORM'!$O$9)","v":"2023-11-02"},710202,"259","L","2","610306160744",{"$f":"IF(IFERROR(INDEX('ORDER FORM'!$I$96:$L$125,MATCH(CONCATENATE(E503,F503),'ORDER FORM'!$A$96:$A$125,0),MATCH(G503,'ORDER FORM'!$I$119:$L$119,0)),\"\")=0,\"\",IFERROR(INDEX('ORDER FORM'!$I$96:$L$125,MATCH(CONCATENATE(E503,F503),'ORDER FORM'!$A$96:A$125,0),MATCH(G503,'ORDER FORM'!$I$119:$L$119,0)),\"\"))","v":""},{"$f":"IFERROR(IFERROR(INDEX('ORDER FORM'!N:N,MATCH(IMPORT!E503,'ORDER FORM'!B:B,0)),INDEX('ORDER FORM'!N:N,MATCH(TRIM(IMPORT!E503),'ORDER FORM'!B:B,0))),\"\")","v":{"v":11.5,"d":"11.50"}}]
["UPLOADUSD",{"$f":"IF('ORDER FORM'!$O$7=\"\",\"ENTER-PO\",'ORDER FORM'!$O$7)","v":"ENTER-PO"},"2021 Spring/Summer",{"$f":"IF('ORDER FORM'!$O$9=\"\",TODAY(),'ORDER FORM'!$O$9)","v":"2023-11-02"},710202,"260","S","2","610306160782",{"$f":"IF(IFERROR(INDEX('ORDER FORM'!$I$96:$L$125,MATCH(CONCATENATE(E504,F504),'ORDER FORM'!$A$96:$A$125,0),MATCH(G504,'ORDER FORM'!$I$119:$L$119,0)),\"\")=0,\"\",IFERROR(INDEX('ORDER FORM'!$I$96:$L$125,MATCH(CONCATENATE(E504,F504),'ORDER FORM'!$A$96:A$125,0),MATCH(G504,'ORDER FORM'!$I$119:$L$119,0)),\"\"))","v":""},{"$f":"IFERROR(IFERROR(INDEX('ORDER FORM'!N:N,MATCH(IMPORT!E504,'ORDER FORM'!B:B,0)),INDEX('ORDER FORM'!N:N,MATCH(TRIM(IMPORT!E504),'ORDER FORM'!B:B,0))),\"\")","v":{"v":11.5,"d":"11.50"}}]
["UPLOADUSD",{"$f":"IF('ORDER FORM'!$O$7=\"\",\"ENTER-PO\",'ORDER FORM'!$O$7)","v":"ENTER-PO"},"2021 Spring/Summer",{"$f":"IF('ORDER FORM'!$O$9=\"\",TODAY(),'ORDER FORM'!$O$9)","v":"2023-11-02"},710202,"260","M","2","610306160799",{"$f":"IF(IFERROR(INDEX('ORDER FORM'!$I$96:$L$125,MATCH(CONCATENATE(E505,F505),'ORDER FORM'!$A$96:$A$125,0),MATCH(G505,'ORDER FORM'!$I$119:$L$119,0)),\"\")=0,\"\",IFERROR(INDEX('ORDER FORM'!$I$96:$L$125,MATCH(CONCATENATE(E505,F505),'ORDER FORM'!$A$96:A$125,0),MATCH(G505,'ORDER FORM'!$I$119:$L$119,0)),\"\"))","v":""},{"$f":"IFERROR(IFERROR(INDEX('ORDER FORM'!N:N,MATCH(IMPORT!E505,'ORDER FORM'!B:B,0)),INDEX('ORDER FORM'!N:N,MATCH(TRIM(IMPORT!E505),'ORDER FORM'!B:B,0))),\"\")","v":{"v":11.5,"d":"11.50"}}]
["UPLOADUSD",{"$f":"IF('ORDER FORM'!$O$7=\"\",\"ENTER-PO\",'ORDER FORM'!$O$7)","v":"ENTER-PO"},"2021 Spring/Summer",{"$f":"IF('ORDER FORM'!$O$9=\"\",TODAY(),'ORDER FORM'!$O$9)","v":"2023-11-02"},710202,"260","L","2","610306160805",{"$f":"IF(IFERROR(INDEX('ORDER FORM'!$I$96:$L$125,MATCH(CONCATENATE(E506,F506),'ORDER FORM'!$A$96:$A$125,0),MATCH(G506,'ORDER FORM'!$I$119:$L$119,0)),\"\")=0,\"\",IFERROR(INDEX('ORDER FORM'!$I$96:$L$125,MATCH(CONCATENATE(E506,F506),'ORDER FORM'!$A$96:A$125,0),MATCH(G506,'ORDER FORM'!$I$119:$L$119,0)),\"\"))","v":""},{"$f":"IFERROR(IFERROR(INDEX('ORDER FORM'!N:N,MATCH(IMPORT!E506,'ORDER FORM'!B:B,0)),INDEX('ORDER FORM'!N:N,MATCH(TRIM(IMPORT!E506),'ORDER FORM'!B:B,0))),\"\")","v":{"v":11.5,"d":"11.50"}}]
["UPLOADUSD",{"$f":"IF('ORDER FORM'!$O$7=\"\",\"ENTER-PO\",'ORDER FORM'!$O$7)","v":"ENTER-PO"},"2021 Spring/Summer",{"$f":"IF('ORDER FORM'!$O$9=\"\",TODAY(),'ORDER FORM'!$O$9)","v":"2023-11-02"},710202,"261","S","2","610306160812",{"$f":"IF(IFERROR(INDEX('ORDER FORM'!$I$96:$L$125,MATCH(CONCATENATE(E507,F507),'ORDER FORM'!$A$96:$A$125,0),MATCH(G507,'ORDER FORM'!$I$119:$L$119,0)),\"\")=0,\"\",IFERROR(INDEX('ORDER FORM'!$I$96:$L$125,MATCH(CONCATENATE(E507,F507),'ORDER FORM'!$A$96:A$125,0),MATCH(G507,'ORDER FORM'!$I$119:$L$119,0)),\"\"))","v":""},{"$f":"IFERROR(IFERROR(INDEX('ORDER FORM'!N:N,MATCH(IMPORT!E507,'ORDER FORM'!B:B,0)),INDEX('ORDER FORM'!N:N,MATCH(TRIM(IMPORT!E507),'ORDER FORM'!B:B,0))),\"\")","v":{"v":11.5,"d":"11.50"}}]
["UPLOADUSD",{"$f":"IF('ORDER FORM'!$O$7=\"\",\"ENTER-PO\",'ORDER FORM'!$O$7)","v":"ENTER-PO"},"2021 Spring/Summer",{"$f":"IF('ORDER FORM'!$O$9=\"\",TODAY(),'ORDER FORM'!$O$9)","v":"2023-11-02"},710202,"261","M","2","610306160829",{"$f":"IF(IFERROR(INDEX('ORDER FORM'!$I$96:$L$125,MATCH(CONCATENATE(E508,F508),'ORDER FORM'!$A$96:$A$125,0),MATCH(G508,'ORDER FORM'!$I$119:$L$119,0)),\"\")=0,\"\",IFERROR(INDEX('ORDER FORM'!$I$96:$L$125,MATCH(CONCATENATE(E508,F508),'ORDER FORM'!$A$96:A$125,0),MATCH(G508,'ORDER FORM'!$I$119:$L$119,0)),\"\"))","v":""},{"$f":"IFERROR(IFERROR(INDEX('ORDER FORM'!N:N,MATCH(IMPORT!E508,'ORDER FORM'!B:B,0)),INDEX('ORDER FORM'!N:N,MATCH(TRIM(IMPORT!E508),'ORDER FORM'!B:B,0))),\"\")","v":{"v":11.5,"d":"11.50"}}]
["UPLOADUSD",{"$f":"IF('ORDER FORM'!$O$7=\"\",\"ENTER-PO\",'ORDER FORM'!$O$7)","v":"ENTER-PO"},"2021 Spring/Summer",{"$f":"IF('ORDER FORM'!$O$9=\"\",TODAY(),'ORDER FORM'!$O$9)","v":"2023-11-02"},710202,"261","L","2","610306160836",{"$f":"IF(IFERROR(INDEX('ORDER FORM'!$I$96:$L$125,MATCH(CONCATENATE(E509,F509),'ORDER FORM'!$A$96:$A$125,0),MATCH(G509,'ORDER FORM'!$I$119:$L$119,0)),\"\")=0,\"\",IFERROR(INDEX('ORDER FORM'!$I$96:$L$125,MATCH(CONCATENATE(E509,F509),'ORDER FORM'!$A$96:A$125,0),MATCH(G509,'ORDER FORM'!$I$119:$L$119,0)),\"\"))","v":""},{"$f":"IFERROR(IFERROR(INDEX('ORDER FORM'!N:N,MATCH(IMPORT!E509,'ORDER FORM'!B:B,0)),INDEX('ORDER FORM'!N:N,MATCH(TRIM(IMPORT!E509),'ORDER FORM'!B:B,0))),\"\")","v":{"v":11.5,"d":"11.50"}}]
["UPLOADUSD",{"$f":"IF('ORDER FORM'!$O$7=\"\",\"ENTER-PO\",'ORDER FORM'!$O$7)","v":"ENTER-PO"},"2021 Spring/Summer",{"$f":"IF('ORDER FORM'!$O$9=\"\",TODAY(),'ORDER FORM'!$O$9)","v":"2023-11-02"},710202,"837","S","2","610306155290",{"$f":"IF(IFERROR(INDEX('ORDER FORM'!$I$96:$L$125,MATCH(CONCATENATE(E510,F510),'ORDER FORM'!$A$96:$A$125,0),MATCH(G510,'ORDER FORM'!$I$119:$L$119,0)),\"\")=0,\"\",IFERROR(INDEX('ORDER FORM'!$I$96:$L$125,MATCH(CONCATENATE(E510,F510),'ORDER FORM'!$A$96:A$125,0),MATCH(G510,'ORDER FORM'!$I$119:$L$119,0)),\"\"))","v":""},{"$f":"IFERROR(IFERROR(INDEX('ORDER FORM'!N:N,MATCH(IMPORT!E510,'ORDER FORM'!B:B,0)),INDEX('ORDER FORM'!N:N,MATCH(TRIM(IMPORT!E510),'ORDER FORM'!B:B,0))),\"\")","v":{"v":11.5,"d":"11.50"}}]
["UPLOADUSD",{"$f":"IF('ORDER FORM'!$O$7=\"\",\"ENTER-PO\",'ORDER FORM'!$O$7)","v":"ENTER-PO"},"2021 Spring/Summer",{"$f":"IF('ORDER FORM'!$O$9=\"\",TODAY(),'ORDER FORM'!$O$9)","v":"2023-11-02"},710202,"837","M","2","610306155306",{"$f":"IF(IFERROR(INDEX('ORDER FORM'!$I$96:$L$125,MATCH(CONCATENATE(E511,F511),'ORDER FORM'!$A$96:$A$125,0),MATCH(G511,'ORDER FORM'!$I$119:$L$119,0)),\"\")=0,\"\",IFERROR(INDEX('ORDER FORM'!$I$96:$L$125,MATCH(CONCATENATE(E511,F511),'ORDER FORM'!$A$96:A$125,0),MATCH(G511,'ORDER FORM'!$I$119:$L$119,0)),\"\"))","v":""},{"$f":"IFERROR(IFERROR(INDEX('ORDER FORM'!N:N,MATCH(IMPORT!E511,'ORDER FORM'!B:B,0)),INDEX('ORDER FORM'!N:N,MATCH(TRIM(IMPORT!E511),'ORDER FORM'!B:B,0))),\"\")","v":{"v":11.5,"d":"11.50"}}]
["UPLOADUSD",{"$f":"IF('ORDER FORM'!$O$7=\"\",\"ENTER-PO\",'ORDER FORM'!$O$7)","v":"ENTER-PO"},"2021 Spring/Summer",{"$f":"IF('ORDER FORM'!$O$9=\"\",TODAY(),'ORDER FORM'!$O$9)","v":"2023-11-02"},710202,"837","L","2","610306155313",{"$f":"IF(IFERROR(INDEX('ORDER FORM'!$I$96:$L$125,MATCH(CONCATENATE(E512,F512),'ORDER FORM'!$A$96:$A$125,0),MATCH(G512,'ORDER FORM'!$I$119:$L$119,0)),\"\")=0,\"\",IFERROR(INDEX('ORDER FORM'!$I$96:$L$125,MATCH(CONCATENATE(E512,F512),'ORDER FORM'!$A$96:A$125,0),MATCH(G512,'ORDER FORM'!$I$119:$L$119,0)),\"\"))","v":""},{"$f":"IFERROR(IFERROR(INDEX('ORDER FORM'!N:N,MATCH(IMPORT!E512,'ORDER FORM'!B:B,0)),INDEX('ORDER FORM'!N:N,MATCH(TRIM(IMPORT!E512),'ORDER FORM'!B:B,0))),\"\")","v":{"v":11.5,"d":"11.50"}}]
["UPLOADUSD",{"$f":"IF('ORDER FORM'!$O$7=\"\",\"ENTER-PO\",'ORDER FORM'!$O$7)","v":"ENTER-PO"},"2021 Spring/Summer",{"$f":"IF('ORDER FORM'!$O$9=\"\",TODAY(),'ORDER FORM'!$O$9)","v":"2023-11-02"},710203,"215","S","2","610306155399",{"$f":"IF(IFERROR(INDEX('ORDER FORM'!$I$96:$L$125,MATCH(CONCATENATE(E513,F513),'ORDER FORM'!$A$96:$A$125,0),MATCH(G513,'ORDER FORM'!$I$119:$L$119,0)),\"\")=0,\"\",IFERROR(INDEX('ORDER FORM'!$I$96:$L$125,MATCH(CONCATENATE(E513,F513),'ORDER FORM'!$A$96:A$125,0),MATCH(G513,'ORDER FORM'!$I$119:$L$119,0)),\"\"))","v":""},{"$f":"IFERROR(IFERROR(INDEX('ORDER FORM'!N:N,MATCH(IMPORT!E513,'ORDER FORM'!B:B,0)),INDEX('ORDER FORM'!N:N,MATCH(TRIM(IMPORT!E513),'ORDER FORM'!B:B,0))),\"\")","v":{"v":11,"d":"11.00"}}]
["UPLOADUSD",{"$f":"IF('ORDER FORM'!$O$7=\"\",\"ENTER-PO\",'ORDER FORM'!$O$7)","v":"ENTER-PO"},"2021 Spring/Summer",{"$f":"IF('ORDER FORM'!$O$9=\"\",TODAY(),'ORDER FORM'!$O$9)","v":"2023-11-02"},710203,"215","M","2","610306155405",{"$f":"IF(IFERROR(INDEX('ORDER FORM'!$I$96:$L$125,MATCH(CONCATENATE(E514,F514),'ORDER FORM'!$A$96:$A$125,0),MATCH(G514,'ORDER FORM'!$I$119:$L$119,0)),\"\")=0,\"\",IFERROR(INDEX('ORDER FORM'!$I$96:$L$125,MATCH(CONCATENATE(E514,F514),'ORDER FORM'!$A$96:A$125,0),MATCH(G514,'ORDER FORM'!$I$119:$L$119,0)),\"\"))","v":""},{"$f":"IFERROR(IFERROR(INDEX('ORDER FORM'!N:N,MATCH(IMPORT!E514,'ORDER FORM'!B:B,0)),INDEX('ORDER FORM'!N:N,MATCH(TRIM(IMPORT!E514),'ORDER FORM'!B:B,0))),\"\")","v":{"v":11,"d":"11.00"}}]
["UPLOADUSD",{"$f":"IF('ORDER FORM'!$O$7=\"\",\"ENTER-PO\",'ORDER FORM'!$O$7)","v":"ENTER-PO"},"2021 Spring/Summer",{"$f":"IF('ORDER FORM'!$O$9=\"\",TODAY(),'ORDER FORM'!$O$9)","v":"2023-11-02"},710203,"215","L","2","610306155412",{"$f":"IF(IFERROR(INDEX('ORDER FORM'!$I$96:$L$125,MATCH(CONCATENATE(E515,F515),'ORDER FORM'!$A$96:$A$125,0),MATCH(G515,'ORDER FORM'!$I$119:$L$119,0)),\"\")=0,\"\",IFERROR(INDEX('ORDER FORM'!$I$96:$L$125,MATCH(CONCATENATE(E515,F515),'ORDER FORM'!$A$96:A$125,0),MATCH(G515,'ORDER FORM'!$I$119:$L$119,0)),\"\"))","v":""},{"$f":"IFERROR(IFERROR(INDEX('ORDER FORM'!N:N,MATCH(IMPORT!E515,'ORDER FORM'!B:B,0)),INDEX('ORDER FORM'!N:N,MATCH(TRIM(IMPORT!E515),'ORDER FORM'!B:B,0))),\"\")","v":{"v":11,"d":"11.00"}}]
[{"$f":"IF(IF($B$1=0,\"ENTER ACCOUNT\",$B$1)=\"\",\"UPLOADUSD\",IF($B$1=0,\"ENTER ACCOUNT\",$B$1))","v":"UPLOADUSD"},{"$f":"IF('ORDER FORM'!$O$7=\"\",\"ENTER-PO\",'ORDER FORM'!$O$7)","v":"ENTER-PO"},{"$f":"$D$1","v":"2021 Spring/Summer"},{"$f":"IF('ORDER FORM'!$O$9=\"\",TODAY(),'ORDER FORM'!$O$9)","v":"2023-11-02"},710203,"215","XL","2","610306155429",{"$f":"IF(IFERROR(INDEX('ORDER FORM'!$I$96:$L$125,MATCH(CONCATENATE(E516,F516),'ORDER FORM'!$A$96:$A$125,0),MATCH(G516,'ORDER FORM'!$I$119:$L$119,0)),\"\")=0,\"\",IFERROR(INDEX('ORDER FORM'!$I$96:$L$125,MATCH(CONCATENATE(E516,F516),'ORDER FORM'!$A$96:A$125,0),MATCH(G516,'ORDER FORM'!$I$119:$L$119,0)),\"\"))","v":""},{"$f":"IFERROR(IFERROR(INDEX('ORDER FORM'!N:N,MATCH(IMPORT!E516,'ORDER FORM'!B:B,0)),INDEX('ORDER FORM'!N:N,MATCH(TRIM(IMPORT!E516),'ORDER FORM'!B:B,0))),\"\")","v":{"v":11,"d":"11.00"}}]
["UPLOADUSD",{"$f":"IF('ORDER FORM'!$O$7=\"\",\"ENTER-PO\",'ORDER FORM'!$O$7)","v":"ENTER-PO"},"2021 Spring/Summer",{"$f":"IF('ORDER FORM'!$O$9=\"\",TODAY(),'ORDER FORM'!$O$9)","v":"2023-11-02"},710203,"325","S","2","610306160928",{"$f":"IF(IFERROR(INDEX('ORDER FORM'!$I$96:$L$125,MATCH(CONCATENATE(E517,F517),'ORDER FORM'!$A$96:$A$125,0),MATCH(G517,'ORDER FORM'!$I$119:$L$119,0)),\"\")=0,\"\",IFERROR(INDEX('ORDER FORM'!$I$96:$L$125,MATCH(CONCATENATE(E517,F517),'ORDER FORM'!$A$96:A$125,0),MATCH(G517,'ORDER FORM'!$I$119:$L$119,0)),\"\"))","v":""},{"$f":"IFERROR(IFERROR(INDEX('ORDER FORM'!N:N,MATCH(IMPORT!E517,'ORDER FORM'!B:B,0)),INDEX('ORDER FORM'!N:N,MATCH(TRIM(IMPORT!E517),'ORDER FORM'!B:B,0))),\"\")","v":{"v":11,"d":"11.00"}}]
["UPLOADUSD",{"$f":"IF('ORDER FORM'!$O$7=\"\",\"ENTER-PO\",'ORDER FORM'!$O$7)","v":"ENTER-PO"},"2021 Spring/Summer",{"$f":"IF('ORDER FORM'!$O$9=\"\",TODAY(),'ORDER FORM'!$O$9)","v":"2023-11-02"},710203,"325","M","2","610306160935",{"$f":"IF(IFERROR(INDEX('ORDER FORM'!$I$96:$L$125,MATCH(CONCATENATE(E518,F518),'ORDER FORM'!$A$96:$A$125,0),MATCH(G518,'ORDER FORM'!$I$119:$L$119,0)),\"\")=0,\"\",IFERROR(INDEX('ORDER FORM'!$I$96:$L$125,MATCH(CONCATENATE(E518,F518),'ORDER FORM'!$A$96:A$125,0),MATCH(G518,'ORDER FORM'!$I$119:$L$119,0)),\"\"))","v":""},{"$f":"IFERROR(IFERROR(INDEX('ORDER FORM'!N:N,MATCH(IMPORT!E518,'ORDER FORM'!B:B,0)),INDEX('ORDER FORM'!N:N,MATCH(TRIM(IMPORT!E518),'ORDER FORM'!B:B,0))),\"\")","v":{"v":11,"d":"11.00"}}]
["UPLOADUSD",{"$f":"IF('ORDER FORM'!$O$7=\"\",\"ENTER-PO\",'ORDER FORM'!$O$7)","v":"ENTER-PO"},"2021 Spring/Summer",{"$f":"IF('ORDER FORM'!$O$9=\"\",TODAY(),'ORDER FORM'!$O$9)","v":"2023-11-02"},710203,"325","L","2","610306160942",{"$f":"IF(IFERROR(INDEX('ORDER FORM'!$I$96:$L$125,MATCH(CONCATENATE(E519,F519),'ORDER FORM'!$A$96:$A$125,0),MATCH(G519,'ORDER FORM'!$I$119:$L$119,0)),\"\")=0,\"\",IFERROR(INDEX('ORDER FORM'!$I$96:$L$125,MATCH(CONCATENATE(E519,F519),'ORDER FORM'!$A$96:A$125,0),MATCH(G519,'ORDER FORM'!$I$119:$L$119,0)),\"\"))","v":""},{"$f":"IFERROR(IFERROR(INDEX('ORDER FORM'!N:N,MATCH(IMPORT!E519,'ORDER FORM'!B:B,0)),INDEX('ORDER FORM'!N:N,MATCH(TRIM(IMPORT!E519),'ORDER FORM'!B:B,0))),\"\")","v":{"v":11,"d":"11.00"}}]
["UPLOADUSD",{"$f":"IF('ORDER FORM'!$O$7=\"\",\"ENTER-PO\",'ORDER FORM'!$O$7)","v":"ENTER-PO"},"2021 Spring/Summer",{"$f":"IF('ORDER FORM'!$O$9=\"\",TODAY(),'ORDER FORM'!$O$9)","v":"2023-11-02"},710203,"325","XL","2","610306160959",{"$f":"IF(IFERROR(INDEX('ORDER FORM'!$I$96:$L$125,MATCH(CONCATENATE(E520,F520),'ORDER FORM'!$A$96:$A$125,0),MATCH(G520,'ORDER FORM'!$I$119:$L$119,0)),\"\")=0,\"\",IFERROR(INDEX('ORDER FORM'!$I$96:$L$125,MATCH(CONCATENATE(E520,F520),'ORDER FORM'!$A$96:A$125,0),MATCH(G520,'ORDER FORM'!$I$119:$L$119,0)),\"\"))","v":""},{"$f":"IFERROR(IFERROR(INDEX('ORDER FORM'!N:N,MATCH(IMPORT!E520,'ORDER FORM'!B:B,0)),INDEX('ORDER FORM'!N:N,MATCH(TRIM(IMPORT!E520),'ORDER FORM'!B:B,0))),\"\")","v":{"v":11,"d":"11.00"}}]
["UPLOADUSD",{"$f":"IF('ORDER FORM'!$O$7=\"\",\"ENTER-PO\",'ORDER FORM'!$O$7)","v":"ENTER-PO"},"2021 Spring/Summer",{"$f":"IF('ORDER FORM'!$O$9=\"\",TODAY(),'ORDER FORM'!$O$9)","v":"2023-11-02"},710203,"436","S","2","610306160843",{"$f":"IF(IFERROR(INDEX('ORDER FORM'!$I$96:$L$125,MATCH(CONCATENATE(E521,F521),'ORDER FORM'!$A$96:$A$125,0),MATCH(G521,'ORDER FORM'!$I$119:$L$119,0)),\"\")=0,\"\",IFERROR(INDEX('ORDER FORM'!$I$96:$L$125,MATCH(CONCATENATE(E521,F521),'ORDER FORM'!$A$96:A$125,0),MATCH(G521,'ORDER FORM'!$I$119:$L$119,0)),\"\"))","v":""},{"$f":"IFERROR(IFERROR(INDEX('ORDER FORM'!N:N,MATCH(IMPORT!E521,'ORDER FORM'!B:B,0)),INDEX('ORDER FORM'!N:N,MATCH(TRIM(IMPORT!E521),'ORDER FORM'!B:B,0))),\"\")","v":{"v":11,"d":"11.00"}}]
["UPLOADUSD",{"$f":"IF('ORDER FORM'!$O$7=\"\",\"ENTER-PO\",'ORDER FORM'!$O$7)","v":"ENTER-PO"},"2021 Spring/Summer",{"$f":"IF('ORDER FORM'!$O$9=\"\",TODAY(),'ORDER FORM'!$O$9)","v":"2023-11-02"},710203,"436","M","2","610306160850",{"$f":"IF(IFERROR(INDEX('ORDER FORM'!$I$96:$L$125,MATCH(CONCATENATE(E522,F522),'ORDER FORM'!$A$96:$A$125,0),MATCH(G522,'ORDER FORM'!$I$119:$L$119,0)),\"\")=0,\"\",IFERROR(INDEX('ORDER FORM'!$I$96:$L$125,MATCH(CONCATENATE(E522,F522),'ORDER FORM'!$A$96:A$125,0),MATCH(G522,'ORDER FORM'!$I$119:$L$119,0)),\"\"))","v":""},{"$f":"IFERROR(IFERROR(INDEX('ORDER FORM'!N:N,MATCH(IMPORT!E522,'ORDER FORM'!B:B,0)),INDEX('ORDER FORM'!N:N,MATCH(TRIM(IMPORT!E522),'ORDER FORM'!B:B,0))),\"\")","v":{"v":11,"d":"11.00"}}]
["UPLOADUSD",{"$f":"IF('ORDER FORM'!$O$7=\"\",\"ENTER-PO\",'ORDER FORM'!$O$7)","v":"ENTER-PO"},"2021 Spring/Summer",{"$f":"IF('ORDER FORM'!$O$9=\"\",TODAY(),'ORDER FORM'!$O$9)","v":"2023-11-02"},710203,"436","L","2","610306160867",{"$f":"IF(IFERROR(INDEX('ORDER FORM'!$I$96:$L$125,MATCH(CONCATENATE(E523,F523),'ORDER FORM'!$A$96:$A$125,0),MATCH(G523,'ORDER FORM'!$I$119:$L$119,0)),\"\")=0,\"\",IFERROR(INDEX('ORDER FORM'!$I$96:$L$125,MATCH(CONCATENATE(E523,F523),'ORDER FORM'!$A$96:A$125,0),MATCH(G523,'ORDER FORM'!$I$119:$L$119,0)),\"\"))","v":""},{"$f":"IFERROR(IFERROR(INDEX('ORDER FORM'!N:N,MATCH(IMPORT!E523,'ORDER FORM'!B:B,0)),INDEX('ORDER FORM'!N:N,MATCH(TRIM(IMPORT!E523),'ORDER FORM'!B:B,0))),\"\")","v":{"v":11,"d":"11.00"}}]
["UPLOADUSD",{"$f":"IF('ORDER FORM'!$O$7=\"\",\"ENTER-PO\",'ORDER FORM'!$O$7)","v":"ENTER-PO"},"2021 Spring/Summer",{"$f":"IF('ORDER FORM'!$O$9=\"\",TODAY(),'ORDER FORM'!$O$9)","v":"2023-11-02"},710203,"436","XL","2","610306160874",{"$f":"IF(IFERROR(INDEX('ORDER FORM'!$I$96:$L$125,MATCH(CONCATENATE(E524,F524),'ORDER FORM'!$A$96:$A$125,0),MATCH(G524,'ORDER FORM'!$I$119:$L$119,0)),\"\")=0,\"\",IFERROR(INDEX('ORDER FORM'!$I$96:$L$125,MATCH(CONCATENATE(E524,F524),'ORDER FORM'!$A$96:A$125,0),MATCH(G524,'ORDER FORM'!$I$119:$L$119,0)),\"\"))","v":""},{"$f":"IFERROR(IFERROR(INDEX('ORDER FORM'!N:N,MATCH(IMPORT!E524,'ORDER FORM'!B:B,0)),INDEX('ORDER FORM'!N:N,MATCH(TRIM(IMPORT!E524),'ORDER FORM'!B:B,0))),\"\")","v":{"v":11,"d":"11.00"}}]
["UPLOADUSD",{"$f":"IF('ORDER FORM'!$O$7=\"\",\"ENTER-PO\",'ORDER FORM'!$O$7)","v":"ENTER-PO"},"2021 Spring/Summer",{"$f":"IF('ORDER FORM'!$O$9=\"\",TODAY(),'ORDER FORM'!$O$9)","v":"2023-11-02"},710203,"811","S","2","610306155351",{"$f":"IF(IFERROR(INDEX('ORDER FORM'!$I$96:$L$125,MATCH(CONCATENATE(E525,F525),'ORDER FORM'!$A$96:$A$125,0),MATCH(G525,'ORDER FORM'!$I$119:$L$119,0)),\"\")=0,\"\",IFERROR(INDEX('ORDER FORM'!$I$96:$L$125,MATCH(CONCATENATE(E525,F525),'ORDER FORM'!$A$96:A$125,0),MATCH(G525,'ORDER FORM'!$I$119:$L$119,0)),\"\"))","v":""},{"$f":"IFERROR(IFERROR(INDEX('ORDER FORM'!N:N,MATCH(IMPORT!E525,'ORDER FORM'!B:B,0)),INDEX('ORDER FORM'!N:N,MATCH(TRIM(IMPORT!E525),'ORDER FORM'!B:B,0))),\"\")","v":{"v":11,"d":"11.00"}}]
["UPLOADUSD",{"$f":"IF('ORDER FORM'!$O$7=\"\",\"ENTER-PO\",'ORDER FORM'!$O$7)","v":"ENTER-PO"},"2021 Spring/Summer",{"$f":"IF('ORDER FORM'!$O$9=\"\",TODAY(),'ORDER FORM'!$O$9)","v":"2023-11-02"},710203,"811","M","2","610306155368",{"$f":"IF(IFERROR(INDEX('ORDER FORM'!$I$96:$L$125,MATCH(CONCATENATE(E526,F526),'ORDER FORM'!$A$96:$A$125,0),MATCH(G526,'ORDER FORM'!$I$119:$L$119,0)),\"\")=0,\"\",IFERROR(INDEX('ORDER FORM'!$I$96:$L$125,MATCH(CONCATENATE(E526,F526),'ORDER FORM'!$A$96:A$125,0),MATCH(G526,'ORDER FORM'!$I$119:$L$119,0)),\"\"))","v":""},{"$f":"IFERROR(IFERROR(INDEX('ORDER FORM'!N:N,MATCH(IMPORT!E526,'ORDER FORM'!B:B,0)),INDEX('ORDER FORM'!N:N,MATCH(TRIM(IMPORT!E526),'ORDER FORM'!B:B,0))),\"\")","v":{"v":11,"d":"11.00"}}]
["UPLOADUSD",{"$f":"IF('ORDER FORM'!$O$7=\"\",\"ENTER-PO\",'ORDER FORM'!$O$7)","v":"ENTER-PO"},"2021 Spring/Summer",{"$f":"IF('ORDER FORM'!$O$9=\"\",TODAY(),'ORDER FORM'!$O$9)","v":"2023-11-02"},710203,"811","L","2","610306155375",{"$f":"IF(IFERROR(INDEX('ORDER FORM'!$I$96:$L$125,MATCH(CONCATENATE(E527,F527),'ORDER FORM'!$A$96:$A$125,0),MATCH(G527,'ORDER FORM'!$I$119:$L$119,0)),\"\")=0,\"\",IFERROR(INDEX('ORDER FORM'!$I$96:$L$125,MATCH(CONCATENATE(E527,F527),'ORDER FORM'!$A$96:A$125,0),MATCH(G527,'ORDER FORM'!$I$119:$L$119,0)),\"\"))","v":""},{"$f":"IFERROR(IFERROR(INDEX('ORDER FORM'!N:N,MATCH(IMPORT!E527,'ORDER FORM'!B:B,0)),INDEX('ORDER FORM'!N:N,MATCH(TRIM(IMPORT!E527),'ORDER FORM'!B:B,0))),\"\")","v":{"v":11,"d":"11.00"}}]
["UPLOADUSD",{"$f":"IF('ORDER FORM'!$O$7=\"\",\"ENTER-PO\",'ORDER FORM'!$O$7)","v":"ENTER-PO"},"2021 Spring/Summer",{"$f":"IF('ORDER FORM'!$O$9=\"\",TODAY(),'ORDER FORM'!$O$9)","v":"2023-11-02"},710203,"811","XL","2","610306155382",{"$f":"IF(IFERROR(INDEX('ORDER FORM'!$I$96:$L$125,MATCH(CONCATENATE(E528,F528),'ORDER FORM'!$A$96:$A$125,0),MATCH(G528,'ORDER FORM'!$I$119:$L$119,0)),\"\")=0,\"\",IFERROR(INDEX('ORDER FORM'!$I$96:$L$125,MATCH(CONCATENATE(E528,F528),'ORDER FORM'!$A$96:A$125,0),MATCH(G528,'ORDER FORM'!$I$119:$L$119,0)),\"\"))","v":""},{"$f":"IFERROR(IFERROR(INDEX('ORDER FORM'!N:N,MATCH(IMPORT!E528,'ORDER FORM'!B:B,0)),INDEX('ORDER FORM'!N:N,MATCH(TRIM(IMPORT!E528),'ORDER FORM'!B:B,0))),\"\")","v":{"v":11,"d":"11.00"}}]
["UPLOADUSD",{"$f":"IF('ORDER FORM'!$O$7=\"\",\"ENTER-PO\",'ORDER FORM'!$O$7)","v":"ENTER-PO"},"2021 Spring/Summer",{"$f":"IF('ORDER FORM'!$O$9=\"\",TODAY(),'ORDER FORM'!$O$9)","v":"2023-11-02"},710203,"845","S","2","610306160881",{"$f":"IF(IFERROR(INDEX('ORDER FORM'!$I$96:$L$125,MATCH(CONCATENATE(E529,F529),'ORDER FORM'!$A$96:$A$125,0),MATCH(G529,'ORDER FORM'!$I$119:$L$119,0)),\"\")=0,\"\",IFERROR(INDEX('ORDER FORM'!$I$96:$L$125,MATCH(CONCATENATE(E529,F529),'ORDER FORM'!$A$96:A$125,0),MATCH(G529,'ORDER FORM'!$I$119:$L$119,0)),\"\"))","v":""},{"$f":"IFERROR(IFERROR(INDEX('ORDER FORM'!N:N,MATCH(IMPORT!E529,'ORDER FORM'!B:B,0)),INDEX('ORDER FORM'!N:N,MATCH(TRIM(IMPORT!E529),'ORDER FORM'!B:B,0))),\"\")","v":{"v":11,"d":"11.00"}}]
["UPLOADUSD",{"$f":"IF('ORDER FORM'!$O$7=\"\",\"ENTER-PO\",'ORDER FORM'!$O$7)","v":"ENTER-PO"},"2021 Spring/Summer",{"$f":"IF('ORDER FORM'!$O$9=\"\",TODAY(),'ORDER FORM'!$O$9)","v":"2023-11-02"},710203,"845","M","2","610306160898",{"$f":"IF(IFERROR(INDEX('ORDER FORM'!$I$96:$L$125,MATCH(CONCATENATE(E530,F530),'ORDER FORM'!$A$96:$A$125,0),MATCH(G530,'ORDER FORM'!$I$119:$L$119,0)),\"\")=0,\"\",IFERROR(INDEX('ORDER FORM'!$I$96:$L$125,MATCH(CONCATENATE(E530,F530),'ORDER FORM'!$A$96:A$125,0),MATCH(G530,'ORDER FORM'!$I$119:$L$119,0)),\"\"))","v":""},{"$f":"IFERROR(IFERROR(INDEX('ORDER FORM'!N:N,MATCH(IMPORT!E530,'ORDER FORM'!B:B,0)),INDEX('ORDER FORM'!N:N,MATCH(TRIM(IMPORT!E530),'ORDER FORM'!B:B,0))),\"\")","v":{"v":11,"d":"11.00"}}]
["UPLOADUSD",{"$f":"IF('ORDER FORM'!$O$7=\"\",\"ENTER-PO\",'ORDER FORM'!$O$7)","v":"ENTER-PO"},"2021 Spring/Summer",{"$f":"IF('ORDER FORM'!$O$9=\"\",TODAY(),'ORDER FORM'!$O$9)","v":"2023-11-02"},710203,"845","L","2","610306160904",{"$f":"IF(IFERROR(INDEX('ORDER FORM'!$I$96:$L$125,MATCH(CONCATENATE(E531,F531),'ORDER FORM'!$A$96:$A$125,0),MATCH(G531,'ORDER FORM'!$I$119:$L$119,0)),\"\")=0,\"\",IFERROR(INDEX('ORDER FORM'!$I$96:$L$125,MATCH(CONCATENATE(E531,F531),'ORDER FORM'!$A$96:A$125,0),MATCH(G531,'ORDER FORM'!$I$119:$L$119,0)),\"\"))","v":""},{"$f":"IFERROR(IFERROR(INDEX('ORDER FORM'!N:N,MATCH(IMPORT!E531,'ORDER FORM'!B:B,0)),INDEX('ORDER FORM'!N:N,MATCH(TRIM(IMPORT!E531),'ORDER FORM'!B:B,0))),\"\")","v":{"v":11,"d":"11.00"}}]
["UPLOADUSD",{"$f":"IF('ORDER FORM'!$O$7=\"\",\"ENTER-PO\",'ORDER FORM'!$O$7)","v":"ENTER-PO"},"2021 Spring/Summer",{"$f":"IF('ORDER FORM'!$O$9=\"\",TODAY(),'ORDER FORM'!$O$9)","v":"2023-11-02"},710203,"845","XL","2","610306160911",{"$f":"IF(IFERROR(INDEX('ORDER FORM'!$I$96:$L$125,MATCH(CONCATENATE(E532,F532),'ORDER FORM'!$A$96:$A$125,0),MATCH(G532,'ORDER FORM'!$I$119:$L$119,0)),\"\")=0,\"\",IFERROR(INDEX('ORDER FORM'!$I$96:$L$125,MATCH(CONCATENATE(E532,F532),'ORDER FORM'!$A$96:A$125,0),MATCH(G532,'ORDER FORM'!$I$119:$L$119,0)),\"\"))","v":""},{"$f":"IFERROR(IFERROR(INDEX('ORDER FORM'!N:N,MATCH(IMPORT!E532,'ORDER FORM'!B:B,0)),INDEX('ORDER FORM'!N:N,MATCH(TRIM(IMPORT!E532),'ORDER FORM'!B:B,0))),\"\")","v":{"v":11,"d":"11.00"}}]
["UPLOADUSD",{"$f":"IF('ORDER FORM'!$O$7=\"\",\"ENTER-PO\",'ORDER FORM'!$O$7)","v":"ENTER-PO"},"2021 Spring/Summer",{"$f":"IF('ORDER FORM'!$O$9=\"\",TODAY(),'ORDER FORM'!$O$9)","v":"2023-11-02"},710203,"866","S","2","610306160966",{"$f":"IF(IFERROR(INDEX('ORDER FORM'!$I$96:$L$125,MATCH(CONCATENATE(E533,F533),'ORDER FORM'!$A$96:$A$125,0),MATCH(G533,'ORDER FORM'!$I$119:$L$119,0)),\"\")=0,\"\",IFERROR(INDEX('ORDER FORM'!$I$96:$L$125,MATCH(CONCATENATE(E533,F533),'ORDER FORM'!$A$96:A$125,0),MATCH(G533,'ORDER FORM'!$I$119:$L$119,0)),\"\"))","v":""},{"$f":"IFERROR(IFERROR(INDEX('ORDER FORM'!N:N,MATCH(IMPORT!E533,'ORDER FORM'!B:B,0)),INDEX('ORDER FORM'!N:N,MATCH(TRIM(IMPORT!E533),'ORDER FORM'!B:B,0))),\"\")","v":{"v":11,"d":"11.00"}}]
["UPLOADUSD",{"$f":"IF('ORDER FORM'!$O$7=\"\",\"ENTER-PO\",'ORDER FORM'!$O$7)","v":"ENTER-PO"},"2021 Spring/Summer",{"$f":"IF('ORDER FORM'!$O$9=\"\",TODAY(),'ORDER FORM'!$O$9)","v":"2023-11-02"},710203,"866","M","2","610306160973",{"$f":"IF(IFERROR(INDEX('ORDER FORM'!$I$96:$L$125,MATCH(CONCATENATE(E534,F534),'ORDER FORM'!$A$96:$A$125,0),MATCH(G534,'ORDER FORM'!$I$119:$L$119,0)),\"\")=0,\"\",IFERROR(INDEX('ORDER FORM'!$I$96:$L$125,MATCH(CONCATENATE(E534,F534),'ORDER FORM'!$A$96:A$125,0),MATCH(G534,'ORDER FORM'!$I$119:$L$119,0)),\"\"))","v":""},{"$f":"IFERROR(IFERROR(INDEX('ORDER FORM'!N:N,MATCH(IMPORT!E534,'ORDER FORM'!B:B,0)),INDEX('ORDER FORM'!N:N,MATCH(TRIM(IMPORT!E534),'ORDER FORM'!B:B,0))),\"\")","v":{"v":11,"d":"11.00"}}]
["UPLOADUSD",{"$f":"IF('ORDER FORM'!$O$7=\"\",\"ENTER-PO\",'ORDER FORM'!$O$7)","v":"ENTER-PO"},"2021 Spring/Summer",{"$f":"IF('ORDER FORM'!$O$9=\"\",TODAY(),'ORDER FORM'!$O$9)","v":"2023-11-02"},710203,"866","L","2","610306160980",{"$f":"IF(IFERROR(INDEX('ORDER FORM'!$I$96:$L$125,MATCH(CONCATENATE(E535,F535),'ORDER FORM'!$A$96:$A$125,0),MATCH(G535,'ORDER FORM'!$I$119:$L$119,0)),\"\")=0,\"\",IFERROR(INDEX('ORDER FORM'!$I$96:$L$125,MATCH(CONCATENATE(E535,F535),'ORDER FORM'!$A$96:A$125,0),MATCH(G535,'ORDER FORM'!$I$119:$L$119,0)),\"\"))","v":""},{"$f":"IFERROR(IFERROR(INDEX('ORDER FORM'!N:N,MATCH(IMPORT!E535,'ORDER FORM'!B:B,0)),INDEX('ORDER FORM'!N:N,MATCH(TRIM(IMPORT!E535),'ORDER FORM'!B:B,0))),\"\")","v":{"v":11,"d":"11.00"}}]
["UPLOADUSD",{"$f":"IF('ORDER FORM'!$O$7=\"\",\"ENTER-PO\",'ORDER FORM'!$O$7)","v":"ENTER-PO"},"2021 Spring/Summer",{"$f":"IF('ORDER FORM'!$O$9=\"\",TODAY(),'ORDER FORM'!$O$9)","v":"2023-11-02"},710203,"866","XL","2","610306160997",{"$f":"IF(IFERROR(INDEX('ORDER FORM'!$I$96:$L$125,MATCH(CONCATENATE(E536,F536),'ORDER FORM'!$A$96:$A$125,0),MATCH(G536,'ORDER FORM'!$I$119:$L$119,0)),\"\")=0,\"\",IFERROR(INDEX('ORDER FORM'!$I$96:$L$125,MATCH(CONCATENATE(E536,F536),'ORDER FORM'!$A$96:A$125,0),MATCH(G536,'ORDER FORM'!$I$119:$L$119,0)),\"\"))","v":""},{"$f":"IFERROR(IFERROR(INDEX('ORDER FORM'!N:N,MATCH(IMPORT!E536,'ORDER FORM'!B:B,0)),INDEX('ORDER FORM'!N:N,MATCH(TRIM(IMPORT!E536),'ORDER FORM'!B:B,0))),\"\")","v":{"v":11,"d":"11.00"}}]
["UPLOADUSD",{"$f":"IF('ORDER FORM'!$O$7=\"\",\"ENTER-PO\",'ORDER FORM'!$O$7)","v":"ENTER-PO"},"2021 Spring/Summer",{"$f":"IF('ORDER FORM'!$O$9=\"\",TODAY(),'ORDER FORM'!$O$9)","v":"2023-11-02"},710204,"070","S","2","610306155467",{"$f":"IF(IFERROR(INDEX('ORDER FORM'!$I$96:$L$125,MATCH(CONCATENATE(E537,F537),'ORDER FORM'!$A$96:$A$125,0),MATCH(G537,'ORDER FORM'!$I$119:$L$119,0)),\"\")=0,\"\",IFERROR(INDEX('ORDER FORM'!$I$96:$L$125,MATCH(CONCATENATE(E537,F537),'ORDER FORM'!$A$96:A$125,0),MATCH(G537,'ORDER FORM'!$I$119:$L$119,0)),\"\"))","v":""},{"$f":"IFERROR(IFERROR(INDEX('ORDER FORM'!N:N,MATCH(IMPORT!E537,'ORDER FORM'!B:B,0)),INDEX('ORDER FORM'!N:N,MATCH(TRIM(IMPORT!E537),'ORDER FORM'!B:B,0))),\"\")","v":{"v":11,"d":"11.00"}}]
["UPLOADUSD",{"$f":"IF('ORDER FORM'!$O$7=\"\",\"ENTER-PO\",'ORDER FORM'!$O$7)","v":"ENTER-PO"},"2021 Spring/Summer",{"$f":"IF('ORDER FORM'!$O$9=\"\",TODAY(),'ORDER FORM'!$O$9)","v":"2023-11-02"},710204,"070","M","2","610306155474",{"$f":"IF(IFERROR(INDEX('ORDER FORM'!$I$96:$L$125,MATCH(CONCATENATE(E538,F538),'ORDER FORM'!$A$96:$A$125,0),MATCH(G538,'ORDER FORM'!$I$119:$L$119,0)),\"\")=0,\"\",IFERROR(INDEX('ORDER FORM'!$I$96:$L$125,MATCH(CONCATENATE(E538,F538),'ORDER FORM'!$A$96:A$125,0),MATCH(G538,'ORDER FORM'!$I$119:$L$119,0)),\"\"))","v":""},{"$f":"IFERROR(IFERROR(INDEX('ORDER FORM'!N:N,MATCH(IMPORT!E538,'ORDER FORM'!B:B,0)),INDEX('ORDER FORM'!N:N,MATCH(TRIM(IMPORT!E538),'ORDER FORM'!B:B,0))),\"\")","v":{"v":11,"d":"11.00"}}]
["UPLOADUSD",{"$f":"IF('ORDER FORM'!$O$7=\"\",\"ENTER-PO\",'ORDER FORM'!$O$7)","v":"ENTER-PO"},"2021 Spring/Summer",{"$f":"IF('ORDER FORM'!$O$9=\"\",TODAY(),'ORDER FORM'!$O$9)","v":"2023-11-02"},710204,"070","L","2","610306155481",{"$f":"IF(IFERROR(INDEX('ORDER FORM'!$I$96:$L$125,MATCH(CONCATENATE(E539,F539),'ORDER FORM'!$A$96:$A$125,0),MATCH(G539,'ORDER FORM'!$I$119:$L$119,0)),\"\")=0,\"\",IFERROR(INDEX('ORDER FORM'!$I$96:$L$125,MATCH(CONCATENATE(E539,F539),'ORDER FORM'!$A$96:A$125,0),MATCH(G539,'ORDER FORM'!$I$119:$L$119,0)),\"\"))","v":""},{"$f":"IFERROR(IFERROR(INDEX('ORDER FORM'!N:N,MATCH(IMPORT!E539,'ORDER FORM'!B:B,0)),INDEX('ORDER FORM'!N:N,MATCH(TRIM(IMPORT!E539),'ORDER FORM'!B:B,0))),\"\")","v":{"v":11,"d":"11.00"}}]
["UPLOADUSD",{"$f":"IF('ORDER FORM'!$O$7=\"\",\"ENTER-PO\",'ORDER FORM'!$O$7)","v":"ENTER-PO"},"2021 Spring/Summer",{"$f":"IF('ORDER FORM'!$O$9=\"\",TODAY(),'ORDER FORM'!$O$9)","v":"2023-11-02"},710204,"195","S","2","610306161031",{"$f":"IF(IFERROR(INDEX('ORDER FORM'!$I$96:$L$125,MATCH(CONCATENATE(E540,F540),'ORDER FORM'!$A$96:$A$125,0),MATCH(G540,'ORDER FORM'!$I$119:$L$119,0)),\"\")=0,\"\",IFERROR(INDEX('ORDER FORM'!$I$96:$L$125,MATCH(CONCATENATE(E540,F540),'ORDER FORM'!$A$96:A$125,0),MATCH(G540,'ORDER FORM'!$I$119:$L$119,0)),\"\"))","v":""},{"$f":"IFERROR(IFERROR(INDEX('ORDER FORM'!N:N,MATCH(IMPORT!E540,'ORDER FORM'!B:B,0)),INDEX('ORDER FORM'!N:N,MATCH(TRIM(IMPORT!E540),'ORDER FORM'!B:B,0))),\"\")","v":{"v":11,"d":"11.00"}}]
["UPLOADUSD",{"$f":"IF('ORDER FORM'!$O$7=\"\",\"ENTER-PO\",'ORDER FORM'!$O$7)","v":"ENTER-PO"},"2021 Spring/Summer",{"$f":"IF('ORDER FORM'!$O$9=\"\",TODAY(),'ORDER FORM'!$O$9)","v":"2023-11-02"},710204,"195","M","2","610306161048",{"$f":"IF(IFERROR(INDEX('ORDER FORM'!$I$96:$L$125,MATCH(CONCATENATE(E541,F541),'ORDER FORM'!$A$96:$A$125,0),MATCH(G541,'ORDER FORM'!$I$119:$L$119,0)),\"\")=0,\"\",IFERROR(INDEX('ORDER FORM'!$I$96:$L$125,MATCH(CONCATENATE(E541,F541),'ORDER FORM'!$A$96:A$125,0),MATCH(G541,'ORDER FORM'!$I$119:$L$119,0)),\"\"))","v":""},{"$f":"IFERROR(IFERROR(INDEX('ORDER FORM'!N:N,MATCH(IMPORT!E541,'ORDER FORM'!B:B,0)),INDEX('ORDER FORM'!N:N,MATCH(TRIM(IMPORT!E541),'ORDER FORM'!B:B,0))),\"\")","v":{"v":11,"d":"11.00"}}]
["UPLOADUSD",{"$f":"IF('ORDER FORM'!$O$7=\"\",\"ENTER-PO\",'ORDER FORM'!$O$7)","v":"ENTER-PO"},"2021 Spring/Summer",{"$f":"IF('ORDER FORM'!$O$9=\"\",TODAY(),'ORDER FORM'!$O$9)","v":"2023-11-02"},710204,"195","L","2","610306161055",{"$f":"IF(IFERROR(INDEX('ORDER FORM'!$I$96:$L$125,MATCH(CONCATENATE(E542,F542),'ORDER FORM'!$A$96:$A$125,0),MATCH(G542,'ORDER FORM'!$I$119:$L$119,0)),\"\")=0,\"\",IFERROR(INDEX('ORDER FORM'!$I$96:$L$125,MATCH(CONCATENATE(E542,F542),'ORDER FORM'!$A$96:A$125,0),MATCH(G542,'ORDER FORM'!$I$119:$L$119,0)),\"\"))","v":""},{"$f":"IFERROR(IFERROR(INDEX('ORDER FORM'!N:N,MATCH(IMPORT!E542,'ORDER FORM'!B:B,0)),INDEX('ORDER FORM'!N:N,MATCH(TRIM(IMPORT!E542),'ORDER FORM'!B:B,0))),\"\")","v":{"v":11,"d":"11.00"}}]
["UPLOADUSD",{"$f":"IF('ORDER FORM'!$O$7=\"\",\"ENTER-PO\",'ORDER FORM'!$O$7)","v":"ENTER-PO"},"2021 Spring/Summer",{"$f":"IF('ORDER FORM'!$O$9=\"\",TODAY(),'ORDER FORM'!$O$9)","v":"2023-11-02"},710204,"216","S","2","610306155436",{"$f":"IF(IFERROR(INDEX('ORDER FORM'!$I$96:$L$125,MATCH(CONCATENATE(E543,F543),'ORDER FORM'!$A$96:$A$125,0),MATCH(G543,'ORDER FORM'!$I$119:$L$119,0)),\"\")=0,\"\",IFERROR(INDEX('ORDER FORM'!$I$96:$L$125,MATCH(CONCATENATE(E543,F543),'ORDER FORM'!$A$96:A$125,0),MATCH(G543,'ORDER FORM'!$I$119:$L$119,0)),\"\"))","v":""},{"$f":"IFERROR(IFERROR(INDEX('ORDER FORM'!N:N,MATCH(IMPORT!E543,'ORDER FORM'!B:B,0)),INDEX('ORDER FORM'!N:N,MATCH(TRIM(IMPORT!E543),'ORDER FORM'!B:B,0))),\"\")","v":{"v":11,"d":"11.00"}}]
["UPLOADUSD",{"$f":"IF('ORDER FORM'!$O$7=\"\",\"ENTER-PO\",'ORDER FORM'!$O$7)","v":"ENTER-PO"},"2021 Spring/Summer",{"$f":"IF('ORDER FORM'!$O$9=\"\",TODAY(),'ORDER FORM'!$O$9)","v":"2023-11-02"},710204,"216","M","2","610306155443",{"$f":"IF(IFERROR(INDEX('ORDER FORM'!$I$96:$L$125,MATCH(CONCATENATE(E544,F544),'ORDER FORM'!$A$96:$A$125,0),MATCH(G544,'ORDER FORM'!$I$119:$L$119,0)),\"\")=0,\"\",IFERROR(INDEX('ORDER FORM'!$I$96:$L$125,MATCH(CONCATENATE(E544,F544),'ORDER FORM'!$A$96:A$125,0),MATCH(G544,'ORDER FORM'!$I$119:$L$119,0)),\"\"))","v":""},{"$f":"IFERROR(IFERROR(INDEX('ORDER FORM'!N:N,MATCH(IMPORT!E544,'ORDER FORM'!B:B,0)),INDEX('ORDER FORM'!N:N,MATCH(TRIM(IMPORT!E544),'ORDER FORM'!B:B,0))),\"\")","v":{"v":11,"d":"11.00"}}]
["UPLOADUSD",{"$f":"IF('ORDER FORM'!$O$7=\"\",\"ENTER-PO\",'ORDER FORM'!$O$7)","v":"ENTER-PO"},"2021 Spring/Summer",{"$f":"IF('ORDER FORM'!$O$9=\"\",TODAY(),'ORDER FORM'!$O$9)","v":"2023-11-02"},710204,"216","L","2","610306155450",{"$f":"IF(IFERROR(INDEX('ORDER FORM'!$I$96:$L$125,MATCH(CONCATENATE(E545,F545),'ORDER FORM'!$A$96:$A$125,0),MATCH(G545,'ORDER FORM'!$I$119:$L$119,0)),\"\")=0,\"\",IFERROR(INDEX('ORDER FORM'!$I$96:$L$125,MATCH(CONCATENATE(E545,F545),'ORDER FORM'!$A$96:A$125,0),MATCH(G545,'ORDER FORM'!$I$119:$L$119,0)),\"\"))","v":""},{"$f":"IFERROR(IFERROR(INDEX('ORDER FORM'!N:N,MATCH(IMPORT!E545,'ORDER FORM'!B:B,0)),INDEX('ORDER FORM'!N:N,MATCH(TRIM(IMPORT!E545),'ORDER FORM'!B:B,0))),\"\")","v":{"v":11,"d":"11.00"}}]
["UPLOADUSD",{"$f":"IF('ORDER FORM'!$O$7=\"\",\"ENTER-PO\",'ORDER FORM'!$O$7)","v":"ENTER-PO"},"2021 Spring/Summer",{"$f":"IF('ORDER FORM'!$O$9=\"\",TODAY(),'ORDER FORM'!$O$9)","v":"2023-11-02"},710204,"259","S","2","610306161000",{"$f":"IF(IFERROR(INDEX('ORDER FORM'!$I$96:$L$125,MATCH(CONCATENATE(E546,F546),'ORDER FORM'!$A$96:$A$125,0),MATCH(G546,'ORDER FORM'!$I$119:$L$119,0)),\"\")=0,\"\",IFERROR(INDEX('ORDER FORM'!$I$96:$L$125,MATCH(CONCATENATE(E546,F546),'ORDER FORM'!$A$96:A$125,0),MATCH(G546,'ORDER FORM'!$I$119:$L$119,0)),\"\"))","v":""},{"$f":"IFERROR(IFERROR(INDEX('ORDER FORM'!N:N,MATCH(IMPORT!E546,'ORDER FORM'!B:B,0)),INDEX('ORDER FORM'!N:N,MATCH(TRIM(IMPORT!E546),'ORDER FORM'!B:B,0))),\"\")","v":{"v":11,"d":"11.00"}}]
["UPLOADUSD",{"$f":"IF('ORDER FORM'!$O$7=\"\",\"ENTER-PO\",'ORDER FORM'!$O$7)","v":"ENTER-PO"},"2021 Spring/Summer",{"$f":"IF('ORDER FORM'!$O$9=\"\",TODAY(),'ORDER FORM'!$O$9)","v":"2023-11-02"},710204,"259","M","2","610306161017",{"$f":"IF(IFERROR(INDEX('ORDER FORM'!$I$96:$L$125,MATCH(CONCATENATE(E547,F547),'ORDER FORM'!$A$96:$A$125,0),MATCH(G547,'ORDER FORM'!$I$119:$L$119,0)),\"\")=0,\"\",IFERROR(INDEX('ORDER FORM'!$I$96:$L$125,MATCH(CONCATENATE(E547,F547),'ORDER FORM'!$A$96:A$125,0),MATCH(G547,'ORDER FORM'!$I$119:$L$119,0)),\"\"))","v":""},{"$f":"IFERROR(IFERROR(INDEX('ORDER FORM'!N:N,MATCH(IMPORT!E547,'ORDER FORM'!B:B,0)),INDEX('ORDER FORM'!N:N,MATCH(TRIM(IMPORT!E547),'ORDER FORM'!B:B,0))),\"\")","v":{"v":11,"d":"11.00"}}]
["UPLOADUSD",{"$f":"IF('ORDER FORM'!$O$7=\"\",\"ENTER-PO\",'ORDER FORM'!$O$7)","v":"ENTER-PO"},"2021 Spring/Summer",{"$f":"IF('ORDER FORM'!$O$9=\"\",TODAY(),'ORDER FORM'!$O$9)","v":"2023-11-02"},710204,"259","L","2","610306161024",{"$f":"IF(IFERROR(INDEX('ORDER FORM'!$I$96:$L$125,MATCH(CONCATENATE(E548,F548),'ORDER FORM'!$A$96:$A$125,0),MATCH(G548,'ORDER FORM'!$I$119:$L$119,0)),\"\")=0,\"\",IFERROR(INDEX('ORDER FORM'!$I$96:$L$125,MATCH(CONCATENATE(E548,F548),'ORDER FORM'!$A$96:A$125,0),MATCH(G548,'ORDER FORM'!$I$119:$L$119,0)),\"\"))","v":""},{"$f":"IFERROR(IFERROR(INDEX('ORDER FORM'!N:N,MATCH(IMPORT!E548,'ORDER FORM'!B:B,0)),INDEX('ORDER FORM'!N:N,MATCH(TRIM(IMPORT!E548),'ORDER FORM'!B:B,0))),\"\")","v":{"v":11,"d":"11.00"}}]
["UPLOADUSD",{"$f":"IF('ORDER FORM'!$O$7=\"\",\"ENTER-PO\",'ORDER FORM'!$O$7)","v":"ENTER-PO"},"2021 Spring/Summer",{"$f":"IF('ORDER FORM'!$O$9=\"\",TODAY(),'ORDER FORM'!$O$9)","v":"2023-11-02"},710204,"260","S","2","610306161062",{"$f":"IF(IFERROR(INDEX('ORDER FORM'!$I$96:$L$125,MATCH(CONCATENATE(E549,F549),'ORDER FORM'!$A$96:$A$125,0),MATCH(G549,'ORDER FORM'!$I$119:$L$119,0)),\"\")=0,\"\",IFERROR(INDEX('ORDER FORM'!$I$96:$L$125,MATCH(CONCATENATE(E549,F549),'ORDER FORM'!$A$96:A$125,0),MATCH(G549,'ORDER FORM'!$I$119:$L$119,0)),\"\"))","v":""},{"$f":"IFERROR(IFERROR(INDEX('ORDER FORM'!N:N,MATCH(IMPORT!E549,'ORDER FORM'!B:B,0)),INDEX('ORDER FORM'!N:N,MATCH(TRIM(IMPORT!E549),'ORDER FORM'!B:B,0))),\"\")","v":{"v":11,"d":"11.00"}}]
["UPLOADUSD",{"$f":"IF('ORDER FORM'!$O$7=\"\",\"ENTER-PO\",'ORDER FORM'!$O$7)","v":"ENTER-PO"},"2021 Spring/Summer",{"$f":"IF('ORDER FORM'!$O$9=\"\",TODAY(),'ORDER FORM'!$O$9)","v":"2023-11-02"},710204,"260","M","2","610306161079",{"$f":"IF(IFERROR(INDEX('ORDER FORM'!$I$96:$L$125,MATCH(CONCATENATE(E550,F550),'ORDER FORM'!$A$96:$A$125,0),MATCH(G550,'ORDER FORM'!$I$119:$L$119,0)),\"\")=0,\"\",IFERROR(INDEX('ORDER FORM'!$I$96:$L$125,MATCH(CONCATENATE(E550,F550),'ORDER FORM'!$A$96:A$125,0),MATCH(G550,'ORDER FORM'!$I$119:$L$119,0)),\"\"))","v":""},{"$f":"IFERROR(IFERROR(INDEX('ORDER FORM'!N:N,MATCH(IMPORT!E550,'ORDER FORM'!B:B,0)),INDEX('ORDER FORM'!N:N,MATCH(TRIM(IMPORT!E550),'ORDER FORM'!B:B,0))),\"\")","v":{"v":11,"d":"11.00"}}]
["UPLOADUSD",{"$f":"IF('ORDER FORM'!$O$7=\"\",\"ENTER-PO\",'ORDER FORM'!$O$7)","v":"ENTER-PO"},"2021 Spring/Summer",{"$f":"IF('ORDER FORM'!$O$9=\"\",TODAY(),'ORDER FORM'!$O$9)","v":"2023-11-02"},710204,"260","L","2","610306161086",{"$f":"IF(IFERROR(INDEX('ORDER FORM'!$I$96:$L$125,MATCH(CONCATENATE(E551,F551),'ORDER FORM'!$A$96:$A$125,0),MATCH(G551,'ORDER FORM'!$I$119:$L$119,0)),\"\")=0,\"\",IFERROR(INDEX('ORDER FORM'!$I$96:$L$125,MATCH(CONCATENATE(E551,F551),'ORDER FORM'!$A$96:A$125,0),MATCH(G551,'ORDER FORM'!$I$119:$L$119,0)),\"\"))","v":""},{"$f":"IFERROR(IFERROR(INDEX('ORDER FORM'!N:N,MATCH(IMPORT!E551,'ORDER FORM'!B:B,0)),INDEX('ORDER FORM'!N:N,MATCH(TRIM(IMPORT!E551),'ORDER FORM'!B:B,0))),\"\")","v":{"v":11,"d":"11.00"}}]
["UPLOADUSD",{"$f":"IF('ORDER FORM'!$O$7=\"\",\"ENTER-PO\",'ORDER FORM'!$O$7)","v":"ENTER-PO"},"2021 Spring/Summer",{"$f":"IF('ORDER FORM'!$O$9=\"\",TODAY(),'ORDER FORM'!$O$9)","v":"2023-11-02"},710204,"261","S","2","610306161093",{"$f":"IF(IFERROR(INDEX('ORDER FORM'!$I$96:$L$125,MATCH(CONCATENATE(E552,F552),'ORDER FORM'!$A$96:$A$125,0),MATCH(G552,'ORDER FORM'!$I$119:$L$119,0)),\"\")=0,\"\",IFERROR(INDEX('ORDER FORM'!$I$96:$L$125,MATCH(CONCATENATE(E552,F552),'ORDER FORM'!$A$96:A$125,0),MATCH(G552,'ORDER FORM'!$I$119:$L$119,0)),\"\"))","v":""},{"$f":"IFERROR(IFERROR(INDEX('ORDER FORM'!N:N,MATCH(IMPORT!E552,'ORDER FORM'!B:B,0)),INDEX('ORDER FORM'!N:N,MATCH(TRIM(IMPORT!E552),'ORDER FORM'!B:B,0))),\"\")","v":{"v":11,"d":"11.00"}}]
["UPLOADUSD",{"$f":"IF('ORDER FORM'!$O$7=\"\",\"ENTER-PO\",'ORDER FORM'!$O$7)","v":"ENTER-PO"},"2021 Spring/Summer",{"$f":"IF('ORDER FORM'!$O$9=\"\",TODAY(),'ORDER FORM'!$O$9)","v":"2023-11-02"},710204,"261","M","2","610306161109",{"$f":"IF(IFERROR(INDEX('ORDER FORM'!$I$96:$L$125,MATCH(CONCATENATE(E553,F553),'ORDER FORM'!$A$96:$A$125,0),MATCH(G553,'ORDER FORM'!$I$119:$L$119,0)),\"\")=0,\"\",IFERROR(INDEX('ORDER FORM'!$I$96:$L$125,MATCH(CONCATENATE(E553,F553),'ORDER FORM'!$A$96:A$125,0),MATCH(G553,'ORDER FORM'!$I$119:$L$119,0)),\"\"))","v":""},{"$f":"IFERROR(IFERROR(INDEX('ORDER FORM'!N:N,MATCH(IMPORT!E553,'ORDER FORM'!B:B,0)),INDEX('ORDER FORM'!N:N,MATCH(TRIM(IMPORT!E553),'ORDER FORM'!B:B,0))),\"\")","v":{"v":11,"d":"11.00"}}]
["UPLOADUSD",{"$f":"IF('ORDER FORM'!$O$7=\"\",\"ENTER-PO\",'ORDER FORM'!$O$7)","v":"ENTER-PO"},"2021 Spring/Summer",{"$f":"IF('ORDER FORM'!$O$9=\"\",TODAY(),'ORDER FORM'!$O$9)","v":"2023-11-02"},710204,"261","L","2","610306161116",{"$f":"IF(IFERROR(INDEX('ORDER FORM'!$I$96:$L$125,MATCH(CONCATENATE(E554,F554),'ORDER FORM'!$A$96:$A$125,0),MATCH(G554,'ORDER FORM'!$I$119:$L$119,0)),\"\")=0,\"\",IFERROR(INDEX('ORDER FORM'!$I$96:$L$125,MATCH(CONCATENATE(E554,F554),'ORDER FORM'!$A$96:A$125,0),MATCH(G554,'ORDER FORM'!$I$119:$L$119,0)),\"\"))","v":""},{"$f":"IFERROR(IFERROR(INDEX('ORDER FORM'!N:N,MATCH(IMPORT!E554,'ORDER FORM'!B:B,0)),INDEX('ORDER FORM'!N:N,MATCH(TRIM(IMPORT!E554),'ORDER FORM'!B:B,0))),\"\")","v":{"v":11,"d":"11.00"}}]
["UPLOADUSD",{"$f":"IF('ORDER FORM'!$O$7=\"\",\"ENTER-PO\",'ORDER FORM'!$O$7)","v":"ENTER-PO"},"2021 Spring/Summer",{"$f":"IF('ORDER FORM'!$O$9=\"\",TODAY(),'ORDER FORM'!$O$9)","v":"2023-11-02"},710205,"035","S","2","610306155498",{"$f":"IF(IFERROR(INDEX('ORDER FORM'!$I$96:$L$125,MATCH(CONCATENATE(E555,F555),'ORDER FORM'!$A$96:$A$125,0),MATCH(G555,'ORDER FORM'!$I$119:$L$119,0)),\"\")=0,\"\",IFERROR(INDEX('ORDER FORM'!$I$96:$L$125,MATCH(CONCATENATE(E555,F555),'ORDER FORM'!$A$96:A$125,0),MATCH(G555,'ORDER FORM'!$I$119:$L$119,0)),\"\"))","v":""},{"$f":"IFERROR(IFERROR(INDEX('ORDER FORM'!N:N,MATCH(IMPORT!E555,'ORDER FORM'!B:B,0)),INDEX('ORDER FORM'!N:N,MATCH(TRIM(IMPORT!E555),'ORDER FORM'!B:B,0))),\"\")","v":""}]
["UPLOADUSD",{"$f":"IF('ORDER FORM'!$O$7=\"\",\"ENTER-PO\",'ORDER FORM'!$O$7)","v":"ENTER-PO"},"2021 Spring/Summer",{"$f":"IF('ORDER FORM'!$O$9=\"\",TODAY(),'ORDER FORM'!$O$9)","v":"2023-11-02"},710205,"035","M","2","610306155504",{"$f":"IF(IFERROR(INDEX('ORDER FORM'!$I$96:$L$125,MATCH(CONCATENATE(E556,F556),'ORDER FORM'!$A$96:$A$125,0),MATCH(G556,'ORDER FORM'!$I$119:$L$119,0)),\"\")=0,\"\",IFERROR(INDEX('ORDER FORM'!$I$96:$L$125,MATCH(CONCATENATE(E556,F556),'ORDER FORM'!$A$96:A$125,0),MATCH(G556,'ORDER FORM'!$I$119:$L$119,0)),\"\"))","v":""},{"$f":"IFERROR(IFERROR(INDEX('ORDER FORM'!N:N,MATCH(IMPORT!E556,'ORDER FORM'!B:B,0)),INDEX('ORDER FORM'!N:N,MATCH(TRIM(IMPORT!E556),'ORDER FORM'!B:B,0))),\"\")","v":""}]
["UPLOADUSD",{"$f":"IF('ORDER FORM'!$O$7=\"\",\"ENTER-PO\",'ORDER FORM'!$O$7)","v":"ENTER-PO"},"2021 Spring/Summer",{"$f":"IF('ORDER FORM'!$O$9=\"\",TODAY(),'ORDER FORM'!$O$9)","v":"2023-11-02"},710205,"035","L","2","610306155511",{"$f":"IF(IFERROR(INDEX('ORDER FORM'!$I$96:$L$125,MATCH(CONCATENATE(E557,F557),'ORDER FORM'!$A$96:$A$125,0),MATCH(G557,'ORDER FORM'!$I$119:$L$119,0)),\"\")=0,\"\",IFERROR(INDEX('ORDER FORM'!$I$96:$L$125,MATCH(CONCATENATE(E557,F557),'ORDER FORM'!$A$96:A$125,0),MATCH(G557,'ORDER FORM'!$I$119:$L$119,0)),\"\"))","v":""},{"$f":"IFERROR(IFERROR(INDEX('ORDER FORM'!N:N,MATCH(IMPORT!E557,'ORDER FORM'!B:B,0)),INDEX('ORDER FORM'!N:N,MATCH(TRIM(IMPORT!E557),'ORDER FORM'!B:B,0))),\"\")","v":""}]
["UPLOADUSD",{"$f":"IF('ORDER FORM'!$O$7=\"\",\"ENTER-PO\",'ORDER FORM'!$O$7)","v":"ENTER-PO"},"2021 Spring/Summer",{"$f":"IF('ORDER FORM'!$O$9=\"\",TODAY(),'ORDER FORM'!$O$9)","v":"2023-11-02"},710205,"035","XL","2","610306155528",{"$f":"IF(IFERROR(INDEX('ORDER FORM'!$I$96:$L$125,MATCH(CONCATENATE(E558,F558),'ORDER FORM'!$A$96:$A$125,0),MATCH(G558,'ORDER FORM'!$I$119:$L$119,0)),\"\")=0,\"\",IFERROR(INDEX('ORDER FORM'!$I$96:$L$125,MATCH(CONCATENATE(E558,F558),'ORDER FORM'!$A$96:A$125,0),MATCH(G558,'ORDER FORM'!$I$119:$L$119,0)),\"\"))","v":""},{"$f":"IFERROR(IFERROR(INDEX('ORDER FORM'!N:N,MATCH(IMPORT!E558,'ORDER FORM'!B:B,0)),INDEX('ORDER FORM'!N:N,MATCH(TRIM(IMPORT!E558),'ORDER FORM'!B:B,0))),\"\")","v":""}]
["UPLOADUSD",{"$f":"IF('ORDER FORM'!$O$7=\"\",\"ENTER-PO\",'ORDER FORM'!$O$7)","v":"ENTER-PO"},"2021 Spring/Summer",{"$f":"IF('ORDER FORM'!$O$9=\"\",TODAY(),'ORDER FORM'!$O$9)","v":"2023-11-02"},710205,"217","S","2","610306155535",{"$f":"IF(IFERROR(INDEX('ORDER FORM'!$I$96:$L$125,MATCH(CONCATENATE(E559,F559),'ORDER FORM'!$A$96:$A$125,0),MATCH(G559,'ORDER FORM'!$I$119:$L$119,0)),\"\")=0,\"\",IFERROR(INDEX('ORDER FORM'!$I$96:$L$125,MATCH(CONCATENATE(E559,F559),'ORDER FORM'!$A$96:A$125,0),MATCH(G559,'ORDER FORM'!$I$119:$L$119,0)),\"\"))","v":""},{"$f":"IFERROR(IFERROR(INDEX('ORDER FORM'!N:N,MATCH(IMPORT!E559,'ORDER FORM'!B:B,0)),INDEX('ORDER FORM'!N:N,MATCH(TRIM(IMPORT!E559),'ORDER FORM'!B:B,0))),\"\")","v":""}]
["UPLOADUSD",{"$f":"IF('ORDER FORM'!$O$7=\"\",\"ENTER-PO\",'ORDER FORM'!$O$7)","v":"ENTER-PO"},"2021 Spring/Summer",{"$f":"IF('ORDER FORM'!$O$9=\"\",TODAY(),'ORDER FORM'!$O$9)","v":"2023-11-02"},710205,"217","M","2","610306155542",{"$f":"IF(IFERROR(INDEX('ORDER FORM'!$I$96:$L$125,MATCH(CONCATENATE(E560,F560),'ORDER FORM'!$A$96:$A$125,0),MATCH(G560,'ORDER FORM'!$I$119:$L$119,0)),\"\")=0,\"\",IFERROR(INDEX('ORDER FORM'!$I$96:$L$125,MATCH(CONCATENATE(E560,F560),'ORDER FORM'!$A$96:A$125,0),MATCH(G560,'ORDER FORM'!$I$119:$L$119,0)),\"\"))","v":""},{"$f":"IFERROR(IFERROR(INDEX('ORDER FORM'!N:N,MATCH(IMPORT!E560,'ORDER FORM'!B:B,0)),INDEX('ORDER FORM'!N:N,MATCH(TRIM(IMPORT!E560),'ORDER FORM'!B:B,0))),\"\")","v":""}]
["UPLOADUSD",{"$f":"IF('ORDER FORM'!$O$7=\"\",\"ENTER-PO\",'ORDER FORM'!$O$7)","v":"ENTER-PO"},"2021 Spring/Summer",{"$f":"IF('ORDER FORM'!$O$9=\"\",TODAY(),'ORDER FORM'!$O$9)","v":"2023-11-02"},710205,"217","L","2","610306155559",{"$f":"IF(IFERROR(INDEX('ORDER FORM'!$I$96:$L$125,MATCH(CONCATENATE(E561,F561),'ORDER FORM'!$A$96:$A$125,0),MATCH(G561,'ORDER FORM'!$I$119:$L$119,0)),\"\")=0,\"\",IFERROR(INDEX('ORDER FORM'!$I$96:$L$125,MATCH(CONCATENATE(E561,F561),'ORDER FORM'!$A$96:A$125,0),MATCH(G561,'ORDER FORM'!$I$119:$L$119,0)),\"\"))","v":""},{"$f":"IFERROR(IFERROR(INDEX('ORDER FORM'!N:N,MATCH(IMPORT!E561,'ORDER FORM'!B:B,0)),INDEX('ORDER FORM'!N:N,MATCH(TRIM(IMPORT!E561),'ORDER FORM'!B:B,0))),\"\")","v":""}]
["UPLOADUSD",{"$f":"IF('ORDER FORM'!$O$7=\"\",\"ENTER-PO\",'ORDER FORM'!$O$7)","v":"ENTER-PO"},"2021 Spring/Summer",{"$f":"IF('ORDER FORM'!$O$9=\"\",TODAY(),'ORDER FORM'!$O$9)","v":"2023-11-02"},710205,"217","XL","2","610306155566",{"$f":"IF(IFERROR(INDEX('ORDER FORM'!$I$96:$L$125,MATCH(CONCATENATE(E562,F562),'ORDER FORM'!$A$96:$A$125,0),MATCH(G562,'ORDER FORM'!$I$119:$L$119,0)),\"\")=0,\"\",IFERROR(INDEX('ORDER FORM'!$I$96:$L$125,MATCH(CONCATENATE(E562,F562),'ORDER FORM'!$A$96:A$125,0),MATCH(G562,'ORDER FORM'!$I$119:$L$119,0)),\"\"))","v":""},{"$f":"IFERROR(IFERROR(INDEX('ORDER FORM'!N:N,MATCH(IMPORT!E562,'ORDER FORM'!B:B,0)),INDEX('ORDER FORM'!N:N,MATCH(TRIM(IMPORT!E562),'ORDER FORM'!B:B,0))),\"\")","v":""}]
["UPLOADUSD",{"$f":"IF('ORDER FORM'!$O$7=\"\",\"ENTER-PO\",'ORDER FORM'!$O$7)","v":"ENTER-PO"},"2021 Spring/Summer",{"$f":"IF('ORDER FORM'!$O$9=\"\",TODAY(),'ORDER FORM'!$O$9)","v":"2023-11-02"},710205,"325","S","2","610306161246",{"$f":"IF(IFERROR(INDEX('ORDER FORM'!$I$96:$L$125,MATCH(CONCATENATE(E563,F563),'ORDER FORM'!$A$96:$A$125,0),MATCH(G563,'ORDER FORM'!$I$119:$L$119,0)),\"\")=0,\"\",IFERROR(INDEX('ORDER FORM'!$I$96:$L$125,MATCH(CONCATENATE(E563,F563),'ORDER FORM'!$A$96:A$125,0),MATCH(G563,'ORDER FORM'!$I$119:$L$119,0)),\"\"))","v":""},{"$f":"IFERROR(IFERROR(INDEX('ORDER FORM'!N:N,MATCH(IMPORT!E563,'ORDER FORM'!B:B,0)),INDEX('ORDER FORM'!N:N,MATCH(TRIM(IMPORT!E563),'ORDER FORM'!B:B,0))),\"\")","v":""}]
["UPLOADUSD",{"$f":"IF('ORDER FORM'!$O$7=\"\",\"ENTER-PO\",'ORDER FORM'!$O$7)","v":"ENTER-PO"},"2021 Spring/Summer",{"$f":"IF('ORDER FORM'!$O$9=\"\",TODAY(),'ORDER FORM'!$O$9)","v":"2023-11-02"},710205,"325","M","2","610306161253",{"$f":"IF(IFERROR(INDEX('ORDER FORM'!$I$96:$L$125,MATCH(CONCATENATE(E564,F564),'ORDER FORM'!$A$96:$A$125,0),MATCH(G564,'ORDER FORM'!$I$119:$L$119,0)),\"\")=0,\"\",IFERROR(INDEX('ORDER FORM'!$I$96:$L$125,MATCH(CONCATENATE(E564,F564),'ORDER FORM'!$A$96:A$125,0),MATCH(G564,'ORDER FORM'!$I$119:$L$119,0)),\"\"))","v":""},{"$f":"IFERROR(IFERROR(INDEX('ORDER FORM'!N:N,MATCH(IMPORT!E564,'ORDER FORM'!B:B,0)),INDEX('ORDER FORM'!N:N,MATCH(TRIM(IMPORT!E564),'ORDER FORM'!B:B,0))),\"\")","v":""}]
["UPLOADUSD",{"$f":"IF('ORDER FORM'!$O$7=\"\",\"ENTER-PO\",'ORDER FORM'!$O$7)","v":"ENTER-PO"},"2021 Spring/Summer",{"$f":"IF('ORDER FORM'!$O$9=\"\",TODAY(),'ORDER FORM'!$O$9)","v":"2023-11-02"},710205,"325","L","2","610306161260",{"$f":"IF(IFERROR(INDEX('ORDER FORM'!$I$96:$L$125,MATCH(CONCATENATE(E565,F565),'ORDER FORM'!$A$96:$A$125,0),MATCH(G565,'ORDER FORM'!$I$119:$L$119,0)),\"\")=0,\"\",IFERROR(INDEX('ORDER FORM'!$I$96:$L$125,MATCH(CONCATENATE(E565,F565),'ORDER FORM'!$A$96:A$125,0),MATCH(G565,'ORDER FORM'!$I$119:$L$119,0)),\"\"))","v":""},{"$f":"IFERROR(IFERROR(INDEX('ORDER FORM'!N:N,MATCH(IMPORT!E565,'ORDER FORM'!B:B,0)),INDEX('ORDER FORM'!N:N,MATCH(TRIM(IMPORT!E565),'ORDER FORM'!B:B,0))),\"\")","v":""}]
["UPLOADUSD",{"$f":"IF('ORDER FORM'!$O$7=\"\",\"ENTER-PO\",'ORDER FORM'!$O$7)","v":"ENTER-PO"},"2021 Spring/Summer",{"$f":"IF('ORDER FORM'!$O$9=\"\",TODAY(),'ORDER FORM'!$O$9)","v":"2023-11-02"},710205,"325","XL","2","610306161277",{"$f":"IF(IFERROR(INDEX('ORDER FORM'!$I$96:$L$125,MATCH(CONCATENATE(E566,F566),'ORDER FORM'!$A$96:$A$125,0),MATCH(G566,'ORDER FORM'!$I$119:$L$119,0)),\"\")=0,\"\",IFERROR(INDEX('ORDER FORM'!$I$96:$L$125,MATCH(CONCATENATE(E566,F566),'ORDER FORM'!$A$96:A$125,0),MATCH(G566,'ORDER FORM'!$I$119:$L$119,0)),\"\"))","v":""},{"$f":"IFERROR(IFERROR(INDEX('ORDER FORM'!N:N,MATCH(IMPORT!E566,'ORDER FORM'!B:B,0)),INDEX('ORDER FORM'!N:N,MATCH(TRIM(IMPORT!E566),'ORDER FORM'!B:B,0))),\"\")","v":""}]
["UPLOADUSD",{"$f":"IF('ORDER FORM'!$O$7=\"\",\"ENTER-PO\",'ORDER FORM'!$O$7)","v":"ENTER-PO"},"2021 Spring/Summer",{"$f":"IF('ORDER FORM'!$O$9=\"\",TODAY(),'ORDER FORM'!$O$9)","v":"2023-11-02"},710205,"436","S","2","610306161123",{"$f":"IF(IFERROR(INDEX('ORDER FORM'!$I$96:$L$125,MATCH(CONCATENATE(E567,F567),'ORDER FORM'!$A$96:$A$125,0),MATCH(G567,'ORDER FORM'!$I$119:$L$119,0)),\"\")=0,\"\",IFERROR(INDEX('ORDER FORM'!$I$96:$L$125,MATCH(CONCATENATE(E567,F567),'ORDER FORM'!$A$96:A$125,0),MATCH(G567,'ORDER FORM'!$I$119:$L$119,0)),\"\"))","v":""},{"$f":"IFERROR(IFERROR(INDEX('ORDER FORM'!N:N,MATCH(IMPORT!E567,'ORDER FORM'!B:B,0)),INDEX('ORDER FORM'!N:N,MATCH(TRIM(IMPORT!E567),'ORDER FORM'!B:B,0))),\"\")","v":""}]
["UPLOADUSD",{"$f":"IF('ORDER FORM'!$O$7=\"\",\"ENTER-PO\",'ORDER FORM'!$O$7)","v":"ENTER-PO"},"2021 Spring/Summer",{"$f":"IF('ORDER FORM'!$O$9=\"\",TODAY(),'ORDER FORM'!$O$9)","v":"2023-11-02"},710205,"436","M","2","610306161130",{"$f":"IF(IFERROR(INDEX('ORDER FORM'!$I$96:$L$125,MATCH(CONCATENATE(E568,F568),'ORDER FORM'!$A$96:$A$125,0),MATCH(G568,'ORDER FORM'!$I$119:$L$119,0)),\"\")=0,\"\",IFERROR(INDEX('ORDER FORM'!$I$96:$L$125,MATCH(CONCATENATE(E568,F568),'ORDER FORM'!$A$96:A$125,0),MATCH(G568,'ORDER FORM'!$I$119:$L$119,0)),\"\"))","v":""},{"$f":"IFERROR(IFERROR(INDEX('ORDER FORM'!N:N,MATCH(IMPORT!E568,'ORDER FORM'!B:B,0)),INDEX('ORDER FORM'!N:N,MATCH(TRIM(IMPORT!E568),'ORDER FORM'!B:B,0))),\"\")","v":""}]
["UPLOADUSD",{"$f":"IF('ORDER FORM'!$O$7=\"\",\"ENTER-PO\",'ORDER FORM'!$O$7)","v":"ENTER-PO"},"2021 Spring/Summer",{"$f":"IF('ORDER FORM'!$O$9=\"\",TODAY(),'ORDER FORM'!$O$9)","v":"2023-11-02"},710205,"436","L","2","610306161147",{"$f":"IF(IFERROR(INDEX('ORDER FORM'!$I$96:$L$125,MATCH(CONCATENATE(E569,F569),'ORDER FORM'!$A$96:$A$125,0),MATCH(G569,'ORDER FORM'!$I$119:$L$119,0)),\"\")=0,\"\",IFERROR(INDEX('ORDER FORM'!$I$96:$L$125,MATCH(CONCATENATE(E569,F569),'ORDER FORM'!$A$96:A$125,0),MATCH(G569,'ORDER FORM'!$I$119:$L$119,0)),\"\"))","v":""},{"$f":"IFERROR(IFERROR(INDEX('ORDER FORM'!N:N,MATCH(IMPORT!E569,'ORDER FORM'!B:B,0)),INDEX('ORDER FORM'!N:N,MATCH(TRIM(IMPORT!E569),'ORDER FORM'!B:B,0))),\"\")","v":""}]
["UPLOADUSD",{"$f":"IF('ORDER FORM'!$O$7=\"\",\"ENTER-PO\",'ORDER FORM'!$O$7)","v":"ENTER-PO"},"2021 Spring/Summer",{"$f":"IF('ORDER FORM'!$O$9=\"\",TODAY(),'ORDER FORM'!$O$9)","v":"2023-11-02"},710205,"436","XL","2","610306161154",{"$f":"IF(IFERROR(INDEX('ORDER FORM'!$I$96:$L$125,MATCH(CONCATENATE(E570,F570),'ORDER FORM'!$A$96:$A$125,0),MATCH(G570,'ORDER FORM'!$I$119:$L$119,0)),\"\")=0,\"\",IFERROR(INDEX('ORDER FORM'!$I$96:$L$125,MATCH(CONCATENATE(E570,F570),'ORDER FORM'!$A$96:A$125,0),MATCH(G570,'ORDER FORM'!$I$119:$L$119,0)),\"\"))","v":""},{"$f":"IFERROR(IFERROR(INDEX('ORDER FORM'!N:N,MATCH(IMPORT!E570,'ORDER FORM'!B:B,0)),INDEX('ORDER FORM'!N:N,MATCH(TRIM(IMPORT!E570),'ORDER FORM'!B:B,0))),\"\")","v":""}]
["UPLOADUSD",{"$f":"IF('ORDER FORM'!$O$7=\"\",\"ENTER-PO\",'ORDER FORM'!$O$7)","v":"ENTER-PO"},"2021 Spring/Summer",{"$f":"IF('ORDER FORM'!$O$9=\"\",TODAY(),'ORDER FORM'!$O$9)","v":"2023-11-02"},710205,"445","S","2","610306161208",{"$f":"IF(IFERROR(INDEX('ORDER FORM'!$I$96:$L$125,MATCH(CONCATENATE(E571,F571),'ORDER FORM'!$A$96:$A$125,0),MATCH(G571,'ORDER FORM'!$I$119:$L$119,0)),\"\")=0,\"\",IFERROR(INDEX('ORDER FORM'!$I$96:$L$125,MATCH(CONCATENATE(E571,F571),'ORDER FORM'!$A$96:A$125,0),MATCH(G571,'ORDER FORM'!$I$119:$L$119,0)),\"\"))","v":""},{"$f":"IFERROR(IFERROR(INDEX('ORDER FORM'!N:N,MATCH(IMPORT!E571,'ORDER FORM'!B:B,0)),INDEX('ORDER FORM'!N:N,MATCH(TRIM(IMPORT!E571),'ORDER FORM'!B:B,0))),\"\")","v":""}]
["UPLOADUSD",{"$f":"IF('ORDER FORM'!$O$7=\"\",\"ENTER-PO\",'ORDER FORM'!$O$7)","v":"ENTER-PO"},"2021 Spring/Summer",{"$f":"IF('ORDER FORM'!$O$9=\"\",TODAY(),'ORDER FORM'!$O$9)","v":"2023-11-02"},710205,"445","M","2","610306161215",{"$f":"IF(IFERROR(INDEX('ORDER FORM'!$I$96:$L$125,MATCH(CONCATENATE(E572,F572),'ORDER FORM'!$A$96:$A$125,0),MATCH(G572,'ORDER FORM'!$I$119:$L$119,0)),\"\")=0,\"\",IFERROR(INDEX('ORDER FORM'!$I$96:$L$125,MATCH(CONCATENATE(E572,F572),'ORDER FORM'!$A$96:A$125,0),MATCH(G572,'ORDER FORM'!$I$119:$L$119,0)),\"\"))","v":""},{"$f":"IFERROR(IFERROR(INDEX('ORDER FORM'!N:N,MATCH(IMPORT!E572,'ORDER FORM'!B:B,0)),INDEX('ORDER FORM'!N:N,MATCH(TRIM(IMPORT!E572),'ORDER FORM'!B:B,0))),\"\")","v":""}]
["UPLOADUSD",{"$f":"IF('ORDER FORM'!$O$7=\"\",\"ENTER-PO\",'ORDER FORM'!$O$7)","v":"ENTER-PO"},"2021 Spring/Summer",{"$f":"IF('ORDER FORM'!$O$9=\"\",TODAY(),'ORDER FORM'!$O$9)","v":"2023-11-02"},710205,"445","L","2","610306161222",{"$f":"IF(IFERROR(INDEX('ORDER FORM'!$I$96:$L$125,MATCH(CONCATENATE(E573,F573),'ORDER FORM'!$A$96:$A$125,0),MATCH(G573,'ORDER FORM'!$I$119:$L$119,0)),\"\")=0,\"\",IFERROR(INDEX('ORDER FORM'!$I$96:$L$125,MATCH(CONCATENATE(E573,F573),'ORDER FORM'!$A$96:A$125,0),MATCH(G573,'ORDER FORM'!$I$119:$L$119,0)),\"\"))","v":""},{"$f":"IFERROR(IFERROR(INDEX('ORDER FORM'!N:N,MATCH(IMPORT!E573,'ORDER FORM'!B:B,0)),INDEX('ORDER FORM'!N:N,MATCH(TRIM(IMPORT!E573),'ORDER FORM'!B:B,0))),\"\")","v":""}]
["UPLOADUSD",{"$f":"IF('ORDER FORM'!$O$7=\"\",\"ENTER-PO\",'ORDER FORM'!$O$7)","v":"ENTER-PO"},"2021 Spring/Summer",{"$f":"IF('ORDER FORM'!$O$9=\"\",TODAY(),'ORDER FORM'!$O$9)","v":"2023-11-02"},710205,"445","XL","2","610306161239",{"$f":"IF(IFERROR(INDEX('ORDER FORM'!$I$96:$L$125,MATCH(CONCATENATE(E574,F574),'ORDER FORM'!$A$96:$A$125,0),MATCH(G574,'ORDER FORM'!$I$119:$L$119,0)),\"\")=0,\"\",IFERROR(INDEX('ORDER FORM'!$I$96:$L$125,MATCH(CONCATENATE(E574,F574),'ORDER FORM'!$A$96:A$125,0),MATCH(G574,'ORDER FORM'!$I$119:$L$119,0)),\"\"))","v":""},{"$f":"IFERROR(IFERROR(INDEX('ORDER FORM'!N:N,MATCH(IMPORT!E574,'ORDER FORM'!B:B,0)),INDEX('ORDER FORM'!N:N,MATCH(TRIM(IMPORT!E574),'ORDER FORM'!B:B,0))),\"\")","v":""}]
["UPLOADUSD",{"$f":"IF('ORDER FORM'!$O$7=\"\",\"ENTER-PO\",'ORDER FORM'!$O$7)","v":"ENTER-PO"},"2021 Spring/Summer",{"$f":"IF('ORDER FORM'!$O$9=\"\",TODAY(),'ORDER FORM'!$O$9)","v":"2023-11-02"},710205,"550","S","2","610306161161",{"$f":"IF(IFERROR(INDEX('ORDER FORM'!$I$96:$L$125,MATCH(CONCATENATE(E575,F575),'ORDER FORM'!$A$96:$A$125,0),MATCH(G575,'ORDER FORM'!$I$119:$L$119,0)),\"\")=0,\"\",IFERROR(INDEX('ORDER FORM'!$I$96:$L$125,MATCH(CONCATENATE(E575,F575),'ORDER FORM'!$A$96:A$125,0),MATCH(G575,'ORDER FORM'!$I$119:$L$119,0)),\"\"))","v":""},{"$f":"IFERROR(IFERROR(INDEX('ORDER FORM'!N:N,MATCH(IMPORT!E575,'ORDER FORM'!B:B,0)),INDEX('ORDER FORM'!N:N,MATCH(TRIM(IMPORT!E575),'ORDER FORM'!B:B,0))),\"\")","v":""}]
["UPLOADUSD",{"$f":"IF('ORDER FORM'!$O$7=\"\",\"ENTER-PO\",'ORDER FORM'!$O$7)","v":"ENTER-PO"},"2021 Spring/Summer",{"$f":"IF('ORDER FORM'!$O$9=\"\",TODAY(),'ORDER FORM'!$O$9)","v":"2023-11-02"},710205,"550","M","2","610306161178",{"$f":"IF(IFERROR(INDEX('ORDER FORM'!$I$96:$L$125,MATCH(CONCATENATE(E576,F576),'ORDER FORM'!$A$96:$A$125,0),MATCH(G576,'ORDER FORM'!$I$119:$L$119,0)),\"\")=0,\"\",IFERROR(INDEX('ORDER FORM'!$I$96:$L$125,MATCH(CONCATENATE(E576,F576),'ORDER FORM'!$A$96:A$125,0),MATCH(G576,'ORDER FORM'!$I$119:$L$119,0)),\"\"))","v":""},{"$f":"IFERROR(IFERROR(INDEX('ORDER FORM'!N:N,MATCH(IMPORT!E576,'ORDER FORM'!B:B,0)),INDEX('ORDER FORM'!N:N,MATCH(TRIM(IMPORT!E576),'ORDER FORM'!B:B,0))),\"\")","v":""}]
["UPLOADUSD",{"$f":"IF('ORDER FORM'!$O$7=\"\",\"ENTER-PO\",'ORDER FORM'!$O$7)","v":"ENTER-PO"},"2021 Spring/Summer",{"$f":"IF('ORDER FORM'!$O$9=\"\",TODAY(),'ORDER FORM'!$O$9)","v":"2023-11-02"},710205,"550","L","2","610306161185",{"$f":"IF(IFERROR(INDEX('ORDER FORM'!$I$96:$L$125,MATCH(CONCATENATE(E577,F577),'ORDER FORM'!$A$96:$A$125,0),MATCH(G577,'ORDER FORM'!$I$119:$L$119,0)),\"\")=0,\"\",IFERROR(INDEX('ORDER FORM'!$I$96:$L$125,MATCH(CONCATENATE(E577,F577),'ORDER FORM'!$A$96:A$125,0),MATCH(G577,'ORDER FORM'!$I$119:$L$119,0)),\"\"))","v":""},{"$f":"IFERROR(IFERROR(INDEX('ORDER FORM'!N:N,MATCH(IMPORT!E577,'ORDER FORM'!B:B,0)),INDEX('ORDER FORM'!N:N,MATCH(TRIM(IMPORT!E577),'ORDER FORM'!B:B,0))),\"\")","v":""}]
["UPLOADUSD",{"$f":"IF('ORDER FORM'!$O$7=\"\",\"ENTER-PO\",'ORDER FORM'!$O$7)","v":"ENTER-PO"},"2021 Spring/Summer",{"$f":"IF('ORDER FORM'!$O$9=\"\",TODAY(),'ORDER FORM'!$O$9)","v":"2023-11-02"},710205,"550","XL","2","610306161192",{"$f":"IF(IFERROR(INDEX('ORDER FORM'!$I$96:$L$125,MATCH(CONCATENATE(E578,F578),'ORDER FORM'!$A$96:$A$125,0),MATCH(G578,'ORDER FORM'!$I$119:$L$119,0)),\"\")=0,\"\",IFERROR(INDEX('ORDER FORM'!$I$96:$L$125,MATCH(CONCATENATE(E578,F578),'ORDER FORM'!$A$96:A$125,0),MATCH(G578,'ORDER FORM'!$I$119:$L$119,0)),\"\"))","v":""},{"$f":"IFERROR(IFERROR(INDEX('ORDER FORM'!N:N,MATCH(IMPORT!E578,'ORDER FORM'!B:B,0)),INDEX('ORDER FORM'!N:N,MATCH(TRIM(IMPORT!E578),'ORDER FORM'!B:B,0))),\"\")","v":""}]
["UPLOADUSD",{"$f":"IF('ORDER FORM'!$O$7=\"\",\"ENTER-PO\",'ORDER FORM'!$O$7)","v":"ENTER-PO"},"2021 Spring/Summer",{"$f":"IF('ORDER FORM'!$O$9=\"\",TODAY(),'ORDER FORM'!$O$9)","v":"2023-11-02"},710206,"218","S","2","610306155603",{"$f":"IF(IFERROR(INDEX('ORDER FORM'!$I$96:$L$125,MATCH(CONCATENATE(E579,F579),'ORDER FORM'!$A$96:$A$125,0),MATCH(G579,'ORDER FORM'!$I$119:$L$119,0)),\"\")=0,\"\",IFERROR(INDEX('ORDER FORM'!$I$96:$L$125,MATCH(CONCATENATE(E579,F579),'ORDER FORM'!$A$96:A$125,0),MATCH(G579,'ORDER FORM'!$I$119:$L$119,0)),\"\"))","v":""},{"$f":"IFERROR(IFERROR(INDEX('ORDER FORM'!N:N,MATCH(IMPORT!E579,'ORDER FORM'!B:B,0)),INDEX('ORDER FORM'!N:N,MATCH(TRIM(IMPORT!E579),'ORDER FORM'!B:B,0))),\"\")","v":""}]
[{"$f":"IF(IF($B$1=0,\"ENTER ACCOUNT\",$B$1)=\"\",\"UPLOADUSD\",IF($B$1=0,\"ENTER ACCOUNT\",$B$1))","v":"UPLOADUSD"},{"$f":"IF('ORDER FORM'!$O$7=\"\",\"ENTER-PO\",'ORDER FORM'!$O$7)","v":"ENTER-PO"},{"$f":"$D$1","v":"2021 Spring/Summer"},{"$f":"IF('ORDER FORM'!$O$9=\"\",TODAY(),'ORDER FORM'!$O$9)","v":"2023-11-02"},710206,"218","M","2","610306155610",{"$f":"IF(IFERROR(INDEX('ORDER FORM'!$I$96:$L$125,MATCH(CONCATENATE(E580,F580),'ORDER FORM'!$A$96:$A$125,0),MATCH(G580,'ORDER FORM'!$I$119:$L$119,0)),\"\")=0,\"\",IFERROR(INDEX('ORDER FORM'!$I$96:$L$125,MATCH(CONCATENATE(E580,F580),'ORDER FORM'!$A$96:A$125,0),MATCH(G580,'ORDER FORM'!$I$119:$L$119,0)),\"\"))","v":""},{"$f":"IFERROR(IFERROR(INDEX('ORDER FORM'!N:N,MATCH(IMPORT!E580,'ORDER FORM'!B:B,0)),INDEX('ORDER FORM'!N:N,MATCH(TRIM(IMPORT!E580),'ORDER FORM'!B:B,0))),\"\")","v":""}]
["UPLOADUSD",{"$f":"IF('ORDER FORM'!$O$7=\"\",\"ENTER-PO\",'ORDER FORM'!$O$7)","v":"ENTER-PO"},"2021 Spring/Summer",{"$f":"IF('ORDER FORM'!$O$9=\"\",TODAY(),'ORDER FORM'!$O$9)","v":"2023-11-02"},710206,"218","L","2","610306155627",{"$f":"IF(IFERROR(INDEX('ORDER FORM'!$I$96:$L$125,MATCH(CONCATENATE(E581,F581),'ORDER FORM'!$A$96:$A$125,0),MATCH(G581,'ORDER FORM'!$I$119:$L$119,0)),\"\")=0,\"\",IFERROR(INDEX('ORDER FORM'!$I$96:$L$125,MATCH(CONCATENATE(E581,F581),'ORDER FORM'!$A$96:A$125,0),MATCH(G581,'ORDER FORM'!$I$119:$L$119,0)),\"\"))","v":""},{"$f":"IFERROR(IFERROR(INDEX('ORDER FORM'!N:N,MATCH(IMPORT!E581,'ORDER FORM'!B:B,0)),INDEX('ORDER FORM'!N:N,MATCH(TRIM(IMPORT!E581),'ORDER FORM'!B:B,0))),\"\")","v":""}]
["UPLOADUSD",{"$f":"IF('ORDER FORM'!$O$7=\"\",\"ENTER-PO\",'ORDER FORM'!$O$7)","v":"ENTER-PO"},"2021 Spring/Summer",{"$f":"IF('ORDER FORM'!$O$9=\"\",TODAY(),'ORDER FORM'!$O$9)","v":"2023-11-02"},710206,"305","S","2","610306161314",{"$f":"IF(IFERROR(INDEX('ORDER FORM'!$I$96:$L$125,MATCH(CONCATENATE(E582,F582),'ORDER FORM'!$A$96:$A$125,0),MATCH(G582,'ORDER FORM'!$I$119:$L$119,0)),\"\")=0,\"\",IFERROR(INDEX('ORDER FORM'!$I$96:$L$125,MATCH(CONCATENATE(E582,F582),'ORDER FORM'!$A$96:A$125,0),MATCH(G582,'ORDER FORM'!$I$119:$L$119,0)),\"\"))","v":""},{"$f":"IFERROR(IFERROR(INDEX('ORDER FORM'!N:N,MATCH(IMPORT!E582,'ORDER FORM'!B:B,0)),INDEX('ORDER FORM'!N:N,MATCH(TRIM(IMPORT!E582),'ORDER FORM'!B:B,0))),\"\")","v":""}]
["UPLOADUSD",{"$f":"IF('ORDER FORM'!$O$7=\"\",\"ENTER-PO\",'ORDER FORM'!$O$7)","v":"ENTER-PO"},"2021 Spring/Summer",{"$f":"IF('ORDER FORM'!$O$9=\"\",TODAY(),'ORDER FORM'!$O$9)","v":"2023-11-02"},710206,"305","M","2","610306161321",{"$f":"IF(IFERROR(INDEX('ORDER FORM'!$I$96:$L$125,MATCH(CONCATENATE(E583,F583),'ORDER FORM'!$A$96:$A$125,0),MATCH(G583,'ORDER FORM'!$I$119:$L$119,0)),\"\")=0,\"\",IFERROR(INDEX('ORDER FORM'!$I$96:$L$125,MATCH(CONCATENATE(E583,F583),'ORDER FORM'!$A$96:A$125,0),MATCH(G583,'ORDER FORM'!$I$119:$L$119,0)),\"\"))","v":""},{"$f":"IFERROR(IFERROR(INDEX('ORDER FORM'!N:N,MATCH(IMPORT!E583,'ORDER FORM'!B:B,0)),INDEX('ORDER FORM'!N:N,MATCH(TRIM(IMPORT!E583),'ORDER FORM'!B:B,0))),\"\")","v":""}]
["UPLOADUSD",{"$f":"IF('ORDER FORM'!$O$7=\"\",\"ENTER-PO\",'ORDER FORM'!$O$7)","v":"ENTER-PO"},"2021 Spring/Summer",{"$f":"IF('ORDER FORM'!$O$9=\"\",TODAY(),'ORDER FORM'!$O$9)","v":"2023-11-02"},710206,"305","L","2","610306161338",{"$f":"IF(IFERROR(INDEX('ORDER FORM'!$I$96:$L$125,MATCH(CONCATENATE(E584,F584),'ORDER FORM'!$A$96:$A$125,0),MATCH(G584,'ORDER FORM'!$I$119:$L$119,0)),\"\")=0,\"\",IFERROR(INDEX('ORDER FORM'!$I$96:$L$125,MATCH(CONCATENATE(E584,F584),'ORDER FORM'!$A$96:A$125,0),MATCH(G584,'ORDER FORM'!$I$119:$L$119,0)),\"\"))","v":""},{"$f":"IFERROR(IFERROR(INDEX('ORDER FORM'!N:N,MATCH(IMPORT!E584,'ORDER FORM'!B:B,0)),INDEX('ORDER FORM'!N:N,MATCH(TRIM(IMPORT!E584),'ORDER FORM'!B:B,0))),\"\")","v":""}]
["UPLOADUSD",{"$f":"IF('ORDER FORM'!$O$7=\"\",\"ENTER-PO\",'ORDER FORM'!$O$7)","v":"ENTER-PO"},"2021 Spring/Summer",{"$f":"IF('ORDER FORM'!$O$9=\"\",TODAY(),'ORDER FORM'!$O$9)","v":"2023-11-02"},710206,"371","S","2","610306161284",{"$f":"IF(IFERROR(INDEX('ORDER FORM'!$I$96:$L$125,MATCH(CONCATENATE(E585,F585),'ORDER FORM'!$A$96:$A$125,0),MATCH(G585,'ORDER FORM'!$I$119:$L$119,0)),\"\")=0,\"\",IFERROR(INDEX('ORDER FORM'!$I$96:$L$125,MATCH(CONCATENATE(E585,F585),'ORDER FORM'!$A$96:A$125,0),MATCH(G585,'ORDER FORM'!$I$119:$L$119,0)),\"\"))","v":""},{"$f":"IFERROR(IFERROR(INDEX('ORDER FORM'!N:N,MATCH(IMPORT!E585,'ORDER FORM'!B:B,0)),INDEX('ORDER FORM'!N:N,MATCH(TRIM(IMPORT!E585),'ORDER FORM'!B:B,0))),\"\")","v":""}]
["UPLOADUSD",{"$f":"IF('ORDER FORM'!$O$7=\"\",\"ENTER-PO\",'ORDER FORM'!$O$7)","v":"ENTER-PO"},"2021 Spring/Summer",{"$f":"IF('ORDER FORM'!$O$9=\"\",TODAY(),'ORDER FORM'!$O$9)","v":"2023-11-02"},710206,"371","M","2","610306161291",{"$f":"IF(IFERROR(INDEX('ORDER FORM'!$I$96:$L$125,MATCH(CONCATENATE(E586,F586),'ORDER FORM'!$A$96:$A$125,0),MATCH(G586,'ORDER FORM'!$I$119:$L$119,0)),\"\")=0,\"\",IFERROR(INDEX('ORDER FORM'!$I$96:$L$125,MATCH(CONCATENATE(E586,F586),'ORDER FORM'!$A$96:A$125,0),MATCH(G586,'ORDER FORM'!$I$119:$L$119,0)),\"\"))","v":""},{"$f":"IFERROR(IFERROR(INDEX('ORDER FORM'!N:N,MATCH(IMPORT!E586,'ORDER FORM'!B:B,0)),INDEX('ORDER FORM'!N:N,MATCH(TRIM(IMPORT!E586),'ORDER FORM'!B:B,0))),\"\")","v":""}]
["UPLOADUSD",{"$f":"IF('ORDER FORM'!$O$7=\"\",\"ENTER-PO\",'ORDER FORM'!$O$7)","v":"ENTER-PO"},"2021 Spring/Summer",{"$f":"IF('ORDER FORM'!$O$9=\"\",TODAY(),'ORDER FORM'!$O$9)","v":"2023-11-02"},710206,"371","L","2","610306161307",{"$f":"IF(IFERROR(INDEX('ORDER FORM'!$I$96:$L$125,MATCH(CONCATENATE(E587,F587),'ORDER FORM'!$A$96:$A$125,0),MATCH(G587,'ORDER FORM'!$I$119:$L$119,0)),\"\")=0,\"\",IFERROR(INDEX('ORDER FORM'!$I$96:$L$125,MATCH(CONCATENATE(E587,F587),'ORDER FORM'!$A$96:A$125,0),MATCH(G587,'ORDER FORM'!$I$119:$L$119,0)),\"\"))","v":""},{"$f":"IFERROR(IFERROR(INDEX('ORDER FORM'!N:N,MATCH(IMPORT!E587,'ORDER FORM'!B:B,0)),INDEX('ORDER FORM'!N:N,MATCH(TRIM(IMPORT!E587),'ORDER FORM'!B:B,0))),\"\")","v":""}]
["UPLOADUSD",{"$f":"IF('ORDER FORM'!$O$7=\"\",\"ENTER-PO\",'ORDER FORM'!$O$7)","v":"ENTER-PO"},"2021 Spring/Summer",{"$f":"IF('ORDER FORM'!$O$9=\"\",TODAY(),'ORDER FORM'!$O$9)","v":"2023-11-02"},710206,"436","S","2","610306161345",{"$f":"IF(IFERROR(INDEX('ORDER FORM'!$I$96:$L$125,MATCH(CONCATENATE(E588,F588),'ORDER FORM'!$A$96:$A$125,0),MATCH(G588,'ORDER FORM'!$I$119:$L$119,0)),\"\")=0,\"\",IFERROR(INDEX('ORDER FORM'!$I$96:$L$125,MATCH(CONCATENATE(E588,F588),'ORDER FORM'!$A$96:A$125,0),MATCH(G588,'ORDER FORM'!$I$119:$L$119,0)),\"\"))","v":""},{"$f":"IFERROR(IFERROR(INDEX('ORDER FORM'!N:N,MATCH(IMPORT!E588,'ORDER FORM'!B:B,0)),INDEX('ORDER FORM'!N:N,MATCH(TRIM(IMPORT!E588),'ORDER FORM'!B:B,0))),\"\")","v":""}]
["UPLOADUSD",{"$f":"IF('ORDER FORM'!$O$7=\"\",\"ENTER-PO\",'ORDER FORM'!$O$7)","v":"ENTER-PO"},"2021 Spring/Summer",{"$f":"IF('ORDER FORM'!$O$9=\"\",TODAY(),'ORDER FORM'!$O$9)","v":"2023-11-02"},710206,"436","M","2","610306161352",{"$f":"IF(IFERROR(INDEX('ORDER FORM'!$I$96:$L$125,MATCH(CONCATENATE(E589,F589),'ORDER FORM'!$A$96:$A$125,0),MATCH(G589,'ORDER FORM'!$I$119:$L$119,0)),\"\")=0,\"\",IFERROR(INDEX('ORDER FORM'!$I$96:$L$125,MATCH(CONCATENATE(E589,F589),'ORDER FORM'!$A$96:A$125,0),MATCH(G589,'ORDER FORM'!$I$119:$L$119,0)),\"\"))","v":""},{"$f":"IFERROR(IFERROR(INDEX('ORDER FORM'!N:N,MATCH(IMPORT!E589,'ORDER FORM'!B:B,0)),INDEX('ORDER FORM'!N:N,MATCH(TRIM(IMPORT!E589),'ORDER FORM'!B:B,0))),\"\")","v":""}]
["UPLOADUSD",{"$f":"IF('ORDER FORM'!$O$7=\"\",\"ENTER-PO\",'ORDER FORM'!$O$7)","v":"ENTER-PO"},"2021 Spring/Summer",{"$f":"IF('ORDER FORM'!$O$9=\"\",TODAY(),'ORDER FORM'!$O$9)","v":"2023-11-02"},710206,"436","L","2","610306161369",{"$f":"IF(IFERROR(INDEX('ORDER FORM'!$I$96:$L$125,MATCH(CONCATENATE(E590,F590),'ORDER FORM'!$A$96:$A$125,0),MATCH(G590,'ORDER FORM'!$I$119:$L$119,0)),\"\")=0,\"\",IFERROR(INDEX('ORDER FORM'!$I$96:$L$125,MATCH(CONCATENATE(E590,F590),'ORDER FORM'!$A$96:A$125,0),MATCH(G590,'ORDER FORM'!$I$119:$L$119,0)),\"\"))","v":""},{"$f":"IFERROR(IFERROR(INDEX('ORDER FORM'!N:N,MATCH(IMPORT!E590,'ORDER FORM'!B:B,0)),INDEX('ORDER FORM'!N:N,MATCH(TRIM(IMPORT!E590),'ORDER FORM'!B:B,0))),\"\")","v":""}]
["UPLOADUSD",{"$f":"IF('ORDER FORM'!$O$7=\"\",\"ENTER-PO\",'ORDER FORM'!$O$7)","v":"ENTER-PO"},"2021 Spring/Summer",{"$f":"IF('ORDER FORM'!$O$9=\"\",TODAY(),'ORDER FORM'!$O$9)","v":"2023-11-02"},710206,"445","S","2","610306161376",{"$f":"IF(IFERROR(INDEX('ORDER FORM'!$I$96:$L$125,MATCH(CONCATENATE(E591,F591),'ORDER FORM'!$A$96:$A$125,0),MATCH(G591,'ORDER FORM'!$I$119:$L$119,0)),\"\")=0,\"\",IFERROR(INDEX('ORDER FORM'!$I$96:$L$125,MATCH(CONCATENATE(E591,F591),'ORDER FORM'!$A$96:A$125,0),MATCH(G591,'ORDER FORM'!$I$119:$L$119,0)),\"\"))","v":""},{"$f":"IFERROR(IFERROR(INDEX('ORDER FORM'!N:N,MATCH(IMPORT!E591,'ORDER FORM'!B:B,0)),INDEX('ORDER FORM'!N:N,MATCH(TRIM(IMPORT!E591),'ORDER FORM'!B:B,0))),\"\")","v":""}]
["UPLOADUSD",{"$f":"IF('ORDER FORM'!$O$7=\"\",\"ENTER-PO\",'ORDER FORM'!$O$7)","v":"ENTER-PO"},"2021 Spring/Summer",{"$f":"IF('ORDER FORM'!$O$9=\"\",TODAY(),'ORDER FORM'!$O$9)","v":"2023-11-02"},710206,"445","M","2","610306161383",{"$f":"IF(IFERROR(INDEX('ORDER FORM'!$I$96:$L$125,MATCH(CONCATENATE(E592,F592),'ORDER FORM'!$A$96:$A$125,0),MATCH(G592,'ORDER FORM'!$I$119:$L$119,0)),\"\")=0,\"\",IFERROR(INDEX('ORDER FORM'!$I$96:$L$125,MATCH(CONCATENATE(E592,F592),'ORDER FORM'!$A$96:A$125,0),MATCH(G592,'ORDER FORM'!$I$119:$L$119,0)),\"\"))","v":""},{"$f":"IFERROR(IFERROR(INDEX('ORDER FORM'!N:N,MATCH(IMPORT!E592,'ORDER FORM'!B:B,0)),INDEX('ORDER FORM'!N:N,MATCH(TRIM(IMPORT!E592),'ORDER FORM'!B:B,0))),\"\")","v":""}]
["UPLOADUSD",{"$f":"IF('ORDER FORM'!$O$7=\"\",\"ENTER-PO\",'ORDER FORM'!$O$7)","v":"ENTER-PO"},"2021 Spring/Summer",{"$f":"IF('ORDER FORM'!$O$9=\"\",TODAY(),'ORDER FORM'!$O$9)","v":"2023-11-02"},710206,"445","L","2","610306161390",{"$f":"IF(IFERROR(INDEX('ORDER FORM'!$I$96:$L$125,MATCH(CONCATENATE(E593,F593),'ORDER FORM'!$A$96:$A$125,0),MATCH(G593,'ORDER FORM'!$I$119:$L$119,0)),\"\")=0,\"\",IFERROR(INDEX('ORDER FORM'!$I$96:$L$125,MATCH(CONCATENATE(E593,F593),'ORDER FORM'!$A$96:A$125,0),MATCH(G593,'ORDER FORM'!$I$119:$L$119,0)),\"\"))","v":""},{"$f":"IFERROR(IFERROR(INDEX('ORDER FORM'!N:N,MATCH(IMPORT!E593,'ORDER FORM'!B:B,0)),INDEX('ORDER FORM'!N:N,MATCH(TRIM(IMPORT!E593),'ORDER FORM'!B:B,0))),\"\")","v":""}]
["UPLOADUSD",{"$f":"IF('ORDER FORM'!$O$7=\"\",\"ENTER-PO\",'ORDER FORM'!$O$7)","v":"ENTER-PO"},"2021 Spring/Summer",{"$f":"IF('ORDER FORM'!$O$9=\"\",TODAY(),'ORDER FORM'!$O$9)","v":"2023-11-02"},710206,"837","S","2","610306155573",{"$f":"IF(IFERROR(INDEX('ORDER FORM'!$I$96:$L$125,MATCH(CONCATENATE(E594,F594),'ORDER FORM'!$A$96:$A$125,0),MATCH(G594,'ORDER FORM'!$I$119:$L$119,0)),\"\")=0,\"\",IFERROR(INDEX('ORDER FORM'!$I$96:$L$125,MATCH(CONCATENATE(E594,F594),'ORDER FORM'!$A$96:A$125,0),MATCH(G594,'ORDER FORM'!$I$119:$L$119,0)),\"\"))","v":""},{"$f":"IFERROR(IFERROR(INDEX('ORDER FORM'!N:N,MATCH(IMPORT!E594,'ORDER FORM'!B:B,0)),INDEX('ORDER FORM'!N:N,MATCH(TRIM(IMPORT!E594),'ORDER FORM'!B:B,0))),\"\")","v":""}]
["UPLOADUSD",{"$f":"IF('ORDER FORM'!$O$7=\"\",\"ENTER-PO\",'ORDER FORM'!$O$7)","v":"ENTER-PO"},"2021 Spring/Summer",{"$f":"IF('ORDER FORM'!$O$9=\"\",TODAY(),'ORDER FORM'!$O$9)","v":"2023-11-02"},710206,"837","M","2","610306155580",{"$f":"IF(IFERROR(INDEX('ORDER FORM'!$I$96:$L$125,MATCH(CONCATENATE(E595,F595),'ORDER FORM'!$A$96:$A$125,0),MATCH(G595,'ORDER FORM'!$I$119:$L$119,0)),\"\")=0,\"\",IFERROR(INDEX('ORDER FORM'!$I$96:$L$125,MATCH(CONCATENATE(E595,F595),'ORDER FORM'!$A$96:A$125,0),MATCH(G595,'ORDER FORM'!$I$119:$L$119,0)),\"\"))","v":""},{"$f":"IFERROR(IFERROR(INDEX('ORDER FORM'!N:N,MATCH(IMPORT!E595,'ORDER FORM'!B:B,0)),INDEX('ORDER FORM'!N:N,MATCH(TRIM(IMPORT!E595),'ORDER FORM'!B:B,0))),\"\")","v":""}]
["UPLOADUSD",{"$f":"IF('ORDER FORM'!$O$7=\"\",\"ENTER-PO\",'ORDER FORM'!$O$7)","v":"ENTER-PO"},"2021 Spring/Summer",{"$f":"IF('ORDER FORM'!$O$9=\"\",TODAY(),'ORDER FORM'!$O$9)","v":"2023-11-02"},710206,"837","L","2","610306155597",{"$f":"IF(IFERROR(INDEX('ORDER FORM'!$I$96:$L$125,MATCH(CONCATENATE(E596,F596),'ORDER FORM'!$A$96:$A$125,0),MATCH(G596,'ORDER FORM'!$I$119:$L$119,0)),\"\")=0,\"\",IFERROR(INDEX('ORDER FORM'!$I$96:$L$125,MATCH(CONCATENATE(E596,F596),'ORDER FORM'!$A$96:A$125,0),MATCH(G596,'ORDER FORM'!$I$119:$L$119,0)),\"\"))","v":""},{"$f":"IFERROR(IFERROR(INDEX('ORDER FORM'!N:N,MATCH(IMPORT!E596,'ORDER FORM'!B:B,0)),INDEX('ORDER FORM'!N:N,MATCH(TRIM(IMPORT!E596),'ORDER FORM'!B:B,0))),\"\")","v":""}]
["UPLOADUSD",{"$f":"IF('ORDER FORM'!$O$7=\"\",\"ENTER-PO\",'ORDER FORM'!$O$7)","v":"ENTER-PO"},"2021 Spring/Summer",{"$f":"IF('ORDER FORM'!$O$9=\"\",TODAY(),'ORDER FORM'!$O$9)","v":"2023-11-02"},710212,"222","S","2","610306155900",{"$f":"IF(IFERROR(INDEX('ORDER FORM'!$I$96:$L$125,MATCH(CONCATENATE(E597,F597),'ORDER FORM'!$A$96:$A$125,0),MATCH(G597,'ORDER FORM'!$I$119:$L$119,0)),\"\")=0,\"\",IFERROR(INDEX('ORDER FORM'!$I$96:$L$125,MATCH(CONCATENATE(E597,F597),'ORDER FORM'!$A$96:A$125,0),MATCH(G597,'ORDER FORM'!$I$119:$L$119,0)),\"\"))","v":""},{"$f":"IFERROR(IFERROR(INDEX('ORDER FORM'!N:N,MATCH(IMPORT!E597,'ORDER FORM'!B:B,0)),INDEX('ORDER FORM'!N:N,MATCH(TRIM(IMPORT!E597),'ORDER FORM'!B:B,0))),\"\")","v":{"v":15,"d":"15.00"}}]
["UPLOADUSD",{"$f":"IF('ORDER FORM'!$O$7=\"\",\"ENTER-PO\",'ORDER FORM'!$O$7)","v":"ENTER-PO"},"2021 Spring/Summer",{"$f":"IF('ORDER FORM'!$O$9=\"\",TODAY(),'ORDER FORM'!$O$9)","v":"2023-11-02"},710212,"222","M","2","610306155917",{"$f":"IF(IFERROR(INDEX('ORDER FORM'!$I$96:$L$125,MATCH(CONCATENATE(E598,F598),'ORDER FORM'!$A$96:$A$125,0),MATCH(G598,'ORDER FORM'!$I$119:$L$119,0)),\"\")=0,\"\",IFERROR(INDEX('ORDER FORM'!$I$96:$L$125,MATCH(CONCATENATE(E598,F598),'ORDER FORM'!$A$96:A$125,0),MATCH(G598,'ORDER FORM'!$I$119:$L$119,0)),\"\"))","v":""},{"$f":"IFERROR(IFERROR(INDEX('ORDER FORM'!N:N,MATCH(IMPORT!E598,'ORDER FORM'!B:B,0)),INDEX('ORDER FORM'!N:N,MATCH(TRIM(IMPORT!E598),'ORDER FORM'!B:B,0))),\"\")","v":{"v":15,"d":"15.00"}}]
["UPLOADUSD",{"$f":"IF('ORDER FORM'!$O$7=\"\",\"ENTER-PO\",'ORDER FORM'!$O$7)","v":"ENTER-PO"},"2021 Spring/Summer",{"$f":"IF('ORDER FORM'!$O$9=\"\",TODAY(),'ORDER FORM'!$O$9)","v":"2023-11-02"},710212,"222","L","2","610306155924",{"$f":"IF(IFERROR(INDEX('ORDER FORM'!$I$96:$L$125,MATCH(CONCATENATE(E599,F599),'ORDER FORM'!$A$96:$A$125,0),MATCH(G599,'ORDER FORM'!$I$119:$L$119,0)),\"\")=0,\"\",IFERROR(INDEX('ORDER FORM'!$I$96:$L$125,MATCH(CONCATENATE(E599,F599),'ORDER FORM'!$A$96:A$125,0),MATCH(G599,'ORDER FORM'!$I$119:$L$119,0)),\"\"))","v":""},{"$f":"IFERROR(IFERROR(INDEX('ORDER FORM'!N:N,MATCH(IMPORT!E599,'ORDER FORM'!B:B,0)),INDEX('ORDER FORM'!N:N,MATCH(TRIM(IMPORT!E599),'ORDER FORM'!B:B,0))),\"\")","v":{"v":15,"d":"15.00"}}]
["UPLOADUSD",{"$f":"IF('ORDER FORM'!$O$7=\"\",\"ENTER-PO\",'ORDER FORM'!$O$7)","v":"ENTER-PO"},"2021 Spring/Summer",{"$f":"IF('ORDER FORM'!$O$9=\"\",TODAY(),'ORDER FORM'!$O$9)","v":"2023-11-02"},710212,"222","XL","2","610306155931",{"$f":"IF(IFERROR(INDEX('ORDER FORM'!$I$96:$L$125,MATCH(CONCATENATE(E600,F600),'ORDER FORM'!$A$96:$A$125,0),MATCH(G600,'ORDER FORM'!$I$119:$L$119,0)),\"\")=0,\"\",IFERROR(INDEX('ORDER FORM'!$I$96:$L$125,MATCH(CONCATENATE(E600,F600),'ORDER FORM'!$A$96:A$125,0),MATCH(G600,'ORDER FORM'!$I$119:$L$119,0)),\"\"))","v":""},{"$f":"IFERROR(IFERROR(INDEX('ORDER FORM'!N:N,MATCH(IMPORT!E600,'ORDER FORM'!B:B,0)),INDEX('ORDER FORM'!N:N,MATCH(TRIM(IMPORT!E600),'ORDER FORM'!B:B,0))),\"\")","v":{"v":15,"d":"15.00"}}]
["UPLOADUSD",{"$f":"IF('ORDER FORM'!$O$7=\"\",\"ENTER-PO\",'ORDER FORM'!$O$7)","v":"ENTER-PO"},"2021 Spring/Summer",{"$f":"IF('ORDER FORM'!$O$9=\"\",TODAY(),'ORDER FORM'!$O$9)","v":"2023-11-02"},710212,"223","S","2","610306155948",{"$f":"IF(IFERROR(INDEX('ORDER FORM'!$I$96:$L$125,MATCH(CONCATENATE(E601,F601),'ORDER FORM'!$A$96:$A$125,0),MATCH(G601,'ORDER FORM'!$I$119:$L$119,0)),\"\")=0,\"\",IFERROR(INDEX('ORDER FORM'!$I$96:$L$125,MATCH(CONCATENATE(E601,F601),'ORDER FORM'!$A$96:A$125,0),MATCH(G601,'ORDER FORM'!$I$119:$L$119,0)),\"\"))","v":""},{"$f":"IFERROR(IFERROR(INDEX('ORDER FORM'!N:N,MATCH(IMPORT!E601,'ORDER FORM'!B:B,0)),INDEX('ORDER FORM'!N:N,MATCH(TRIM(IMPORT!E601),'ORDER FORM'!B:B,0))),\"\")","v":{"v":15,"d":"15.00"}}]
["UPLOADUSD",{"$f":"IF('ORDER FORM'!$O$7=\"\",\"ENTER-PO\",'ORDER FORM'!$O$7)","v":"ENTER-PO"},"2021 Spring/Summer",{"$f":"IF('ORDER FORM'!$O$9=\"\",TODAY(),'ORDER FORM'!$O$9)","v":"2023-11-02"},710212,"223","M","2","610306155955",{"$f":"IF(IFERROR(INDEX('ORDER FORM'!$I$96:$L$125,MATCH(CONCATENATE(E602,F602),'ORDER FORM'!$A$96:$A$125,0),MATCH(G602,'ORDER FORM'!$I$119:$L$119,0)),\"\")=0,\"\",IFERROR(INDEX('ORDER FORM'!$I$96:$L$125,MATCH(CONCATENATE(E602,F602),'ORDER FORM'!$A$96:A$125,0),MATCH(G602,'ORDER FORM'!$I$119:$L$119,0)),\"\"))","v":""},{"$f":"IFERROR(IFERROR(INDEX('ORDER FORM'!N:N,MATCH(IMPORT!E602,'ORDER FORM'!B:B,0)),INDEX('ORDER FORM'!N:N,MATCH(TRIM(IMPORT!E602),'ORDER FORM'!B:B,0))),\"\")","v":{"v":15,"d":"15.00"}}]
["UPLOADUSD",{"$f":"IF('ORDER FORM'!$O$7=\"\",\"ENTER-PO\",'ORDER FORM'!$O$7)","v":"ENTER-PO"},"2021 Spring/Summer",{"$f":"IF('ORDER FORM'!$O$9=\"\",TODAY(),'ORDER FORM'!$O$9)","v":"2023-11-02"},710212,"223","L","2","610306155962",{"$f":"IF(IFERROR(INDEX('ORDER FORM'!$I$96:$L$125,MATCH(CONCATENATE(E603,F603),'ORDER FORM'!$A$96:$A$125,0),MATCH(G603,'ORDER FORM'!$I$119:$L$119,0)),\"\")=0,\"\",IFERROR(INDEX('ORDER FORM'!$I$96:$L$125,MATCH(CONCATENATE(E603,F603),'ORDER FORM'!$A$96:A$125,0),MATCH(G603,'ORDER FORM'!$I$119:$L$119,0)),\"\"))","v":""},{"$f":"IFERROR(IFERROR(INDEX('ORDER FORM'!N:N,MATCH(IMPORT!E603,'ORDER FORM'!B:B,0)),INDEX('ORDER FORM'!N:N,MATCH(TRIM(IMPORT!E603),'ORDER FORM'!B:B,0))),\"\")","v":{"v":15,"d":"15.00"}}]
["UPLOADUSD",{"$f":"IF('ORDER FORM'!$O$7=\"\",\"ENTER-PO\",'ORDER FORM'!$O$7)","v":"ENTER-PO"},"2021 Spring/Summer",{"$f":"IF('ORDER FORM'!$O$9=\"\",TODAY(),'ORDER FORM'!$O$9)","v":"2023-11-02"},710212,"223","XL","2","610306155979",{"$f":"IF(IFERROR(INDEX('ORDER FORM'!$I$96:$L$125,MATCH(CONCATENATE(E604,F604),'ORDER FORM'!$A$96:$A$125,0),MATCH(G604,'ORDER FORM'!$I$119:$L$119,0)),\"\")=0,\"\",IFERROR(INDEX('ORDER FORM'!$I$96:$L$125,MATCH(CONCATENATE(E604,F604),'ORDER FORM'!$A$96:A$125,0),MATCH(G604,'ORDER FORM'!$I$119:$L$119,0)),\"\"))","v":""},{"$f":"IFERROR(IFERROR(INDEX('ORDER FORM'!N:N,MATCH(IMPORT!E604,'ORDER FORM'!B:B,0)),INDEX('ORDER FORM'!N:N,MATCH(TRIM(IMPORT!E604),'ORDER FORM'!B:B,0))),\"\")","v":{"v":15,"d":"15.00"}}]
["UPLOADUSD",{"$f":"IF('ORDER FORM'!$O$7=\"\",\"ENTER-PO\",'ORDER FORM'!$O$7)","v":"ENTER-PO"},"2021 Spring/Summer",{"$f":"IF('ORDER FORM'!$O$9=\"\",TODAY(),'ORDER FORM'!$O$9)","v":"2023-11-02"},710212,"258","S","2","610306155986",{"$f":"IF(IFERROR(INDEX('ORDER FORM'!$I$96:$L$125,MATCH(CONCATENATE(E605,F605),'ORDER FORM'!$A$96:$A$125,0),MATCH(G605,'ORDER FORM'!$I$119:$L$119,0)),\"\")=0,\"\",IFERROR(INDEX('ORDER FORM'!$I$96:$L$125,MATCH(CONCATENATE(E605,F605),'ORDER FORM'!$A$96:A$125,0),MATCH(G605,'ORDER FORM'!$I$119:$L$119,0)),\"\"))","v":""},{"$f":"IFERROR(IFERROR(INDEX('ORDER FORM'!N:N,MATCH(IMPORT!E605,'ORDER FORM'!B:B,0)),INDEX('ORDER FORM'!N:N,MATCH(TRIM(IMPORT!E605),'ORDER FORM'!B:B,0))),\"\")","v":{"v":15,"d":"15.00"}}]
["UPLOADUSD",{"$f":"IF('ORDER FORM'!$O$7=\"\",\"ENTER-PO\",'ORDER FORM'!$O$7)","v":"ENTER-PO"},"2021 Spring/Summer",{"$f":"IF('ORDER FORM'!$O$9=\"\",TODAY(),'ORDER FORM'!$O$9)","v":"2023-11-02"},710212,"258","M","2","610306155993",{"$f":"IF(IFERROR(INDEX('ORDER FORM'!$I$96:$L$125,MATCH(CONCATENATE(E606,F606),'ORDER FORM'!$A$96:$A$125,0),MATCH(G606,'ORDER FORM'!$I$119:$L$119,0)),\"\")=0,\"\",IFERROR(INDEX('ORDER FORM'!$I$96:$L$125,MATCH(CONCATENATE(E606,F606),'ORDER FORM'!$A$96:A$125,0),MATCH(G606,'ORDER FORM'!$I$119:$L$119,0)),\"\"))","v":""},{"$f":"IFERROR(IFERROR(INDEX('ORDER FORM'!N:N,MATCH(IMPORT!E606,'ORDER FORM'!B:B,0)),INDEX('ORDER FORM'!N:N,MATCH(TRIM(IMPORT!E606),'ORDER FORM'!B:B,0))),\"\")","v":{"v":15,"d":"15.00"}}]
["UPLOADUSD",{"$f":"IF('ORDER FORM'!$O$7=\"\",\"ENTER-PO\",'ORDER FORM'!$O$7)","v":"ENTER-PO"},"2021 Spring/Summer",{"$f":"IF('ORDER FORM'!$O$9=\"\",TODAY(),'ORDER FORM'!$O$9)","v":"2023-11-02"},710212,"258","L","2","610306156006",{"$f":"IF(IFERROR(INDEX('ORDER FORM'!$I$96:$L$125,MATCH(CONCATENATE(E607,F607),'ORDER FORM'!$A$96:$A$125,0),MATCH(G607,'ORDER FORM'!$I$119:$L$119,0)),\"\")=0,\"\",IFERROR(INDEX('ORDER FORM'!$I$96:$L$125,MATCH(CONCATENATE(E607,F607),'ORDER FORM'!$A$96:A$125,0),MATCH(G607,'ORDER FORM'!$I$119:$L$119,0)),\"\"))","v":""},{"$f":"IFERROR(IFERROR(INDEX('ORDER FORM'!N:N,MATCH(IMPORT!E607,'ORDER FORM'!B:B,0)),INDEX('ORDER FORM'!N:N,MATCH(TRIM(IMPORT!E607),'ORDER FORM'!B:B,0))),\"\")","v":{"v":15,"d":"15.00"}}]
["UPLOADUSD",{"$f":"IF('ORDER FORM'!$O$7=\"\",\"ENTER-PO\",'ORDER FORM'!$O$7)","v":"ENTER-PO"},"2021 Spring/Summer",{"$f":"IF('ORDER FORM'!$O$9=\"\",TODAY(),'ORDER FORM'!$O$9)","v":"2023-11-02"},710212,"258","XL","2","610306156013",{"$f":"IF(IFERROR(INDEX('ORDER FORM'!$I$96:$L$125,MATCH(CONCATENATE(E608,F608),'ORDER FORM'!$A$96:$A$125,0),MATCH(G608,'ORDER FORM'!$I$119:$L$119,0)),\"\")=0,\"\",IFERROR(INDEX('ORDER FORM'!$I$96:$L$125,MATCH(CONCATENATE(E608,F608),'ORDER FORM'!$A$96:A$125,0),MATCH(G608,'ORDER FORM'!$I$119:$L$119,0)),\"\"))","v":""},{"$f":"IFERROR(IFERROR(INDEX('ORDER FORM'!N:N,MATCH(IMPORT!E608,'ORDER FORM'!B:B,0)),INDEX('ORDER FORM'!N:N,MATCH(TRIM(IMPORT!E608),'ORDER FORM'!B:B,0))),\"\")","v":{"v":15,"d":"15.00"}}]
["UPLOADUSD",{"$f":"IF('ORDER FORM'!$O$7=\"\",\"ENTER-PO\",'ORDER FORM'!$O$7)","v":"ENTER-PO"},"2021 Spring/Summer",{"$f":"IF('ORDER FORM'!$O$9=\"\",TODAY(),'ORDER FORM'!$O$9)","v":"2023-11-02"},710213,"224 ","S","2","610306156532",{"$f":"IF(IFERROR(INDEX('ORDER FORM'!$I$96:$L$125,MATCH(CONCATENATE(E609,F609),'ORDER FORM'!$A$96:$A$125,0),MATCH(G609,'ORDER FORM'!$I$119:$L$119,0)),\"\")=0,\"\",IFERROR(INDEX('ORDER FORM'!$I$96:$L$125,MATCH(CONCATENATE(E609,F609),'ORDER FORM'!$A$96:A$125,0),MATCH(G609,'ORDER FORM'!$I$119:$L$119,0)),\"\"))","v":""},{"$f":"IFERROR(IFERROR(INDEX('ORDER FORM'!N:N,MATCH(IMPORT!E609,'ORDER FORM'!B:B,0)),INDEX('ORDER FORM'!N:N,MATCH(TRIM(IMPORT!E609),'ORDER FORM'!B:B,0))),\"\")","v":{"v":15,"d":"15.00"}}]
["UPLOADUSD",{"$f":"IF('ORDER FORM'!$O$7=\"\",\"ENTER-PO\",'ORDER FORM'!$O$7)","v":"ENTER-PO"},"2021 Spring/Summer",{"$f":"IF('ORDER FORM'!$O$9=\"\",TODAY(),'ORDER FORM'!$O$9)","v":"2023-11-02"},710213,"224 ","M","2","610306156549",{"$f":"IF(IFERROR(INDEX('ORDER FORM'!$I$96:$L$125,MATCH(CONCATENATE(E610,F610),'ORDER FORM'!$A$96:$A$125,0),MATCH(G610,'ORDER FORM'!$I$119:$L$119,0)),\"\")=0,\"\",IFERROR(INDEX('ORDER FORM'!$I$96:$L$125,MATCH(CONCATENATE(E610,F610),'ORDER FORM'!$A$96:A$125,0),MATCH(G610,'ORDER FORM'!$I$119:$L$119,0)),\"\"))","v":""},{"$f":"IFERROR(IFERROR(INDEX('ORDER FORM'!N:N,MATCH(IMPORT!E610,'ORDER FORM'!B:B,0)),INDEX('ORDER FORM'!N:N,MATCH(TRIM(IMPORT!E610),'ORDER FORM'!B:B,0))),\"\")","v":{"v":15,"d":"15.00"}}]
["UPLOADUSD",{"$f":"IF('ORDER FORM'!$O$7=\"\",\"ENTER-PO\",'ORDER FORM'!$O$7)","v":"ENTER-PO"},"2021 Spring/Summer",{"$f":"IF('ORDER FORM'!$O$9=\"\",TODAY(),'ORDER FORM'!$O$9)","v":"2023-11-02"},710213,"224 ","L","2","610306156556",{"$f":"IF(IFERROR(INDEX('ORDER FORM'!$I$96:$L$125,MATCH(CONCATENATE(E611,F611),'ORDER FORM'!$A$96:$A$125,0),MATCH(G611,'ORDER FORM'!$I$119:$L$119,0)),\"\")=0,\"\",IFERROR(INDEX('ORDER FORM'!$I$96:$L$125,MATCH(CONCATENATE(E611,F611),'ORDER FORM'!$A$96:A$125,0),MATCH(G611,'ORDER FORM'!$I$119:$L$119,0)),\"\"))","v":""},{"$f":"IFERROR(IFERROR(INDEX('ORDER FORM'!N:N,MATCH(IMPORT!E611,'ORDER FORM'!B:B,0)),INDEX('ORDER FORM'!N:N,MATCH(TRIM(IMPORT!E611),'ORDER FORM'!B:B,0))),\"\")","v":{"v":15,"d":"15.00"}}]
["UPLOADUSD",{"$f":"IF('ORDER FORM'!$O$7=\"\",\"ENTER-PO\",'ORDER FORM'!$O$7)","v":"ENTER-PO"},"2021 Spring/Summer",{"$f":"IF('ORDER FORM'!$O$9=\"\",TODAY(),'ORDER FORM'!$O$9)","v":"2023-11-02"},710213,"227 ","S","2","610306156501",{"$f":"IF(IFERROR(INDEX('ORDER FORM'!$I$96:$L$125,MATCH(CONCATENATE(E612,F612),'ORDER FORM'!$A$96:$A$125,0),MATCH(G612,'ORDER FORM'!$I$119:$L$119,0)),\"\")=0,\"\",IFERROR(INDEX('ORDER FORM'!$I$96:$L$125,MATCH(CONCATENATE(E612,F612),'ORDER FORM'!$A$96:A$125,0),MATCH(G612,'ORDER FORM'!$I$119:$L$119,0)),\"\"))","v":""},{"$f":"IFERROR(IFERROR(INDEX('ORDER FORM'!N:N,MATCH(IMPORT!E612,'ORDER FORM'!B:B,0)),INDEX('ORDER FORM'!N:N,MATCH(TRIM(IMPORT!E612),'ORDER FORM'!B:B,0))),\"\")","v":{"v":15,"d":"15.00"}}]
["UPLOADUSD",{"$f":"IF('ORDER FORM'!$O$7=\"\",\"ENTER-PO\",'ORDER FORM'!$O$7)","v":"ENTER-PO"},"2021 Spring/Summer",{"$f":"IF('ORDER FORM'!$O$9=\"\",TODAY(),'ORDER FORM'!$O$9)","v":"2023-11-02"},710213,"227 ","M","2","610306156518",{"$f":"IF(IFERROR(INDEX('ORDER FORM'!$I$96:$L$125,MATCH(CONCATENATE(E613,F613),'ORDER FORM'!$A$96:$A$125,0),MATCH(G613,'ORDER FORM'!$I$119:$L$119,0)),\"\")=0,\"\",IFERROR(INDEX('ORDER FORM'!$I$96:$L$125,MATCH(CONCATENATE(E613,F613),'ORDER FORM'!$A$96:A$125,0),MATCH(G613,'ORDER FORM'!$I$119:$L$119,0)),\"\"))","v":""},{"$f":"IFERROR(IFERROR(INDEX('ORDER FORM'!N:N,MATCH(IMPORT!E613,'ORDER FORM'!B:B,0)),INDEX('ORDER FORM'!N:N,MATCH(TRIM(IMPORT!E613),'ORDER FORM'!B:B,0))),\"\")","v":{"v":15,"d":"15.00"}}]
["UPLOADUSD",{"$f":"IF('ORDER FORM'!$O$7=\"\",\"ENTER-PO\",'ORDER FORM'!$O$7)","v":"ENTER-PO"},"2021 Spring/Summer",{"$f":"IF('ORDER FORM'!$O$9=\"\",TODAY(),'ORDER FORM'!$O$9)","v":"2023-11-02"},710213,"227 ","L","2","610306156525",{"$f":"IF(IFERROR(INDEX('ORDER FORM'!$I$96:$L$125,MATCH(CONCATENATE(E614,F614),'ORDER FORM'!$A$96:$A$125,0),MATCH(G614,'ORDER FORM'!$I$119:$L$119,0)),\"\")=0,\"\",IFERROR(INDEX('ORDER FORM'!$I$96:$L$125,MATCH(CONCATENATE(E614,F614),'ORDER FORM'!$A$96:A$125,0),MATCH(G614,'ORDER FORM'!$I$119:$L$119,0)),\"\"))","v":""},{"$f":"IFERROR(IFERROR(INDEX('ORDER FORM'!N:N,MATCH(IMPORT!E614,'ORDER FORM'!B:B,0)),INDEX('ORDER FORM'!N:N,MATCH(TRIM(IMPORT!E614),'ORDER FORM'!B:B,0))),\"\")","v":{"v":15,"d":"15.00"}}]
["UPLOADUSD",{"$f":"IF('ORDER FORM'!$O$7=\"\",\"ENTER-PO\",'ORDER FORM'!$O$7)","v":"ENTER-PO"},"2021 Spring/Summer",{"$f":"IF('ORDER FORM'!$O$9=\"\",TODAY(),'ORDER FORM'!$O$9)","v":"2023-11-02"},710213,"257 ","S","2","610306156563",{"$f":"IF(IFERROR(INDEX('ORDER FORM'!$I$96:$L$125,MATCH(CONCATENATE(E615,F615),'ORDER FORM'!$A$96:$A$125,0),MATCH(G615,'ORDER FORM'!$I$119:$L$119,0)),\"\")=0,\"\",IFERROR(INDEX('ORDER FORM'!$I$96:$L$125,MATCH(CONCATENATE(E615,F615),'ORDER FORM'!$A$96:A$125,0),MATCH(G615,'ORDER FORM'!$I$119:$L$119,0)),\"\"))","v":""},{"$f":"IFERROR(IFERROR(INDEX('ORDER FORM'!N:N,MATCH(IMPORT!E615,'ORDER FORM'!B:B,0)),INDEX('ORDER FORM'!N:N,MATCH(TRIM(IMPORT!E615),'ORDER FORM'!B:B,0))),\"\")","v":{"v":15,"d":"15.00"}}]
["UPLOADUSD",{"$f":"IF('ORDER FORM'!$O$7=\"\",\"ENTER-PO\",'ORDER FORM'!$O$7)","v":"ENTER-PO"},"2021 Spring/Summer",{"$f":"IF('ORDER FORM'!$O$9=\"\",TODAY(),'ORDER FORM'!$O$9)","v":"2023-11-02"},710213,"257 ","M","2","610306156570",{"$f":"IF(IFERROR(INDEX('ORDER FORM'!$I$96:$L$125,MATCH(CONCATENATE(E616,F616),'ORDER FORM'!$A$96:$A$125,0),MATCH(G616,'ORDER FORM'!$I$119:$L$119,0)),\"\")=0,\"\",IFERROR(INDEX('ORDER FORM'!$I$96:$L$125,MATCH(CONCATENATE(E616,F616),'ORDER FORM'!$A$96:A$125,0),MATCH(G616,'ORDER FORM'!$I$119:$L$119,0)),\"\"))","v":""},{"$f":"IFERROR(IFERROR(INDEX('ORDER FORM'!N:N,MATCH(IMPORT!E616,'ORDER FORM'!B:B,0)),INDEX('ORDER FORM'!N:N,MATCH(TRIM(IMPORT!E616),'ORDER FORM'!B:B,0))),\"\")","v":{"v":15,"d":"15.00"}}]
["UPLOADUSD",{"$f":"IF('ORDER FORM'!$O$7=\"\",\"ENTER-PO\",'ORDER FORM'!$O$7)","v":"ENTER-PO"},"2021 Spring/Summer",{"$f":"IF('ORDER FORM'!$O$9=\"\",TODAY(),'ORDER FORM'!$O$9)","v":"2023-11-02"},710213,"257 ","L","2","610306156587",{"$f":"IF(IFERROR(INDEX('ORDER FORM'!$I$96:$L$125,MATCH(CONCATENATE(E617,F617),'ORDER FORM'!$A$96:$A$125,0),MATCH(G617,'ORDER FORM'!$I$119:$L$119,0)),\"\")=0,\"\",IFERROR(INDEX('ORDER FORM'!$I$96:$L$125,MATCH(CONCATENATE(E617,F617),'ORDER FORM'!$A$96:A$125,0),MATCH(G617,'ORDER FORM'!$I$119:$L$119,0)),\"\"))","v":""},{"$f":"IFERROR(IFERROR(INDEX('ORDER FORM'!N:N,MATCH(IMPORT!E617,'ORDER FORM'!B:B,0)),INDEX('ORDER FORM'!N:N,MATCH(TRIM(IMPORT!E617),'ORDER FORM'!B:B,0))),\"\")","v":{"v":15,"d":"15.00"}}]
["UPLOADUSD",{"$f":"IF('ORDER FORM'!$O$7=\"\",\"ENTER-PO\",'ORDER FORM'!$O$7)","v":"ENTER-PO"},"2021 Spring/Summer",{"$f":"IF('ORDER FORM'!$O$9=\"\",TODAY(),'ORDER FORM'!$O$9)","v":"2023-11-02"},710214,"123","S","2","610306156594",{"$f":"IF(IFERROR(INDEX('ORDER FORM'!$I$96:$L$125,MATCH(CONCATENATE(E618,F618),'ORDER FORM'!$A$96:$A$125,0),MATCH(G618,'ORDER FORM'!$I$119:$L$119,0)),\"\")=0,\"\",IFERROR(INDEX('ORDER FORM'!$I$96:$L$125,MATCH(CONCATENATE(E618,F618),'ORDER FORM'!$A$96:A$125,0),MATCH(G618,'ORDER FORM'!$I$119:$L$119,0)),\"\"))","v":""},{"$f":"IFERROR(IFERROR(INDEX('ORDER FORM'!N:N,MATCH(IMPORT!E618,'ORDER FORM'!B:B,0)),INDEX('ORDER FORM'!N:N,MATCH(TRIM(IMPORT!E618),'ORDER FORM'!B:B,0))),\"\")","v":""}]
["UPLOADUSD",{"$f":"IF('ORDER FORM'!$O$7=\"\",\"ENTER-PO\",'ORDER FORM'!$O$7)","v":"ENTER-PO"},"2021 Spring/Summer",{"$f":"IF('ORDER FORM'!$O$9=\"\",TODAY(),'ORDER FORM'!$O$9)","v":"2023-11-02"},710214,"123","M","2","610306156600",{"$f":"IF(IFERROR(INDEX('ORDER FORM'!$I$96:$L$125,MATCH(CONCATENATE(E619,F619),'ORDER FORM'!$A$96:$A$125,0),MATCH(G619,'ORDER FORM'!$I$119:$L$119,0)),\"\")=0,\"\",IFERROR(INDEX('ORDER FORM'!$I$96:$L$125,MATCH(CONCATENATE(E619,F619),'ORDER FORM'!$A$96:A$125,0),MATCH(G619,'ORDER FORM'!$I$119:$L$119,0)),\"\"))","v":""},{"$f":"IFERROR(IFERROR(INDEX('ORDER FORM'!N:N,MATCH(IMPORT!E619,'ORDER FORM'!B:B,0)),INDEX('ORDER FORM'!N:N,MATCH(TRIM(IMPORT!E619),'ORDER FORM'!B:B,0))),\"\")","v":""}]
["UPLOADUSD",{"$f":"IF('ORDER FORM'!$O$7=\"\",\"ENTER-PO\",'ORDER FORM'!$O$7)","v":"ENTER-PO"},"2021 Spring/Summer",{"$f":"IF('ORDER FORM'!$O$9=\"\",TODAY(),'ORDER FORM'!$O$9)","v":"2023-11-02"},710214,"123","L","2","610306156617",{"$f":"IF(IFERROR(INDEX('ORDER FORM'!$I$96:$L$125,MATCH(CONCATENATE(E620,F620),'ORDER FORM'!$A$96:$A$125,0),MATCH(G620,'ORDER FORM'!$I$119:$L$119,0)),\"\")=0,\"\",IFERROR(INDEX('ORDER FORM'!$I$96:$L$125,MATCH(CONCATENATE(E620,F620),'ORDER FORM'!$A$96:A$125,0),MATCH(G620,'ORDER FORM'!$I$119:$L$119,0)),\"\"))","v":""},{"$f":"IFERROR(IFERROR(INDEX('ORDER FORM'!N:N,MATCH(IMPORT!E620,'ORDER FORM'!B:B,0)),INDEX('ORDER FORM'!N:N,MATCH(TRIM(IMPORT!E620),'ORDER FORM'!B:B,0))),\"\")","v":""}]
["UPLOADUSD",{"$f":"IF('ORDER FORM'!$O$7=\"\",\"ENTER-PO\",'ORDER FORM'!$O$7)","v":"ENTER-PO"},"2021 Spring/Summer",{"$f":"IF('ORDER FORM'!$O$9=\"\",TODAY(),'ORDER FORM'!$O$9)","v":"2023-11-02"},710214,"123","XL","2","610306156624",{"$f":"IF(IFERROR(INDEX('ORDER FORM'!$I$96:$L$125,MATCH(CONCATENATE(E621,F621),'ORDER FORM'!$A$96:$A$125,0),MATCH(G621,'ORDER FORM'!$I$119:$L$119,0)),\"\")=0,\"\",IFERROR(INDEX('ORDER FORM'!$I$96:$L$125,MATCH(CONCATENATE(E621,F621),'ORDER FORM'!$A$96:A$125,0),MATCH(G621,'ORDER FORM'!$I$119:$L$119,0)),\"\"))","v":""},{"$f":"IFERROR(IFERROR(INDEX('ORDER FORM'!N:N,MATCH(IMPORT!E621,'ORDER FORM'!B:B,0)),INDEX('ORDER FORM'!N:N,MATCH(TRIM(IMPORT!E621),'ORDER FORM'!B:B,0))),\"\")","v":""}]
["UPLOADUSD",{"$f":"IF('ORDER FORM'!$O$7=\"\",\"ENTER-PO\",'ORDER FORM'!$O$7)","v":"ENTER-PO"},"2021 Spring/Summer",{"$f":"IF('ORDER FORM'!$O$9=\"\",TODAY(),'ORDER FORM'!$O$9)","v":"2023-11-02"},710214,"226","S","2","610306156631",{"$f":"IF(IFERROR(INDEX('ORDER FORM'!$I$96:$L$125,MATCH(CONCATENATE(E622,F622),'ORDER FORM'!$A$96:$A$125,0),MATCH(G622,'ORDER FORM'!$I$119:$L$119,0)),\"\")=0,\"\",IFERROR(INDEX('ORDER FORM'!$I$96:$L$125,MATCH(CONCATENATE(E622,F622),'ORDER FORM'!$A$96:A$125,0),MATCH(G622,'ORDER FORM'!$I$119:$L$119,0)),\"\"))","v":""},{"$f":"IFERROR(IFERROR(INDEX('ORDER FORM'!N:N,MATCH(IMPORT!E622,'ORDER FORM'!B:B,0)),INDEX('ORDER FORM'!N:N,MATCH(TRIM(IMPORT!E622),'ORDER FORM'!B:B,0))),\"\")","v":""}]
["UPLOADUSD",{"$f":"IF('ORDER FORM'!$O$7=\"\",\"ENTER-PO\",'ORDER FORM'!$O$7)","v":"ENTER-PO"},"2021 Spring/Summer",{"$f":"IF('ORDER FORM'!$O$9=\"\",TODAY(),'ORDER FORM'!$O$9)","v":"2023-11-02"},710214,"226","M","2","610306156648",{"$f":"IF(IFERROR(INDEX('ORDER FORM'!$I$96:$L$125,MATCH(CONCATENATE(E623,F623),'ORDER FORM'!$A$96:$A$125,0),MATCH(G623,'ORDER FORM'!$I$119:$L$119,0)),\"\")=0,\"\",IFERROR(INDEX('ORDER FORM'!$I$96:$L$125,MATCH(CONCATENATE(E623,F623),'ORDER FORM'!$A$96:A$125,0),MATCH(G623,'ORDER FORM'!$I$119:$L$119,0)),\"\"))","v":""},{"$f":"IFERROR(IFERROR(INDEX('ORDER FORM'!N:N,MATCH(IMPORT!E623,'ORDER FORM'!B:B,0)),INDEX('ORDER FORM'!N:N,MATCH(TRIM(IMPORT!E623),'ORDER FORM'!B:B,0))),\"\")","v":""}]
["UPLOADUSD",{"$f":"IF('ORDER FORM'!$O$7=\"\",\"ENTER-PO\",'ORDER FORM'!$O$7)","v":"ENTER-PO"},"2021 Spring/Summer",{"$f":"IF('ORDER FORM'!$O$9=\"\",TODAY(),'ORDER FORM'!$O$9)","v":"2023-11-02"},710214,"226","L","2","610306156655",{"$f":"IF(IFERROR(INDEX('ORDER FORM'!$I$96:$L$125,MATCH(CONCATENATE(E624,F624),'ORDER FORM'!$A$96:$A$125,0),MATCH(G624,'ORDER FORM'!$I$119:$L$119,0)),\"\")=0,\"\",IFERROR(INDEX('ORDER FORM'!$I$96:$L$125,MATCH(CONCATENATE(E624,F624),'ORDER FORM'!$A$96:A$125,0),MATCH(G624,'ORDER FORM'!$I$119:$L$119,0)),\"\"))","v":""},{"$f":"IFERROR(IFERROR(INDEX('ORDER FORM'!N:N,MATCH(IMPORT!E624,'ORDER FORM'!B:B,0)),INDEX('ORDER FORM'!N:N,MATCH(TRIM(IMPORT!E624),'ORDER FORM'!B:B,0))),\"\")","v":""}]
["UPLOADUSD",{"$f":"IF('ORDER FORM'!$O$7=\"\",\"ENTER-PO\",'ORDER FORM'!$O$7)","v":"ENTER-PO"},"2021 Spring/Summer",{"$f":"IF('ORDER FORM'!$O$9=\"\",TODAY(),'ORDER FORM'!$O$9)","v":"2023-11-02"},710214,"226","XL","2","610306156662",{"$f":"IF(IFERROR(INDEX('ORDER FORM'!$I$96:$L$125,MATCH(CONCATENATE(E625,F625),'ORDER FORM'!$A$96:$A$125,0),MATCH(G625,'ORDER FORM'!$I$119:$L$119,0)),\"\")=0,\"\",IFERROR(INDEX('ORDER FORM'!$I$96:$L$125,MATCH(CONCATENATE(E625,F625),'ORDER FORM'!$A$96:A$125,0),MATCH(G625,'ORDER FORM'!$I$119:$L$119,0)),\"\"))","v":""},{"$f":"IFERROR(IFERROR(INDEX('ORDER FORM'!N:N,MATCH(IMPORT!E625,'ORDER FORM'!B:B,0)),INDEX('ORDER FORM'!N:N,MATCH(TRIM(IMPORT!E625),'ORDER FORM'!B:B,0))),\"\")","v":""}]
["UPLOADUSD",{"$f":"IF('ORDER FORM'!$O$7=\"\",\"ENTER-PO\",'ORDER FORM'!$O$7)","v":"ENTER-PO"},"2021 Spring/Summer",{"$f":"IF('ORDER FORM'!$O$9=\"\",TODAY(),'ORDER FORM'!$O$9)","v":"2023-11-02"},710214,"614","S","2","610306156679",{"$f":"IF(IFERROR(INDEX('ORDER FORM'!$I$96:$L$125,MATCH(CONCATENATE(E626,F626),'ORDER FORM'!$A$96:$A$125,0),MATCH(G626,'ORDER FORM'!$I$119:$L$119,0)),\"\")=0,\"\",IFERROR(INDEX('ORDER FORM'!$I$96:$L$125,MATCH(CONCATENATE(E626,F626),'ORDER FORM'!$A$96:A$125,0),MATCH(G626,'ORDER FORM'!$I$119:$L$119,0)),\"\"))","v":""},{"$f":"IFERROR(IFERROR(INDEX('ORDER FORM'!N:N,MATCH(IMPORT!E626,'ORDER FORM'!B:B,0)),INDEX('ORDER FORM'!N:N,MATCH(TRIM(IMPORT!E626),'ORDER FORM'!B:B,0))),\"\")","v":""}]
["UPLOADUSD",{"$f":"IF('ORDER FORM'!$O$7=\"\",\"ENTER-PO\",'ORDER FORM'!$O$7)","v":"ENTER-PO"},"2021 Spring/Summer",{"$f":"IF('ORDER FORM'!$O$9=\"\",TODAY(),'ORDER FORM'!$O$9)","v":"2023-11-02"},710214,"614","M","2","610306156686",{"$f":"IF(IFERROR(INDEX('ORDER FORM'!$I$96:$L$125,MATCH(CONCATENATE(E627,F627),'ORDER FORM'!$A$96:$A$125,0),MATCH(G627,'ORDER FORM'!$I$119:$L$119,0)),\"\")=0,\"\",IFERROR(INDEX('ORDER FORM'!$I$96:$L$125,MATCH(CONCATENATE(E627,F627),'ORDER FORM'!$A$96:A$125,0),MATCH(G627,'ORDER FORM'!$I$119:$L$119,0)),\"\"))","v":""},{"$f":"IFERROR(IFERROR(INDEX('ORDER FORM'!N:N,MATCH(IMPORT!E627,'ORDER FORM'!B:B,0)),INDEX('ORDER FORM'!N:N,MATCH(TRIM(IMPORT!E627),'ORDER FORM'!B:B,0))),\"\")","v":""}]
["UPLOADUSD",{"$f":"IF('ORDER FORM'!$O$7=\"\",\"ENTER-PO\",'ORDER FORM'!$O$7)","v":"ENTER-PO"},"2021 Spring/Summer",{"$f":"IF('ORDER FORM'!$O$9=\"\",TODAY(),'ORDER FORM'!$O$9)","v":"2023-11-02"},710214,"614","L","2","610306156693",{"$f":"IF(IFERROR(INDEX('ORDER FORM'!$I$96:$L$125,MATCH(CONCATENATE(E628,F628),'ORDER FORM'!$A$96:$A$125,0),MATCH(G628,'ORDER FORM'!$I$119:$L$119,0)),\"\")=0,\"\",IFERROR(INDEX('ORDER FORM'!$I$96:$L$125,MATCH(CONCATENATE(E628,F628),'ORDER FORM'!$A$96:A$125,0),MATCH(G628,'ORDER FORM'!$I$119:$L$119,0)),\"\"))","v":""},{"$f":"IFERROR(IFERROR(INDEX('ORDER FORM'!N:N,MATCH(IMPORT!E628,'ORDER FORM'!B:B,0)),INDEX('ORDER FORM'!N:N,MATCH(TRIM(IMPORT!E628),'ORDER FORM'!B:B,0))),\"\")","v":""}]
["UPLOADUSD",{"$f":"IF('ORDER FORM'!$O$7=\"\",\"ENTER-PO\",'ORDER FORM'!$O$7)","v":"ENTER-PO"},"2021 Spring/Summer",{"$f":"IF('ORDER FORM'!$O$9=\"\",TODAY(),'ORDER FORM'!$O$9)","v":"2023-11-02"},710214,"614","XL","2","610306156709",{"$f":"IF(IFERROR(INDEX('ORDER FORM'!$I$96:$L$125,MATCH(CONCATENATE(E629,F629),'ORDER FORM'!$A$96:$A$125,0),MATCH(G629,'ORDER FORM'!$I$119:$L$119,0)),\"\")=0,\"\",IFERROR(INDEX('ORDER FORM'!$I$96:$L$125,MATCH(CONCATENATE(E629,F629),'ORDER FORM'!$A$96:A$125,0),MATCH(G629,'ORDER FORM'!$I$119:$L$119,0)),\"\"))","v":""},{"$f":"IFERROR(IFERROR(INDEX('ORDER FORM'!N:N,MATCH(IMPORT!E629,'ORDER FORM'!B:B,0)),INDEX('ORDER FORM'!N:N,MATCH(TRIM(IMPORT!E629),'ORDER FORM'!B:B,0))),\"\")","v":""}]
["UPLOADUSD",{"$f":"IF('ORDER FORM'!$O$7=\"\",\"ENTER-PO\",'ORDER FORM'!$O$7)","v":"ENTER-PO"},"2021 Spring/Summer",{"$f":"IF('ORDER FORM'!$O$9=\"\",TODAY(),'ORDER FORM'!$O$9)","v":"2023-11-02"},710215,"225","S","2","610306156716",{"$f":"IF(IFERROR(INDEX('ORDER FORM'!$I$96:$L$125,MATCH(CONCATENATE(E630,F630),'ORDER FORM'!$A$96:$A$125,0),MATCH(G630,'ORDER FORM'!$I$119:$L$119,0)),\"\")=0,\"\",IFERROR(INDEX('ORDER FORM'!$I$96:$L$125,MATCH(CONCATENATE(E630,F630),'ORDER FORM'!$A$96:A$125,0),MATCH(G630,'ORDER FORM'!$I$119:$L$119,0)),\"\"))","v":""},{"$f":"IFERROR(IFERROR(INDEX('ORDER FORM'!N:N,MATCH(IMPORT!E630,'ORDER FORM'!B:B,0)),INDEX('ORDER FORM'!N:N,MATCH(TRIM(IMPORT!E630),'ORDER FORM'!B:B,0))),\"\")","v":""}]
["UPLOADUSD",{"$f":"IF('ORDER FORM'!$O$7=\"\",\"ENTER-PO\",'ORDER FORM'!$O$7)","v":"ENTER-PO"},"2021 Spring/Summer",{"$f":"IF('ORDER FORM'!$O$9=\"\",TODAY(),'ORDER FORM'!$O$9)","v":"2023-11-02"},710215,"225","M","2","610306156723",{"$f":"IF(IFERROR(INDEX('ORDER FORM'!$I$96:$L$125,MATCH(CONCATENATE(E631,F631),'ORDER FORM'!$A$96:$A$125,0),MATCH(G631,'ORDER FORM'!$I$119:$L$119,0)),\"\")=0,\"\",IFERROR(INDEX('ORDER FORM'!$I$96:$L$125,MATCH(CONCATENATE(E631,F631),'ORDER FORM'!$A$96:A$125,0),MATCH(G631,'ORDER FORM'!$I$119:$L$119,0)),\"\"))","v":""},{"$f":"IFERROR(IFERROR(INDEX('ORDER FORM'!N:N,MATCH(IMPORT!E631,'ORDER FORM'!B:B,0)),INDEX('ORDER FORM'!N:N,MATCH(TRIM(IMPORT!E631),'ORDER FORM'!B:B,0))),\"\")","v":""}]
["UPLOADUSD",{"$f":"IF('ORDER FORM'!$O$7=\"\",\"ENTER-PO\",'ORDER FORM'!$O$7)","v":"ENTER-PO"},"2021 Spring/Summer",{"$f":"IF('ORDER FORM'!$O$9=\"\",TODAY(),'ORDER FORM'!$O$9)","v":"2023-11-02"},710215,"225","L","2","610306156730",{"$f":"IF(IFERROR(INDEX('ORDER FORM'!$I$96:$L$125,MATCH(CONCATENATE(E632,F632),'ORDER FORM'!$A$96:$A$125,0),MATCH(G632,'ORDER FORM'!$I$119:$L$119,0)),\"\")=0,\"\",IFERROR(INDEX('ORDER FORM'!$I$96:$L$125,MATCH(CONCATENATE(E632,F632),'ORDER FORM'!$A$96:A$125,0),MATCH(G632,'ORDER FORM'!$I$119:$L$119,0)),\"\"))","v":""},{"$f":"IFERROR(IFERROR(INDEX('ORDER FORM'!N:N,MATCH(IMPORT!E632,'ORDER FORM'!B:B,0)),INDEX('ORDER FORM'!N:N,MATCH(TRIM(IMPORT!E632),'ORDER FORM'!B:B,0))),\"\")","v":""}]
["UPLOADUSD",{"$f":"IF('ORDER FORM'!$O$7=\"\",\"ENTER-PO\",'ORDER FORM'!$O$7)","v":"ENTER-PO"},"2021 Spring/Summer",{"$f":"IF('ORDER FORM'!$O$9=\"\",TODAY(),'ORDER FORM'!$O$9)","v":"2023-11-02"},710215,"227","S","2","610306156747",{"$f":"IF(IFERROR(INDEX('ORDER FORM'!$I$96:$L$125,MATCH(CONCATENATE(E633,F633),'ORDER FORM'!$A$96:$A$125,0),MATCH(G633,'ORDER FORM'!$I$119:$L$119,0)),\"\")=0,\"\",IFERROR(INDEX('ORDER FORM'!$I$96:$L$125,MATCH(CONCATENATE(E633,F633),'ORDER FORM'!$A$96:A$125,0),MATCH(G633,'ORDER FORM'!$I$119:$L$119,0)),\"\"))","v":""},{"$f":"IFERROR(IFERROR(INDEX('ORDER FORM'!N:N,MATCH(IMPORT!E633,'ORDER FORM'!B:B,0)),INDEX('ORDER FORM'!N:N,MATCH(TRIM(IMPORT!E633),'ORDER FORM'!B:B,0))),\"\")","v":""}]
["UPLOADUSD",{"$f":"IF('ORDER FORM'!$O$7=\"\",\"ENTER-PO\",'ORDER FORM'!$O$7)","v":"ENTER-PO"},"2021 Spring/Summer",{"$f":"IF('ORDER FORM'!$O$9=\"\",TODAY(),'ORDER FORM'!$O$9)","v":"2023-11-02"},710215,"227","M","2","610306156754",{"$f":"IF(IFERROR(INDEX('ORDER FORM'!$I$96:$L$125,MATCH(CONCATENATE(E634,F634),'ORDER FORM'!$A$96:$A$125,0),MATCH(G634,'ORDER FORM'!$I$119:$L$119,0)),\"\")=0,\"\",IFERROR(INDEX('ORDER FORM'!$I$96:$L$125,MATCH(CONCATENATE(E634,F634),'ORDER FORM'!$A$96:A$125,0),MATCH(G634,'ORDER FORM'!$I$119:$L$119,0)),\"\"))","v":""},{"$f":"IFERROR(IFERROR(INDEX('ORDER FORM'!N:N,MATCH(IMPORT!E634,'ORDER FORM'!B:B,0)),INDEX('ORDER FORM'!N:N,MATCH(TRIM(IMPORT!E634),'ORDER FORM'!B:B,0))),\"\")","v":""}]
["UPLOADUSD",{"$f":"IF('ORDER FORM'!$O$7=\"\",\"ENTER-PO\",'ORDER FORM'!$O$7)","v":"ENTER-PO"},"2021 Spring/Summer",{"$f":"IF('ORDER FORM'!$O$9=\"\",TODAY(),'ORDER FORM'!$O$9)","v":"2023-11-02"},710215,"227","L","2","610306156761",{"$f":"IF(IFERROR(INDEX('ORDER FORM'!$I$96:$L$125,MATCH(CONCATENATE(E635,F635),'ORDER FORM'!$A$96:$A$125,0),MATCH(G635,'ORDER FORM'!$I$119:$L$119,0)),\"\")=0,\"\",IFERROR(INDEX('ORDER FORM'!$I$96:$L$125,MATCH(CONCATENATE(E635,F635),'ORDER FORM'!$A$96:A$125,0),MATCH(G635,'ORDER FORM'!$I$119:$L$119,0)),\"\"))","v":""},{"$f":"IFERROR(IFERROR(INDEX('ORDER FORM'!N:N,MATCH(IMPORT!E635,'ORDER FORM'!B:B,0)),INDEX('ORDER FORM'!N:N,MATCH(TRIM(IMPORT!E635),'ORDER FORM'!B:B,0))),\"\")","v":""}]
["UPLOADUSD",{"$f":"IF('ORDER FORM'!$O$7=\"\",\"ENTER-PO\",'ORDER FORM'!$O$7)","v":"ENTER-PO"},"2021 Spring/Summer",{"$f":"IF('ORDER FORM'!$O$9=\"\",TODAY(),'ORDER FORM'!$O$9)","v":"2023-11-02"},710215,"228","S","2","610306156778",{"$f":"IF(IFERROR(INDEX('ORDER FORM'!$I$96:$L$125,MATCH(CONCATENATE(E636,F636),'ORDER FORM'!$A$96:$A$125,0),MATCH(G636,'ORDER FORM'!$I$119:$L$119,0)),\"\")=0,\"\",IFERROR(INDEX('ORDER FORM'!$I$96:$L$125,MATCH(CONCATENATE(E636,F636),'ORDER FORM'!$A$96:A$125,0),MATCH(G636,'ORDER FORM'!$I$119:$L$119,0)),\"\"))","v":""},{"$f":"IFERROR(IFERROR(INDEX('ORDER FORM'!N:N,MATCH(IMPORT!E636,'ORDER FORM'!B:B,0)),INDEX('ORDER FORM'!N:N,MATCH(TRIM(IMPORT!E636),'ORDER FORM'!B:B,0))),\"\")","v":""}]
["UPLOADUSD",{"$f":"IF('ORDER FORM'!$O$7=\"\",\"ENTER-PO\",'ORDER FORM'!$O$7)","v":"ENTER-PO"},"2021 Spring/Summer",{"$f":"IF('ORDER FORM'!$O$9=\"\",TODAY(),'ORDER FORM'!$O$9)","v":"2023-11-02"},710215,"228","M","2","610306156785",{"$f":"IF(IFERROR(INDEX('ORDER FORM'!$I$96:$L$125,MATCH(CONCATENATE(E637,F637),'ORDER FORM'!$A$96:$A$125,0),MATCH(G637,'ORDER FORM'!$I$119:$L$119,0)),\"\")=0,\"\",IFERROR(INDEX('ORDER FORM'!$I$96:$L$125,MATCH(CONCATENATE(E637,F637),'ORDER FORM'!$A$96:A$125,0),MATCH(G637,'ORDER FORM'!$I$119:$L$119,0)),\"\"))","v":""},{"$f":"IFERROR(IFERROR(INDEX('ORDER FORM'!N:N,MATCH(IMPORT!E637,'ORDER FORM'!B:B,0)),INDEX('ORDER FORM'!N:N,MATCH(TRIM(IMPORT!E637),'ORDER FORM'!B:B,0))),\"\")","v":""}]
["UPLOADUSD",{"$f":"IF('ORDER FORM'!$O$7=\"\",\"ENTER-PO\",'ORDER FORM'!$O$7)","v":"ENTER-PO"},"2021 Spring/Summer",{"$f":"IF('ORDER FORM'!$O$9=\"\",TODAY(),'ORDER FORM'!$O$9)","v":"2023-11-02"},710215,"228","L","2","610306156792",{"$f":"IF(IFERROR(INDEX('ORDER FORM'!$I$96:$L$125,MATCH(CONCATENATE(E638,F638),'ORDER FORM'!$A$96:$A$125,0),MATCH(G638,'ORDER FORM'!$I$119:$L$119,0)),\"\")=0,\"\",IFERROR(INDEX('ORDER FORM'!$I$96:$L$125,MATCH(CONCATENATE(E638,F638),'ORDER FORM'!$A$96:A$125,0),MATCH(G638,'ORDER FORM'!$I$119:$L$119,0)),\"\"))","v":""},{"$f":"IFERROR(IFERROR(INDEX('ORDER FORM'!N:N,MATCH(IMPORT!E638,'ORDER FORM'!B:B,0)),INDEX('ORDER FORM'!N:N,MATCH(TRIM(IMPORT!E638),'ORDER FORM'!B:B,0))),\"\")","v":""}]
["UPLOADUSD",{"$f":"IF('ORDER FORM'!$O$7=\"\",\"ENTER-PO\",'ORDER FORM'!$O$7)","v":"ENTER-PO"},"2021 Spring/Summer",{"$f":"IF('ORDER FORM'!$O$9=\"\",TODAY(),'ORDER FORM'!$O$9)","v":"2023-11-02"},710217,"229","S","2","610306156808",{"$f":"IF(IFERROR(INDEX('ORDER FORM'!$I$96:$L$125,MATCH(CONCATENATE(E639,F639),'ORDER FORM'!$A$96:$A$125,0),MATCH(G639,'ORDER FORM'!$I$119:$L$119,0)),\"\")=0,\"\",IFERROR(INDEX('ORDER FORM'!$I$96:$L$125,MATCH(CONCATENATE(E639,F639),'ORDER FORM'!$A$96:A$125,0),MATCH(G639,'ORDER FORM'!$I$119:$L$119,0)),\"\"))","v":""},{"$f":"IFERROR(IFERROR(INDEX('ORDER FORM'!N:N,MATCH(IMPORT!E639,'ORDER FORM'!B:B,0)),INDEX('ORDER FORM'!N:N,MATCH(TRIM(IMPORT!E639),'ORDER FORM'!B:B,0))),\"\")","v":""}]
["UPLOADUSD",{"$f":"IF('ORDER FORM'!$O$7=\"\",\"ENTER-PO\",'ORDER FORM'!$O$7)","v":"ENTER-PO"},"2021 Spring/Summer",{"$f":"IF('ORDER FORM'!$O$9=\"\",TODAY(),'ORDER FORM'!$O$9)","v":"2023-11-02"},710217,"229","M","2","610306156815",{"$f":"IF(IFERROR(INDEX('ORDER FORM'!$I$96:$L$125,MATCH(CONCATENATE(E640,F640),'ORDER FORM'!$A$96:$A$125,0),MATCH(G640,'ORDER FORM'!$I$119:$L$119,0)),\"\")=0,\"\",IFERROR(INDEX('ORDER FORM'!$I$96:$L$125,MATCH(CONCATENATE(E640,F640),'ORDER FORM'!$A$96:A$125,0),MATCH(G640,'ORDER FORM'!$I$119:$L$119,0)),\"\"))","v":""},{"$f":"IFERROR(IFERROR(INDEX('ORDER FORM'!N:N,MATCH(IMPORT!E640,'ORDER FORM'!B:B,0)),INDEX('ORDER FORM'!N:N,MATCH(TRIM(IMPORT!E640),'ORDER FORM'!B:B,0))),\"\")","v":""}]
["UPLOADUSD",{"$f":"IF('ORDER FORM'!$O$7=\"\",\"ENTER-PO\",'ORDER FORM'!$O$7)","v":"ENTER-PO"},"2021 Spring/Summer",{"$f":"IF('ORDER FORM'!$O$9=\"\",TODAY(),'ORDER FORM'!$O$9)","v":"2023-11-02"},710217,"229","L","2","610306156822",{"$f":"IF(IFERROR(INDEX('ORDER FORM'!$I$96:$L$125,MATCH(CONCATENATE(E641,F641),'ORDER FORM'!$A$96:$A$125,0),MATCH(G641,'ORDER FORM'!$I$119:$L$119,0)),\"\")=0,\"\",IFERROR(INDEX('ORDER FORM'!$I$96:$L$125,MATCH(CONCATENATE(E641,F641),'ORDER FORM'!$A$96:A$125,0),MATCH(G641,'ORDER FORM'!$I$119:$L$119,0)),\"\"))","v":""},{"$f":"IFERROR(IFERROR(INDEX('ORDER FORM'!N:N,MATCH(IMPORT!E641,'ORDER FORM'!B:B,0)),INDEX('ORDER FORM'!N:N,MATCH(TRIM(IMPORT!E641),'ORDER FORM'!B:B,0))),\"\")","v":""}]
["UPLOADUSD",{"$f":"IF('ORDER FORM'!$O$7=\"\",\"ENTER-PO\",'ORDER FORM'!$O$7)","v":"ENTER-PO"},"2021 Spring/Summer",{"$f":"IF('ORDER FORM'!$O$9=\"\",TODAY(),'ORDER FORM'!$O$9)","v":"2023-11-02"},710217,"229","XL","2","610306156839",{"$f":"IF(IFERROR(INDEX('ORDER FORM'!$I$96:$L$125,MATCH(CONCATENATE(E642,F642),'ORDER FORM'!$A$96:$A$125,0),MATCH(G642,'ORDER FORM'!$I$119:$L$119,0)),\"\")=0,\"\",IFERROR(INDEX('ORDER FORM'!$I$96:$L$125,MATCH(CONCATENATE(E642,F642),'ORDER FORM'!$A$96:A$125,0),MATCH(G642,'ORDER FORM'!$I$119:$L$119,0)),\"\"))","v":""},{"$f":"IFERROR(IFERROR(INDEX('ORDER FORM'!N:N,MATCH(IMPORT!E642,'ORDER FORM'!B:B,0)),INDEX('ORDER FORM'!N:N,MATCH(TRIM(IMPORT!E642),'ORDER FORM'!B:B,0))),\"\")","v":""}]
["UPLOADUSD",{"$f":"IF('ORDER FORM'!$O$7=\"\",\"ENTER-PO\",'ORDER FORM'!$O$7)","v":"ENTER-PO"},"2021 Spring/Summer",{"$f":"IF('ORDER FORM'!$O$9=\"\",TODAY(),'ORDER FORM'!$O$9)","v":"2023-11-02"},710217,"745","S","2","610306156846",{"$f":"IF(IFERROR(INDEX('ORDER FORM'!$I$96:$L$125,MATCH(CONCATENATE(E643,F643),'ORDER FORM'!$A$96:$A$125,0),MATCH(G643,'ORDER FORM'!$I$119:$L$119,0)),\"\")=0,\"\",IFERROR(INDEX('ORDER FORM'!$I$96:$L$125,MATCH(CONCATENATE(E643,F643),'ORDER FORM'!$A$96:A$125,0),MATCH(G643,'ORDER FORM'!$I$119:$L$119,0)),\"\"))","v":""},{"$f":"IFERROR(IFERROR(INDEX('ORDER FORM'!N:N,MATCH(IMPORT!E643,'ORDER FORM'!B:B,0)),INDEX('ORDER FORM'!N:N,MATCH(TRIM(IMPORT!E643),'ORDER FORM'!B:B,0))),\"\")","v":""}]
[{"$f":"IF(IF($B$1=0,\"ENTER ACCOUNT\",$B$1)=\"\",\"UPLOADUSD\",IF($B$1=0,\"ENTER ACCOUNT\",$B$1))","v":"UPLOADUSD"},{"$f":"IF('ORDER FORM'!$O$7=\"\",\"ENTER-PO\",'ORDER FORM'!$O$7)","v":"ENTER-PO"},{"$f":"$D$1","v":"2021 Spring/Summer"},{"$f":"IF('ORDER FORM'!$O$9=\"\",TODAY(),'ORDER FORM'!$O$9)","v":"2023-11-02"},710217,"745","M","2","610306156853",{"$f":"IF(IFERROR(INDEX('ORDER FORM'!$I$96:$L$125,MATCH(CONCATENATE(E644,F644),'ORDER FORM'!$A$96:$A$125,0),MATCH(G644,'ORDER FORM'!$I$119:$L$119,0)),\"\")=0,\"\",IFERROR(INDEX('ORDER FORM'!$I$96:$L$125,MATCH(CONCATENATE(E644,F644),'ORDER FORM'!$A$96:A$125,0),MATCH(G644,'ORDER FORM'!$I$119:$L$119,0)),\"\"))","v":""},{"$f":"IFERROR(IFERROR(INDEX('ORDER FORM'!N:N,MATCH(IMPORT!E644,'ORDER FORM'!B:B,0)),INDEX('ORDER FORM'!N:N,MATCH(TRIM(IMPORT!E644),'ORDER FORM'!B:B,0))),\"\")","v":""}]
["UPLOADUSD",{"$f":"IF('ORDER FORM'!$O$7=\"\",\"ENTER-PO\",'ORDER FORM'!$O$7)","v":"ENTER-PO"},"2021 Spring/Summer",{"$f":"IF('ORDER FORM'!$O$9=\"\",TODAY(),'ORDER FORM'!$O$9)","v":"2023-11-02"},710217,"745","L","2","610306156860",{"$f":"IF(IFERROR(INDEX('ORDER FORM'!$I$96:$L$125,MATCH(CONCATENATE(E645,F645),'ORDER FORM'!$A$96:$A$125,0),MATCH(G645,'ORDER FORM'!$I$119:$L$119,0)),\"\")=0,\"\",IFERROR(INDEX('ORDER FORM'!$I$96:$L$125,MATCH(CONCATENATE(E645,F645),'ORDER FORM'!$A$96:A$125,0),MATCH(G645,'ORDER FORM'!$I$119:$L$119,0)),\"\"))","v":""},{"$f":"IFERROR(IFERROR(INDEX('ORDER FORM'!N:N,MATCH(IMPORT!E645,'ORDER FORM'!B:B,0)),INDEX('ORDER FORM'!N:N,MATCH(TRIM(IMPORT!E645),'ORDER FORM'!B:B,0))),\"\")","v":""}]
["UPLOADUSD",{"$f":"IF('ORDER FORM'!$O$7=\"\",\"ENTER-PO\",'ORDER FORM'!$O$7)","v":"ENTER-PO"},"2021 Spring/Summer",{"$f":"IF('ORDER FORM'!$O$9=\"\",TODAY(),'ORDER FORM'!$O$9)","v":"2023-11-02"},710217,"745","XL","2","610306156877",{"$f":"IF(IFERROR(INDEX('ORDER FORM'!$I$96:$L$125,MATCH(CONCATENATE(E646,F646),'ORDER FORM'!$A$96:$A$125,0),MATCH(G646,'ORDER FORM'!$I$119:$L$119,0)),\"\")=0,\"\",IFERROR(INDEX('ORDER FORM'!$I$96:$L$125,MATCH(CONCATENATE(E646,F646),'ORDER FORM'!$A$96:A$125,0),MATCH(G646,'ORDER FORM'!$I$119:$L$119,0)),\"\"))","v":""},{"$f":"IFERROR(IFERROR(INDEX('ORDER FORM'!N:N,MATCH(IMPORT!E646,'ORDER FORM'!B:B,0)),INDEX('ORDER FORM'!N:N,MATCH(TRIM(IMPORT!E646),'ORDER FORM'!B:B,0))),\"\")","v":""}]
["UPLOADUSD",{"$f":"IF('ORDER FORM'!$O$7=\"\",\"ENTER-PO\",'ORDER FORM'!$O$7)","v":"ENTER-PO"},"2021 Spring/Summer",{"$f":"IF('ORDER FORM'!$O$9=\"\",TODAY(),'ORDER FORM'!$O$9)","v":"2023-11-02"},710218,"227","S","2","610306156884",{"$f":"IF(IFERROR(INDEX('ORDER FORM'!$I$96:$L$125,MATCH(CONCATENATE(E647,F647),'ORDER FORM'!$A$96:$A$125,0),MATCH(G647,'ORDER FORM'!$I$119:$L$119,0)),\"\")=0,\"\",IFERROR(INDEX('ORDER FORM'!$I$96:$L$125,MATCH(CONCATENATE(E647,F647),'ORDER FORM'!$A$96:A$125,0),MATCH(G647,'ORDER FORM'!$I$119:$L$119,0)),\"\"))","v":""},{"$f":"IFERROR(IFERROR(INDEX('ORDER FORM'!N:N,MATCH(IMPORT!E647,'ORDER FORM'!B:B,0)),INDEX('ORDER FORM'!N:N,MATCH(TRIM(IMPORT!E647),'ORDER FORM'!B:B,0))),\"\")","v":""}]
["UPLOADUSD",{"$f":"IF('ORDER FORM'!$O$7=\"\",\"ENTER-PO\",'ORDER FORM'!$O$7)","v":"ENTER-PO"},"2021 Spring/Summer",{"$f":"IF('ORDER FORM'!$O$9=\"\",TODAY(),'ORDER FORM'!$O$9)","v":"2023-11-02"},710218,"227","M","2","610306156891",{"$f":"IF(IFERROR(INDEX('ORDER FORM'!$I$96:$L$125,MATCH(CONCATENATE(E648,F648),'ORDER FORM'!$A$96:$A$125,0),MATCH(G648,'ORDER FORM'!$I$119:$L$119,0)),\"\")=0,\"\",IFERROR(INDEX('ORDER FORM'!$I$96:$L$125,MATCH(CONCATENATE(E648,F648),'ORDER FORM'!$A$96:A$125,0),MATCH(G648,'ORDER FORM'!$I$119:$L$119,0)),\"\"))","v":""},{"$f":"IFERROR(IFERROR(INDEX('ORDER FORM'!N:N,MATCH(IMPORT!E648,'ORDER FORM'!B:B,0)),INDEX('ORDER FORM'!N:N,MATCH(TRIM(IMPORT!E648),'ORDER FORM'!B:B,0))),\"\")","v":""}]
["UPLOADUSD",{"$f":"IF('ORDER FORM'!$O$7=\"\",\"ENTER-PO\",'ORDER FORM'!$O$7)","v":"ENTER-PO"},"2021 Spring/Summer",{"$f":"IF('ORDER FORM'!$O$9=\"\",TODAY(),'ORDER FORM'!$O$9)","v":"2023-11-02"},710218,"227","L","2","610306156907",{"$f":"IF(IFERROR(INDEX('ORDER FORM'!$I$96:$L$125,MATCH(CONCATENATE(E649,F649),'ORDER FORM'!$A$96:$A$125,0),MATCH(G649,'ORDER FORM'!$I$119:$L$119,0)),\"\")=0,\"\",IFERROR(INDEX('ORDER FORM'!$I$96:$L$125,MATCH(CONCATENATE(E649,F649),'ORDER FORM'!$A$96:A$125,0),MATCH(G649,'ORDER FORM'!$I$119:$L$119,0)),\"\"))","v":""},{"$f":"IFERROR(IFERROR(INDEX('ORDER FORM'!N:N,MATCH(IMPORT!E649,'ORDER FORM'!B:B,0)),INDEX('ORDER FORM'!N:N,MATCH(TRIM(IMPORT!E649),'ORDER FORM'!B:B,0))),\"\")","v":""}]
["UPLOADUSD",{"$f":"IF('ORDER FORM'!$O$7=\"\",\"ENTER-PO\",'ORDER FORM'!$O$7)","v":"ENTER-PO"},"2021 Spring/Summer",{"$f":"IF('ORDER FORM'!$O$9=\"\",TODAY(),'ORDER FORM'!$O$9)","v":"2023-11-02"},710218,"230","S","2","610306156914",{"$f":"IF(IFERROR(INDEX('ORDER FORM'!$I$96:$L$125,MATCH(CONCATENATE(E650,F650),'ORDER FORM'!$A$96:$A$125,0),MATCH(G650,'ORDER FORM'!$I$119:$L$119,0)),\"\")=0,\"\",IFERROR(INDEX('ORDER FORM'!$I$96:$L$125,MATCH(CONCATENATE(E650,F650),'ORDER FORM'!$A$96:A$125,0),MATCH(G650,'ORDER FORM'!$I$119:$L$119,0)),\"\"))","v":""},{"$f":"IFERROR(IFERROR(INDEX('ORDER FORM'!N:N,MATCH(IMPORT!E650,'ORDER FORM'!B:B,0)),INDEX('ORDER FORM'!N:N,MATCH(TRIM(IMPORT!E650),'ORDER FORM'!B:B,0))),\"\")","v":""}]
["UPLOADUSD",{"$f":"IF('ORDER FORM'!$O$7=\"\",\"ENTER-PO\",'ORDER FORM'!$O$7)","v":"ENTER-PO"},"2021 Spring/Summer",{"$f":"IF('ORDER FORM'!$O$9=\"\",TODAY(),'ORDER FORM'!$O$9)","v":"2023-11-02"},710218,"230","M","2","610306156921",{"$f":"IF(IFERROR(INDEX('ORDER FORM'!$I$96:$L$125,MATCH(CONCATENATE(E651,F651),'ORDER FORM'!$A$96:$A$125,0),MATCH(G651,'ORDER FORM'!$I$119:$L$119,0)),\"\")=0,\"\",IFERROR(INDEX('ORDER FORM'!$I$96:$L$125,MATCH(CONCATENATE(E651,F651),'ORDER FORM'!$A$96:A$125,0),MATCH(G651,'ORDER FORM'!$I$119:$L$119,0)),\"\"))","v":""},{"$f":"IFERROR(IFERROR(INDEX('ORDER FORM'!N:N,MATCH(IMPORT!E651,'ORDER FORM'!B:B,0)),INDEX('ORDER FORM'!N:N,MATCH(TRIM(IMPORT!E651),'ORDER FORM'!B:B,0))),\"\")","v":""}]
["UPLOADUSD",{"$f":"IF('ORDER FORM'!$O$7=\"\",\"ENTER-PO\",'ORDER FORM'!$O$7)","v":"ENTER-PO"},"2021 Spring/Summer",{"$f":"IF('ORDER FORM'!$O$9=\"\",TODAY(),'ORDER FORM'!$O$9)","v":"2023-11-02"},710218,"230","L","2","610306156938",{"$f":"IF(IFERROR(INDEX('ORDER FORM'!$I$96:$L$125,MATCH(CONCATENATE(E652,F652),'ORDER FORM'!$A$96:$A$125,0),MATCH(G652,'ORDER FORM'!$I$119:$L$119,0)),\"\")=0,\"\",IFERROR(INDEX('ORDER FORM'!$I$96:$L$125,MATCH(CONCATENATE(E652,F652),'ORDER FORM'!$A$96:A$125,0),MATCH(G652,'ORDER FORM'!$I$119:$L$119,0)),\"\"))","v":""},{"$f":"IFERROR(IFERROR(INDEX('ORDER FORM'!N:N,MATCH(IMPORT!E652,'ORDER FORM'!B:B,0)),INDEX('ORDER FORM'!N:N,MATCH(TRIM(IMPORT!E652),'ORDER FORM'!B:B,0))),\"\")","v":""}]
["UPLOADUSD",{"$f":"IF('ORDER FORM'!$O$7=\"\",\"ENTER-PO\",'ORDER FORM'!$O$7)","v":"ENTER-PO"},"2021 Spring/Summer",{"$f":"IF('ORDER FORM'!$O$9=\"\",TODAY(),'ORDER FORM'!$O$9)","v":"2023-11-02"},710221,"231","S","2","610306156945",{"$f":"IF(IFERROR(INDEX('ORDER FORM'!$I$96:$L$125,MATCH(CONCATENATE(E653,F653),'ORDER FORM'!$A$96:$A$125,0),MATCH(G653,'ORDER FORM'!$I$119:$L$119,0)),\"\")=0,\"\",IFERROR(INDEX('ORDER FORM'!$I$96:$L$125,MATCH(CONCATENATE(E653,F653),'ORDER FORM'!$A$96:A$125,0),MATCH(G653,'ORDER FORM'!$I$119:$L$119,0)),\"\"))","v":""},{"$f":"IFERROR(IFERROR(INDEX('ORDER FORM'!N:N,MATCH(IMPORT!E653,'ORDER FORM'!B:B,0)),INDEX('ORDER FORM'!N:N,MATCH(TRIM(IMPORT!E653),'ORDER FORM'!B:B,0))),\"\")","v":""}]
["UPLOADUSD",{"$f":"IF('ORDER FORM'!$O$7=\"\",\"ENTER-PO\",'ORDER FORM'!$O$7)","v":"ENTER-PO"},"2021 Spring/Summer",{"$f":"IF('ORDER FORM'!$O$9=\"\",TODAY(),'ORDER FORM'!$O$9)","v":"2023-11-02"},710221,"231","M","2","610306156952",{"$f":"IF(IFERROR(INDEX('ORDER FORM'!$I$96:$L$125,MATCH(CONCATENATE(E654,F654),'ORDER FORM'!$A$96:$A$125,0),MATCH(G654,'ORDER FORM'!$I$119:$L$119,0)),\"\")=0,\"\",IFERROR(INDEX('ORDER FORM'!$I$96:$L$125,MATCH(CONCATENATE(E654,F654),'ORDER FORM'!$A$96:A$125,0),MATCH(G654,'ORDER FORM'!$I$119:$L$119,0)),\"\"))","v":""},{"$f":"IFERROR(IFERROR(INDEX('ORDER FORM'!N:N,MATCH(IMPORT!E654,'ORDER FORM'!B:B,0)),INDEX('ORDER FORM'!N:N,MATCH(TRIM(IMPORT!E654),'ORDER FORM'!B:B,0))),\"\")","v":""}]
["UPLOADUSD",{"$f":"IF('ORDER FORM'!$O$7=\"\",\"ENTER-PO\",'ORDER FORM'!$O$7)","v":"ENTER-PO"},"2021 Spring/Summer",{"$f":"IF('ORDER FORM'!$O$9=\"\",TODAY(),'ORDER FORM'!$O$9)","v":"2023-11-02"},710221,"231","L","2","610306156969",{"$f":"IF(IFERROR(INDEX('ORDER FORM'!$I$96:$L$125,MATCH(CONCATENATE(E655,F655),'ORDER FORM'!$A$96:$A$125,0),MATCH(G655,'ORDER FORM'!$I$119:$L$119,0)),\"\")=0,\"\",IFERROR(INDEX('ORDER FORM'!$I$96:$L$125,MATCH(CONCATENATE(E655,F655),'ORDER FORM'!$A$96:A$125,0),MATCH(G655,'ORDER FORM'!$I$119:$L$119,0)),\"\"))","v":""},{"$f":"IFERROR(IFERROR(INDEX('ORDER FORM'!N:N,MATCH(IMPORT!E655,'ORDER FORM'!B:B,0)),INDEX('ORDER FORM'!N:N,MATCH(TRIM(IMPORT!E655),'ORDER FORM'!B:B,0))),\"\")","v":""}]
["UPLOADUSD",{"$f":"IF('ORDER FORM'!$O$7=\"\",\"ENTER-PO\",'ORDER FORM'!$O$7)","v":"ENTER-PO"},"2021 Spring/Summer",{"$f":"IF('ORDER FORM'!$O$9=\"\",TODAY(),'ORDER FORM'!$O$9)","v":"2023-11-02"},710221,"231","XL","2","610306156976",{"$f":"IF(IFERROR(INDEX('ORDER FORM'!$I$96:$L$125,MATCH(CONCATENATE(E656,F656),'ORDER FORM'!$A$96:$A$125,0),MATCH(G656,'ORDER FORM'!$I$119:$L$119,0)),\"\")=0,\"\",IFERROR(INDEX('ORDER FORM'!$I$96:$L$125,MATCH(CONCATENATE(E656,F656),'ORDER FORM'!$A$96:A$125,0),MATCH(G656,'ORDER FORM'!$I$119:$L$119,0)),\"\"))","v":""},{"$f":"IFERROR(IFERROR(INDEX('ORDER FORM'!N:N,MATCH(IMPORT!E656,'ORDER FORM'!B:B,0)),INDEX('ORDER FORM'!N:N,MATCH(TRIM(IMPORT!E656),'ORDER FORM'!B:B,0))),\"\")","v":""}]
["UPLOADUSD",{"$f":"IF('ORDER FORM'!$O$7=\"\",\"ENTER-PO\",'ORDER FORM'!$O$7)","v":"ENTER-PO"},"2021 Spring/Summer",{"$f":"IF('ORDER FORM'!$O$9=\"\",TODAY(),'ORDER FORM'!$O$9)","v":"2023-11-02"},710221,"232 ","S","2","610306156983",{"$f":"IF(IFERROR(INDEX('ORDER FORM'!$I$96:$L$125,MATCH(CONCATENATE(E657,F657),'ORDER FORM'!$A$96:$A$125,0),MATCH(G657,'ORDER FORM'!$I$119:$L$119,0)),\"\")=0,\"\",IFERROR(INDEX('ORDER FORM'!$I$96:$L$125,MATCH(CONCATENATE(E657,F657),'ORDER FORM'!$A$96:A$125,0),MATCH(G657,'ORDER FORM'!$I$119:$L$119,0)),\"\"))","v":""},{"$f":"IFERROR(IFERROR(INDEX('ORDER FORM'!N:N,MATCH(IMPORT!E657,'ORDER FORM'!B:B,0)),INDEX('ORDER FORM'!N:N,MATCH(TRIM(IMPORT!E657),'ORDER FORM'!B:B,0))),\"\")","v":""}]
["UPLOADUSD",{"$f":"IF('ORDER FORM'!$O$7=\"\",\"ENTER-PO\",'ORDER FORM'!$O$7)","v":"ENTER-PO"},"2021 Spring/Summer",{"$f":"IF('ORDER FORM'!$O$9=\"\",TODAY(),'ORDER FORM'!$O$9)","v":"2023-11-02"},710221,"232 ","M","2","610306156990",{"$f":"IF(IFERROR(INDEX('ORDER FORM'!$I$96:$L$125,MATCH(CONCATENATE(E658,F658),'ORDER FORM'!$A$96:$A$125,0),MATCH(G658,'ORDER FORM'!$I$119:$L$119,0)),\"\")=0,\"\",IFERROR(INDEX('ORDER FORM'!$I$96:$L$125,MATCH(CONCATENATE(E658,F658),'ORDER FORM'!$A$96:A$125,0),MATCH(G658,'ORDER FORM'!$I$119:$L$119,0)),\"\"))","v":""},{"$f":"IFERROR(IFERROR(INDEX('ORDER FORM'!N:N,MATCH(IMPORT!E658,'ORDER FORM'!B:B,0)),INDEX('ORDER FORM'!N:N,MATCH(TRIM(IMPORT!E658),'ORDER FORM'!B:B,0))),\"\")","v":""}]
["UPLOADUSD",{"$f":"IF('ORDER FORM'!$O$7=\"\",\"ENTER-PO\",'ORDER FORM'!$O$7)","v":"ENTER-PO"},"2021 Spring/Summer",{"$f":"IF('ORDER FORM'!$O$9=\"\",TODAY(),'ORDER FORM'!$O$9)","v":"2023-11-02"},710221,"232 ","L","2","610306157003",{"$f":"IF(IFERROR(INDEX('ORDER FORM'!$I$96:$L$125,MATCH(CONCATENATE(E659,F659),'ORDER FORM'!$A$96:$A$125,0),MATCH(G659,'ORDER FORM'!$I$119:$L$119,0)),\"\")=0,\"\",IFERROR(INDEX('ORDER FORM'!$I$96:$L$125,MATCH(CONCATENATE(E659,F659),'ORDER FORM'!$A$96:A$125,0),MATCH(G659,'ORDER FORM'!$I$119:$L$119,0)),\"\"))","v":""},{"$f":"IFERROR(IFERROR(INDEX('ORDER FORM'!N:N,MATCH(IMPORT!E659,'ORDER FORM'!B:B,0)),INDEX('ORDER FORM'!N:N,MATCH(TRIM(IMPORT!E659),'ORDER FORM'!B:B,0))),\"\")","v":""}]
["UPLOADUSD",{"$f":"IF('ORDER FORM'!$O$7=\"\",\"ENTER-PO\",'ORDER FORM'!$O$7)","v":"ENTER-PO"},"2021 Spring/Summer",{"$f":"IF('ORDER FORM'!$O$9=\"\",TODAY(),'ORDER FORM'!$O$9)","v":"2023-11-02"},710221,"232 ","XL","2","610306157010",{"$f":"IF(IFERROR(INDEX('ORDER FORM'!$I$96:$L$125,MATCH(CONCATENATE(E660,F660),'ORDER FORM'!$A$96:$A$125,0),MATCH(G660,'ORDER FORM'!$I$119:$L$119,0)),\"\")=0,\"\",IFERROR(INDEX('ORDER FORM'!$I$96:$L$125,MATCH(CONCATENATE(E660,F660),'ORDER FORM'!$A$96:A$125,0),MATCH(G660,'ORDER FORM'!$I$119:$L$119,0)),\"\"))","v":""},{"$f":"IFERROR(IFERROR(INDEX('ORDER FORM'!N:N,MATCH(IMPORT!E660,'ORDER FORM'!B:B,0)),INDEX('ORDER FORM'!N:N,MATCH(TRIM(IMPORT!E660),'ORDER FORM'!B:B,0))),\"\")","v":""}]
["UPLOADUSD",{"$f":"IF('ORDER FORM'!$O$7=\"\",\"ENTER-PO\",'ORDER FORM'!$O$7)","v":"ENTER-PO"},"2021 Spring/Summer",{"$f":"IF('ORDER FORM'!$O$9=\"\",TODAY(),'ORDER FORM'!$O$9)","v":"2023-11-02"},710222,"227 ","S","2","610306157027",{"$f":"IF(IFERROR(INDEX('ORDER FORM'!$I$96:$L$125,MATCH(CONCATENATE(E661,F661),'ORDER FORM'!$A$96:$A$125,0),MATCH(G661,'ORDER FORM'!$I$119:$L$119,0)),\"\")=0,\"\",IFERROR(INDEX('ORDER FORM'!$I$96:$L$125,MATCH(CONCATENATE(E661,F661),'ORDER FORM'!$A$96:A$125,0),MATCH(G661,'ORDER FORM'!$I$119:$L$119,0)),\"\"))","v":""},{"$f":"IFERROR(IFERROR(INDEX('ORDER FORM'!N:N,MATCH(IMPORT!E661,'ORDER FORM'!B:B,0)),INDEX('ORDER FORM'!N:N,MATCH(TRIM(IMPORT!E661),'ORDER FORM'!B:B,0))),\"\")","v":""}]
["UPLOADUSD",{"$f":"IF('ORDER FORM'!$O$7=\"\",\"ENTER-PO\",'ORDER FORM'!$O$7)","v":"ENTER-PO"},"2021 Spring/Summer",{"$f":"IF('ORDER FORM'!$O$9=\"\",TODAY(),'ORDER FORM'!$O$9)","v":"2023-11-02"},710222,"227 ","M","2","610306157034",{"$f":"IF(IFERROR(INDEX('ORDER FORM'!$I$96:$L$125,MATCH(CONCATENATE(E662,F662),'ORDER FORM'!$A$96:$A$125,0),MATCH(G662,'ORDER FORM'!$I$119:$L$119,0)),\"\")=0,\"\",IFERROR(INDEX('ORDER FORM'!$I$96:$L$125,MATCH(CONCATENATE(E662,F662),'ORDER FORM'!$A$96:A$125,0),MATCH(G662,'ORDER FORM'!$I$119:$L$119,0)),\"\"))","v":""},{"$f":"IFERROR(IFERROR(INDEX('ORDER FORM'!N:N,MATCH(IMPORT!E662,'ORDER FORM'!B:B,0)),INDEX('ORDER FORM'!N:N,MATCH(TRIM(IMPORT!E662),'ORDER FORM'!B:B,0))),\"\")","v":""}]
["UPLOADUSD",{"$f":"IF('ORDER FORM'!$O$7=\"\",\"ENTER-PO\",'ORDER FORM'!$O$7)","v":"ENTER-PO"},"2021 Spring/Summer",{"$f":"IF('ORDER FORM'!$O$9=\"\",TODAY(),'ORDER FORM'!$O$9)","v":"2023-11-02"},710222,"227 ","L","2","610306157041",{"$f":"IF(IFERROR(INDEX('ORDER FORM'!$I$96:$L$125,MATCH(CONCATENATE(E663,F663),'ORDER FORM'!$A$96:$A$125,0),MATCH(G663,'ORDER FORM'!$I$119:$L$119,0)),\"\")=0,\"\",IFERROR(INDEX('ORDER FORM'!$I$96:$L$125,MATCH(CONCATENATE(E663,F663),'ORDER FORM'!$A$96:A$125,0),MATCH(G663,'ORDER FORM'!$I$119:$L$119,0)),\"\"))","v":""},{"$f":"IFERROR(IFERROR(INDEX('ORDER FORM'!N:N,MATCH(IMPORT!E663,'ORDER FORM'!B:B,0)),INDEX('ORDER FORM'!N:N,MATCH(TRIM(IMPORT!E663),'ORDER FORM'!B:B,0))),\"\")","v":""}]
["UPLOADUSD",{"$f":"IF('ORDER FORM'!$O$7=\"\",\"ENTER-PO\",'ORDER FORM'!$O$7)","v":"ENTER-PO"},"2021 Spring/Summer",{"$f":"IF('ORDER FORM'!$O$9=\"\",TODAY(),'ORDER FORM'!$O$9)","v":"2023-11-02"},710222,"233 ","S","2","610306157058",{"$f":"IF(IFERROR(INDEX('ORDER FORM'!$I$96:$L$125,MATCH(CONCATENATE(E664,F664),'ORDER FORM'!$A$96:$A$125,0),MATCH(G664,'ORDER FORM'!$I$119:$L$119,0)),\"\")=0,\"\",IFERROR(INDEX('ORDER FORM'!$I$96:$L$125,MATCH(CONCATENATE(E664,F664),'ORDER FORM'!$A$96:A$125,0),MATCH(G664,'ORDER FORM'!$I$119:$L$119,0)),\"\"))","v":""},{"$f":"IFERROR(IFERROR(INDEX('ORDER FORM'!N:N,MATCH(IMPORT!E664,'ORDER FORM'!B:B,0)),INDEX('ORDER FORM'!N:N,MATCH(TRIM(IMPORT!E664),'ORDER FORM'!B:B,0))),\"\")","v":""}]
["UPLOADUSD",{"$f":"IF('ORDER FORM'!$O$7=\"\",\"ENTER-PO\",'ORDER FORM'!$O$7)","v":"ENTER-PO"},"2021 Spring/Summer",{"$f":"IF('ORDER FORM'!$O$9=\"\",TODAY(),'ORDER FORM'!$O$9)","v":"2023-11-02"},710222,"233 ","M","2","610306157065",{"$f":"IF(IFERROR(INDEX('ORDER FORM'!$I$96:$L$125,MATCH(CONCATENATE(E665,F665),'ORDER FORM'!$A$96:$A$125,0),MATCH(G665,'ORDER FORM'!$I$119:$L$119,0)),\"\")=0,\"\",IFERROR(INDEX('ORDER FORM'!$I$96:$L$125,MATCH(CONCATENATE(E665,F665),'ORDER FORM'!$A$96:A$125,0),MATCH(G665,'ORDER FORM'!$I$119:$L$119,0)),\"\"))","v":""},{"$f":"IFERROR(IFERROR(INDEX('ORDER FORM'!N:N,MATCH(IMPORT!E665,'ORDER FORM'!B:B,0)),INDEX('ORDER FORM'!N:N,MATCH(TRIM(IMPORT!E665),'ORDER FORM'!B:B,0))),\"\")","v":""}]
["UPLOADUSD",{"$f":"IF('ORDER FORM'!$O$7=\"\",\"ENTER-PO\",'ORDER FORM'!$O$7)","v":"ENTER-PO"},"2021 Spring/Summer",{"$f":"IF('ORDER FORM'!$O$9=\"\",TODAY(),'ORDER FORM'!$O$9)","v":"2023-11-02"},710222,"233 ","L","2","610306157072",{"$f":"IF(IFERROR(INDEX('ORDER FORM'!$I$96:$L$125,MATCH(CONCATENATE(E666,F666),'ORDER FORM'!$A$96:$A$125,0),MATCH(G666,'ORDER FORM'!$I$119:$L$119,0)),\"\")=0,\"\",IFERROR(INDEX('ORDER FORM'!$I$96:$L$125,MATCH(CONCATENATE(E666,F666),'ORDER FORM'!$A$96:A$125,0),MATCH(G666,'ORDER FORM'!$I$119:$L$119,0)),\"\"))","v":""},{"$f":"IFERROR(IFERROR(INDEX('ORDER FORM'!N:N,MATCH(IMPORT!E666,'ORDER FORM'!B:B,0)),INDEX('ORDER FORM'!N:N,MATCH(TRIM(IMPORT!E666),'ORDER FORM'!B:B,0))),\"\")","v":""}]
["UPLOADUSD",{"$f":"IF('ORDER FORM'!$O$7=\"\",\"ENTER-PO\",'ORDER FORM'!$O$7)","v":"ENTER-PO"},"2021 Spring/Summer",{"$f":"IF('ORDER FORM'!$O$9=\"\",TODAY(),'ORDER FORM'!$O$9)","v":"2023-11-02"},710222,"234","S","2","610306157089",{"$f":"IF(IFERROR(INDEX('ORDER FORM'!$I$96:$L$125,MATCH(CONCATENATE(E667,F667),'ORDER FORM'!$A$96:$A$125,0),MATCH(G667,'ORDER FORM'!$I$119:$L$119,0)),\"\")=0,\"\",IFERROR(INDEX('ORDER FORM'!$I$96:$L$125,MATCH(CONCATENATE(E667,F667),'ORDER FORM'!$A$96:A$125,0),MATCH(G667,'ORDER FORM'!$I$119:$L$119,0)),\"\"))","v":""},{"$f":"IFERROR(IFERROR(INDEX('ORDER FORM'!N:N,MATCH(IMPORT!E667,'ORDER FORM'!B:B,0)),INDEX('ORDER FORM'!N:N,MATCH(TRIM(IMPORT!E667),'ORDER FORM'!B:B,0))),\"\")","v":""}]
["UPLOADUSD",{"$f":"IF('ORDER FORM'!$O$7=\"\",\"ENTER-PO\",'ORDER FORM'!$O$7)","v":"ENTER-PO"},"2021 Spring/Summer",{"$f":"IF('ORDER FORM'!$O$9=\"\",TODAY(),'ORDER FORM'!$O$9)","v":"2023-11-02"},710222,"234","M","2","610306157096",{"$f":"IF(IFERROR(INDEX('ORDER FORM'!$I$96:$L$125,MATCH(CONCATENATE(E668,F668),'ORDER FORM'!$A$96:$A$125,0),MATCH(G668,'ORDER FORM'!$I$119:$L$119,0)),\"\")=0,\"\",IFERROR(INDEX('ORDER FORM'!$I$96:$L$125,MATCH(CONCATENATE(E668,F668),'ORDER FORM'!$A$96:A$125,0),MATCH(G668,'ORDER FORM'!$I$119:$L$119,0)),\"\"))","v":""},{"$f":"IFERROR(IFERROR(INDEX('ORDER FORM'!N:N,MATCH(IMPORT!E668,'ORDER FORM'!B:B,0)),INDEX('ORDER FORM'!N:N,MATCH(TRIM(IMPORT!E668),'ORDER FORM'!B:B,0))),\"\")","v":""}]
["UPLOADUSD",{"$f":"IF('ORDER FORM'!$O$7=\"\",\"ENTER-PO\",'ORDER FORM'!$O$7)","v":"ENTER-PO"},"2021 Spring/Summer",{"$f":"IF('ORDER FORM'!$O$9=\"\",TODAY(),'ORDER FORM'!$O$9)","v":"2023-11-02"},710222,"234","L","2","610306157102",{"$f":"IF(IFERROR(INDEX('ORDER FORM'!$I$96:$L$125,MATCH(CONCATENATE(E669,F669),'ORDER FORM'!$A$96:$A$125,0),MATCH(G669,'ORDER FORM'!$I$119:$L$119,0)),\"\")=0,\"\",IFERROR(INDEX('ORDER FORM'!$I$96:$L$125,MATCH(CONCATENATE(E669,F669),'ORDER FORM'!$A$96:A$125,0),MATCH(G669,'ORDER FORM'!$I$119:$L$119,0)),\"\"))","v":""},{"$f":"IFERROR(IFERROR(INDEX('ORDER FORM'!N:N,MATCH(IMPORT!E669,'ORDER FORM'!B:B,0)),INDEX('ORDER FORM'!N:N,MATCH(TRIM(IMPORT!E669),'ORDER FORM'!B:B,0))),\"\")","v":""}]
["UPLOADUSD",{"$f":"IF('ORDER FORM'!$O$7=\"\",\"ENTER-PO\",'ORDER FORM'!$O$7)","v":"ENTER-PO"},"2021 Spring/Summer",{"$f":"IF('ORDER FORM'!$O$9=\"\",TODAY(),'ORDER FORM'!$O$9)","v":"2023-11-02"},710256,"436","S","2","610306161406",{"$f":"IF(IFERROR(INDEX('ORDER FORM'!$I$96:$L$125,MATCH(CONCATENATE(E670,F670),'ORDER FORM'!$A$96:$A$125,0),MATCH(G670,'ORDER FORM'!$I$119:$L$119,0)),\"\")=0,\"\",IFERROR(INDEX('ORDER FORM'!$I$96:$L$125,MATCH(CONCATENATE(E670,F670),'ORDER FORM'!$A$96:A$125,0),MATCH(G670,'ORDER FORM'!$I$119:$L$119,0)),\"\"))","v":""},{"$f":"IFERROR(IFERROR(INDEX('ORDER FORM'!N:N,MATCH(IMPORT!E670,'ORDER FORM'!B:B,0)),INDEX('ORDER FORM'!N:N,MATCH(TRIM(IMPORT!E670),'ORDER FORM'!B:B,0))),\"\")","v":""}]
["UPLOADUSD",{"$f":"IF('ORDER FORM'!$O$7=\"\",\"ENTER-PO\",'ORDER FORM'!$O$7)","v":"ENTER-PO"},"2021 Spring/Summer",{"$f":"IF('ORDER FORM'!$O$9=\"\",TODAY(),'ORDER FORM'!$O$9)","v":"2023-11-02"},710256,"436","M","2","610306161413",{"$f":"IF(IFERROR(INDEX('ORDER FORM'!$I$96:$L$125,MATCH(CONCATENATE(E671,F671),'ORDER FORM'!$A$96:$A$125,0),MATCH(G671,'ORDER FORM'!$I$119:$L$119,0)),\"\")=0,\"\",IFERROR(INDEX('ORDER FORM'!$I$96:$L$125,MATCH(CONCATENATE(E671,F671),'ORDER FORM'!$A$96:A$125,0),MATCH(G671,'ORDER FORM'!$I$119:$L$119,0)),\"\"))","v":""},{"$f":"IFERROR(IFERROR(INDEX('ORDER FORM'!N:N,MATCH(IMPORT!E671,'ORDER FORM'!B:B,0)),INDEX('ORDER FORM'!N:N,MATCH(TRIM(IMPORT!E671),'ORDER FORM'!B:B,0))),\"\")","v":""}]
["UPLOADUSD",{"$f":"IF('ORDER FORM'!$O$7=\"\",\"ENTER-PO\",'ORDER FORM'!$O$7)","v":"ENTER-PO"},"2021 Spring/Summer",{"$f":"IF('ORDER FORM'!$O$9=\"\",TODAY(),'ORDER FORM'!$O$9)","v":"2023-11-02"},710256,"436","L","2","610306161420",{"$f":"IF(IFERROR(INDEX('ORDER FORM'!$I$96:$L$125,MATCH(CONCATENATE(E672,F672),'ORDER FORM'!$A$96:$A$125,0),MATCH(G672,'ORDER FORM'!$I$119:$L$119,0)),\"\")=0,\"\",IFERROR(INDEX('ORDER FORM'!$I$96:$L$125,MATCH(CONCATENATE(E672,F672),'ORDER FORM'!$A$96:A$125,0),MATCH(G672,'ORDER FORM'!$I$119:$L$119,0)),\"\"))","v":""},{"$f":"IFERROR(IFERROR(INDEX('ORDER FORM'!N:N,MATCH(IMPORT!E672,'ORDER FORM'!B:B,0)),INDEX('ORDER FORM'!N:N,MATCH(TRIM(IMPORT!E672),'ORDER FORM'!B:B,0))),\"\")","v":""}]
["UPLOADUSD",{"$f":"IF('ORDER FORM'!$O$7=\"\",\"ENTER-PO\",'ORDER FORM'!$O$7)","v":"ENTER-PO"},"2021 Spring/Summer",{"$f":"IF('ORDER FORM'!$O$9=\"\",TODAY(),'ORDER FORM'!$O$9)","v":"2023-11-02"},710256,"436","XL","2","610306161437",{"$f":"IF(IFERROR(INDEX('ORDER FORM'!$I$96:$L$125,MATCH(CONCATENATE(E673,F673),'ORDER FORM'!$A$96:$A$125,0),MATCH(G673,'ORDER FORM'!$I$119:$L$119,0)),\"\")=0,\"\",IFERROR(INDEX('ORDER FORM'!$I$96:$L$125,MATCH(CONCATENATE(E673,F673),'ORDER FORM'!$A$96:A$125,0),MATCH(G673,'ORDER FORM'!$I$119:$L$119,0)),\"\"))","v":""},{"$f":"IFERROR(IFERROR(INDEX('ORDER FORM'!N:N,MATCH(IMPORT!E673,'ORDER FORM'!B:B,0)),INDEX('ORDER FORM'!N:N,MATCH(TRIM(IMPORT!E673),'ORDER FORM'!B:B,0))),\"\")","v":""}]
["UPLOADUSD",{"$f":"IF('ORDER FORM'!$O$7=\"\",\"ENTER-PO\",'ORDER FORM'!$O$7)","v":"ENTER-PO"},"2021 Spring/Summer",{"$f":"IF('ORDER FORM'!$O$9=\"\",TODAY(),'ORDER FORM'!$O$9)","v":"2023-11-02"},710256,"325","S","2","610306161529",{"$f":"IF(IFERROR(INDEX('ORDER FORM'!$I$96:$L$125,MATCH(CONCATENATE(E674,F674),'ORDER FORM'!$A$96:$A$125,0),MATCH(G674,'ORDER FORM'!$I$119:$L$119,0)),\"\")=0,\"\",IFERROR(INDEX('ORDER FORM'!$I$96:$L$125,MATCH(CONCATENATE(E674,F674),'ORDER FORM'!$A$96:A$125,0),MATCH(G674,'ORDER FORM'!$I$119:$L$119,0)),\"\"))","v":""},{"$f":"IFERROR(IFERROR(INDEX('ORDER FORM'!N:N,MATCH(IMPORT!E674,'ORDER FORM'!B:B,0)),INDEX('ORDER FORM'!N:N,MATCH(TRIM(IMPORT!E674),'ORDER FORM'!B:B,0))),\"\")","v":""}]
["UPLOADUSD",{"$f":"IF('ORDER FORM'!$O$7=\"\",\"ENTER-PO\",'ORDER FORM'!$O$7)","v":"ENTER-PO"},"2021 Spring/Summer",{"$f":"IF('ORDER FORM'!$O$9=\"\",TODAY(),'ORDER FORM'!$O$9)","v":"2023-11-02"},710256,"325","M","2","610306161536",{"$f":"IF(IFERROR(INDEX('ORDER FORM'!$I$96:$L$125,MATCH(CONCATENATE(E675,F675),'ORDER FORM'!$A$96:$A$125,0),MATCH(G675,'ORDER FORM'!$I$119:$L$119,0)),\"\")=0,\"\",IFERROR(INDEX('ORDER FORM'!$I$96:$L$125,MATCH(CONCATENATE(E675,F675),'ORDER FORM'!$A$96:A$125,0),MATCH(G675,'ORDER FORM'!$I$119:$L$119,0)),\"\"))","v":""},{"$f":"IFERROR(IFERROR(INDEX('ORDER FORM'!N:N,MATCH(IMPORT!E675,'ORDER FORM'!B:B,0)),INDEX('ORDER FORM'!N:N,MATCH(TRIM(IMPORT!E675),'ORDER FORM'!B:B,0))),\"\")","v":""}]
["UPLOADUSD",{"$f":"IF('ORDER FORM'!$O$7=\"\",\"ENTER-PO\",'ORDER FORM'!$O$7)","v":"ENTER-PO"},"2021 Spring/Summer",{"$f":"IF('ORDER FORM'!$O$9=\"\",TODAY(),'ORDER FORM'!$O$9)","v":"2023-11-02"},710256,"325","L","2","610306161543",{"$f":"IF(IFERROR(INDEX('ORDER FORM'!$I$96:$L$125,MATCH(CONCATENATE(E676,F676),'ORDER FORM'!$A$96:$A$125,0),MATCH(G676,'ORDER FORM'!$I$119:$L$119,0)),\"\")=0,\"\",IFERROR(INDEX('ORDER FORM'!$I$96:$L$125,MATCH(CONCATENATE(E676,F676),'ORDER FORM'!$A$96:A$125,0),MATCH(G676,'ORDER FORM'!$I$119:$L$119,0)),\"\"))","v":""},{"$f":"IFERROR(IFERROR(INDEX('ORDER FORM'!N:N,MATCH(IMPORT!E676,'ORDER FORM'!B:B,0)),INDEX('ORDER FORM'!N:N,MATCH(TRIM(IMPORT!E676),'ORDER FORM'!B:B,0))),\"\")","v":""}]
["UPLOADUSD",{"$f":"IF('ORDER FORM'!$O$7=\"\",\"ENTER-PO\",'ORDER FORM'!$O$7)","v":"ENTER-PO"},"2021 Spring/Summer",{"$f":"IF('ORDER FORM'!$O$9=\"\",TODAY(),'ORDER FORM'!$O$9)","v":"2023-11-02"},710256,"325","XL","2","610306161550",{"$f":"IF(IFERROR(INDEX('ORDER FORM'!$I$96:$L$125,MATCH(CONCATENATE(E677,F677),'ORDER FORM'!$A$96:$A$125,0),MATCH(G677,'ORDER FORM'!$I$119:$L$119,0)),\"\")=0,\"\",IFERROR(INDEX('ORDER FORM'!$I$96:$L$125,MATCH(CONCATENATE(E677,F677),'ORDER FORM'!$A$96:A$125,0),MATCH(G677,'ORDER FORM'!$I$119:$L$119,0)),\"\"))","v":""},{"$f":"IFERROR(IFERROR(INDEX('ORDER FORM'!N:N,MATCH(IMPORT!E677,'ORDER FORM'!B:B,0)),INDEX('ORDER FORM'!N:N,MATCH(TRIM(IMPORT!E677),'ORDER FORM'!B:B,0))),\"\")","v":""}]
["UPLOADUSD",{"$f":"IF('ORDER FORM'!$O$7=\"\",\"ENTER-PO\",'ORDER FORM'!$O$7)","v":"ENTER-PO"},"2021 Spring/Summer",{"$f":"IF('ORDER FORM'!$O$9=\"\",TODAY(),'ORDER FORM'!$O$9)","v":"2023-11-02"},710256,"445","S","2","610306161482",{"$f":"IF(IFERROR(INDEX('ORDER FORM'!$I$96:$L$125,MATCH(CONCATENATE(E678,F678),'ORDER FORM'!$A$96:$A$125,0),MATCH(G678,'ORDER FORM'!$I$119:$L$119,0)),\"\")=0,\"\",IFERROR(INDEX('ORDER FORM'!$I$96:$L$125,MATCH(CONCATENATE(E678,F678),'ORDER FORM'!$A$96:A$125,0),MATCH(G678,'ORDER FORM'!$I$119:$L$119,0)),\"\"))","v":""},{"$f":"IFERROR(IFERROR(INDEX('ORDER FORM'!N:N,MATCH(IMPORT!E678,'ORDER FORM'!B:B,0)),INDEX('ORDER FORM'!N:N,MATCH(TRIM(IMPORT!E678),'ORDER FORM'!B:B,0))),\"\")","v":""}]
["UPLOADUSD",{"$f":"IF('ORDER FORM'!$O$7=\"\",\"ENTER-PO\",'ORDER FORM'!$O$7)","v":"ENTER-PO"},"2021 Spring/Summer",{"$f":"IF('ORDER FORM'!$O$9=\"\",TODAY(),'ORDER FORM'!$O$9)","v":"2023-11-02"},710256,"445","M","2","610306161499",{"$f":"IF(IFERROR(INDEX('ORDER FORM'!$I$96:$L$125,MATCH(CONCATENATE(E679,F679),'ORDER FORM'!$A$96:$A$125,0),MATCH(G679,'ORDER FORM'!$I$119:$L$119,0)),\"\")=0,\"\",IFERROR(INDEX('ORDER FORM'!$I$96:$L$125,MATCH(CONCATENATE(E679,F679),'ORDER FORM'!$A$96:A$125,0),MATCH(G679,'ORDER FORM'!$I$119:$L$119,0)),\"\"))","v":""},{"$f":"IFERROR(IFERROR(INDEX('ORDER FORM'!N:N,MATCH(IMPORT!E679,'ORDER FORM'!B:B,0)),INDEX('ORDER FORM'!N:N,MATCH(TRIM(IMPORT!E679),'ORDER FORM'!B:B,0))),\"\")","v":""}]
["UPLOADUSD",{"$f":"IF('ORDER FORM'!$O$7=\"\",\"ENTER-PO\",'ORDER FORM'!$O$7)","v":"ENTER-PO"},"2021 Spring/Summer",{"$f":"IF('ORDER FORM'!$O$9=\"\",TODAY(),'ORDER FORM'!$O$9)","v":"2023-11-02"},710256,"445","L","2","610306161505",{"$f":"IF(IFERROR(INDEX('ORDER FORM'!$I$96:$L$125,MATCH(CONCATENATE(E680,F680),'ORDER FORM'!$A$96:$A$125,0),MATCH(G680,'ORDER FORM'!$I$119:$L$119,0)),\"\")=0,\"\",IFERROR(INDEX('ORDER FORM'!$I$96:$L$125,MATCH(CONCATENATE(E680,F680),'ORDER FORM'!$A$96:A$125,0),MATCH(G680,'ORDER FORM'!$I$119:$L$119,0)),\"\"))","v":""},{"$f":"IFERROR(IFERROR(INDEX('ORDER FORM'!N:N,MATCH(IMPORT!E680,'ORDER FORM'!B:B,0)),INDEX('ORDER FORM'!N:N,MATCH(TRIM(IMPORT!E680),'ORDER FORM'!B:B,0))),\"\")","v":""}]
["UPLOADUSD",{"$f":"IF('ORDER FORM'!$O$7=\"\",\"ENTER-PO\",'ORDER FORM'!$O$7)","v":"ENTER-PO"},"2021 Spring/Summer",{"$f":"IF('ORDER FORM'!$O$9=\"\",TODAY(),'ORDER FORM'!$O$9)","v":"2023-11-02"},710256,"445","XL","2","610306161512",{"$f":"IF(IFERROR(INDEX('ORDER FORM'!$I$96:$L$125,MATCH(CONCATENATE(E681,F681),'ORDER FORM'!$A$96:$A$125,0),MATCH(G681,'ORDER FORM'!$I$119:$L$119,0)),\"\")=0,\"\",IFERROR(INDEX('ORDER FORM'!$I$96:$L$125,MATCH(CONCATENATE(E681,F681),'ORDER FORM'!$A$96:A$125,0),MATCH(G681,'ORDER FORM'!$I$119:$L$119,0)),\"\"))","v":""},{"$f":"IFERROR(IFERROR(INDEX('ORDER FORM'!N:N,MATCH(IMPORT!E681,'ORDER FORM'!B:B,0)),INDEX('ORDER FORM'!N:N,MATCH(TRIM(IMPORT!E681),'ORDER FORM'!B:B,0))),\"\")","v":""}]
["UPLOADUSD",{"$f":"IF('ORDER FORM'!$O$7=\"\",\"ENTER-PO\",'ORDER FORM'!$O$7)","v":"ENTER-PO"},"2021 Spring/Summer",{"$f":"IF('ORDER FORM'!$O$9=\"\",TODAY(),'ORDER FORM'!$O$9)","v":"2023-11-02"},710256,"550","S","2","610306161444",{"$f":"IF(IFERROR(INDEX('ORDER FORM'!$I$96:$L$125,MATCH(CONCATENATE(E682,F682),'ORDER FORM'!$A$96:$A$125,0),MATCH(G682,'ORDER FORM'!$I$119:$L$119,0)),\"\")=0,\"\",IFERROR(INDEX('ORDER FORM'!$I$96:$L$125,MATCH(CONCATENATE(E682,F682),'ORDER FORM'!$A$96:A$125,0),MATCH(G682,'ORDER FORM'!$I$119:$L$119,0)),\"\"))","v":""},{"$f":"IFERROR(IFERROR(INDEX('ORDER FORM'!N:N,MATCH(IMPORT!E682,'ORDER FORM'!B:B,0)),INDEX('ORDER FORM'!N:N,MATCH(TRIM(IMPORT!E682),'ORDER FORM'!B:B,0))),\"\")","v":""}]
["UPLOADUSD",{"$f":"IF('ORDER FORM'!$O$7=\"\",\"ENTER-PO\",'ORDER FORM'!$O$7)","v":"ENTER-PO"},"2021 Spring/Summer",{"$f":"IF('ORDER FORM'!$O$9=\"\",TODAY(),'ORDER FORM'!$O$9)","v":"2023-11-02"},710256,"550","M","2","610306161451",{"$f":"IF(IFERROR(INDEX('ORDER FORM'!$I$96:$L$125,MATCH(CONCATENATE(E683,F683),'ORDER FORM'!$A$96:$A$125,0),MATCH(G683,'ORDER FORM'!$I$119:$L$119,0)),\"\")=0,\"\",IFERROR(INDEX('ORDER FORM'!$I$96:$L$125,MATCH(CONCATENATE(E683,F683),'ORDER FORM'!$A$96:A$125,0),MATCH(G683,'ORDER FORM'!$I$119:$L$119,0)),\"\"))","v":""},{"$f":"IFERROR(IFERROR(INDEX('ORDER FORM'!N:N,MATCH(IMPORT!E683,'ORDER FORM'!B:B,0)),INDEX('ORDER FORM'!N:N,MATCH(TRIM(IMPORT!E683),'ORDER FORM'!B:B,0))),\"\")","v":""}]
["UPLOADUSD",{"$f":"IF('ORDER FORM'!$O$7=\"\",\"ENTER-PO\",'ORDER FORM'!$O$7)","v":"ENTER-PO"},"2021 Spring/Summer",{"$f":"IF('ORDER FORM'!$O$9=\"\",TODAY(),'ORDER FORM'!$O$9)","v":"2023-11-02"},710256,"550","L","2","610306161468",{"$f":"IF(IFERROR(INDEX('ORDER FORM'!$I$96:$L$125,MATCH(CONCATENATE(E684,F684),'ORDER FORM'!$A$96:$A$125,0),MATCH(G684,'ORDER FORM'!$I$119:$L$119,0)),\"\")=0,\"\",IFERROR(INDEX('ORDER FORM'!$I$96:$L$125,MATCH(CONCATENATE(E684,F684),'ORDER FORM'!$A$96:A$125,0),MATCH(G684,'ORDER FORM'!$I$119:$L$119,0)),\"\"))","v":""},{"$f":"IFERROR(IFERROR(INDEX('ORDER FORM'!N:N,MATCH(IMPORT!E684,'ORDER FORM'!B:B,0)),INDEX('ORDER FORM'!N:N,MATCH(TRIM(IMPORT!E684),'ORDER FORM'!B:B,0))),\"\")","v":""}]
["UPLOADUSD",{"$f":"IF('ORDER FORM'!$O$7=\"\",\"ENTER-PO\",'ORDER FORM'!$O$7)","v":"ENTER-PO"},"2021 Spring/Summer",{"$f":"IF('ORDER FORM'!$O$9=\"\",TODAY(),'ORDER FORM'!$O$9)","v":"2023-11-02"},710256,"550","XL","2","610306161475",{"$f":"IF(IFERROR(INDEX('ORDER FORM'!$I$96:$L$125,MATCH(CONCATENATE(E685,F685),'ORDER FORM'!$A$96:$A$125,0),MATCH(G685,'ORDER FORM'!$I$119:$L$119,0)),\"\")=0,\"\",IFERROR(INDEX('ORDER FORM'!$I$96:$L$125,MATCH(CONCATENATE(E685,F685),'ORDER FORM'!$A$96:A$125,0),MATCH(G685,'ORDER FORM'!$I$119:$L$119,0)),\"\"))","v":""},{"$f":"IFERROR(IFERROR(INDEX('ORDER FORM'!N:N,MATCH(IMPORT!E685,'ORDER FORM'!B:B,0)),INDEX('ORDER FORM'!N:N,MATCH(TRIM(IMPORT!E685),'ORDER FORM'!B:B,0))),\"\")","v":""}]
["UPLOADUSD",{"$f":"IF('ORDER FORM'!$O$7=\"\",\"ENTER-PO\",'ORDER FORM'!$O$7)","v":"ENTER-PO"},"2021 Spring/Summer",{"$f":"IF('ORDER FORM'!$O$9=\"\",TODAY(),'ORDER FORM'!$O$9)","v":"2023-11-02"},710258,"305","S","2","610306161598",{"$f":"IF(IFERROR(INDEX('ORDER FORM'!$I$96:$L$125,MATCH(CONCATENATE(E686,F686),'ORDER FORM'!$A$96:$A$125,0),MATCH(G686,'ORDER FORM'!$I$119:$L$119,0)),\"\")=0,\"\",IFERROR(INDEX('ORDER FORM'!$I$96:$L$125,MATCH(CONCATENATE(E686,F686),'ORDER FORM'!$A$96:A$125,0),MATCH(G686,'ORDER FORM'!$I$119:$L$119,0)),\"\"))","v":""},{"$f":"IFERROR(IFERROR(INDEX('ORDER FORM'!N:N,MATCH(IMPORT!E686,'ORDER FORM'!B:B,0)),INDEX('ORDER FORM'!N:N,MATCH(TRIM(IMPORT!E686),'ORDER FORM'!B:B,0))),\"\")","v":""}]
["UPLOADUSD",{"$f":"IF('ORDER FORM'!$O$7=\"\",\"ENTER-PO\",'ORDER FORM'!$O$7)","v":"ENTER-PO"},"2021 Spring/Summer",{"$f":"IF('ORDER FORM'!$O$9=\"\",TODAY(),'ORDER FORM'!$O$9)","v":"2023-11-02"},710258,"305","M","2","610306161604",{"$f":"IF(IFERROR(INDEX('ORDER FORM'!$I$96:$L$125,MATCH(CONCATENATE(E687,F687),'ORDER FORM'!$A$96:$A$125,0),MATCH(G687,'ORDER FORM'!$I$119:$L$119,0)),\"\")=0,\"\",IFERROR(INDEX('ORDER FORM'!$I$96:$L$125,MATCH(CONCATENATE(E687,F687),'ORDER FORM'!$A$96:A$125,0),MATCH(G687,'ORDER FORM'!$I$119:$L$119,0)),\"\"))","v":""},{"$f":"IFERROR(IFERROR(INDEX('ORDER FORM'!N:N,MATCH(IMPORT!E687,'ORDER FORM'!B:B,0)),INDEX('ORDER FORM'!N:N,MATCH(TRIM(IMPORT!E687),'ORDER FORM'!B:B,0))),\"\")","v":""}]
["UPLOADUSD",{"$f":"IF('ORDER FORM'!$O$7=\"\",\"ENTER-PO\",'ORDER FORM'!$O$7)","v":"ENTER-PO"},"2021 Spring/Summer",{"$f":"IF('ORDER FORM'!$O$9=\"\",TODAY(),'ORDER FORM'!$O$9)","v":"2023-11-02"},710258,"305","L","2","610306161611",{"$f":"IF(IFERROR(INDEX('ORDER FORM'!$I$96:$L$125,MATCH(CONCATENATE(E688,F688),'ORDER FORM'!$A$96:$A$125,0),MATCH(G688,'ORDER FORM'!$I$119:$L$119,0)),\"\")=0,\"\",IFERROR(INDEX('ORDER FORM'!$I$96:$L$125,MATCH(CONCATENATE(E688,F688),'ORDER FORM'!$A$96:A$125,0),MATCH(G688,'ORDER FORM'!$I$119:$L$119,0)),\"\"))","v":""},{"$f":"IFERROR(IFERROR(INDEX('ORDER FORM'!N:N,MATCH(IMPORT!E688,'ORDER FORM'!B:B,0)),INDEX('ORDER FORM'!N:N,MATCH(TRIM(IMPORT!E688),'ORDER FORM'!B:B,0))),\"\")","v":""}]
["UPLOADUSD",{"$f":"IF('ORDER FORM'!$O$7=\"\",\"ENTER-PO\",'ORDER FORM'!$O$7)","v":"ENTER-PO"},"2021 Spring/Summer",{"$f":"IF('ORDER FORM'!$O$9=\"\",TODAY(),'ORDER FORM'!$O$9)","v":"2023-11-02"},710258,"371","S","2","610306161567",{"$f":"IF(IFERROR(INDEX('ORDER FORM'!$I$96:$L$125,MATCH(CONCATENATE(E689,F689),'ORDER FORM'!$A$96:$A$125,0),MATCH(G689,'ORDER FORM'!$I$119:$L$119,0)),\"\")=0,\"\",IFERROR(INDEX('ORDER FORM'!$I$96:$L$125,MATCH(CONCATENATE(E689,F689),'ORDER FORM'!$A$96:A$125,0),MATCH(G689,'ORDER FORM'!$I$119:$L$119,0)),\"\"))","v":""},{"$f":"IFERROR(IFERROR(INDEX('ORDER FORM'!N:N,MATCH(IMPORT!E689,'ORDER FORM'!B:B,0)),INDEX('ORDER FORM'!N:N,MATCH(TRIM(IMPORT!E689),'ORDER FORM'!B:B,0))),\"\")","v":""}]
["UPLOADUSD",{"$f":"IF('ORDER FORM'!$O$7=\"\",\"ENTER-PO\",'ORDER FORM'!$O$7)","v":"ENTER-PO"},"2021 Spring/Summer",{"$f":"IF('ORDER FORM'!$O$9=\"\",TODAY(),'ORDER FORM'!$O$9)","v":"2023-11-02"},710258,"371","M","2","610306161574",{"$f":"IF(IFERROR(INDEX('ORDER FORM'!$I$96:$L$125,MATCH(CONCATENATE(E690,F690),'ORDER FORM'!$A$96:$A$125,0),MATCH(G690,'ORDER FORM'!$I$119:$L$119,0)),\"\")=0,\"\",IFERROR(INDEX('ORDER FORM'!$I$96:$L$125,MATCH(CONCATENATE(E690,F690),'ORDER FORM'!$A$96:A$125,0),MATCH(G690,'ORDER FORM'!$I$119:$L$119,0)),\"\"))","v":""},{"$f":"IFERROR(IFERROR(INDEX('ORDER FORM'!N:N,MATCH(IMPORT!E690,'ORDER FORM'!B:B,0)),INDEX('ORDER FORM'!N:N,MATCH(TRIM(IMPORT!E690),'ORDER FORM'!B:B,0))),\"\")","v":""}]
["UPLOADUSD",{"$f":"IF('ORDER FORM'!$O$7=\"\",\"ENTER-PO\",'ORDER FORM'!$O$7)","v":"ENTER-PO"},"2021 Spring/Summer",{"$f":"IF('ORDER FORM'!$O$9=\"\",TODAY(),'ORDER FORM'!$O$9)","v":"2023-11-02"},710258,"371","L","2","610306161581",{"$f":"IF(IFERROR(INDEX('ORDER FORM'!$I$96:$L$125,MATCH(CONCATENATE(E691,F691),'ORDER FORM'!$A$96:$A$125,0),MATCH(G691,'ORDER FORM'!$I$119:$L$119,0)),\"\")=0,\"\",IFERROR(INDEX('ORDER FORM'!$I$96:$L$125,MATCH(CONCATENATE(E691,F691),'ORDER FORM'!$A$96:A$125,0),MATCH(G691,'ORDER FORM'!$I$119:$L$119,0)),\"\"))","v":""},{"$f":"IFERROR(IFERROR(INDEX('ORDER FORM'!N:N,MATCH(IMPORT!E691,'ORDER FORM'!B:B,0)),INDEX('ORDER FORM'!N:N,MATCH(TRIM(IMPORT!E691),'ORDER FORM'!B:B,0))),\"\")","v":""}]
["UPLOADUSD",{"$f":"IF('ORDER FORM'!$O$7=\"\",\"ENTER-PO\",'ORDER FORM'!$O$7)","v":"ENTER-PO"},"2021 Spring/Summer",{"$f":"IF('ORDER FORM'!$O$9=\"\",TODAY(),'ORDER FORM'!$O$9)","v":"2023-11-02"},710258,"436","S","2","610306161659",{"$f":"IF(IFERROR(INDEX('ORDER FORM'!$I$96:$L$125,MATCH(CONCATENATE(E692,F692),'ORDER FORM'!$A$96:$A$125,0),MATCH(G692,'ORDER FORM'!$I$119:$L$119,0)),\"\")=0,\"\",IFERROR(INDEX('ORDER FORM'!$I$96:$L$125,MATCH(CONCATENATE(E692,F692),'ORDER FORM'!$A$96:A$125,0),MATCH(G692,'ORDER FORM'!$I$119:$L$119,0)),\"\"))","v":""},{"$f":"IFERROR(IFERROR(INDEX('ORDER FORM'!N:N,MATCH(IMPORT!E692,'ORDER FORM'!B:B,0)),INDEX('ORDER FORM'!N:N,MATCH(TRIM(IMPORT!E692),'ORDER FORM'!B:B,0))),\"\")","v":""}]
["UPLOADUSD",{"$f":"IF('ORDER FORM'!$O$7=\"\",\"ENTER-PO\",'ORDER FORM'!$O$7)","v":"ENTER-PO"},"2021 Spring/Summer",{"$f":"IF('ORDER FORM'!$O$9=\"\",TODAY(),'ORDER FORM'!$O$9)","v":"2023-11-02"},710258,"436","M","2","610306161666",{"$f":"IF(IFERROR(INDEX('ORDER FORM'!$I$96:$L$125,MATCH(CONCATENATE(E693,F693),'ORDER FORM'!$A$96:$A$125,0),MATCH(G693,'ORDER FORM'!$I$119:$L$119,0)),\"\")=0,\"\",IFERROR(INDEX('ORDER FORM'!$I$96:$L$125,MATCH(CONCATENATE(E693,F693),'ORDER FORM'!$A$96:A$125,0),MATCH(G693,'ORDER FORM'!$I$119:$L$119,0)),\"\"))","v":""},{"$f":"IFERROR(IFERROR(INDEX('ORDER FORM'!N:N,MATCH(IMPORT!E693,'ORDER FORM'!B:B,0)),INDEX('ORDER FORM'!N:N,MATCH(TRIM(IMPORT!E693),'ORDER FORM'!B:B,0))),\"\")","v":""}]
["UPLOADUSD",{"$f":"IF('ORDER FORM'!$O$7=\"\",\"ENTER-PO\",'ORDER FORM'!$O$7)","v":"ENTER-PO"},"2021 Spring/Summer",{"$f":"IF('ORDER FORM'!$O$9=\"\",TODAY(),'ORDER FORM'!$O$9)","v":"2023-11-02"},710258,"436","L","2","610306161673",{"$f":"IF(IFERROR(INDEX('ORDER FORM'!$I$96:$L$125,MATCH(CONCATENATE(E694,F694),'ORDER FORM'!$A$96:$A$125,0),MATCH(G694,'ORDER FORM'!$I$119:$L$119,0)),\"\")=0,\"\",IFERROR(INDEX('ORDER FORM'!$I$96:$L$125,MATCH(CONCATENATE(E694,F694),'ORDER FORM'!$A$96:A$125,0),MATCH(G694,'ORDER FORM'!$I$119:$L$119,0)),\"\"))","v":""},{"$f":"IFERROR(IFERROR(INDEX('ORDER FORM'!N:N,MATCH(IMPORT!E694,'ORDER FORM'!B:B,0)),INDEX('ORDER FORM'!N:N,MATCH(TRIM(IMPORT!E694),'ORDER FORM'!B:B,0))),\"\")","v":""}]
["UPLOADUSD",{"$f":"IF('ORDER FORM'!$O$7=\"\",\"ENTER-PO\",'ORDER FORM'!$O$7)","v":"ENTER-PO"},"2021 Spring/Summer",{"$f":"IF('ORDER FORM'!$O$9=\"\",TODAY(),'ORDER FORM'!$O$9)","v":"2023-11-02"},710258,"445","S","2","610306161628",{"$f":"IF(IFERROR(INDEX('ORDER FORM'!$I$96:$L$125,MATCH(CONCATENATE(E695,F695),'ORDER FORM'!$A$96:$A$125,0),MATCH(G695,'ORDER FORM'!$I$119:$L$119,0)),\"\")=0,\"\",IFERROR(INDEX('ORDER FORM'!$I$96:$L$125,MATCH(CONCATENATE(E695,F695),'ORDER FORM'!$A$96:A$125,0),MATCH(G695,'ORDER FORM'!$I$119:$L$119,0)),\"\"))","v":""},{"$f":"IFERROR(IFERROR(INDEX('ORDER FORM'!N:N,MATCH(IMPORT!E695,'ORDER FORM'!B:B,0)),INDEX('ORDER FORM'!N:N,MATCH(TRIM(IMPORT!E695),'ORDER FORM'!B:B,0))),\"\")","v":""}]
["UPLOADUSD",{"$f":"IF('ORDER FORM'!$O$7=\"\",\"ENTER-PO\",'ORDER FORM'!$O$7)","v":"ENTER-PO"},"2021 Spring/Summer",{"$f":"IF('ORDER FORM'!$O$9=\"\",TODAY(),'ORDER FORM'!$O$9)","v":"2023-11-02"},710258,"445","M","2","610306161635",{"$f":"IF(IFERROR(INDEX('ORDER FORM'!$I$96:$L$125,MATCH(CONCATENATE(E696,F696),'ORDER FORM'!$A$96:$A$125,0),MATCH(G696,'ORDER FORM'!$I$119:$L$119,0)),\"\")=0,\"\",IFERROR(INDEX('ORDER FORM'!$I$96:$L$125,MATCH(CONCATENATE(E696,F696),'ORDER FORM'!$A$96:A$125,0),MATCH(G696,'ORDER FORM'!$I$119:$L$119,0)),\"\"))","v":""},{"$f":"IFERROR(IFERROR(INDEX('ORDER FORM'!N:N,MATCH(IMPORT!E696,'ORDER FORM'!B:B,0)),INDEX('ORDER FORM'!N:N,MATCH(TRIM(IMPORT!E696),'ORDER FORM'!B:B,0))),\"\")","v":""}]
["UPLOADUSD",{"$f":"IF('ORDER FORM'!$O$7=\"\",\"ENTER-PO\",'ORDER FORM'!$O$7)","v":"ENTER-PO"},"2021 Spring/Summer",{"$f":"IF('ORDER FORM'!$O$9=\"\",TODAY(),'ORDER FORM'!$O$9)","v":"2023-11-02"},710258,"445","L","2","610306161642",{"$f":"IF(IFERROR(INDEX('ORDER FORM'!$I$96:$L$125,MATCH(CONCATENATE(E697,F697),'ORDER FORM'!$A$96:$A$125,0),MATCH(G697,'ORDER FORM'!$I$119:$L$119,0)),\"\")=0,\"\",IFERROR(INDEX('ORDER FORM'!$I$96:$L$125,MATCH(CONCATENATE(E697,F697),'ORDER FORM'!$A$96:A$125,0),MATCH(G697,'ORDER FORM'!$I$119:$L$119,0)),\"\"))","v":""},{"$f":"IFERROR(IFERROR(INDEX('ORDER FORM'!N:N,MATCH(IMPORT!E697,'ORDER FORM'!B:B,0)),INDEX('ORDER FORM'!N:N,MATCH(TRIM(IMPORT!E697),'ORDER FORM'!B:B,0))),\"\")","v":""}]
["UPLOADUSD",{"$f":"IF('ORDER FORM'!$O$7=\"\",\"ENTER-PO\",'ORDER FORM'!$O$7)","v":"ENTER-PO"},"2021 Spring/Summer",{"$f":"IF('ORDER FORM'!$O$9=\"\",TODAY(),'ORDER FORM'!$O$9)","v":"2023-11-02"},710259,"042","S","2","610306163127",{"$f":"IF(IFERROR(INDEX('ORDER FORM'!$I$96:$L$125,MATCH(CONCATENATE(E698,F698),'ORDER FORM'!$A$96:$A$125,0),MATCH(G698,'ORDER FORM'!$I$119:$L$119,0)),\"\")=0,\"\",IFERROR(INDEX('ORDER FORM'!$I$96:$L$125,MATCH(CONCATENATE(E698,F698),'ORDER FORM'!$A$96:A$125,0),MATCH(G698,'ORDER FORM'!$I$119:$L$119,0)),\"\"))","v":""},{"$f":"IFERROR(IFERROR(INDEX('ORDER FORM'!N:N,MATCH(IMPORT!E698,'ORDER FORM'!B:B,0)),INDEX('ORDER FORM'!N:N,MATCH(TRIM(IMPORT!E698),'ORDER FORM'!B:B,0))),\"\")","v":{"v":11,"d":"11.00"}}]
["UPLOADUSD",{"$f":"IF('ORDER FORM'!$O$7=\"\",\"ENTER-PO\",'ORDER FORM'!$O$7)","v":"ENTER-PO"},"2021 Spring/Summer",{"$f":"IF('ORDER FORM'!$O$9=\"\",TODAY(),'ORDER FORM'!$O$9)","v":"2023-11-02"},710259,"042","M","2","610306163134",{"$f":"IF(IFERROR(INDEX('ORDER FORM'!$I$96:$L$125,MATCH(CONCATENATE(E699,F699),'ORDER FORM'!$A$96:$A$125,0),MATCH(G699,'ORDER FORM'!$I$119:$L$119,0)),\"\")=0,\"\",IFERROR(INDEX('ORDER FORM'!$I$96:$L$125,MATCH(CONCATENATE(E699,F699),'ORDER FORM'!$A$96:A$125,0),MATCH(G699,'ORDER FORM'!$I$119:$L$119,0)),\"\"))","v":""},{"$f":"IFERROR(IFERROR(INDEX('ORDER FORM'!N:N,MATCH(IMPORT!E699,'ORDER FORM'!B:B,0)),INDEX('ORDER FORM'!N:N,MATCH(TRIM(IMPORT!E699),'ORDER FORM'!B:B,0))),\"\")","v":{"v":11,"d":"11.00"}}]
["UPLOADUSD",{"$f":"IF('ORDER FORM'!$O$7=\"\",\"ENTER-PO\",'ORDER FORM'!$O$7)","v":"ENTER-PO"},"2021 Spring/Summer",{"$f":"IF('ORDER FORM'!$O$9=\"\",TODAY(),'ORDER FORM'!$O$9)","v":"2023-11-02"},710259,"042","L","2","610306163141",{"$f":"IF(IFERROR(INDEX('ORDER FORM'!$I$96:$L$125,MATCH(CONCATENATE(E700,F700),'ORDER FORM'!$A$96:$A$125,0),MATCH(G700,'ORDER FORM'!$I$119:$L$119,0)),\"\")=0,\"\",IFERROR(INDEX('ORDER FORM'!$I$96:$L$125,MATCH(CONCATENATE(E700,F700),'ORDER FORM'!$A$96:A$125,0),MATCH(G700,'ORDER FORM'!$I$119:$L$119,0)),\"\"))","v":""},{"$f":"IFERROR(IFERROR(INDEX('ORDER FORM'!N:N,MATCH(IMPORT!E700,'ORDER FORM'!B:B,0)),INDEX('ORDER FORM'!N:N,MATCH(TRIM(IMPORT!E700),'ORDER FORM'!B:B,0))),\"\")","v":{"v":11,"d":"11.00"}}]
["UPLOADUSD",{"$f":"IF('ORDER FORM'!$O$7=\"\",\"ENTER-PO\",'ORDER FORM'!$O$7)","v":"ENTER-PO"},"2021 Spring/Summer",{"$f":"IF('ORDER FORM'!$O$9=\"\",TODAY(),'ORDER FORM'!$O$9)","v":"2023-11-02"},710259,"042","XL","2","610306163158",{"$f":"IF(IFERROR(INDEX('ORDER FORM'!$I$96:$L$125,MATCH(CONCATENATE(E701,F701),'ORDER FORM'!$A$96:$A$125,0),MATCH(G701,'ORDER FORM'!$I$119:$L$119,0)),\"\")=0,\"\",IFERROR(INDEX('ORDER FORM'!$I$96:$L$125,MATCH(CONCATENATE(E701,F701),'ORDER FORM'!$A$96:A$125,0),MATCH(G701,'ORDER FORM'!$I$119:$L$119,0)),\"\"))","v":""},{"$f":"IFERROR(IFERROR(INDEX('ORDER FORM'!N:N,MATCH(IMPORT!E701,'ORDER FORM'!B:B,0)),INDEX('ORDER FORM'!N:N,MATCH(TRIM(IMPORT!E701),'ORDER FORM'!B:B,0))),\"\")","v":{"v":11,"d":"11.00"}}]
["UPLOADUSD",{"$f":"IF('ORDER FORM'!$O$7=\"\",\"ENTER-PO\",'ORDER FORM'!$O$7)","v":"ENTER-PO"},"2021 Spring/Summer",{"$f":"IF('ORDER FORM'!$O$9=\"\",TODAY(),'ORDER FORM'!$O$9)","v":"2023-11-02"},710259,"265","S","2","610306163080",{"$f":"IF(IFERROR(INDEX('ORDER FORM'!$I$96:$L$125,MATCH(CONCATENATE(E702,F702),'ORDER FORM'!$A$96:$A$125,0),MATCH(G702,'ORDER FORM'!$I$119:$L$119,0)),\"\")=0,\"\",IFERROR(INDEX('ORDER FORM'!$I$96:$L$125,MATCH(CONCATENATE(E702,F702),'ORDER FORM'!$A$96:A$125,0),MATCH(G702,'ORDER FORM'!$I$119:$L$119,0)),\"\"))","v":""},{"$f":"IFERROR(IFERROR(INDEX('ORDER FORM'!N:N,MATCH(IMPORT!E702,'ORDER FORM'!B:B,0)),INDEX('ORDER FORM'!N:N,MATCH(TRIM(IMPORT!E702),'ORDER FORM'!B:B,0))),\"\")","v":{"v":11,"d":"11.00"}}]
["UPLOADUSD",{"$f":"IF('ORDER FORM'!$O$7=\"\",\"ENTER-PO\",'ORDER FORM'!$O$7)","v":"ENTER-PO"},"2021 Spring/Summer",{"$f":"IF('ORDER FORM'!$O$9=\"\",TODAY(),'ORDER FORM'!$O$9)","v":"2023-11-02"},710259,"265","M","2","610306163097",{"$f":"IF(IFERROR(INDEX('ORDER FORM'!$I$96:$L$125,MATCH(CONCATENATE(E703,F703),'ORDER FORM'!$A$96:$A$125,0),MATCH(G703,'ORDER FORM'!$I$119:$L$119,0)),\"\")=0,\"\",IFERROR(INDEX('ORDER FORM'!$I$96:$L$125,MATCH(CONCATENATE(E703,F703),'ORDER FORM'!$A$96:A$125,0),MATCH(G703,'ORDER FORM'!$I$119:$L$119,0)),\"\"))","v":""},{"$f":"IFERROR(IFERROR(INDEX('ORDER FORM'!N:N,MATCH(IMPORT!E703,'ORDER FORM'!B:B,0)),INDEX('ORDER FORM'!N:N,MATCH(TRIM(IMPORT!E703),'ORDER FORM'!B:B,0))),\"\")","v":{"v":11,"d":"11.00"}}]
["UPLOADUSD",{"$f":"IF('ORDER FORM'!$O$7=\"\",\"ENTER-PO\",'ORDER FORM'!$O$7)","v":"ENTER-PO"},"2021 Spring/Summer",{"$f":"IF('ORDER FORM'!$O$9=\"\",TODAY(),'ORDER FORM'!$O$9)","v":"2023-11-02"},710259,"265","L","2","610306163103",{"$f":"IF(IFERROR(INDEX('ORDER FORM'!$I$96:$L$125,MATCH(CONCATENATE(E704,F704),'ORDER FORM'!$A$96:$A$125,0),MATCH(G704,'ORDER FORM'!$I$119:$L$119,0)),\"\")=0,\"\",IFERROR(INDEX('ORDER FORM'!$I$96:$L$125,MATCH(CONCATENATE(E704,F704),'ORDER FORM'!$A$96:A$125,0),MATCH(G704,'ORDER FORM'!$I$119:$L$119,0)),\"\"))","v":""},{"$f":"IFERROR(IFERROR(INDEX('ORDER FORM'!N:N,MATCH(IMPORT!E704,'ORDER FORM'!B:B,0)),INDEX('ORDER FORM'!N:N,MATCH(TRIM(IMPORT!E704),'ORDER FORM'!B:B,0))),\"\")","v":{"v":11,"d":"11.00"}}]
["UPLOADUSD",{"$f":"IF('ORDER FORM'!$O$7=\"\",\"ENTER-PO\",'ORDER FORM'!$O$7)","v":"ENTER-PO"},"2021 Spring/Summer",{"$f":"IF('ORDER FORM'!$O$9=\"\",TODAY(),'ORDER FORM'!$O$9)","v":"2023-11-02"},710259,"265","XL","2","610306163110",{"$f":"IF(IFERROR(INDEX('ORDER FORM'!$I$96:$L$125,MATCH(CONCATENATE(E705,F705),'ORDER FORM'!$A$96:$A$125,0),MATCH(G705,'ORDER FORM'!$I$119:$L$119,0)),\"\")=0,\"\",IFERROR(INDEX('ORDER FORM'!$I$96:$L$125,MATCH(CONCATENATE(E705,F705),'ORDER FORM'!$A$96:A$125,0),MATCH(G705,'ORDER FORM'!$I$119:$L$119,0)),\"\"))","v":""},{"$f":"IFERROR(IFERROR(INDEX('ORDER FORM'!N:N,MATCH(IMPORT!E705,'ORDER FORM'!B:B,0)),INDEX('ORDER FORM'!N:N,MATCH(TRIM(IMPORT!E705),'ORDER FORM'!B:B,0))),\"\")","v":{"v":11,"d":"11.00"}}]
["UPLOADUSD",{"$f":"IF('ORDER FORM'!$O$7=\"\",\"ENTER-PO\",'ORDER FORM'!$O$7)","v":"ENTER-PO"},"2021 Spring/Summer",{"$f":"IF('ORDER FORM'!$O$9=\"\",TODAY(),'ORDER FORM'!$O$9)","v":"2023-11-02"},710260,"263","S","2","610306163165",{"$f":"IF(IFERROR(INDEX('ORDER FORM'!$I$96:$L$125,MATCH(CONCATENATE(E706,F706),'ORDER FORM'!$A$96:$A$125,0),MATCH(G706,'ORDER FORM'!$I$119:$L$119,0)),\"\")=0,\"\",IFERROR(INDEX('ORDER FORM'!$I$96:$L$125,MATCH(CONCATENATE(E706,F706),'ORDER FORM'!$A$96:A$125,0),MATCH(G706,'ORDER FORM'!$I$119:$L$119,0)),\"\"))","v":""},{"$f":"IFERROR(IFERROR(INDEX('ORDER FORM'!N:N,MATCH(IMPORT!E706,'ORDER FORM'!B:B,0)),INDEX('ORDER FORM'!N:N,MATCH(TRIM(IMPORT!E706),'ORDER FORM'!B:B,0))),\"\")","v":{"v":11,"d":"11.00"}}]
["UPLOADUSD",{"$f":"IF('ORDER FORM'!$O$7=\"\",\"ENTER-PO\",'ORDER FORM'!$O$7)","v":"ENTER-PO"},"2021 Spring/Summer",{"$f":"IF('ORDER FORM'!$O$9=\"\",TODAY(),'ORDER FORM'!$O$9)","v":"2023-11-02"},710260,"263","M","2","610306163172",{"$f":"IF(IFERROR(INDEX('ORDER FORM'!$I$96:$L$125,MATCH(CONCATENATE(E707,F707),'ORDER FORM'!$A$96:$A$125,0),MATCH(G707,'ORDER FORM'!$I$119:$L$119,0)),\"\")=0,\"\",IFERROR(INDEX('ORDER FORM'!$I$96:$L$125,MATCH(CONCATENATE(E707,F707),'ORDER FORM'!$A$96:A$125,0),MATCH(G707,'ORDER FORM'!$I$119:$L$119,0)),\"\"))","v":""},{"$f":"IFERROR(IFERROR(INDEX('ORDER FORM'!N:N,MATCH(IMPORT!E707,'ORDER FORM'!B:B,0)),INDEX('ORDER FORM'!N:N,MATCH(TRIM(IMPORT!E707),'ORDER FORM'!B:B,0))),\"\")","v":{"v":11,"d":"11.00"}}]
[{"$f":"IF(IF($B$1=0,\"ENTER ACCOUNT\",$B$1)=\"\",\"UPLOADUSD\",IF($B$1=0,\"ENTER ACCOUNT\",$B$1))","v":"UPLOADUSD"},{"$f":"IF('ORDER FORM'!$O$7=\"\",\"ENTER-PO\",'ORDER FORM'!$O$7)","v":"ENTER-PO"},{"$f":"$D$1","v":"2021 Spring/Summer"},{"$f":"IF('ORDER FORM'!$O$9=\"\",TODAY(),'ORDER FORM'!$O$9)","v":"2023-11-02"},710260,"263","L","2","610306163189",{"$f":"IF(IFERROR(INDEX('ORDER FORM'!$I$96:$L$125,MATCH(CONCATENATE(E708,F708),'ORDER FORM'!$A$96:$A$125,0),MATCH(G708,'ORDER FORM'!$I$119:$L$119,0)),\"\")=0,\"\",IFERROR(INDEX('ORDER FORM'!$I$96:$L$125,MATCH(CONCATENATE(E708,F708),'ORDER FORM'!$A$96:A$125,0),MATCH(G708,'ORDER FORM'!$I$119:$L$119,0)),\"\"))","v":""},{"$f":"IFERROR(IFERROR(INDEX('ORDER FORM'!N:N,MATCH(IMPORT!E708,'ORDER FORM'!B:B,0)),INDEX('ORDER FORM'!N:N,MATCH(TRIM(IMPORT!E708),'ORDER FORM'!B:B,0))),\"\")","v":{"v":11,"d":"11.00"}}]
["UPLOADUSD",{"$f":"IF('ORDER FORM'!$O$7=\"\",\"ENTER-PO\",'ORDER FORM'!$O$7)","v":"ENTER-PO"},"2021 Spring/Summer",{"$f":"IF('ORDER FORM'!$O$9=\"\",TODAY(),'ORDER FORM'!$O$9)","v":"2023-11-02"},710260,"264","S","2","610306163196",{"$f":"IF(IFERROR(INDEX('ORDER FORM'!$I$96:$L$125,MATCH(CONCATENATE(E709,F709),'ORDER FORM'!$A$96:$A$125,0),MATCH(G709,'ORDER FORM'!$I$119:$L$119,0)),\"\")=0,\"\",IFERROR(INDEX('ORDER FORM'!$I$96:$L$125,MATCH(CONCATENATE(E709,F709),'ORDER FORM'!$A$96:A$125,0),MATCH(G709,'ORDER FORM'!$I$119:$L$119,0)),\"\"))","v":""},{"$f":"IFERROR(IFERROR(INDEX('ORDER FORM'!N:N,MATCH(IMPORT!E709,'ORDER FORM'!B:B,0)),INDEX('ORDER FORM'!N:N,MATCH(TRIM(IMPORT!E709),'ORDER FORM'!B:B,0))),\"\")","v":{"v":11,"d":"11.00"}}]
["UPLOADUSD",{"$f":"IF('ORDER FORM'!$O$7=\"\",\"ENTER-PO\",'ORDER FORM'!$O$7)","v":"ENTER-PO"},"2021 Spring/Summer",{"$f":"IF('ORDER FORM'!$O$9=\"\",TODAY(),'ORDER FORM'!$O$9)","v":"2023-11-02"},710260,"264","M","2","610306163202",{"$f":"IF(IFERROR(INDEX('ORDER FORM'!$I$96:$L$125,MATCH(CONCATENATE(E710,F710),'ORDER FORM'!$A$96:$A$125,0),MATCH(G710,'ORDER FORM'!$I$119:$L$119,0)),\"\")=0,\"\",IFERROR(INDEX('ORDER FORM'!$I$96:$L$125,MATCH(CONCATENATE(E710,F710),'ORDER FORM'!$A$96:A$125,0),MATCH(G710,'ORDER FORM'!$I$119:$L$119,0)),\"\"))","v":""},{"$f":"IFERROR(IFERROR(INDEX('ORDER FORM'!N:N,MATCH(IMPORT!E710,'ORDER FORM'!B:B,0)),INDEX('ORDER FORM'!N:N,MATCH(TRIM(IMPORT!E710),'ORDER FORM'!B:B,0))),\"\")","v":{"v":11,"d":"11.00"}}]
["UPLOADUSD",{"$f":"IF('ORDER FORM'!$O$7=\"\",\"ENTER-PO\",'ORDER FORM'!$O$7)","v":"ENTER-PO"},"2021 Spring/Summer",{"$f":"IF('ORDER FORM'!$O$9=\"\",TODAY(),'ORDER FORM'!$O$9)","v":"2023-11-02"},710260,"264","L","2","610306163219",{"$f":"IF(IFERROR(INDEX('ORDER FORM'!$I$96:$L$125,MATCH(CONCATENATE(E711,F711),'ORDER FORM'!$A$96:$A$125,0),MATCH(G711,'ORDER FORM'!$I$119:$L$119,0)),\"\")=0,\"\",IFERROR(INDEX('ORDER FORM'!$I$96:$L$125,MATCH(CONCATENATE(E711,F711),'ORDER FORM'!$A$96:A$125,0),MATCH(G711,'ORDER FORM'!$I$119:$L$119,0)),\"\"))","v":""},{"$f":"IFERROR(IFERROR(INDEX('ORDER FORM'!N:N,MATCH(IMPORT!E711,'ORDER FORM'!B:B,0)),INDEX('ORDER FORM'!N:N,MATCH(TRIM(IMPORT!E711),'ORDER FORM'!B:B,0))),\"\")","v":{"v":11,"d":"11.00"}}]
["UPLOADUSD",{"$f":"IF('ORDER FORM'!$O$7=\"\",\"ENTER-PO\",'ORDER FORM'!$O$7)","v":"ENTER-PO"},"2021 Spring/Summer",{"$f":"IF('ORDER FORM'!$O$9=\"\",TODAY(),'ORDER FORM'!$O$9)","v":"2023-11-02"},710506,"094","S","2","610306136978",{"$f":"IF(IFERROR(INDEX('ORDER FORM'!$I$96:$L$125,MATCH(CONCATENATE(E712,F712),'ORDER FORM'!$A$96:$A$125,0),MATCH(G712,'ORDER FORM'!$I$119:$L$119,0)),\"\")=0,\"\",IFERROR(INDEX('ORDER FORM'!$I$96:$L$125,MATCH(CONCATENATE(E712,F712),'ORDER FORM'!$A$96:A$125,0),MATCH(G712,'ORDER FORM'!$I$119:$L$119,0)),\"\"))","v":""},{"$f":"IFERROR(IFERROR(INDEX('ORDER FORM'!N:N,MATCH(IMPORT!E712,'ORDER FORM'!B:B,0)),INDEX('ORDER FORM'!N:N,MATCH(TRIM(IMPORT!E712),'ORDER FORM'!B:B,0))),\"\")","v":""}]
["UPLOADUSD",{"$f":"IF('ORDER FORM'!$O$7=\"\",\"ENTER-PO\",'ORDER FORM'!$O$7)","v":"ENTER-PO"},"2021 Spring/Summer",{"$f":"IF('ORDER FORM'!$O$9=\"\",TODAY(),'ORDER FORM'!$O$9)","v":"2023-11-02"},710506,"094","M","2","610306136985",{"$f":"IF(IFERROR(INDEX('ORDER FORM'!$I$96:$L$125,MATCH(CONCATENATE(E713,F713),'ORDER FORM'!$A$96:$A$125,0),MATCH(G713,'ORDER FORM'!$I$119:$L$119,0)),\"\")=0,\"\",IFERROR(INDEX('ORDER FORM'!$I$96:$L$125,MATCH(CONCATENATE(E713,F713),'ORDER FORM'!$A$96:A$125,0),MATCH(G713,'ORDER FORM'!$I$119:$L$119,0)),\"\"))","v":""},{"$f":"IFERROR(IFERROR(INDEX('ORDER FORM'!N:N,MATCH(IMPORT!E713,'ORDER FORM'!B:B,0)),INDEX('ORDER FORM'!N:N,MATCH(TRIM(IMPORT!E713),'ORDER FORM'!B:B,0))),\"\")","v":""}]
["UPLOADUSD",{"$f":"IF('ORDER FORM'!$O$7=\"\",\"ENTER-PO\",'ORDER FORM'!$O$7)","v":"ENTER-PO"},"2021 Spring/Summer",{"$f":"IF('ORDER FORM'!$O$9=\"\",TODAY(),'ORDER FORM'!$O$9)","v":"2023-11-02"},710506,"094","L","2","610306136992",{"$f":"IF(IFERROR(INDEX('ORDER FORM'!$I$96:$L$125,MATCH(CONCATENATE(E714,F714),'ORDER FORM'!$A$96:$A$125,0),MATCH(G714,'ORDER FORM'!$I$119:$L$119,0)),\"\")=0,\"\",IFERROR(INDEX('ORDER FORM'!$I$96:$L$125,MATCH(CONCATENATE(E714,F714),'ORDER FORM'!$A$96:A$125,0),MATCH(G714,'ORDER FORM'!$I$119:$L$119,0)),\"\"))","v":""},{"$f":"IFERROR(IFERROR(INDEX('ORDER FORM'!N:N,MATCH(IMPORT!E714,'ORDER FORM'!B:B,0)),INDEX('ORDER FORM'!N:N,MATCH(TRIM(IMPORT!E714),'ORDER FORM'!B:B,0))),\"\")","v":""}]
["UPLOADUSD",{"$f":"IF('ORDER FORM'!$O$7=\"\",\"ENTER-PO\",'ORDER FORM'!$O$7)","v":"ENTER-PO"},"2021 Spring/Summer",{"$f":"IF('ORDER FORM'!$O$9=\"\",TODAY(),'ORDER FORM'!$O$9)","v":"2023-11-02"},710506,"094","XL","2","610306137005",{"$f":"IF(IFERROR(INDEX('ORDER FORM'!$I$96:$L$125,MATCH(CONCATENATE(E715,F715),'ORDER FORM'!$A$96:$A$125,0),MATCH(G715,'ORDER FORM'!$I$119:$L$119,0)),\"\")=0,\"\",IFERROR(INDEX('ORDER FORM'!$I$96:$L$125,MATCH(CONCATENATE(E715,F715),'ORDER FORM'!$A$96:A$125,0),MATCH(G715,'ORDER FORM'!$I$119:$L$119,0)),\"\"))","v":""},{"$f":"IFERROR(IFERROR(INDEX('ORDER FORM'!N:N,MATCH(IMPORT!E715,'ORDER FORM'!B:B,0)),INDEX('ORDER FORM'!N:N,MATCH(TRIM(IMPORT!E715),'ORDER FORM'!B:B,0))),\"\")","v":""}]
["UPLOADUSD",{"$f":"IF('ORDER FORM'!$O$7=\"\",\"ENTER-PO\",'ORDER FORM'!$O$7)","v":"ENTER-PO"},"2021 Spring/Summer",{"$f":"IF('ORDER FORM'!$O$9=\"\",TODAY(),'ORDER FORM'!$O$9)","v":"2023-11-02"},710506,"445","S","2","610306137012",{"$f":"IF(IFERROR(INDEX('ORDER FORM'!$I$96:$L$125,MATCH(CONCATENATE(E716,F716),'ORDER FORM'!$A$96:$A$125,0),MATCH(G716,'ORDER FORM'!$I$119:$L$119,0)),\"\")=0,\"\",IFERROR(INDEX('ORDER FORM'!$I$96:$L$125,MATCH(CONCATENATE(E716,F716),'ORDER FORM'!$A$96:A$125,0),MATCH(G716,'ORDER FORM'!$I$119:$L$119,0)),\"\"))","v":""},{"$f":"IFERROR(IFERROR(INDEX('ORDER FORM'!N:N,MATCH(IMPORT!E716,'ORDER FORM'!B:B,0)),INDEX('ORDER FORM'!N:N,MATCH(TRIM(IMPORT!E716),'ORDER FORM'!B:B,0))),\"\")","v":""}]
["UPLOADUSD",{"$f":"IF('ORDER FORM'!$O$7=\"\",\"ENTER-PO\",'ORDER FORM'!$O$7)","v":"ENTER-PO"},"2021 Spring/Summer",{"$f":"IF('ORDER FORM'!$O$9=\"\",TODAY(),'ORDER FORM'!$O$9)","v":"2023-11-02"},710506,"445","M","2","610306137029",{"$f":"IF(IFERROR(INDEX('ORDER FORM'!$I$96:$L$125,MATCH(CONCATENATE(E717,F717),'ORDER FORM'!$A$96:$A$125,0),MATCH(G717,'ORDER FORM'!$I$119:$L$119,0)),\"\")=0,\"\",IFERROR(INDEX('ORDER FORM'!$I$96:$L$125,MATCH(CONCATENATE(E717,F717),'ORDER FORM'!$A$96:A$125,0),MATCH(G717,'ORDER FORM'!$I$119:$L$119,0)),\"\"))","v":""},{"$f":"IFERROR(IFERROR(INDEX('ORDER FORM'!N:N,MATCH(IMPORT!E717,'ORDER FORM'!B:B,0)),INDEX('ORDER FORM'!N:N,MATCH(TRIM(IMPORT!E717),'ORDER FORM'!B:B,0))),\"\")","v":""}]
["UPLOADUSD",{"$f":"IF('ORDER FORM'!$O$7=\"\",\"ENTER-PO\",'ORDER FORM'!$O$7)","v":"ENTER-PO"},"2021 Spring/Summer",{"$f":"IF('ORDER FORM'!$O$9=\"\",TODAY(),'ORDER FORM'!$O$9)","v":"2023-11-02"},710506,"445","L","2","610306137036",{"$f":"IF(IFERROR(INDEX('ORDER FORM'!$I$96:$L$125,MATCH(CONCATENATE(E718,F718),'ORDER FORM'!$A$96:$A$125,0),MATCH(G718,'ORDER FORM'!$I$119:$L$119,0)),\"\")=0,\"\",IFERROR(INDEX('ORDER FORM'!$I$96:$L$125,MATCH(CONCATENATE(E718,F718),'ORDER FORM'!$A$96:A$125,0),MATCH(G718,'ORDER FORM'!$I$119:$L$119,0)),\"\"))","v":""},{"$f":"IFERROR(IFERROR(INDEX('ORDER FORM'!N:N,MATCH(IMPORT!E718,'ORDER FORM'!B:B,0)),INDEX('ORDER FORM'!N:N,MATCH(TRIM(IMPORT!E718),'ORDER FORM'!B:B,0))),\"\")","v":""}]
["UPLOADUSD",{"$f":"IF('ORDER FORM'!$O$7=\"\",\"ENTER-PO\",'ORDER FORM'!$O$7)","v":"ENTER-PO"},"2021 Spring/Summer",{"$f":"IF('ORDER FORM'!$O$9=\"\",TODAY(),'ORDER FORM'!$O$9)","v":"2023-11-02"},710506,"445","XL","2","610306137043",{"$f":"IF(IFERROR(INDEX('ORDER FORM'!$I$96:$L$125,MATCH(CONCATENATE(E719,F719),'ORDER FORM'!$A$96:$A$125,0),MATCH(G719,'ORDER FORM'!$I$119:$L$119,0)),\"\")=0,\"\",IFERROR(INDEX('ORDER FORM'!$I$96:$L$125,MATCH(CONCATENATE(E719,F719),'ORDER FORM'!$A$96:A$125,0),MATCH(G719,'ORDER FORM'!$I$119:$L$119,0)),\"\"))","v":""},{"$f":"IFERROR(IFERROR(INDEX('ORDER FORM'!N:N,MATCH(IMPORT!E719,'ORDER FORM'!B:B,0)),INDEX('ORDER FORM'!N:N,MATCH(TRIM(IMPORT!E719),'ORDER FORM'!B:B,0))),\"\")","v":""}]
["UPLOADUSD",{"$f":"IF('ORDER FORM'!$O$7=\"\",\"ENTER-PO\",'ORDER FORM'!$O$7)","v":"ENTER-PO"},"2021 Spring/Summer",{"$f":"IF('ORDER FORM'!$O$9=\"\",TODAY(),'ORDER FORM'!$O$9)","v":"2023-11-02"},710510,"464","S","2","610306137968",{"$f":"IF(IFERROR(INDEX('ORDER FORM'!$I$96:$L$125,MATCH(CONCATENATE(E720,F720),'ORDER FORM'!$A$96:$A$125,0),MATCH(G720,'ORDER FORM'!$I$119:$L$119,0)),\"\")=0,\"\",IFERROR(INDEX('ORDER FORM'!$I$96:$L$125,MATCH(CONCATENATE(E720,F720),'ORDER FORM'!$A$96:A$125,0),MATCH(G720,'ORDER FORM'!$I$119:$L$119,0)),\"\"))","v":""},{"$f":"IFERROR(IFERROR(INDEX('ORDER FORM'!N:N,MATCH(IMPORT!E720,'ORDER FORM'!B:B,0)),INDEX('ORDER FORM'!N:N,MATCH(TRIM(IMPORT!E720),'ORDER FORM'!B:B,0))),\"\")","v":""}]
["UPLOADUSD",{"$f":"IF('ORDER FORM'!$O$7=\"\",\"ENTER-PO\",'ORDER FORM'!$O$7)","v":"ENTER-PO"},"2021 Spring/Summer",{"$f":"IF('ORDER FORM'!$O$9=\"\",TODAY(),'ORDER FORM'!$O$9)","v":"2023-11-02"},710510,"464","M","2","610306137975",{"$f":"IF(IFERROR(INDEX('ORDER FORM'!$I$96:$L$125,MATCH(CONCATENATE(E721,F721),'ORDER FORM'!$A$96:$A$125,0),MATCH(G721,'ORDER FORM'!$I$119:$L$119,0)),\"\")=0,\"\",IFERROR(INDEX('ORDER FORM'!$I$96:$L$125,MATCH(CONCATENATE(E721,F721),'ORDER FORM'!$A$96:A$125,0),MATCH(G721,'ORDER FORM'!$I$119:$L$119,0)),\"\"))","v":""},{"$f":"IFERROR(IFERROR(INDEX('ORDER FORM'!N:N,MATCH(IMPORT!E721,'ORDER FORM'!B:B,0)),INDEX('ORDER FORM'!N:N,MATCH(TRIM(IMPORT!E721),'ORDER FORM'!B:B,0))),\"\")","v":""}]
["UPLOADUSD",{"$f":"IF('ORDER FORM'!$O$7=\"\",\"ENTER-PO\",'ORDER FORM'!$O$7)","v":"ENTER-PO"},"2021 Spring/Summer",{"$f":"IF('ORDER FORM'!$O$9=\"\",TODAY(),'ORDER FORM'!$O$9)","v":"2023-11-02"},710510,"464","L","2","610306137982",{"$f":"IF(IFERROR(INDEX('ORDER FORM'!$I$96:$L$125,MATCH(CONCATENATE(E722,F722),'ORDER FORM'!$A$96:$A$125,0),MATCH(G722,'ORDER FORM'!$I$119:$L$119,0)),\"\")=0,\"\",IFERROR(INDEX('ORDER FORM'!$I$96:$L$125,MATCH(CONCATENATE(E722,F722),'ORDER FORM'!$A$96:A$125,0),MATCH(G722,'ORDER FORM'!$I$119:$L$119,0)),\"\"))","v":""},{"$f":"IFERROR(IFERROR(INDEX('ORDER FORM'!N:N,MATCH(IMPORT!E722,'ORDER FORM'!B:B,0)),INDEX('ORDER FORM'!N:N,MATCH(TRIM(IMPORT!E722),'ORDER FORM'!B:B,0))),\"\")","v":""}]
["UPLOADUSD",{"$f":"IF('ORDER FORM'!$O$7=\"\",\"ENTER-PO\",'ORDER FORM'!$O$7)","v":"ENTER-PO"},"2021 Spring/Summer",{"$f":"IF('ORDER FORM'!$O$9=\"\",TODAY(),'ORDER FORM'!$O$9)","v":"2023-11-02"},710510,"464","XL","2","610306137999",{"$f":"IF(IFERROR(INDEX('ORDER FORM'!$I$96:$L$125,MATCH(CONCATENATE(E723,F723),'ORDER FORM'!$A$96:$A$125,0),MATCH(G723,'ORDER FORM'!$I$119:$L$119,0)),\"\")=0,\"\",IFERROR(INDEX('ORDER FORM'!$I$96:$L$125,MATCH(CONCATENATE(E723,F723),'ORDER FORM'!$A$96:A$125,0),MATCH(G723,'ORDER FORM'!$I$119:$L$119,0)),\"\"))","v":""},{"$f":"IFERROR(IFERROR(INDEX('ORDER FORM'!N:N,MATCH(IMPORT!E723,'ORDER FORM'!B:B,0)),INDEX('ORDER FORM'!N:N,MATCH(TRIM(IMPORT!E723),'ORDER FORM'!B:B,0))),\"\")","v":""}]
["UPLOADUSD",{"$f":"IF('ORDER FORM'!$O$7=\"\",\"ENTER-PO\",'ORDER FORM'!$O$7)","v":"ENTER-PO"},"2021 Spring/Summer",{"$f":"IF('ORDER FORM'!$O$9=\"\",TODAY(),'ORDER FORM'!$O$9)","v":"2023-11-02"},710510,"832","S","2","610306138002",{"$f":"IF(IFERROR(INDEX('ORDER FORM'!$I$96:$L$125,MATCH(CONCATENATE(E724,F724),'ORDER FORM'!$A$96:$A$125,0),MATCH(G724,'ORDER FORM'!$I$119:$L$119,0)),\"\")=0,\"\",IFERROR(INDEX('ORDER FORM'!$I$96:$L$125,MATCH(CONCATENATE(E724,F724),'ORDER FORM'!$A$96:A$125,0),MATCH(G724,'ORDER FORM'!$I$119:$L$119,0)),\"\"))","v":""},{"$f":"IFERROR(IFERROR(INDEX('ORDER FORM'!N:N,MATCH(IMPORT!E724,'ORDER FORM'!B:B,0)),INDEX('ORDER FORM'!N:N,MATCH(TRIM(IMPORT!E724),'ORDER FORM'!B:B,0))),\"\")","v":""}]
["UPLOADUSD",{"$f":"IF('ORDER FORM'!$O$7=\"\",\"ENTER-PO\",'ORDER FORM'!$O$7)","v":"ENTER-PO"},"2021 Spring/Summer",{"$f":"IF('ORDER FORM'!$O$9=\"\",TODAY(),'ORDER FORM'!$O$9)","v":"2023-11-02"},710510,"832","M","2","610306138019",{"$f":"IF(IFERROR(INDEX('ORDER FORM'!$I$96:$L$125,MATCH(CONCATENATE(E725,F725),'ORDER FORM'!$A$96:$A$125,0),MATCH(G725,'ORDER FORM'!$I$119:$L$119,0)),\"\")=0,\"\",IFERROR(INDEX('ORDER FORM'!$I$96:$L$125,MATCH(CONCATENATE(E725,F725),'ORDER FORM'!$A$96:A$125,0),MATCH(G725,'ORDER FORM'!$I$119:$L$119,0)),\"\"))","v":""},{"$f":"IFERROR(IFERROR(INDEX('ORDER FORM'!N:N,MATCH(IMPORT!E725,'ORDER FORM'!B:B,0)),INDEX('ORDER FORM'!N:N,MATCH(TRIM(IMPORT!E725),'ORDER FORM'!B:B,0))),\"\")","v":""}]
["UPLOADUSD",{"$f":"IF('ORDER FORM'!$O$7=\"\",\"ENTER-PO\",'ORDER FORM'!$O$7)","v":"ENTER-PO"},"2021 Spring/Summer",{"$f":"IF('ORDER FORM'!$O$9=\"\",TODAY(),'ORDER FORM'!$O$9)","v":"2023-11-02"},710510,"832","L","2","610306138026",{"$f":"IF(IFERROR(INDEX('ORDER FORM'!$I$96:$L$125,MATCH(CONCATENATE(E726,F726),'ORDER FORM'!$A$96:$A$125,0),MATCH(G726,'ORDER FORM'!$I$119:$L$119,0)),\"\")=0,\"\",IFERROR(INDEX('ORDER FORM'!$I$96:$L$125,MATCH(CONCATENATE(E726,F726),'ORDER FORM'!$A$96:A$125,0),MATCH(G726,'ORDER FORM'!$I$119:$L$119,0)),\"\"))","v":""},{"$f":"IFERROR(IFERROR(INDEX('ORDER FORM'!N:N,MATCH(IMPORT!E726,'ORDER FORM'!B:B,0)),INDEX('ORDER FORM'!N:N,MATCH(TRIM(IMPORT!E726),'ORDER FORM'!B:B,0))),\"\")","v":""}]
["UPLOADUSD",{"$f":"IF('ORDER FORM'!$O$7=\"\",\"ENTER-PO\",'ORDER FORM'!$O$7)","v":"ENTER-PO"},"2021 Spring/Summer",{"$f":"IF('ORDER FORM'!$O$9=\"\",TODAY(),'ORDER FORM'!$O$9)","v":"2023-11-02"},710510,"832","XL","2","610306138033",{"$f":"IF(IFERROR(INDEX('ORDER FORM'!$I$96:$L$125,MATCH(CONCATENATE(E727,F727),'ORDER FORM'!$A$96:$A$125,0),MATCH(G727,'ORDER FORM'!$I$119:$L$119,0)),\"\")=0,\"\",IFERROR(INDEX('ORDER FORM'!$I$96:$L$125,MATCH(CONCATENATE(E727,F727),'ORDER FORM'!$A$96:A$125,0),MATCH(G727,'ORDER FORM'!$I$119:$L$119,0)),\"\"))","v":""},{"$f":"IFERROR(IFERROR(INDEX('ORDER FORM'!N:N,MATCH(IMPORT!E727,'ORDER FORM'!B:B,0)),INDEX('ORDER FORM'!N:N,MATCH(TRIM(IMPORT!E727),'ORDER FORM'!B:B,0))),\"\")","v":""}]
["UPLOADUSD",{"$f":"IF('ORDER FORM'!$O$7=\"\",\"ENTER-PO\",'ORDER FORM'!$O$7)","v":"ENTER-PO"},"2021 Spring/Summer",{"$f":"IF('ORDER FORM'!$O$9=\"\",TODAY(),'ORDER FORM'!$O$9)","v":"2023-11-02"},710510,"929","S","2","610306138040",{"$f":"IF(IFERROR(INDEX('ORDER FORM'!$I$96:$L$125,MATCH(CONCATENATE(E728,F728),'ORDER FORM'!$A$96:$A$125,0),MATCH(G728,'ORDER FORM'!$I$119:$L$119,0)),\"\")=0,\"\",IFERROR(INDEX('ORDER FORM'!$I$96:$L$125,MATCH(CONCATENATE(E728,F728),'ORDER FORM'!$A$96:A$125,0),MATCH(G728,'ORDER FORM'!$I$119:$L$119,0)),\"\"))","v":""},{"$f":"IFERROR(IFERROR(INDEX('ORDER FORM'!N:N,MATCH(IMPORT!E728,'ORDER FORM'!B:B,0)),INDEX('ORDER FORM'!N:N,MATCH(TRIM(IMPORT!E728),'ORDER FORM'!B:B,0))),\"\")","v":""}]
["UPLOADUSD",{"$f":"IF('ORDER FORM'!$O$7=\"\",\"ENTER-PO\",'ORDER FORM'!$O$7)","v":"ENTER-PO"},"2021 Spring/Summer",{"$f":"IF('ORDER FORM'!$O$9=\"\",TODAY(),'ORDER FORM'!$O$9)","v":"2023-11-02"},710510,"929","M","2","610306138057",{"$f":"IF(IFERROR(INDEX('ORDER FORM'!$I$96:$L$125,MATCH(CONCATENATE(E729,F729),'ORDER FORM'!$A$96:$A$125,0),MATCH(G729,'ORDER FORM'!$I$119:$L$119,0)),\"\")=0,\"\",IFERROR(INDEX('ORDER FORM'!$I$96:$L$125,MATCH(CONCATENATE(E729,F729),'ORDER FORM'!$A$96:A$125,0),MATCH(G729,'ORDER FORM'!$I$119:$L$119,0)),\"\"))","v":""},{"$f":"IFERROR(IFERROR(INDEX('ORDER FORM'!N:N,MATCH(IMPORT!E729,'ORDER FORM'!B:B,0)),INDEX('ORDER FORM'!N:N,MATCH(TRIM(IMPORT!E729),'ORDER FORM'!B:B,0))),\"\")","v":""}]
["UPLOADUSD",{"$f":"IF('ORDER FORM'!$O$7=\"\",\"ENTER-PO\",'ORDER FORM'!$O$7)","v":"ENTER-PO"},"2021 Spring/Summer",{"$f":"IF('ORDER FORM'!$O$9=\"\",TODAY(),'ORDER FORM'!$O$9)","v":"2023-11-02"},710510,"929","L","2","610306138064",{"$f":"IF(IFERROR(INDEX('ORDER FORM'!$I$96:$L$125,MATCH(CONCATENATE(E730,F730),'ORDER FORM'!$A$96:$A$125,0),MATCH(G730,'ORDER FORM'!$I$119:$L$119,0)),\"\")=0,\"\",IFERROR(INDEX('ORDER FORM'!$I$96:$L$125,MATCH(CONCATENATE(E730,F730),'ORDER FORM'!$A$96:A$125,0),MATCH(G730,'ORDER FORM'!$I$119:$L$119,0)),\"\"))","v":""},{"$f":"IFERROR(IFERROR(INDEX('ORDER FORM'!N:N,MATCH(IMPORT!E730,'ORDER FORM'!B:B,0)),INDEX('ORDER FORM'!N:N,MATCH(TRIM(IMPORT!E730),'ORDER FORM'!B:B,0))),\"\")","v":""}]
["UPLOADUSD",{"$f":"IF('ORDER FORM'!$O$7=\"\",\"ENTER-PO\",'ORDER FORM'!$O$7)","v":"ENTER-PO"},"2021 Spring/Summer",{"$f":"IF('ORDER FORM'!$O$9=\"\",TODAY(),'ORDER FORM'!$O$9)","v":"2023-11-02"},710510,"929","XL","2","610306138071",{"$f":"IF(IFERROR(INDEX('ORDER FORM'!$I$96:$L$125,MATCH(CONCATENATE(E731,F731),'ORDER FORM'!$A$96:$A$125,0),MATCH(G731,'ORDER FORM'!$I$119:$L$119,0)),\"\")=0,\"\",IFERROR(INDEX('ORDER FORM'!$I$96:$L$125,MATCH(CONCATENATE(E731,F731),'ORDER FORM'!$A$96:A$125,0),MATCH(G731,'ORDER FORM'!$I$119:$L$119,0)),\"\"))","v":""},{"$f":"IFERROR(IFERROR(INDEX('ORDER FORM'!N:N,MATCH(IMPORT!E731,'ORDER FORM'!B:B,0)),INDEX('ORDER FORM'!N:N,MATCH(TRIM(IMPORT!E731),'ORDER FORM'!B:B,0))),\"\")","v":""}]
["UPLOADUSD",{"$f":"IF('ORDER FORM'!$O$7=\"\",\"ENTER-PO\",'ORDER FORM'!$O$7)","v":"ENTER-PO"},"2021 Spring/Summer",{"$f":"IF('ORDER FORM'!$O$9=\"\",TODAY(),'ORDER FORM'!$O$9)","v":"2023-11-02"},710514,"806","S","2","610306137470",{"$f":"IF(IFERROR(INDEX('ORDER FORM'!$I$96:$L$125,MATCH(CONCATENATE(E732,F732),'ORDER FORM'!$A$96:$A$125,0),MATCH(G732,'ORDER FORM'!$I$119:$L$119,0)),\"\")=0,\"\",IFERROR(INDEX('ORDER FORM'!$I$96:$L$125,MATCH(CONCATENATE(E732,F732),'ORDER FORM'!$A$96:A$125,0),MATCH(G732,'ORDER FORM'!$I$119:$L$119,0)),\"\"))","v":""},{"$f":"IFERROR(IFERROR(INDEX('ORDER FORM'!N:N,MATCH(IMPORT!E732,'ORDER FORM'!B:B,0)),INDEX('ORDER FORM'!N:N,MATCH(TRIM(IMPORT!E732),'ORDER FORM'!B:B,0))),\"\")","v":""}]
["UPLOADUSD",{"$f":"IF('ORDER FORM'!$O$7=\"\",\"ENTER-PO\",'ORDER FORM'!$O$7)","v":"ENTER-PO"},"2021 Spring/Summer",{"$f":"IF('ORDER FORM'!$O$9=\"\",TODAY(),'ORDER FORM'!$O$9)","v":"2023-11-02"},710514,"806","M","2","610306137487",{"$f":"IF(IFERROR(INDEX('ORDER FORM'!$I$96:$L$125,MATCH(CONCATENATE(E733,F733),'ORDER FORM'!$A$96:$A$125,0),MATCH(G733,'ORDER FORM'!$I$119:$L$119,0)),\"\")=0,\"\",IFERROR(INDEX('ORDER FORM'!$I$96:$L$125,MATCH(CONCATENATE(E733,F733),'ORDER FORM'!$A$96:A$125,0),MATCH(G733,'ORDER FORM'!$I$119:$L$119,0)),\"\"))","v":""},{"$f":"IFERROR(IFERROR(INDEX('ORDER FORM'!N:N,MATCH(IMPORT!E733,'ORDER FORM'!B:B,0)),INDEX('ORDER FORM'!N:N,MATCH(TRIM(IMPORT!E733),'ORDER FORM'!B:B,0))),\"\")","v":""}]
["UPLOADUSD",{"$f":"IF('ORDER FORM'!$O$7=\"\",\"ENTER-PO\",'ORDER FORM'!$O$7)","v":"ENTER-PO"},"2021 Spring/Summer",{"$f":"IF('ORDER FORM'!$O$9=\"\",TODAY(),'ORDER FORM'!$O$9)","v":"2023-11-02"},710514,"806","L","2","610306137494",{"$f":"IF(IFERROR(INDEX('ORDER FORM'!$I$96:$L$125,MATCH(CONCATENATE(E734,F734),'ORDER FORM'!$A$96:$A$125,0),MATCH(G734,'ORDER FORM'!$I$119:$L$119,0)),\"\")=0,\"\",IFERROR(INDEX('ORDER FORM'!$I$96:$L$125,MATCH(CONCATENATE(E734,F734),'ORDER FORM'!$A$96:A$125,0),MATCH(G734,'ORDER FORM'!$I$119:$L$119,0)),\"\"))","v":""},{"$f":"IFERROR(IFERROR(INDEX('ORDER FORM'!N:N,MATCH(IMPORT!E734,'ORDER FORM'!B:B,0)),INDEX('ORDER FORM'!N:N,MATCH(TRIM(IMPORT!E734),'ORDER FORM'!B:B,0))),\"\")","v":""}]
["UPLOADUSD",{"$f":"IF('ORDER FORM'!$O$7=\"\",\"ENTER-PO\",'ORDER FORM'!$O$7)","v":"ENTER-PO"},"2021 Spring/Summer",{"$f":"IF('ORDER FORM'!$O$9=\"\",TODAY(),'ORDER FORM'!$O$9)","v":"2023-11-02"},710514,"806","XL","2","610306137500",{"$f":"IF(IFERROR(INDEX('ORDER FORM'!$I$96:$L$125,MATCH(CONCATENATE(E735,F735),'ORDER FORM'!$A$96:$A$125,0),MATCH(G735,'ORDER FORM'!$I$119:$L$119,0)),\"\")=0,\"\",IFERROR(INDEX('ORDER FORM'!$I$96:$L$125,MATCH(CONCATENATE(E735,F735),'ORDER FORM'!$A$96:A$125,0),MATCH(G735,'ORDER FORM'!$I$119:$L$119,0)),\"\"))","v":""},{"$f":"IFERROR(IFERROR(INDEX('ORDER FORM'!N:N,MATCH(IMPORT!E735,'ORDER FORM'!B:B,0)),INDEX('ORDER FORM'!N:N,MATCH(TRIM(IMPORT!E735),'ORDER FORM'!B:B,0))),\"\")","v":""}]
["UPLOADUSD",{"$f":"IF('ORDER FORM'!$O$7=\"\",\"ENTER-PO\",'ORDER FORM'!$O$7)","v":"ENTER-PO"},"2021 Spring/Summer",{"$f":"IF('ORDER FORM'!$O$9=\"\",TODAY(),'ORDER FORM'!$O$9)","v":"2023-11-02"},710514,"926","S","2","610306137517",{"$f":"IF(IFERROR(INDEX('ORDER FORM'!$I$96:$L$125,MATCH(CONCATENATE(E736,F736),'ORDER FORM'!$A$96:$A$125,0),MATCH(G736,'ORDER FORM'!$I$119:$L$119,0)),\"\")=0,\"\",IFERROR(INDEX('ORDER FORM'!$I$96:$L$125,MATCH(CONCATENATE(E736,F736),'ORDER FORM'!$A$96:A$125,0),MATCH(G736,'ORDER FORM'!$I$119:$L$119,0)),\"\"))","v":""},{"$f":"IFERROR(IFERROR(INDEX('ORDER FORM'!N:N,MATCH(IMPORT!E736,'ORDER FORM'!B:B,0)),INDEX('ORDER FORM'!N:N,MATCH(TRIM(IMPORT!E736),'ORDER FORM'!B:B,0))),\"\")","v":""}]
["UPLOADUSD",{"$f":"IF('ORDER FORM'!$O$7=\"\",\"ENTER-PO\",'ORDER FORM'!$O$7)","v":"ENTER-PO"},"2021 Spring/Summer",{"$f":"IF('ORDER FORM'!$O$9=\"\",TODAY(),'ORDER FORM'!$O$9)","v":"2023-11-02"},710514,"926","M","2","610306137524",{"$f":"IF(IFERROR(INDEX('ORDER FORM'!$I$96:$L$125,MATCH(CONCATENATE(E737,F737),'ORDER FORM'!$A$96:$A$125,0),MATCH(G737,'ORDER FORM'!$I$119:$L$119,0)),\"\")=0,\"\",IFERROR(INDEX('ORDER FORM'!$I$96:$L$125,MATCH(CONCATENATE(E737,F737),'ORDER FORM'!$A$96:A$125,0),MATCH(G737,'ORDER FORM'!$I$119:$L$119,0)),\"\"))","v":""},{"$f":"IFERROR(IFERROR(INDEX('ORDER FORM'!N:N,MATCH(IMPORT!E737,'ORDER FORM'!B:B,0)),INDEX('ORDER FORM'!N:N,MATCH(TRIM(IMPORT!E737),'ORDER FORM'!B:B,0))),\"\")","v":""}]
["UPLOADUSD",{"$f":"IF('ORDER FORM'!$O$7=\"\",\"ENTER-PO\",'ORDER FORM'!$O$7)","v":"ENTER-PO"},"2021 Spring/Summer",{"$f":"IF('ORDER FORM'!$O$9=\"\",TODAY(),'ORDER FORM'!$O$9)","v":"2023-11-02"},710514,"926","L","2","610306137531",{"$f":"IF(IFERROR(INDEX('ORDER FORM'!$I$96:$L$125,MATCH(CONCATENATE(E738,F738),'ORDER FORM'!$A$96:$A$125,0),MATCH(G738,'ORDER FORM'!$I$119:$L$119,0)),\"\")=0,\"\",IFERROR(INDEX('ORDER FORM'!$I$96:$L$125,MATCH(CONCATENATE(E738,F738),'ORDER FORM'!$A$96:A$125,0),MATCH(G738,'ORDER FORM'!$I$119:$L$119,0)),\"\"))","v":""},{"$f":"IFERROR(IFERROR(INDEX('ORDER FORM'!N:N,MATCH(IMPORT!E738,'ORDER FORM'!B:B,0)),INDEX('ORDER FORM'!N:N,MATCH(TRIM(IMPORT!E738),'ORDER FORM'!B:B,0))),\"\")","v":""}]
["UPLOADUSD",{"$f":"IF('ORDER FORM'!$O$7=\"\",\"ENTER-PO\",'ORDER FORM'!$O$7)","v":"ENTER-PO"},"2021 Spring/Summer",{"$f":"IF('ORDER FORM'!$O$9=\"\",TODAY(),'ORDER FORM'!$O$9)","v":"2023-11-02"},710514,"926","XL","2","610306137548",{"$f":"IF(IFERROR(INDEX('ORDER FORM'!$I$96:$L$125,MATCH(CONCATENATE(E739,F739),'ORDER FORM'!$A$96:$A$125,0),MATCH(G739,'ORDER FORM'!$I$119:$L$119,0)),\"\")=0,\"\",IFERROR(INDEX('ORDER FORM'!$I$96:$L$125,MATCH(CONCATENATE(E739,F739),'ORDER FORM'!$A$96:A$125,0),MATCH(G739,'ORDER FORM'!$I$119:$L$119,0)),\"\"))","v":""},{"$f":"IFERROR(IFERROR(INDEX('ORDER FORM'!N:N,MATCH(IMPORT!E739,'ORDER FORM'!B:B,0)),INDEX('ORDER FORM'!N:N,MATCH(TRIM(IMPORT!E739),'ORDER FORM'!B:B,0))),\"\")","v":""}]
["UPLOADUSD",{"$f":"IF('ORDER FORM'!$O$7=\"\",\"ENTER-PO\",'ORDER FORM'!$O$7)","v":"ENTER-PO"},"2021 Spring/Summer",{"$f":"IF('ORDER FORM'!$O$9=\"\",TODAY(),'ORDER FORM'!$O$9)","v":"2023-11-02"},710527,"852","S","2","610306137890",{"$f":"IF(IFERROR(INDEX('ORDER FORM'!$I$96:$L$125,MATCH(CONCATENATE(E740,F740),'ORDER FORM'!$A$96:$A$125,0),MATCH(G740,'ORDER FORM'!$I$119:$L$119,0)),\"\")=0,\"\",IFERROR(INDEX('ORDER FORM'!$I$96:$L$125,MATCH(CONCATENATE(E740,F740),'ORDER FORM'!$A$96:A$125,0),MATCH(G740,'ORDER FORM'!$I$119:$L$119,0)),\"\"))","v":""},{"$f":"IFERROR(IFERROR(INDEX('ORDER FORM'!N:N,MATCH(IMPORT!E740,'ORDER FORM'!B:B,0)),INDEX('ORDER FORM'!N:N,MATCH(TRIM(IMPORT!E740),'ORDER FORM'!B:B,0))),\"\")","v":""}]
["UPLOADUSD",{"$f":"IF('ORDER FORM'!$O$7=\"\",\"ENTER-PO\",'ORDER FORM'!$O$7)","v":"ENTER-PO"},"2021 Spring/Summer",{"$f":"IF('ORDER FORM'!$O$9=\"\",TODAY(),'ORDER FORM'!$O$9)","v":"2023-11-02"},710527,"852","M","2","610306137906",{"$f":"IF(IFERROR(INDEX('ORDER FORM'!$I$96:$L$125,MATCH(CONCATENATE(E741,F741),'ORDER FORM'!$A$96:$A$125,0),MATCH(G741,'ORDER FORM'!$I$119:$L$119,0)),\"\")=0,\"\",IFERROR(INDEX('ORDER FORM'!$I$96:$L$125,MATCH(CONCATENATE(E741,F741),'ORDER FORM'!$A$96:A$125,0),MATCH(G741,'ORDER FORM'!$I$119:$L$119,0)),\"\"))","v":""},{"$f":"IFERROR(IFERROR(INDEX('ORDER FORM'!N:N,MATCH(IMPORT!E741,'ORDER FORM'!B:B,0)),INDEX('ORDER FORM'!N:N,MATCH(TRIM(IMPORT!E741),'ORDER FORM'!B:B,0))),\"\")","v":""}]
["UPLOADUSD",{"$f":"IF('ORDER FORM'!$O$7=\"\",\"ENTER-PO\",'ORDER FORM'!$O$7)","v":"ENTER-PO"},"2021 Spring/Summer",{"$f":"IF('ORDER FORM'!$O$9=\"\",TODAY(),'ORDER FORM'!$O$9)","v":"2023-11-02"},710527,"852","L","2","610306137913",{"$f":"IF(IFERROR(INDEX('ORDER FORM'!$I$96:$L$125,MATCH(CONCATENATE(E742,F742),'ORDER FORM'!$A$96:$A$125,0),MATCH(G742,'ORDER FORM'!$I$119:$L$119,0)),\"\")=0,\"\",IFERROR(INDEX('ORDER FORM'!$I$96:$L$125,MATCH(CONCATENATE(E742,F742),'ORDER FORM'!$A$96:A$125,0),MATCH(G742,'ORDER FORM'!$I$119:$L$119,0)),\"\"))","v":""},{"$f":"IFERROR(IFERROR(INDEX('ORDER FORM'!N:N,MATCH(IMPORT!E742,'ORDER FORM'!B:B,0)),INDEX('ORDER FORM'!N:N,MATCH(TRIM(IMPORT!E742),'ORDER FORM'!B:B,0))),\"\")","v":""}]
["UPLOADUSD",{"$f":"IF('ORDER FORM'!$O$7=\"\",\"ENTER-PO\",'ORDER FORM'!$O$7)","v":"ENTER-PO"},"2021 Spring/Summer",{"$f":"IF('ORDER FORM'!$O$9=\"\",TODAY(),'ORDER FORM'!$O$9)","v":"2023-11-02"},710527,"852","XL","2","610306137920",{"$f":"IF(IFERROR(INDEX('ORDER FORM'!$I$96:$L$125,MATCH(CONCATENATE(E743,F743),'ORDER FORM'!$A$96:$A$125,0),MATCH(G743,'ORDER FORM'!$I$119:$L$119,0)),\"\")=0,\"\",IFERROR(INDEX('ORDER FORM'!$I$96:$L$125,MATCH(CONCATENATE(E743,F743),'ORDER FORM'!$A$96:A$125,0),MATCH(G743,'ORDER FORM'!$I$119:$L$119,0)),\"\"))","v":""},{"$f":"IFERROR(IFERROR(INDEX('ORDER FORM'!N:N,MATCH(IMPORT!E743,'ORDER FORM'!B:B,0)),INDEX('ORDER FORM'!N:N,MATCH(TRIM(IMPORT!E743),'ORDER FORM'!B:B,0))),\"\")","v":""}]
["UPLOADUSD",{"$f":"IF('ORDER FORM'!$O$7=\"\",\"ENTER-PO\",'ORDER FORM'!$O$7)","v":"ENTER-PO"},"2021 Spring/Summer",{"$f":"IF('ORDER FORM'!$O$9=\"\",TODAY(),'ORDER FORM'!$O$9)","v":"2023-11-02"},710528,"810","S","2","610306136626",{"$f":"IF(IFERROR(INDEX('ORDER FORM'!$I$96:$L$125,MATCH(CONCATENATE(E744,F744),'ORDER FORM'!$A$96:$A$125,0),MATCH(G744,'ORDER FORM'!$I$119:$L$119,0)),\"\")=0,\"\",IFERROR(INDEX('ORDER FORM'!$I$96:$L$125,MATCH(CONCATENATE(E744,F744),'ORDER FORM'!$A$96:A$125,0),MATCH(G744,'ORDER FORM'!$I$119:$L$119,0)),\"\"))","v":""},{"$f":"IFERROR(IFERROR(INDEX('ORDER FORM'!N:N,MATCH(IMPORT!E744,'ORDER FORM'!B:B,0)),INDEX('ORDER FORM'!N:N,MATCH(TRIM(IMPORT!E744),'ORDER FORM'!B:B,0))),\"\")","v":{"v":12.5,"d":"12.50"}}]
["UPLOADUSD",{"$f":"IF('ORDER FORM'!$O$7=\"\",\"ENTER-PO\",'ORDER FORM'!$O$7)","v":"ENTER-PO"},"2021 Spring/Summer",{"$f":"IF('ORDER FORM'!$O$9=\"\",TODAY(),'ORDER FORM'!$O$9)","v":"2023-11-02"},710528,"810","M","2","610306136633",{"$f":"IF(IFERROR(INDEX('ORDER FORM'!$I$96:$L$125,MATCH(CONCATENATE(E745,F745),'ORDER FORM'!$A$96:$A$125,0),MATCH(G745,'ORDER FORM'!$I$119:$L$119,0)),\"\")=0,\"\",IFERROR(INDEX('ORDER FORM'!$I$96:$L$125,MATCH(CONCATENATE(E745,F745),'ORDER FORM'!$A$96:A$125,0),MATCH(G745,'ORDER FORM'!$I$119:$L$119,0)),\"\"))","v":""},{"$f":"IFERROR(IFERROR(INDEX('ORDER FORM'!N:N,MATCH(IMPORT!E745,'ORDER FORM'!B:B,0)),INDEX('ORDER FORM'!N:N,MATCH(TRIM(IMPORT!E745),'ORDER FORM'!B:B,0))),\"\")","v":{"v":12.5,"d":"12.50"}}]
["UPLOADUSD",{"$f":"IF('ORDER FORM'!$O$7=\"\",\"ENTER-PO\",'ORDER FORM'!$O$7)","v":"ENTER-PO"},"2021 Spring/Summer",{"$f":"IF('ORDER FORM'!$O$9=\"\",TODAY(),'ORDER FORM'!$O$9)","v":"2023-11-02"},710528,"810","L","2","610306136640",{"$f":"IF(IFERROR(INDEX('ORDER FORM'!$I$96:$L$125,MATCH(CONCATENATE(E746,F746),'ORDER FORM'!$A$96:$A$125,0),MATCH(G746,'ORDER FORM'!$I$119:$L$119,0)),\"\")=0,\"\",IFERROR(INDEX('ORDER FORM'!$I$96:$L$125,MATCH(CONCATENATE(E746,F746),'ORDER FORM'!$A$96:A$125,0),MATCH(G746,'ORDER FORM'!$I$119:$L$119,0)),\"\"))","v":""},{"$f":"IFERROR(IFERROR(INDEX('ORDER FORM'!N:N,MATCH(IMPORT!E746,'ORDER FORM'!B:B,0)),INDEX('ORDER FORM'!N:N,MATCH(TRIM(IMPORT!E746),'ORDER FORM'!B:B,0))),\"\")","v":{"v":12.5,"d":"12.50"}}]
["UPLOADUSD",{"$f":"IF('ORDER FORM'!$O$7=\"\",\"ENTER-PO\",'ORDER FORM'!$O$7)","v":"ENTER-PO"},"2021 Spring/Summer",{"$f":"IF('ORDER FORM'!$O$9=\"\",TODAY(),'ORDER FORM'!$O$9)","v":"2023-11-02"},710528,"810","XL","2","610306136657",{"$f":"IF(IFERROR(INDEX('ORDER FORM'!$I$96:$L$125,MATCH(CONCATENATE(E747,F747),'ORDER FORM'!$A$96:$A$125,0),MATCH(G747,'ORDER FORM'!$I$119:$L$119,0)),\"\")=0,\"\",IFERROR(INDEX('ORDER FORM'!$I$96:$L$125,MATCH(CONCATENATE(E747,F747),'ORDER FORM'!$A$96:A$125,0),MATCH(G747,'ORDER FORM'!$I$119:$L$119,0)),\"\"))","v":""},{"$f":"IFERROR(IFERROR(INDEX('ORDER FORM'!N:N,MATCH(IMPORT!E747,'ORDER FORM'!B:B,0)),INDEX('ORDER FORM'!N:N,MATCH(TRIM(IMPORT!E747),'ORDER FORM'!B:B,0))),\"\")","v":{"v":12.5,"d":"12.50"}}]
["UPLOADUSD",{"$f":"IF('ORDER FORM'!$O$7=\"\",\"ENTER-PO\",'ORDER FORM'!$O$7)","v":"ENTER-PO"},"2021 Spring/Summer",{"$f":"IF('ORDER FORM'!$O$9=\"\",TODAY(),'ORDER FORM'!$O$9)","v":"2023-11-02"},710528,"822","S","2","610306136664",{"$f":"IF(IFERROR(INDEX('ORDER FORM'!$I$96:$L$125,MATCH(CONCATENATE(E748,F748),'ORDER FORM'!$A$96:$A$125,0),MATCH(G748,'ORDER FORM'!$I$119:$L$119,0)),\"\")=0,\"\",IFERROR(INDEX('ORDER FORM'!$I$96:$L$125,MATCH(CONCATENATE(E748,F748),'ORDER FORM'!$A$96:A$125,0),MATCH(G748,'ORDER FORM'!$I$119:$L$119,0)),\"\"))","v":""},{"$f":"IFERROR(IFERROR(INDEX('ORDER FORM'!N:N,MATCH(IMPORT!E748,'ORDER FORM'!B:B,0)),INDEX('ORDER FORM'!N:N,MATCH(TRIM(IMPORT!E748),'ORDER FORM'!B:B,0))),\"\")","v":{"v":12.5,"d":"12.50"}}]
["UPLOADUSD",{"$f":"IF('ORDER FORM'!$O$7=\"\",\"ENTER-PO\",'ORDER FORM'!$O$7)","v":"ENTER-PO"},"2021 Spring/Summer",{"$f":"IF('ORDER FORM'!$O$9=\"\",TODAY(),'ORDER FORM'!$O$9)","v":"2023-11-02"},710528,"822","M","2","610306136671",{"$f":"IF(IFERROR(INDEX('ORDER FORM'!$I$96:$L$125,MATCH(CONCATENATE(E749,F749),'ORDER FORM'!$A$96:$A$125,0),MATCH(G749,'ORDER FORM'!$I$119:$L$119,0)),\"\")=0,\"\",IFERROR(INDEX('ORDER FORM'!$I$96:$L$125,MATCH(CONCATENATE(E749,F749),'ORDER FORM'!$A$96:A$125,0),MATCH(G749,'ORDER FORM'!$I$119:$L$119,0)),\"\"))","v":""},{"$f":"IFERROR(IFERROR(INDEX('ORDER FORM'!N:N,MATCH(IMPORT!E749,'ORDER FORM'!B:B,0)),INDEX('ORDER FORM'!N:N,MATCH(TRIM(IMPORT!E749),'ORDER FORM'!B:B,0))),\"\")","v":{"v":12.5,"d":"12.50"}}]
["UPLOADUSD",{"$f":"IF('ORDER FORM'!$O$7=\"\",\"ENTER-PO\",'ORDER FORM'!$O$7)","v":"ENTER-PO"},"2021 Spring/Summer",{"$f":"IF('ORDER FORM'!$O$9=\"\",TODAY(),'ORDER FORM'!$O$9)","v":"2023-11-02"},710528,"822","L","2","610306136688",{"$f":"IF(IFERROR(INDEX('ORDER FORM'!$I$96:$L$125,MATCH(CONCATENATE(E750,F750),'ORDER FORM'!$A$96:$A$125,0),MATCH(G750,'ORDER FORM'!$I$119:$L$119,0)),\"\")=0,\"\",IFERROR(INDEX('ORDER FORM'!$I$96:$L$125,MATCH(CONCATENATE(E750,F750),'ORDER FORM'!$A$96:A$125,0),MATCH(G750,'ORDER FORM'!$I$119:$L$119,0)),\"\"))","v":""},{"$f":"IFERROR(IFERROR(INDEX('ORDER FORM'!N:N,MATCH(IMPORT!E750,'ORDER FORM'!B:B,0)),INDEX('ORDER FORM'!N:N,MATCH(TRIM(IMPORT!E750),'ORDER FORM'!B:B,0))),\"\")","v":{"v":12.5,"d":"12.50"}}]
["UPLOADUSD",{"$f":"IF('ORDER FORM'!$O$7=\"\",\"ENTER-PO\",'ORDER FORM'!$O$7)","v":"ENTER-PO"},"2021 Spring/Summer",{"$f":"IF('ORDER FORM'!$O$9=\"\",TODAY(),'ORDER FORM'!$O$9)","v":"2023-11-02"},710528,"822","XL","2","610306136695",{"$f":"IF(IFERROR(INDEX('ORDER FORM'!$I$96:$L$125,MATCH(CONCATENATE(E751,F751),'ORDER FORM'!$A$96:$A$125,0),MATCH(G751,'ORDER FORM'!$I$119:$L$119,0)),\"\")=0,\"\",IFERROR(INDEX('ORDER FORM'!$I$96:$L$125,MATCH(CONCATENATE(E751,F751),'ORDER FORM'!$A$96:A$125,0),MATCH(G751,'ORDER FORM'!$I$119:$L$119,0)),\"\"))","v":""},{"$f":"IFERROR(IFERROR(INDEX('ORDER FORM'!N:N,MATCH(IMPORT!E751,'ORDER FORM'!B:B,0)),INDEX('ORDER FORM'!N:N,MATCH(TRIM(IMPORT!E751),'ORDER FORM'!B:B,0))),\"\")","v":{"v":12.5,"d":"12.50"}}]
["UPLOADUSD",{"$f":"IF('ORDER FORM'!$O$7=\"\",\"ENTER-PO\",'ORDER FORM'!$O$7)","v":"ENTER-PO"},"2021 Spring/Summer",{"$f":"IF('ORDER FORM'!$O$9=\"\",TODAY(),'ORDER FORM'!$O$9)","v":"2023-11-02"},710530,"428","S","2","610306138910",{"$f":"IF(IFERROR(INDEX('ORDER FORM'!$I$96:$L$125,MATCH(CONCATENATE(E752,F752),'ORDER FORM'!$A$96:$A$125,0),MATCH(G752,'ORDER FORM'!$I$119:$L$119,0)),\"\")=0,\"\",IFERROR(INDEX('ORDER FORM'!$I$96:$L$125,MATCH(CONCATENATE(E752,F752),'ORDER FORM'!$A$96:A$125,0),MATCH(G752,'ORDER FORM'!$I$119:$L$119,0)),\"\"))","v":""},{"$f":"IFERROR(IFERROR(INDEX('ORDER FORM'!N:N,MATCH(IMPORT!E752,'ORDER FORM'!B:B,0)),INDEX('ORDER FORM'!N:N,MATCH(TRIM(IMPORT!E752),'ORDER FORM'!B:B,0))),\"\")","v":""}]
["UPLOADUSD",{"$f":"IF('ORDER FORM'!$O$7=\"\",\"ENTER-PO\",'ORDER FORM'!$O$7)","v":"ENTER-PO"},"2021 Spring/Summer",{"$f":"IF('ORDER FORM'!$O$9=\"\",TODAY(),'ORDER FORM'!$O$9)","v":"2023-11-02"},710530,"428","M","2","610306138927",{"$f":"IF(IFERROR(INDEX('ORDER FORM'!$I$96:$L$125,MATCH(CONCATENATE(E753,F753),'ORDER FORM'!$A$96:$A$125,0),MATCH(G753,'ORDER FORM'!$I$119:$L$119,0)),\"\")=0,\"\",IFERROR(INDEX('ORDER FORM'!$I$96:$L$125,MATCH(CONCATENATE(E753,F753),'ORDER FORM'!$A$96:A$125,0),MATCH(G753,'ORDER FORM'!$I$119:$L$119,0)),\"\"))","v":""},{"$f":"IFERROR(IFERROR(INDEX('ORDER FORM'!N:N,MATCH(IMPORT!E753,'ORDER FORM'!B:B,0)),INDEX('ORDER FORM'!N:N,MATCH(TRIM(IMPORT!E753),'ORDER FORM'!B:B,0))),\"\")","v":""}]
["UPLOADUSD",{"$f":"IF('ORDER FORM'!$O$7=\"\",\"ENTER-PO\",'ORDER FORM'!$O$7)","v":"ENTER-PO"},"2021 Spring/Summer",{"$f":"IF('ORDER FORM'!$O$9=\"\",TODAY(),'ORDER FORM'!$O$9)","v":"2023-11-02"},710530,"428","L","2","610306138934",{"$f":"IF(IFERROR(INDEX('ORDER FORM'!$I$96:$L$125,MATCH(CONCATENATE(E754,F754),'ORDER FORM'!$A$96:$A$125,0),MATCH(G754,'ORDER FORM'!$I$119:$L$119,0)),\"\")=0,\"\",IFERROR(INDEX('ORDER FORM'!$I$96:$L$125,MATCH(CONCATENATE(E754,F754),'ORDER FORM'!$A$96:A$125,0),MATCH(G754,'ORDER FORM'!$I$119:$L$119,0)),\"\"))","v":""},{"$f":"IFERROR(IFERROR(INDEX('ORDER FORM'!N:N,MATCH(IMPORT!E754,'ORDER FORM'!B:B,0)),INDEX('ORDER FORM'!N:N,MATCH(TRIM(IMPORT!E754),'ORDER FORM'!B:B,0))),\"\")","v":""}]
["UPLOADUSD",{"$f":"IF('ORDER FORM'!$O$7=\"\",\"ENTER-PO\",'ORDER FORM'!$O$7)","v":"ENTER-PO"},"2021 Spring/Summer",{"$f":"IF('ORDER FORM'!$O$9=\"\",TODAY(),'ORDER FORM'!$O$9)","v":"2023-11-02"},710530,"428","XL","2","610306138941",{"$f":"IF(IFERROR(INDEX('ORDER FORM'!$I$96:$L$125,MATCH(CONCATENATE(E755,F755),'ORDER FORM'!$A$96:$A$125,0),MATCH(G755,'ORDER FORM'!$I$119:$L$119,0)),\"\")=0,\"\",IFERROR(INDEX('ORDER FORM'!$I$96:$L$125,MATCH(CONCATENATE(E755,F755),'ORDER FORM'!$A$96:A$125,0),MATCH(G755,'ORDER FORM'!$I$119:$L$119,0)),\"\"))","v":""},{"$f":"IFERROR(IFERROR(INDEX('ORDER FORM'!N:N,MATCH(IMPORT!E755,'ORDER FORM'!B:B,0)),INDEX('ORDER FORM'!N:N,MATCH(TRIM(IMPORT!E755),'ORDER FORM'!B:B,0))),\"\")","v":""}]
["UPLOADUSD",{"$f":"IF('ORDER FORM'!$O$7=\"\",\"ENTER-PO\",'ORDER FORM'!$O$7)","v":"ENTER-PO"},"2021 Spring/Summer",{"$f":"IF('ORDER FORM'!$O$9=\"\",TODAY(),'ORDER FORM'!$O$9)","v":"2023-11-02"},710530,"806","S","2","610306138958",{"$f":"IF(IFERROR(INDEX('ORDER FORM'!$I$96:$L$125,MATCH(CONCATENATE(E756,F756),'ORDER FORM'!$A$96:$A$125,0),MATCH(G756,'ORDER FORM'!$I$119:$L$119,0)),\"\")=0,\"\",IFERROR(INDEX('ORDER FORM'!$I$96:$L$125,MATCH(CONCATENATE(E756,F756),'ORDER FORM'!$A$96:A$125,0),MATCH(G756,'ORDER FORM'!$I$119:$L$119,0)),\"\"))","v":""},{"$f":"IFERROR(IFERROR(INDEX('ORDER FORM'!N:N,MATCH(IMPORT!E756,'ORDER FORM'!B:B,0)),INDEX('ORDER FORM'!N:N,MATCH(TRIM(IMPORT!E756),'ORDER FORM'!B:B,0))),\"\")","v":""}]
["UPLOADUSD",{"$f":"IF('ORDER FORM'!$O$7=\"\",\"ENTER-PO\",'ORDER FORM'!$O$7)","v":"ENTER-PO"},"2021 Spring/Summer",{"$f":"IF('ORDER FORM'!$O$9=\"\",TODAY(),'ORDER FORM'!$O$9)","v":"2023-11-02"},710530,"806","M","2","610306138965",{"$f":"IF(IFERROR(INDEX('ORDER FORM'!$I$96:$L$125,MATCH(CONCATENATE(E757,F757),'ORDER FORM'!$A$96:$A$125,0),MATCH(G757,'ORDER FORM'!$I$119:$L$119,0)),\"\")=0,\"\",IFERROR(INDEX('ORDER FORM'!$I$96:$L$125,MATCH(CONCATENATE(E757,F757),'ORDER FORM'!$A$96:A$125,0),MATCH(G757,'ORDER FORM'!$I$119:$L$119,0)),\"\"))","v":""},{"$f":"IFERROR(IFERROR(INDEX('ORDER FORM'!N:N,MATCH(IMPORT!E757,'ORDER FORM'!B:B,0)),INDEX('ORDER FORM'!N:N,MATCH(TRIM(IMPORT!E757),'ORDER FORM'!B:B,0))),\"\")","v":""}]
["UPLOADUSD",{"$f":"IF('ORDER FORM'!$O$7=\"\",\"ENTER-PO\",'ORDER FORM'!$O$7)","v":"ENTER-PO"},"2021 Spring/Summer",{"$f":"IF('ORDER FORM'!$O$9=\"\",TODAY(),'ORDER FORM'!$O$9)","v":"2023-11-02"},710530,"806","L","2","610306138972",{"$f":"IF(IFERROR(INDEX('ORDER FORM'!$I$96:$L$125,MATCH(CONCATENATE(E758,F758),'ORDER FORM'!$A$96:$A$125,0),MATCH(G758,'ORDER FORM'!$I$119:$L$119,0)),\"\")=0,\"\",IFERROR(INDEX('ORDER FORM'!$I$96:$L$125,MATCH(CONCATENATE(E758,F758),'ORDER FORM'!$A$96:A$125,0),MATCH(G758,'ORDER FORM'!$I$119:$L$119,0)),\"\"))","v":""},{"$f":"IFERROR(IFERROR(INDEX('ORDER FORM'!N:N,MATCH(IMPORT!E758,'ORDER FORM'!B:B,0)),INDEX('ORDER FORM'!N:N,MATCH(TRIM(IMPORT!E758),'ORDER FORM'!B:B,0))),\"\")","v":""}]
["UPLOADUSD",{"$f":"IF('ORDER FORM'!$O$7=\"\",\"ENTER-PO\",'ORDER FORM'!$O$7)","v":"ENTER-PO"},"2021 Spring/Summer",{"$f":"IF('ORDER FORM'!$O$9=\"\",TODAY(),'ORDER FORM'!$O$9)","v":"2023-11-02"},710530,"806","XL","2","610306138989",{"$f":"IF(IFERROR(INDEX('ORDER FORM'!$I$96:$L$125,MATCH(CONCATENATE(E759,F759),'ORDER FORM'!$A$96:$A$125,0),MATCH(G759,'ORDER FORM'!$I$119:$L$119,0)),\"\")=0,\"\",IFERROR(INDEX('ORDER FORM'!$I$96:$L$125,MATCH(CONCATENATE(E759,F759),'ORDER FORM'!$A$96:A$125,0),MATCH(G759,'ORDER FORM'!$I$119:$L$119,0)),\"\"))","v":""},{"$f":"IFERROR(IFERROR(INDEX('ORDER FORM'!N:N,MATCH(IMPORT!E759,'ORDER FORM'!B:B,0)),INDEX('ORDER FORM'!N:N,MATCH(TRIM(IMPORT!E759),'ORDER FORM'!B:B,0))),\"\")","v":""}]
["UPLOADUSD",{"$f":"IF('ORDER FORM'!$O$7=\"\",\"ENTER-PO\",'ORDER FORM'!$O$7)","v":"ENTER-PO"},"2021 Spring/Summer",{"$f":"IF('ORDER FORM'!$O$9=\"\",TODAY(),'ORDER FORM'!$O$9)","v":"2023-11-02"},710530,"845","S","2","610306138996",{"$f":"IF(IFERROR(INDEX('ORDER FORM'!$I$96:$L$125,MATCH(CONCATENATE(E760,F760),'ORDER FORM'!$A$96:$A$125,0),MATCH(G760,'ORDER FORM'!$I$119:$L$119,0)),\"\")=0,\"\",IFERROR(INDEX('ORDER FORM'!$I$96:$L$125,MATCH(CONCATENATE(E760,F760),'ORDER FORM'!$A$96:A$125,0),MATCH(G760,'ORDER FORM'!$I$119:$L$119,0)),\"\"))","v":""},{"$f":"IFERROR(IFERROR(INDEX('ORDER FORM'!N:N,MATCH(IMPORT!E760,'ORDER FORM'!B:B,0)),INDEX('ORDER FORM'!N:N,MATCH(TRIM(IMPORT!E760),'ORDER FORM'!B:B,0))),\"\")","v":""}]
["UPLOADUSD",{"$f":"IF('ORDER FORM'!$O$7=\"\",\"ENTER-PO\",'ORDER FORM'!$O$7)","v":"ENTER-PO"},"2021 Spring/Summer",{"$f":"IF('ORDER FORM'!$O$9=\"\",TODAY(),'ORDER FORM'!$O$9)","v":"2023-11-02"},710530,"845","M","2","610306139009",{"$f":"IF(IFERROR(INDEX('ORDER FORM'!$I$96:$L$125,MATCH(CONCATENATE(E761,F761),'ORDER FORM'!$A$96:$A$125,0),MATCH(G761,'ORDER FORM'!$I$119:$L$119,0)),\"\")=0,\"\",IFERROR(INDEX('ORDER FORM'!$I$96:$L$125,MATCH(CONCATENATE(E761,F761),'ORDER FORM'!$A$96:A$125,0),MATCH(G761,'ORDER FORM'!$I$119:$L$119,0)),\"\"))","v":""},{"$f":"IFERROR(IFERROR(INDEX('ORDER FORM'!N:N,MATCH(IMPORT!E761,'ORDER FORM'!B:B,0)),INDEX('ORDER FORM'!N:N,MATCH(TRIM(IMPORT!E761),'ORDER FORM'!B:B,0))),\"\")","v":""}]
["UPLOADUSD",{"$f":"IF('ORDER FORM'!$O$7=\"\",\"ENTER-PO\",'ORDER FORM'!$O$7)","v":"ENTER-PO"},"2021 Spring/Summer",{"$f":"IF('ORDER FORM'!$O$9=\"\",TODAY(),'ORDER FORM'!$O$9)","v":"2023-11-02"},710530,"845","L","2","610306139016",{"$f":"IF(IFERROR(INDEX('ORDER FORM'!$I$96:$L$125,MATCH(CONCATENATE(E762,F762),'ORDER FORM'!$A$96:$A$125,0),MATCH(G762,'ORDER FORM'!$I$119:$L$119,0)),\"\")=0,\"\",IFERROR(INDEX('ORDER FORM'!$I$96:$L$125,MATCH(CONCATENATE(E762,F762),'ORDER FORM'!$A$96:A$125,0),MATCH(G762,'ORDER FORM'!$I$119:$L$119,0)),\"\"))","v":""},{"$f":"IFERROR(IFERROR(INDEX('ORDER FORM'!N:N,MATCH(IMPORT!E762,'ORDER FORM'!B:B,0)),INDEX('ORDER FORM'!N:N,MATCH(TRIM(IMPORT!E762),'ORDER FORM'!B:B,0))),\"\")","v":""}]
["UPLOADUSD",{"$f":"IF('ORDER FORM'!$O$7=\"\",\"ENTER-PO\",'ORDER FORM'!$O$7)","v":"ENTER-PO"},"2021 Spring/Summer",{"$f":"IF('ORDER FORM'!$O$9=\"\",TODAY(),'ORDER FORM'!$O$9)","v":"2023-11-02"},710530,"845","XL","2","610306139023",{"$f":"IF(IFERROR(INDEX('ORDER FORM'!$I$96:$L$125,MATCH(CONCATENATE(E763,F763),'ORDER FORM'!$A$96:$A$125,0),MATCH(G763,'ORDER FORM'!$I$119:$L$119,0)),\"\")=0,\"\",IFERROR(INDEX('ORDER FORM'!$I$96:$L$125,MATCH(CONCATENATE(E763,F763),'ORDER FORM'!$A$96:A$125,0),MATCH(G763,'ORDER FORM'!$I$119:$L$119,0)),\"\"))","v":""},{"$f":"IFERROR(IFERROR(INDEX('ORDER FORM'!N:N,MATCH(IMPORT!E763,'ORDER FORM'!B:B,0)),INDEX('ORDER FORM'!N:N,MATCH(TRIM(IMPORT!E763),'ORDER FORM'!B:B,0))),\"\")","v":""}]
["UPLOADUSD",{"$f":"IF('ORDER FORM'!$O$7=\"\",\"ENTER-PO\",'ORDER FORM'!$O$7)","v":"ENTER-PO"},"2021 Spring/Summer",{"$f":"IF('ORDER FORM'!$O$9=\"\",TODAY(),'ORDER FORM'!$O$9)","v":"2023-11-02"},710538,"037","S","2","610306140203",{"$f":"IF(IFERROR(INDEX('ORDER FORM'!$I$96:$L$125,MATCH(CONCATENATE(E764,F764),'ORDER FORM'!$A$96:$A$125,0),MATCH(G764,'ORDER FORM'!$I$119:$L$119,0)),\"\")=0,\"\",IFERROR(INDEX('ORDER FORM'!$I$96:$L$125,MATCH(CONCATENATE(E764,F764),'ORDER FORM'!$A$96:A$125,0),MATCH(G764,'ORDER FORM'!$I$119:$L$119,0)),\"\"))","v":""},{"$f":"IFERROR(IFERROR(INDEX('ORDER FORM'!N:N,MATCH(IMPORT!E764,'ORDER FORM'!B:B,0)),INDEX('ORDER FORM'!N:N,MATCH(TRIM(IMPORT!E764),'ORDER FORM'!B:B,0))),\"\")","v":""}]
["UPLOADUSD",{"$f":"IF('ORDER FORM'!$O$7=\"\",\"ENTER-PO\",'ORDER FORM'!$O$7)","v":"ENTER-PO"},"2021 Spring/Summer",{"$f":"IF('ORDER FORM'!$O$9=\"\",TODAY(),'ORDER FORM'!$O$9)","v":"2023-11-02"},710538,"037","M","2","610306140210",{"$f":"IF(IFERROR(INDEX('ORDER FORM'!$I$96:$L$125,MATCH(CONCATENATE(E765,F765),'ORDER FORM'!$A$96:$A$125,0),MATCH(G765,'ORDER FORM'!$I$119:$L$119,0)),\"\")=0,\"\",IFERROR(INDEX('ORDER FORM'!$I$96:$L$125,MATCH(CONCATENATE(E765,F765),'ORDER FORM'!$A$96:A$125,0),MATCH(G765,'ORDER FORM'!$I$119:$L$119,0)),\"\"))","v":""},{"$f":"IFERROR(IFERROR(INDEX('ORDER FORM'!N:N,MATCH(IMPORT!E765,'ORDER FORM'!B:B,0)),INDEX('ORDER FORM'!N:N,MATCH(TRIM(IMPORT!E765),'ORDER FORM'!B:B,0))),\"\")","v":""}]
["UPLOADUSD",{"$f":"IF('ORDER FORM'!$O$7=\"\",\"ENTER-PO\",'ORDER FORM'!$O$7)","v":"ENTER-PO"},"2021 Spring/Summer",{"$f":"IF('ORDER FORM'!$O$9=\"\",TODAY(),'ORDER FORM'!$O$9)","v":"2023-11-02"},710538,"037","L","2","610306140227",{"$f":"IF(IFERROR(INDEX('ORDER FORM'!$I$96:$L$125,MATCH(CONCATENATE(E766,F766),'ORDER FORM'!$A$96:$A$125,0),MATCH(G766,'ORDER FORM'!$I$119:$L$119,0)),\"\")=0,\"\",IFERROR(INDEX('ORDER FORM'!$I$96:$L$125,MATCH(CONCATENATE(E766,F766),'ORDER FORM'!$A$96:A$125,0),MATCH(G766,'ORDER FORM'!$I$119:$L$119,0)),\"\"))","v":""},{"$f":"IFERROR(IFERROR(INDEX('ORDER FORM'!N:N,MATCH(IMPORT!E766,'ORDER FORM'!B:B,0)),INDEX('ORDER FORM'!N:N,MATCH(TRIM(IMPORT!E766),'ORDER FORM'!B:B,0))),\"\")","v":""}]
["UPLOADUSD",{"$f":"IF('ORDER FORM'!$O$7=\"\",\"ENTER-PO\",'ORDER FORM'!$O$7)","v":"ENTER-PO"},"2021 Spring/Summer",{"$f":"IF('ORDER FORM'!$O$9=\"\",TODAY(),'ORDER FORM'!$O$9)","v":"2023-11-02"},710538,"037","XL","2","610306140234",{"$f":"IF(IFERROR(INDEX('ORDER FORM'!$I$96:$L$125,MATCH(CONCATENATE(E767,F767),'ORDER FORM'!$A$96:$A$125,0),MATCH(G767,'ORDER FORM'!$I$119:$L$119,0)),\"\")=0,\"\",IFERROR(INDEX('ORDER FORM'!$I$96:$L$125,MATCH(CONCATENATE(E767,F767),'ORDER FORM'!$A$96:A$125,0),MATCH(G767,'ORDER FORM'!$I$119:$L$119,0)),\"\"))","v":""},{"$f":"IFERROR(IFERROR(INDEX('ORDER FORM'!N:N,MATCH(IMPORT!E767,'ORDER FORM'!B:B,0)),INDEX('ORDER FORM'!N:N,MATCH(TRIM(IMPORT!E767),'ORDER FORM'!B:B,0))),\"\")","v":""}]
["UPLOADUSD",{"$f":"IF('ORDER FORM'!$O$7=\"\",\"ENTER-PO\",'ORDER FORM'!$O$7)","v":"ENTER-PO"},"2021 Spring/Summer",{"$f":"IF('ORDER FORM'!$O$9=\"\",TODAY(),'ORDER FORM'!$O$9)","v":"2023-11-02"},710539,"806","S","2","610306138774",{"$f":"IF(IFERROR(INDEX('ORDER FORM'!$I$96:$L$125,MATCH(CONCATENATE(E768,F768),'ORDER FORM'!$A$96:$A$125,0),MATCH(G768,'ORDER FORM'!$I$119:$L$119,0)),\"\")=0,\"\",IFERROR(INDEX('ORDER FORM'!$I$96:$L$125,MATCH(CONCATENATE(E768,F768),'ORDER FORM'!$A$96:A$125,0),MATCH(G768,'ORDER FORM'!$I$119:$L$119,0)),\"\"))","v":""},{"$f":"IFERROR(IFERROR(INDEX('ORDER FORM'!N:N,MATCH(IMPORT!E768,'ORDER FORM'!B:B,0)),INDEX('ORDER FORM'!N:N,MATCH(TRIM(IMPORT!E768),'ORDER FORM'!B:B,0))),\"\")","v":{"v":14,"d":"14.00"}}]
["UPLOADUSD",{"$f":"IF('ORDER FORM'!$O$7=\"\",\"ENTER-PO\",'ORDER FORM'!$O$7)","v":"ENTER-PO"},"2021 Spring/Summer",{"$f":"IF('ORDER FORM'!$O$9=\"\",TODAY(),'ORDER FORM'!$O$9)","v":"2023-11-02"},710539,"806","M","2","610306138781",{"$f":"IF(IFERROR(INDEX('ORDER FORM'!$I$96:$L$125,MATCH(CONCATENATE(E769,F769),'ORDER FORM'!$A$96:$A$125,0),MATCH(G769,'ORDER FORM'!$I$119:$L$119,0)),\"\")=0,\"\",IFERROR(INDEX('ORDER FORM'!$I$96:$L$125,MATCH(CONCATENATE(E769,F769),'ORDER FORM'!$A$96:A$125,0),MATCH(G769,'ORDER FORM'!$I$119:$L$119,0)),\"\"))","v":""},{"$f":"IFERROR(IFERROR(INDEX('ORDER FORM'!N:N,MATCH(IMPORT!E769,'ORDER FORM'!B:B,0)),INDEX('ORDER FORM'!N:N,MATCH(TRIM(IMPORT!E769),'ORDER FORM'!B:B,0))),\"\")","v":{"v":14,"d":"14.00"}}]
["UPLOADUSD",{"$f":"IF('ORDER FORM'!$O$7=\"\",\"ENTER-PO\",'ORDER FORM'!$O$7)","v":"ENTER-PO"},"2021 Spring/Summer",{"$f":"IF('ORDER FORM'!$O$9=\"\",TODAY(),'ORDER FORM'!$O$9)","v":"2023-11-02"},710539,"806","L","2","610306138798",{"$f":"IF(IFERROR(INDEX('ORDER FORM'!$I$96:$L$125,MATCH(CONCATENATE(E770,F770),'ORDER FORM'!$A$96:$A$125,0),MATCH(G770,'ORDER FORM'!$I$119:$L$119,0)),\"\")=0,\"\",IFERROR(INDEX('ORDER FORM'!$I$96:$L$125,MATCH(CONCATENATE(E770,F770),'ORDER FORM'!$A$96:A$125,0),MATCH(G770,'ORDER FORM'!$I$119:$L$119,0)),\"\"))","v":""},{"$f":"IFERROR(IFERROR(INDEX('ORDER FORM'!N:N,MATCH(IMPORT!E770,'ORDER FORM'!B:B,0)),INDEX('ORDER FORM'!N:N,MATCH(TRIM(IMPORT!E770),'ORDER FORM'!B:B,0))),\"\")","v":{"v":14,"d":"14.00"}}]
["UPLOADUSD",{"$f":"IF('ORDER FORM'!$O$7=\"\",\"ENTER-PO\",'ORDER FORM'!$O$7)","v":"ENTER-PO"},"2021 Spring/Summer",{"$f":"IF('ORDER FORM'!$O$9=\"\",TODAY(),'ORDER FORM'!$O$9)","v":"2023-11-02"},710539,"806","XL","2","610306138804",{"$f":"IF(IFERROR(INDEX('ORDER FORM'!$I$96:$L$125,MATCH(CONCATENATE(E771,F771),'ORDER FORM'!$A$96:$A$125,0),MATCH(G771,'ORDER FORM'!$I$119:$L$119,0)),\"\")=0,\"\",IFERROR(INDEX('ORDER FORM'!$I$96:$L$125,MATCH(CONCATENATE(E771,F771),'ORDER FORM'!$A$96:A$125,0),MATCH(G771,'ORDER FORM'!$I$119:$L$119,0)),\"\"))","v":""},{"$f":"IFERROR(IFERROR(INDEX('ORDER FORM'!N:N,MATCH(IMPORT!E771,'ORDER FORM'!B:B,0)),INDEX('ORDER FORM'!N:N,MATCH(TRIM(IMPORT!E771),'ORDER FORM'!B:B,0))),\"\")","v":{"v":14,"d":"14.00"}}]
[{"$f":"IF(IF($B$1=0,\"ENTER ACCOUNT\",$B$1)=\"\",\"UPLOADUSD\",IF($B$1=0,\"ENTER ACCOUNT\",$B$1))","v":"UPLOADUSD"},{"$f":"IF('ORDER FORM'!$O$7=\"\",\"ENTER-PO\",'ORDER FORM'!$O$7)","v":"ENTER-PO"},{"$f":"$D$1","v":"2021 Spring/Summer"},{"$f":"IF('ORDER FORM'!$O$9=\"\",TODAY(),'ORDER FORM'!$O$9)","v":"2023-11-02"},710539,"846","S","2","610306138811",{"$f":"IF(IFERROR(INDEX('ORDER FORM'!$I$96:$L$125,MATCH(CONCATENATE(E772,F772),'ORDER FORM'!$A$96:$A$125,0),MATCH(G772,'ORDER FORM'!$I$119:$L$119,0)),\"\")=0,\"\",IFERROR(INDEX('ORDER FORM'!$I$96:$L$125,MATCH(CONCATENATE(E772,F772),'ORDER FORM'!$A$96:A$125,0),MATCH(G772,'ORDER FORM'!$I$119:$L$119,0)),\"\"))","v":""},{"$f":"IFERROR(IFERROR(INDEX('ORDER FORM'!N:N,MATCH(IMPORT!E772,'ORDER FORM'!B:B,0)),INDEX('ORDER FORM'!N:N,MATCH(TRIM(IMPORT!E772),'ORDER FORM'!B:B,0))),\"\")","v":{"v":14,"d":"14.00"}}]
["UPLOADUSD",{"$f":"IF('ORDER FORM'!$O$7=\"\",\"ENTER-PO\",'ORDER FORM'!$O$7)","v":"ENTER-PO"},"2021 Spring/Summer",{"$f":"IF('ORDER FORM'!$O$9=\"\",TODAY(),'ORDER FORM'!$O$9)","v":"2023-11-02"},710539,"846","M","2","610306138828",{"$f":"IF(IFERROR(INDEX('ORDER FORM'!$I$96:$L$125,MATCH(CONCATENATE(E773,F773),'ORDER FORM'!$A$96:$A$125,0),MATCH(G773,'ORDER FORM'!$I$119:$L$119,0)),\"\")=0,\"\",IFERROR(INDEX('ORDER FORM'!$I$96:$L$125,MATCH(CONCATENATE(E773,F773),'ORDER FORM'!$A$96:A$125,0),MATCH(G773,'ORDER FORM'!$I$119:$L$119,0)),\"\"))","v":""},{"$f":"IFERROR(IFERROR(INDEX('ORDER FORM'!N:N,MATCH(IMPORT!E773,'ORDER FORM'!B:B,0)),INDEX('ORDER FORM'!N:N,MATCH(TRIM(IMPORT!E773),'ORDER FORM'!B:B,0))),\"\")","v":{"v":14,"d":"14.00"}}]
["UPLOADUSD",{"$f":"IF('ORDER FORM'!$O$7=\"\",\"ENTER-PO\",'ORDER FORM'!$O$7)","v":"ENTER-PO"},"2021 Spring/Summer",{"$f":"IF('ORDER FORM'!$O$9=\"\",TODAY(),'ORDER FORM'!$O$9)","v":"2023-11-02"},710539,"846","L","2","610306138835",{"$f":"IF(IFERROR(INDEX('ORDER FORM'!$I$96:$L$125,MATCH(CONCATENATE(E774,F774),'ORDER FORM'!$A$96:$A$125,0),MATCH(G774,'ORDER FORM'!$I$119:$L$119,0)),\"\")=0,\"\",IFERROR(INDEX('ORDER FORM'!$I$96:$L$125,MATCH(CONCATENATE(E774,F774),'ORDER FORM'!$A$96:A$125,0),MATCH(G774,'ORDER FORM'!$I$119:$L$119,0)),\"\"))","v":""},{"$f":"IFERROR(IFERROR(INDEX('ORDER FORM'!N:N,MATCH(IMPORT!E774,'ORDER FORM'!B:B,0)),INDEX('ORDER FORM'!N:N,MATCH(TRIM(IMPORT!E774),'ORDER FORM'!B:B,0))),\"\")","v":{"v":14,"d":"14.00"}}]
["UPLOADUSD",{"$f":"IF('ORDER FORM'!$O$7=\"\",\"ENTER-PO\",'ORDER FORM'!$O$7)","v":"ENTER-PO"},"2021 Spring/Summer",{"$f":"IF('ORDER FORM'!$O$9=\"\",TODAY(),'ORDER FORM'!$O$9)","v":"2023-11-02"},710539,"846","XL","2","610306138842",{"$f":"IF(IFERROR(INDEX('ORDER FORM'!$I$96:$L$125,MATCH(CONCATENATE(E775,F775),'ORDER FORM'!$A$96:$A$125,0),MATCH(G775,'ORDER FORM'!$I$119:$L$119,0)),\"\")=0,\"\",IFERROR(INDEX('ORDER FORM'!$I$96:$L$125,MATCH(CONCATENATE(E775,F775),'ORDER FORM'!$A$96:A$125,0),MATCH(G775,'ORDER FORM'!$I$119:$L$119,0)),\"\"))","v":""},{"$f":"IFERROR(IFERROR(INDEX('ORDER FORM'!N:N,MATCH(IMPORT!E775,'ORDER FORM'!B:B,0)),INDEX('ORDER FORM'!N:N,MATCH(TRIM(IMPORT!E775),'ORDER FORM'!B:B,0))),\"\")","v":{"v":14,"d":"14.00"}}]
["UPLOADUSD",{"$f":"IF('ORDER FORM'!$O$7=\"\",\"ENTER-PO\",'ORDER FORM'!$O$7)","v":"ENTER-PO"},"2021 Spring/Summer",{"$f":"IF('ORDER FORM'!$O$9=\"\",TODAY(),'ORDER FORM'!$O$9)","v":"2023-11-02"},710539,"621","S","2","610306143990",{"$f":"IF(IFERROR(INDEX('ORDER FORM'!$I$96:$L$125,MATCH(CONCATENATE(E776,F776),'ORDER FORM'!$A$96:$A$125,0),MATCH(G776,'ORDER FORM'!$I$119:$L$119,0)),\"\")=0,\"\",IFERROR(INDEX('ORDER FORM'!$I$96:$L$125,MATCH(CONCATENATE(E776,F776),'ORDER FORM'!$A$96:A$125,0),MATCH(G776,'ORDER FORM'!$I$119:$L$119,0)),\"\"))","v":""},{"$f":"IFERROR(IFERROR(INDEX('ORDER FORM'!N:N,MATCH(IMPORT!E776,'ORDER FORM'!B:B,0)),INDEX('ORDER FORM'!N:N,MATCH(TRIM(IMPORT!E776),'ORDER FORM'!B:B,0))),\"\")","v":{"v":14,"d":"14.00"}}]
["UPLOADUSD",{"$f":"IF('ORDER FORM'!$O$7=\"\",\"ENTER-PO\",'ORDER FORM'!$O$7)","v":"ENTER-PO"},"2021 Spring/Summer",{"$f":"IF('ORDER FORM'!$O$9=\"\",TODAY(),'ORDER FORM'!$O$9)","v":"2023-11-02"},710539,"621","M","2","610306144003",{"$f":"IF(IFERROR(INDEX('ORDER FORM'!$I$96:$L$125,MATCH(CONCATENATE(E777,F777),'ORDER FORM'!$A$96:$A$125,0),MATCH(G777,'ORDER FORM'!$I$119:$L$119,0)),\"\")=0,\"\",IFERROR(INDEX('ORDER FORM'!$I$96:$L$125,MATCH(CONCATENATE(E777,F777),'ORDER FORM'!$A$96:A$125,0),MATCH(G777,'ORDER FORM'!$I$119:$L$119,0)),\"\"))","v":""},{"$f":"IFERROR(IFERROR(INDEX('ORDER FORM'!N:N,MATCH(IMPORT!E777,'ORDER FORM'!B:B,0)),INDEX('ORDER FORM'!N:N,MATCH(TRIM(IMPORT!E777),'ORDER FORM'!B:B,0))),\"\")","v":{"v":14,"d":"14.00"}}]
["UPLOADUSD",{"$f":"IF('ORDER FORM'!$O$7=\"\",\"ENTER-PO\",'ORDER FORM'!$O$7)","v":"ENTER-PO"},"2021 Spring/Summer",{"$f":"IF('ORDER FORM'!$O$9=\"\",TODAY(),'ORDER FORM'!$O$9)","v":"2023-11-02"},710539,"621","L","2","610306144010",{"$f":"IF(IFERROR(INDEX('ORDER FORM'!$I$96:$L$125,MATCH(CONCATENATE(E778,F778),'ORDER FORM'!$A$96:$A$125,0),MATCH(G778,'ORDER FORM'!$I$119:$L$119,0)),\"\")=0,\"\",IFERROR(INDEX('ORDER FORM'!$I$96:$L$125,MATCH(CONCATENATE(E778,F778),'ORDER FORM'!$A$96:A$125,0),MATCH(G778,'ORDER FORM'!$I$119:$L$119,0)),\"\"))","v":""},{"$f":"IFERROR(IFERROR(INDEX('ORDER FORM'!N:N,MATCH(IMPORT!E778,'ORDER FORM'!B:B,0)),INDEX('ORDER FORM'!N:N,MATCH(TRIM(IMPORT!E778),'ORDER FORM'!B:B,0))),\"\")","v":{"v":14,"d":"14.00"}}]
["UPLOADUSD",{"$f":"IF('ORDER FORM'!$O$7=\"\",\"ENTER-PO\",'ORDER FORM'!$O$7)","v":"ENTER-PO"},"2021 Spring/Summer",{"$f":"IF('ORDER FORM'!$O$9=\"\",TODAY(),'ORDER FORM'!$O$9)","v":"2023-11-02"},710539,"621","XL","2","610306144027",{"$f":"IF(IFERROR(INDEX('ORDER FORM'!$I$96:$L$125,MATCH(CONCATENATE(E779,F779),'ORDER FORM'!$A$96:$A$125,0),MATCH(G779,'ORDER FORM'!$I$119:$L$119,0)),\"\")=0,\"\",IFERROR(INDEX('ORDER FORM'!$I$96:$L$125,MATCH(CONCATENATE(E779,F779),'ORDER FORM'!$A$96:A$125,0),MATCH(G779,'ORDER FORM'!$I$119:$L$119,0)),\"\"))","v":""},{"$f":"IFERROR(IFERROR(INDEX('ORDER FORM'!N:N,MATCH(IMPORT!E779,'ORDER FORM'!B:B,0)),INDEX('ORDER FORM'!N:N,MATCH(TRIM(IMPORT!E779),'ORDER FORM'!B:B,0))),\"\")","v":{"v":14,"d":"14.00"}}]
["UPLOADUSD",{"$f":"IF('ORDER FORM'!$O$7=\"\",\"ENTER-PO\",'ORDER FORM'!$O$7)","v":"ENTER-PO"},"2021 Spring/Summer",{"$f":"IF('ORDER FORM'!$O$9=\"\",TODAY(),'ORDER FORM'!$O$9)","v":"2023-11-02"},710545,"038","S","2","610306139061",{"$f":"IF(IFERROR(INDEX('ORDER FORM'!$I$96:$L$125,MATCH(CONCATENATE(E780,F780),'ORDER FORM'!$A$96:$A$125,0),MATCH(G780,'ORDER FORM'!$I$119:$L$119,0)),\"\")=0,\"\",IFERROR(INDEX('ORDER FORM'!$I$96:$L$125,MATCH(CONCATENATE(E780,F780),'ORDER FORM'!$A$96:A$125,0),MATCH(G780,'ORDER FORM'!$I$119:$L$119,0)),\"\"))","v":""},{"$f":"IFERROR(IFERROR(INDEX('ORDER FORM'!N:N,MATCH(IMPORT!E780,'ORDER FORM'!B:B,0)),INDEX('ORDER FORM'!N:N,MATCH(TRIM(IMPORT!E780),'ORDER FORM'!B:B,0))),\"\")","v":""}]
["UPLOADUSD",{"$f":"IF('ORDER FORM'!$O$7=\"\",\"ENTER-PO\",'ORDER FORM'!$O$7)","v":"ENTER-PO"},"2021 Spring/Summer",{"$f":"IF('ORDER FORM'!$O$9=\"\",TODAY(),'ORDER FORM'!$O$9)","v":"2023-11-02"},710545,"038","M","2","610306139078",{"$f":"IF(IFERROR(INDEX('ORDER FORM'!$I$96:$L$125,MATCH(CONCATENATE(E781,F781),'ORDER FORM'!$A$96:$A$125,0),MATCH(G781,'ORDER FORM'!$I$119:$L$119,0)),\"\")=0,\"\",IFERROR(INDEX('ORDER FORM'!$I$96:$L$125,MATCH(CONCATENATE(E781,F781),'ORDER FORM'!$A$96:A$125,0),MATCH(G781,'ORDER FORM'!$I$119:$L$119,0)),\"\"))","v":""},{"$f":"IFERROR(IFERROR(INDEX('ORDER FORM'!N:N,MATCH(IMPORT!E781,'ORDER FORM'!B:B,0)),INDEX('ORDER FORM'!N:N,MATCH(TRIM(IMPORT!E781),'ORDER FORM'!B:B,0))),\"\")","v":""}]
["UPLOADUSD",{"$f":"IF('ORDER FORM'!$O$7=\"\",\"ENTER-PO\",'ORDER FORM'!$O$7)","v":"ENTER-PO"},"2021 Spring/Summer",{"$f":"IF('ORDER FORM'!$O$9=\"\",TODAY(),'ORDER FORM'!$O$9)","v":"2023-11-02"},710545,"038","L","2","610306139085",{"$f":"IF(IFERROR(INDEX('ORDER FORM'!$I$96:$L$125,MATCH(CONCATENATE(E782,F782),'ORDER FORM'!$A$96:$A$125,0),MATCH(G782,'ORDER FORM'!$I$119:$L$119,0)),\"\")=0,\"\",IFERROR(INDEX('ORDER FORM'!$I$96:$L$125,MATCH(CONCATENATE(E782,F782),'ORDER FORM'!$A$96:A$125,0),MATCH(G782,'ORDER FORM'!$I$119:$L$119,0)),\"\"))","v":""},{"$f":"IFERROR(IFERROR(INDEX('ORDER FORM'!N:N,MATCH(IMPORT!E782,'ORDER FORM'!B:B,0)),INDEX('ORDER FORM'!N:N,MATCH(TRIM(IMPORT!E782),'ORDER FORM'!B:B,0))),\"\")","v":""}]
["UPLOADUSD",{"$f":"IF('ORDER FORM'!$O$7=\"\",\"ENTER-PO\",'ORDER FORM'!$O$7)","v":"ENTER-PO"},"2021 Spring/Summer",{"$f":"IF('ORDER FORM'!$O$9=\"\",TODAY(),'ORDER FORM'!$O$9)","v":"2023-11-02"},710545,"038","XL","2","610306139092",{"$f":"IF(IFERROR(INDEX('ORDER FORM'!$I$96:$L$125,MATCH(CONCATENATE(E783,F783),'ORDER FORM'!$A$96:$A$125,0),MATCH(G783,'ORDER FORM'!$I$119:$L$119,0)),\"\")=0,\"\",IFERROR(INDEX('ORDER FORM'!$I$96:$L$125,MATCH(CONCATENATE(E783,F783),'ORDER FORM'!$A$96:A$125,0),MATCH(G783,'ORDER FORM'!$I$119:$L$119,0)),\"\"))","v":""},{"$f":"IFERROR(IFERROR(INDEX('ORDER FORM'!N:N,MATCH(IMPORT!E783,'ORDER FORM'!B:B,0)),INDEX('ORDER FORM'!N:N,MATCH(TRIM(IMPORT!E783),'ORDER FORM'!B:B,0))),\"\")","v":""}]
["UPLOADUSD",{"$f":"IF('ORDER FORM'!$O$7=\"\",\"ENTER-PO\",'ORDER FORM'!$O$7)","v":"ENTER-PO"},"2021 Spring/Summer",{"$f":"IF('ORDER FORM'!$O$9=\"\",TODAY(),'ORDER FORM'!$O$9)","v":"2023-11-02"},710545,"039","S","2","610306139108",{"$f":"IF(IFERROR(INDEX('ORDER FORM'!$I$96:$L$125,MATCH(CONCATENATE(E784,F784),'ORDER FORM'!$A$96:$A$125,0),MATCH(G784,'ORDER FORM'!$I$119:$L$119,0)),\"\")=0,\"\",IFERROR(INDEX('ORDER FORM'!$I$96:$L$125,MATCH(CONCATENATE(E784,F784),'ORDER FORM'!$A$96:A$125,0),MATCH(G784,'ORDER FORM'!$I$119:$L$119,0)),\"\"))","v":""},{"$f":"IFERROR(IFERROR(INDEX('ORDER FORM'!N:N,MATCH(IMPORT!E784,'ORDER FORM'!B:B,0)),INDEX('ORDER FORM'!N:N,MATCH(TRIM(IMPORT!E784),'ORDER FORM'!B:B,0))),\"\")","v":""}]
["UPLOADUSD",{"$f":"IF('ORDER FORM'!$O$7=\"\",\"ENTER-PO\",'ORDER FORM'!$O$7)","v":"ENTER-PO"},"2021 Spring/Summer",{"$f":"IF('ORDER FORM'!$O$9=\"\",TODAY(),'ORDER FORM'!$O$9)","v":"2023-11-02"},710545,"039","M","2","610306139115",{"$f":"IF(IFERROR(INDEX('ORDER FORM'!$I$96:$L$125,MATCH(CONCATENATE(E785,F785),'ORDER FORM'!$A$96:$A$125,0),MATCH(G785,'ORDER FORM'!$I$119:$L$119,0)),\"\")=0,\"\",IFERROR(INDEX('ORDER FORM'!$I$96:$L$125,MATCH(CONCATENATE(E785,F785),'ORDER FORM'!$A$96:A$125,0),MATCH(G785,'ORDER FORM'!$I$119:$L$119,0)),\"\"))","v":""},{"$f":"IFERROR(IFERROR(INDEX('ORDER FORM'!N:N,MATCH(IMPORT!E785,'ORDER FORM'!B:B,0)),INDEX('ORDER FORM'!N:N,MATCH(TRIM(IMPORT!E785),'ORDER FORM'!B:B,0))),\"\")","v":""}]
["UPLOADUSD",{"$f":"IF('ORDER FORM'!$O$7=\"\",\"ENTER-PO\",'ORDER FORM'!$O$7)","v":"ENTER-PO"},"2021 Spring/Summer",{"$f":"IF('ORDER FORM'!$O$9=\"\",TODAY(),'ORDER FORM'!$O$9)","v":"2023-11-02"},710545,"039","L","2","610306139122",{"$f":"IF(IFERROR(INDEX('ORDER FORM'!$I$96:$L$125,MATCH(CONCATENATE(E786,F786),'ORDER FORM'!$A$96:$A$125,0),MATCH(G786,'ORDER FORM'!$I$119:$L$119,0)),\"\")=0,\"\",IFERROR(INDEX('ORDER FORM'!$I$96:$L$125,MATCH(CONCATENATE(E786,F786),'ORDER FORM'!$A$96:A$125,0),MATCH(G786,'ORDER FORM'!$I$119:$L$119,0)),\"\"))","v":""},{"$f":"IFERROR(IFERROR(INDEX('ORDER FORM'!N:N,MATCH(IMPORT!E786,'ORDER FORM'!B:B,0)),INDEX('ORDER FORM'!N:N,MATCH(TRIM(IMPORT!E786),'ORDER FORM'!B:B,0))),\"\")","v":""}]
["UPLOADUSD",{"$f":"IF('ORDER FORM'!$O$7=\"\",\"ENTER-PO\",'ORDER FORM'!$O$7)","v":"ENTER-PO"},"2021 Spring/Summer",{"$f":"IF('ORDER FORM'!$O$9=\"\",TODAY(),'ORDER FORM'!$O$9)","v":"2023-11-02"},710545,"039","XL","2","610306139139",{"$f":"IF(IFERROR(INDEX('ORDER FORM'!$I$96:$L$125,MATCH(CONCATENATE(E787,F787),'ORDER FORM'!$A$96:$A$125,0),MATCH(G787,'ORDER FORM'!$I$119:$L$119,0)),\"\")=0,\"\",IFERROR(INDEX('ORDER FORM'!$I$96:$L$125,MATCH(CONCATENATE(E787,F787),'ORDER FORM'!$A$96:A$125,0),MATCH(G787,'ORDER FORM'!$I$119:$L$119,0)),\"\"))","v":""},{"$f":"IFERROR(IFERROR(INDEX('ORDER FORM'!N:N,MATCH(IMPORT!E787,'ORDER FORM'!B:B,0)),INDEX('ORDER FORM'!N:N,MATCH(TRIM(IMPORT!E787),'ORDER FORM'!B:B,0))),\"\")","v":""}]
["UPLOADUSD",{"$f":"IF('ORDER FORM'!$O$7=\"\",\"ENTER-PO\",'ORDER FORM'!$O$7)","v":"ENTER-PO"},"2021 Spring/Summer",{"$f":"IF('ORDER FORM'!$O$9=\"\",TODAY(),'ORDER FORM'!$O$9)","v":"2023-11-02"},710545,"843","S","2","610306139146",{"$f":"IF(IFERROR(INDEX('ORDER FORM'!$I$96:$L$125,MATCH(CONCATENATE(E788,F788),'ORDER FORM'!$A$96:$A$125,0),MATCH(G788,'ORDER FORM'!$I$119:$L$119,0)),\"\")=0,\"\",IFERROR(INDEX('ORDER FORM'!$I$96:$L$125,MATCH(CONCATENATE(E788,F788),'ORDER FORM'!$A$96:A$125,0),MATCH(G788,'ORDER FORM'!$I$119:$L$119,0)),\"\"))","v":""},{"$f":"IFERROR(IFERROR(INDEX('ORDER FORM'!N:N,MATCH(IMPORT!E788,'ORDER FORM'!B:B,0)),INDEX('ORDER FORM'!N:N,MATCH(TRIM(IMPORT!E788),'ORDER FORM'!B:B,0))),\"\")","v":""}]
["UPLOADUSD",{"$f":"IF('ORDER FORM'!$O$7=\"\",\"ENTER-PO\",'ORDER FORM'!$O$7)","v":"ENTER-PO"},"2021 Spring/Summer",{"$f":"IF('ORDER FORM'!$O$9=\"\",TODAY(),'ORDER FORM'!$O$9)","v":"2023-11-02"},710545,"843","M","2","610306139153",{"$f":"IF(IFERROR(INDEX('ORDER FORM'!$I$96:$L$125,MATCH(CONCATENATE(E789,F789),'ORDER FORM'!$A$96:$A$125,0),MATCH(G789,'ORDER FORM'!$I$119:$L$119,0)),\"\")=0,\"\",IFERROR(INDEX('ORDER FORM'!$I$96:$L$125,MATCH(CONCATENATE(E789,F789),'ORDER FORM'!$A$96:A$125,0),MATCH(G789,'ORDER FORM'!$I$119:$L$119,0)),\"\"))","v":""},{"$f":"IFERROR(IFERROR(INDEX('ORDER FORM'!N:N,MATCH(IMPORT!E789,'ORDER FORM'!B:B,0)),INDEX('ORDER FORM'!N:N,MATCH(TRIM(IMPORT!E789),'ORDER FORM'!B:B,0))),\"\")","v":""}]
["UPLOADUSD",{"$f":"IF('ORDER FORM'!$O$7=\"\",\"ENTER-PO\",'ORDER FORM'!$O$7)","v":"ENTER-PO"},"2021 Spring/Summer",{"$f":"IF('ORDER FORM'!$O$9=\"\",TODAY(),'ORDER FORM'!$O$9)","v":"2023-11-02"},710545,"843","L","2","610306139160",{"$f":"IF(IFERROR(INDEX('ORDER FORM'!$I$96:$L$125,MATCH(CONCATENATE(E790,F790),'ORDER FORM'!$A$96:$A$125,0),MATCH(G790,'ORDER FORM'!$I$119:$L$119,0)),\"\")=0,\"\",IFERROR(INDEX('ORDER FORM'!$I$96:$L$125,MATCH(CONCATENATE(E790,F790),'ORDER FORM'!$A$96:A$125,0),MATCH(G790,'ORDER FORM'!$I$119:$L$119,0)),\"\"))","v":""},{"$f":"IFERROR(IFERROR(INDEX('ORDER FORM'!N:N,MATCH(IMPORT!E790,'ORDER FORM'!B:B,0)),INDEX('ORDER FORM'!N:N,MATCH(TRIM(IMPORT!E790),'ORDER FORM'!B:B,0))),\"\")","v":""}]
["UPLOADUSD",{"$f":"IF('ORDER FORM'!$O$7=\"\",\"ENTER-PO\",'ORDER FORM'!$O$7)","v":"ENTER-PO"},"2021 Spring/Summer",{"$f":"IF('ORDER FORM'!$O$9=\"\",TODAY(),'ORDER FORM'!$O$9)","v":"2023-11-02"},710545,"843","XL","2","610306139177",{"$f":"IF(IFERROR(INDEX('ORDER FORM'!$I$96:$L$125,MATCH(CONCATENATE(E791,F791),'ORDER FORM'!$A$96:$A$125,0),MATCH(G791,'ORDER FORM'!$I$119:$L$119,0)),\"\")=0,\"\",IFERROR(INDEX('ORDER FORM'!$I$96:$L$125,MATCH(CONCATENATE(E791,F791),'ORDER FORM'!$A$96:A$125,0),MATCH(G791,'ORDER FORM'!$I$119:$L$119,0)),\"\"))","v":""},{"$f":"IFERROR(IFERROR(INDEX('ORDER FORM'!N:N,MATCH(IMPORT!E791,'ORDER FORM'!B:B,0)),INDEX('ORDER FORM'!N:N,MATCH(TRIM(IMPORT!E791),'ORDER FORM'!B:B,0))),\"\")","v":""}]
["UPLOADUSD",{"$f":"IF('ORDER FORM'!$O$7=\"\",\"ENTER-PO\",'ORDER FORM'!$O$7)","v":"ENTER-PO"},"2021 Spring/Summer",{"$f":"IF('ORDER FORM'!$O$9=\"\",TODAY(),'ORDER FORM'!$O$9)","v":"2023-11-02"},710546,"850","S","2","610306139931",{"$f":"IF(IFERROR(INDEX('ORDER FORM'!$I$96:$L$125,MATCH(CONCATENATE(E792,F792),'ORDER FORM'!$A$96:$A$125,0),MATCH(G792,'ORDER FORM'!$I$119:$L$119,0)),\"\")=0,\"\",IFERROR(INDEX('ORDER FORM'!$I$96:$L$125,MATCH(CONCATENATE(E792,F792),'ORDER FORM'!$A$96:A$125,0),MATCH(G792,'ORDER FORM'!$I$119:$L$119,0)),\"\"))","v":""},{"$f":"IFERROR(IFERROR(INDEX('ORDER FORM'!N:N,MATCH(IMPORT!E792,'ORDER FORM'!B:B,0)),INDEX('ORDER FORM'!N:N,MATCH(TRIM(IMPORT!E792),'ORDER FORM'!B:B,0))),\"\")","v":{"v":16,"d":"16.00"}}]
["UPLOADUSD",{"$f":"IF('ORDER FORM'!$O$7=\"\",\"ENTER-PO\",'ORDER FORM'!$O$7)","v":"ENTER-PO"},"2021 Spring/Summer",{"$f":"IF('ORDER FORM'!$O$9=\"\",TODAY(),'ORDER FORM'!$O$9)","v":"2023-11-02"},710546,"850","M","2","610306139948",{"$f":"IF(IFERROR(INDEX('ORDER FORM'!$I$96:$L$125,MATCH(CONCATENATE(E793,F793),'ORDER FORM'!$A$96:$A$125,0),MATCH(G793,'ORDER FORM'!$I$119:$L$119,0)),\"\")=0,\"\",IFERROR(INDEX('ORDER FORM'!$I$96:$L$125,MATCH(CONCATENATE(E793,F793),'ORDER FORM'!$A$96:A$125,0),MATCH(G793,'ORDER FORM'!$I$119:$L$119,0)),\"\"))","v":""},{"$f":"IFERROR(IFERROR(INDEX('ORDER FORM'!N:N,MATCH(IMPORT!E793,'ORDER FORM'!B:B,0)),INDEX('ORDER FORM'!N:N,MATCH(TRIM(IMPORT!E793),'ORDER FORM'!B:B,0))),\"\")","v":{"v":16,"d":"16.00"}}]
["UPLOADUSD",{"$f":"IF('ORDER FORM'!$O$7=\"\",\"ENTER-PO\",'ORDER FORM'!$O$7)","v":"ENTER-PO"},"2021 Spring/Summer",{"$f":"IF('ORDER FORM'!$O$9=\"\",TODAY(),'ORDER FORM'!$O$9)","v":"2023-11-02"},710546,"850","L","2","610306139955",{"$f":"IF(IFERROR(INDEX('ORDER FORM'!$I$96:$L$125,MATCH(CONCATENATE(E794,F794),'ORDER FORM'!$A$96:$A$125,0),MATCH(G794,'ORDER FORM'!$I$119:$L$119,0)),\"\")=0,\"\",IFERROR(INDEX('ORDER FORM'!$I$96:$L$125,MATCH(CONCATENATE(E794,F794),'ORDER FORM'!$A$96:A$125,0),MATCH(G794,'ORDER FORM'!$I$119:$L$119,0)),\"\"))","v":""},{"$f":"IFERROR(IFERROR(INDEX('ORDER FORM'!N:N,MATCH(IMPORT!E794,'ORDER FORM'!B:B,0)),INDEX('ORDER FORM'!N:N,MATCH(TRIM(IMPORT!E794),'ORDER FORM'!B:B,0))),\"\")","v":{"v":16,"d":"16.00"}}]
["UPLOADUSD",{"$f":"IF('ORDER FORM'!$O$7=\"\",\"ENTER-PO\",'ORDER FORM'!$O$7)","v":"ENTER-PO"},"2021 Spring/Summer",{"$f":"IF('ORDER FORM'!$O$9=\"\",TODAY(),'ORDER FORM'!$O$9)","v":"2023-11-02"},710546,"850","XL","2","610306139962",{"$f":"IF(IFERROR(INDEX('ORDER FORM'!$I$96:$L$125,MATCH(CONCATENATE(E795,F795),'ORDER FORM'!$A$96:$A$125,0),MATCH(G795,'ORDER FORM'!$I$119:$L$119,0)),\"\")=0,\"\",IFERROR(INDEX('ORDER FORM'!$I$96:$L$125,MATCH(CONCATENATE(E795,F795),'ORDER FORM'!$A$96:A$125,0),MATCH(G795,'ORDER FORM'!$I$119:$L$119,0)),\"\"))","v":""},{"$f":"IFERROR(IFERROR(INDEX('ORDER FORM'!N:N,MATCH(IMPORT!E795,'ORDER FORM'!B:B,0)),INDEX('ORDER FORM'!N:N,MATCH(TRIM(IMPORT!E795),'ORDER FORM'!B:B,0))),\"\")","v":{"v":16,"d":"16.00"}}]
["UPLOADUSD",{"$f":"IF('ORDER FORM'!$O$7=\"\",\"ENTER-PO\",'ORDER FORM'!$O$7)","v":"ENTER-PO"},"2021 Spring/Summer",{"$f":"IF('ORDER FORM'!$O$9=\"\",TODAY(),'ORDER FORM'!$O$9)","v":"2023-11-02"},710547,"009","S","2","610306139887",{"$f":"IF(IFERROR(INDEX('ORDER FORM'!$I$96:$L$125,MATCH(CONCATENATE(E796,F796),'ORDER FORM'!$A$96:$A$125,0),MATCH(G796,'ORDER FORM'!$I$119:$L$119,0)),\"\")=0,\"\",IFERROR(INDEX('ORDER FORM'!$I$96:$L$125,MATCH(CONCATENATE(E796,F796),'ORDER FORM'!$A$96:A$125,0),MATCH(G796,'ORDER FORM'!$I$119:$L$119,0)),\"\"))","v":""},{"$f":"IFERROR(IFERROR(INDEX('ORDER FORM'!N:N,MATCH(IMPORT!E796,'ORDER FORM'!B:B,0)),INDEX('ORDER FORM'!N:N,MATCH(TRIM(IMPORT!E796),'ORDER FORM'!B:B,0))),\"\")","v":{"v":16,"d":"16.00"}}]
["UPLOADUSD",{"$f":"IF('ORDER FORM'!$O$7=\"\",\"ENTER-PO\",'ORDER FORM'!$O$7)","v":"ENTER-PO"},"2021 Spring/Summer",{"$f":"IF('ORDER FORM'!$O$9=\"\",TODAY(),'ORDER FORM'!$O$9)","v":"2023-11-02"},710547,"009","M","2","610306139894",{"$f":"IF(IFERROR(INDEX('ORDER FORM'!$I$96:$L$125,MATCH(CONCATENATE(E797,F797),'ORDER FORM'!$A$96:$A$125,0),MATCH(G797,'ORDER FORM'!$I$119:$L$119,0)),\"\")=0,\"\",IFERROR(INDEX('ORDER FORM'!$I$96:$L$125,MATCH(CONCATENATE(E797,F797),'ORDER FORM'!$A$96:A$125,0),MATCH(G797,'ORDER FORM'!$I$119:$L$119,0)),\"\"))","v":""},{"$f":"IFERROR(IFERROR(INDEX('ORDER FORM'!N:N,MATCH(IMPORT!E797,'ORDER FORM'!B:B,0)),INDEX('ORDER FORM'!N:N,MATCH(TRIM(IMPORT!E797),'ORDER FORM'!B:B,0))),\"\")","v":{"v":16,"d":"16.00"}}]
["UPLOADUSD",{"$f":"IF('ORDER FORM'!$O$7=\"\",\"ENTER-PO\",'ORDER FORM'!$O$7)","v":"ENTER-PO"},"2021 Spring/Summer",{"$f":"IF('ORDER FORM'!$O$9=\"\",TODAY(),'ORDER FORM'!$O$9)","v":"2023-11-02"},710547,"009","L","2","610306139900",{"$f":"IF(IFERROR(INDEX('ORDER FORM'!$I$96:$L$125,MATCH(CONCATENATE(E798,F798),'ORDER FORM'!$A$96:$A$125,0),MATCH(G798,'ORDER FORM'!$I$119:$L$119,0)),\"\")=0,\"\",IFERROR(INDEX('ORDER FORM'!$I$96:$L$125,MATCH(CONCATENATE(E798,F798),'ORDER FORM'!$A$96:A$125,0),MATCH(G798,'ORDER FORM'!$I$119:$L$119,0)),\"\"))","v":""},{"$f":"IFERROR(IFERROR(INDEX('ORDER FORM'!N:N,MATCH(IMPORT!E798,'ORDER FORM'!B:B,0)),INDEX('ORDER FORM'!N:N,MATCH(TRIM(IMPORT!E798),'ORDER FORM'!B:B,0))),\"\")","v":{"v":16,"d":"16.00"}}]
["UPLOADUSD",{"$f":"IF('ORDER FORM'!$O$7=\"\",\"ENTER-PO\",'ORDER FORM'!$O$7)","v":"ENTER-PO"},"2021 Spring/Summer",{"$f":"IF('ORDER FORM'!$O$9=\"\",TODAY(),'ORDER FORM'!$O$9)","v":"2023-11-02"},710547,"009","XL","2","610306139917",{"$f":"IF(IFERROR(INDEX('ORDER FORM'!$I$96:$L$125,MATCH(CONCATENATE(E799,F799),'ORDER FORM'!$A$96:$A$125,0),MATCH(G799,'ORDER FORM'!$I$119:$L$119,0)),\"\")=0,\"\",IFERROR(INDEX('ORDER FORM'!$I$96:$L$125,MATCH(CONCATENATE(E799,F799),'ORDER FORM'!$A$96:A$125,0),MATCH(G799,'ORDER FORM'!$I$119:$L$119,0)),\"\"))","v":""},{"$f":"IFERROR(IFERROR(INDEX('ORDER FORM'!N:N,MATCH(IMPORT!E799,'ORDER FORM'!B:B,0)),INDEX('ORDER FORM'!N:N,MATCH(TRIM(IMPORT!E799),'ORDER FORM'!B:B,0))),\"\")","v":{"v":16,"d":"16.00"}}]
["UPLOADUSD",{"$f":"IF('ORDER FORM'!$O$7=\"\",\"ENTER-PO\",'ORDER FORM'!$O$7)","v":"ENTER-PO"},"2021 Spring/Summer",{"$f":"IF('ORDER FORM'!$O$9=\"\",TODAY(),'ORDER FORM'!$O$9)","v":"2023-11-02"},710550,"135","S","2","610306143457",{"$f":"IF(IFERROR(INDEX('ORDER FORM'!$I$96:$L$125,MATCH(CONCATENATE(E800,F800),'ORDER FORM'!$A$96:$A$125,0),MATCH(G800,'ORDER FORM'!$I$119:$L$119,0)),\"\")=0,\"\",IFERROR(INDEX('ORDER FORM'!$I$96:$L$125,MATCH(CONCATENATE(E800,F800),'ORDER FORM'!$A$96:A$125,0),MATCH(G800,'ORDER FORM'!$I$119:$L$119,0)),\"\"))","v":""},{"$f":"IFERROR(IFERROR(INDEX('ORDER FORM'!N:N,MATCH(IMPORT!E800,'ORDER FORM'!B:B,0)),INDEX('ORDER FORM'!N:N,MATCH(TRIM(IMPORT!E800),'ORDER FORM'!B:B,0))),\"\")","v":{"v":15,"d":"15.00"}}]
["UPLOADUSD",{"$f":"IF('ORDER FORM'!$O$7=\"\",\"ENTER-PO\",'ORDER FORM'!$O$7)","v":"ENTER-PO"},"2021 Spring/Summer",{"$f":"IF('ORDER FORM'!$O$9=\"\",TODAY(),'ORDER FORM'!$O$9)","v":"2023-11-02"},710550,"135","M","2","610306143464",{"$f":"IF(IFERROR(INDEX('ORDER FORM'!$I$96:$L$125,MATCH(CONCATENATE(E801,F801),'ORDER FORM'!$A$96:$A$125,0),MATCH(G801,'ORDER FORM'!$I$119:$L$119,0)),\"\")=0,\"\",IFERROR(INDEX('ORDER FORM'!$I$96:$L$125,MATCH(CONCATENATE(E801,F801),'ORDER FORM'!$A$96:A$125,0),MATCH(G801,'ORDER FORM'!$I$119:$L$119,0)),\"\"))","v":""},{"$f":"IFERROR(IFERROR(INDEX('ORDER FORM'!N:N,MATCH(IMPORT!E801,'ORDER FORM'!B:B,0)),INDEX('ORDER FORM'!N:N,MATCH(TRIM(IMPORT!E801),'ORDER FORM'!B:B,0))),\"\")","v":{"v":15,"d":"15.00"}}]
["UPLOADUSD",{"$f":"IF('ORDER FORM'!$O$7=\"\",\"ENTER-PO\",'ORDER FORM'!$O$7)","v":"ENTER-PO"},"2021 Spring/Summer",{"$f":"IF('ORDER FORM'!$O$9=\"\",TODAY(),'ORDER FORM'!$O$9)","v":"2023-11-02"},710550,"135","L","2","610306143471",{"$f":"IF(IFERROR(INDEX('ORDER FORM'!$I$96:$L$125,MATCH(CONCATENATE(E802,F802),'ORDER FORM'!$A$96:$A$125,0),MATCH(G802,'ORDER FORM'!$I$119:$L$119,0)),\"\")=0,\"\",IFERROR(INDEX('ORDER FORM'!$I$96:$L$125,MATCH(CONCATENATE(E802,F802),'ORDER FORM'!$A$96:A$125,0),MATCH(G802,'ORDER FORM'!$I$119:$L$119,0)),\"\"))","v":""},{"$f":"IFERROR(IFERROR(INDEX('ORDER FORM'!N:N,MATCH(IMPORT!E802,'ORDER FORM'!B:B,0)),INDEX('ORDER FORM'!N:N,MATCH(TRIM(IMPORT!E802),'ORDER FORM'!B:B,0))),\"\")","v":{"v":15,"d":"15.00"}}]
["UPLOADUSD",{"$f":"IF('ORDER FORM'!$O$7=\"\",\"ENTER-PO\",'ORDER FORM'!$O$7)","v":"ENTER-PO"},"2021 Spring/Summer",{"$f":"IF('ORDER FORM'!$O$9=\"\",TODAY(),'ORDER FORM'!$O$9)","v":"2023-11-02"},710550,"135","XL","2","610306143488",{"$f":"IF(IFERROR(INDEX('ORDER FORM'!$I$96:$L$125,MATCH(CONCATENATE(E803,F803),'ORDER FORM'!$A$96:$A$125,0),MATCH(G803,'ORDER FORM'!$I$119:$L$119,0)),\"\")=0,\"\",IFERROR(INDEX('ORDER FORM'!$I$96:$L$125,MATCH(CONCATENATE(E803,F803),'ORDER FORM'!$A$96:A$125,0),MATCH(G803,'ORDER FORM'!$I$119:$L$119,0)),\"\"))","v":""},{"$f":"IFERROR(IFERROR(INDEX('ORDER FORM'!N:N,MATCH(IMPORT!E803,'ORDER FORM'!B:B,0)),INDEX('ORDER FORM'!N:N,MATCH(TRIM(IMPORT!E803),'ORDER FORM'!B:B,0))),\"\")","v":{"v":15,"d":"15.00"}}]
["UPLOADUSD",{"$f":"IF('ORDER FORM'!$O$7=\"\",\"ENTER-PO\",'ORDER FORM'!$O$7)","v":"ENTER-PO"},"2021 Spring/Summer",{"$f":"IF('ORDER FORM'!$O$9=\"\",TODAY(),'ORDER FORM'!$O$9)","v":"2023-11-02"},710550,"136","S","2","610306143495",{"$f":"IF(IFERROR(INDEX('ORDER FORM'!$I$96:$L$125,MATCH(CONCATENATE(E804,F804),'ORDER FORM'!$A$96:$A$125,0),MATCH(G804,'ORDER FORM'!$I$119:$L$119,0)),\"\")=0,\"\",IFERROR(INDEX('ORDER FORM'!$I$96:$L$125,MATCH(CONCATENATE(E804,F804),'ORDER FORM'!$A$96:A$125,0),MATCH(G804,'ORDER FORM'!$I$119:$L$119,0)),\"\"))","v":""},{"$f":"IFERROR(IFERROR(INDEX('ORDER FORM'!N:N,MATCH(IMPORT!E804,'ORDER FORM'!B:B,0)),INDEX('ORDER FORM'!N:N,MATCH(TRIM(IMPORT!E804),'ORDER FORM'!B:B,0))),\"\")","v":{"v":15,"d":"15.00"}}]
["UPLOADUSD",{"$f":"IF('ORDER FORM'!$O$7=\"\",\"ENTER-PO\",'ORDER FORM'!$O$7)","v":"ENTER-PO"},"2021 Spring/Summer",{"$f":"IF('ORDER FORM'!$O$9=\"\",TODAY(),'ORDER FORM'!$O$9)","v":"2023-11-02"},710550,"136","M","2","610306143501",{"$f":"IF(IFERROR(INDEX('ORDER FORM'!$I$96:$L$125,MATCH(CONCATENATE(E805,F805),'ORDER FORM'!$A$96:$A$125,0),MATCH(G805,'ORDER FORM'!$I$119:$L$119,0)),\"\")=0,\"\",IFERROR(INDEX('ORDER FORM'!$I$96:$L$125,MATCH(CONCATENATE(E805,F805),'ORDER FORM'!$A$96:A$125,0),MATCH(G805,'ORDER FORM'!$I$119:$L$119,0)),\"\"))","v":""},{"$f":"IFERROR(IFERROR(INDEX('ORDER FORM'!N:N,MATCH(IMPORT!E805,'ORDER FORM'!B:B,0)),INDEX('ORDER FORM'!N:N,MATCH(TRIM(IMPORT!E805),'ORDER FORM'!B:B,0))),\"\")","v":{"v":15,"d":"15.00"}}]
["UPLOADUSD",{"$f":"IF('ORDER FORM'!$O$7=\"\",\"ENTER-PO\",'ORDER FORM'!$O$7)","v":"ENTER-PO"},"2021 Spring/Summer",{"$f":"IF('ORDER FORM'!$O$9=\"\",TODAY(),'ORDER FORM'!$O$9)","v":"2023-11-02"},710550,"136","L","2","610306143518",{"$f":"IF(IFERROR(INDEX('ORDER FORM'!$I$96:$L$125,MATCH(CONCATENATE(E806,F806),'ORDER FORM'!$A$96:$A$125,0),MATCH(G806,'ORDER FORM'!$I$119:$L$119,0)),\"\")=0,\"\",IFERROR(INDEX('ORDER FORM'!$I$96:$L$125,MATCH(CONCATENATE(E806,F806),'ORDER FORM'!$A$96:A$125,0),MATCH(G806,'ORDER FORM'!$I$119:$L$119,0)),\"\"))","v":""},{"$f":"IFERROR(IFERROR(INDEX('ORDER FORM'!N:N,MATCH(IMPORT!E806,'ORDER FORM'!B:B,0)),INDEX('ORDER FORM'!N:N,MATCH(TRIM(IMPORT!E806),'ORDER FORM'!B:B,0))),\"\")","v":{"v":15,"d":"15.00"}}]
["UPLOADUSD",{"$f":"IF('ORDER FORM'!$O$7=\"\",\"ENTER-PO\",'ORDER FORM'!$O$7)","v":"ENTER-PO"},"2021 Spring/Summer",{"$f":"IF('ORDER FORM'!$O$9=\"\",TODAY(),'ORDER FORM'!$O$9)","v":"2023-11-02"},710550,"136","XL","2","610306143525",{"$f":"IF(IFERROR(INDEX('ORDER FORM'!$I$96:$L$125,MATCH(CONCATENATE(E807,F807),'ORDER FORM'!$A$96:$A$125,0),MATCH(G807,'ORDER FORM'!$I$119:$L$119,0)),\"\")=0,\"\",IFERROR(INDEX('ORDER FORM'!$I$96:$L$125,MATCH(CONCATENATE(E807,F807),'ORDER FORM'!$A$96:A$125,0),MATCH(G807,'ORDER FORM'!$I$119:$L$119,0)),\"\"))","v":""},{"$f":"IFERROR(IFERROR(INDEX('ORDER FORM'!N:N,MATCH(IMPORT!E807,'ORDER FORM'!B:B,0)),INDEX('ORDER FORM'!N:N,MATCH(TRIM(IMPORT!E807),'ORDER FORM'!B:B,0))),\"\")","v":{"v":15,"d":"15.00"}}]
["UPLOADUSD",{"$f":"IF('ORDER FORM'!$O$7=\"\",\"ENTER-PO\",'ORDER FORM'!$O$7)","v":"ENTER-PO"},"2021 Spring/Summer",{"$f":"IF('ORDER FORM'!$O$9=\"\",TODAY(),'ORDER FORM'!$O$9)","v":"2023-11-02"},710550,"137","S","2","610306143532",{"$f":"IF(IFERROR(INDEX('ORDER FORM'!$I$96:$L$125,MATCH(CONCATENATE(E808,F808),'ORDER FORM'!$A$96:$A$125,0),MATCH(G808,'ORDER FORM'!$I$119:$L$119,0)),\"\")=0,\"\",IFERROR(INDEX('ORDER FORM'!$I$96:$L$125,MATCH(CONCATENATE(E808,F808),'ORDER FORM'!$A$96:A$125,0),MATCH(G808,'ORDER FORM'!$I$119:$L$119,0)),\"\"))","v":""},{"$f":"IFERROR(IFERROR(INDEX('ORDER FORM'!N:N,MATCH(IMPORT!E808,'ORDER FORM'!B:B,0)),INDEX('ORDER FORM'!N:N,MATCH(TRIM(IMPORT!E808),'ORDER FORM'!B:B,0))),\"\")","v":{"v":15,"d":"15.00"}}]
["UPLOADUSD",{"$f":"IF('ORDER FORM'!$O$7=\"\",\"ENTER-PO\",'ORDER FORM'!$O$7)","v":"ENTER-PO"},"2021 Spring/Summer",{"$f":"IF('ORDER FORM'!$O$9=\"\",TODAY(),'ORDER FORM'!$O$9)","v":"2023-11-02"},710550,"137","M","2","610306143549",{"$f":"IF(IFERROR(INDEX('ORDER FORM'!$I$96:$L$125,MATCH(CONCATENATE(E809,F809),'ORDER FORM'!$A$96:$A$125,0),MATCH(G809,'ORDER FORM'!$I$119:$L$119,0)),\"\")=0,\"\",IFERROR(INDEX('ORDER FORM'!$I$96:$L$125,MATCH(CONCATENATE(E809,F809),'ORDER FORM'!$A$96:A$125,0),MATCH(G809,'ORDER FORM'!$I$119:$L$119,0)),\"\"))","v":""},{"$f":"IFERROR(IFERROR(INDEX('ORDER FORM'!N:N,MATCH(IMPORT!E809,'ORDER FORM'!B:B,0)),INDEX('ORDER FORM'!N:N,MATCH(TRIM(IMPORT!E809),'ORDER FORM'!B:B,0))),\"\")","v":{"v":15,"d":"15.00"}}]
["UPLOADUSD",{"$f":"IF('ORDER FORM'!$O$7=\"\",\"ENTER-PO\",'ORDER FORM'!$O$7)","v":"ENTER-PO"},"2021 Spring/Summer",{"$f":"IF('ORDER FORM'!$O$9=\"\",TODAY(),'ORDER FORM'!$O$9)","v":"2023-11-02"},710550,"137","L","2","610306143556",{"$f":"IF(IFERROR(INDEX('ORDER FORM'!$I$96:$L$125,MATCH(CONCATENATE(E810,F810),'ORDER FORM'!$A$96:$A$125,0),MATCH(G810,'ORDER FORM'!$I$119:$L$119,0)),\"\")=0,\"\",IFERROR(INDEX('ORDER FORM'!$I$96:$L$125,MATCH(CONCATENATE(E810,F810),'ORDER FORM'!$A$96:A$125,0),MATCH(G810,'ORDER FORM'!$I$119:$L$119,0)),\"\"))","v":""},{"$f":"IFERROR(IFERROR(INDEX('ORDER FORM'!N:N,MATCH(IMPORT!E810,'ORDER FORM'!B:B,0)),INDEX('ORDER FORM'!N:N,MATCH(TRIM(IMPORT!E810),'ORDER FORM'!B:B,0))),\"\")","v":{"v":15,"d":"15.00"}}]
["UPLOADUSD",{"$f":"IF('ORDER FORM'!$O$7=\"\",\"ENTER-PO\",'ORDER FORM'!$O$7)","v":"ENTER-PO"},"2021 Spring/Summer",{"$f":"IF('ORDER FORM'!$O$9=\"\",TODAY(),'ORDER FORM'!$O$9)","v":"2023-11-02"},710550,"137","XL","2","610306143563",{"$f":"IF(IFERROR(INDEX('ORDER FORM'!$I$96:$L$125,MATCH(CONCATENATE(E811,F811),'ORDER FORM'!$A$96:$A$125,0),MATCH(G811,'ORDER FORM'!$I$119:$L$119,0)),\"\")=0,\"\",IFERROR(INDEX('ORDER FORM'!$I$96:$L$125,MATCH(CONCATENATE(E811,F811),'ORDER FORM'!$A$96:A$125,0),MATCH(G811,'ORDER FORM'!$I$119:$L$119,0)),\"\"))","v":""},{"$f":"IFERROR(IFERROR(INDEX('ORDER FORM'!N:N,MATCH(IMPORT!E811,'ORDER FORM'!B:B,0)),INDEX('ORDER FORM'!N:N,MATCH(TRIM(IMPORT!E811),'ORDER FORM'!B:B,0))),\"\")","v":{"v":15,"d":"15.00"}}]
["UPLOADUSD",{"$f":"IF('ORDER FORM'!$O$7=\"\",\"ENTER-PO\",'ORDER FORM'!$O$7)","v":"ENTER-PO"},"2021 Spring/Summer",{"$f":"IF('ORDER FORM'!$O$9=\"\",TODAY(),'ORDER FORM'!$O$9)","v":"2023-11-02"},710550,"843","S","2","610306139627",{"$f":"IF(IFERROR(INDEX('ORDER FORM'!$I$96:$L$125,MATCH(CONCATENATE(E812,F812),'ORDER FORM'!$A$96:$A$125,0),MATCH(G812,'ORDER FORM'!$I$119:$L$119,0)),\"\")=0,\"\",IFERROR(INDEX('ORDER FORM'!$I$96:$L$125,MATCH(CONCATENATE(E812,F812),'ORDER FORM'!$A$96:A$125,0),MATCH(G812,'ORDER FORM'!$I$119:$L$119,0)),\"\"))","v":""},{"$f":"IFERROR(IFERROR(INDEX('ORDER FORM'!N:N,MATCH(IMPORT!E812,'ORDER FORM'!B:B,0)),INDEX('ORDER FORM'!N:N,MATCH(TRIM(IMPORT!E812),'ORDER FORM'!B:B,0))),\"\")","v":{"v":15,"d":"15.00"}}]
["UPLOADUSD",{"$f":"IF('ORDER FORM'!$O$7=\"\",\"ENTER-PO\",'ORDER FORM'!$O$7)","v":"ENTER-PO"},"2021 Spring/Summer",{"$f":"IF('ORDER FORM'!$O$9=\"\",TODAY(),'ORDER FORM'!$O$9)","v":"2023-11-02"},710550,"843","M","2","610306139634",{"$f":"IF(IFERROR(INDEX('ORDER FORM'!$I$96:$L$125,MATCH(CONCATENATE(E813,F813),'ORDER FORM'!$A$96:$A$125,0),MATCH(G813,'ORDER FORM'!$I$119:$L$119,0)),\"\")=0,\"\",IFERROR(INDEX('ORDER FORM'!$I$96:$L$125,MATCH(CONCATENATE(E813,F813),'ORDER FORM'!$A$96:A$125,0),MATCH(G813,'ORDER FORM'!$I$119:$L$119,0)),\"\"))","v":""},{"$f":"IFERROR(IFERROR(INDEX('ORDER FORM'!N:N,MATCH(IMPORT!E813,'ORDER FORM'!B:B,0)),INDEX('ORDER FORM'!N:N,MATCH(TRIM(IMPORT!E813),'ORDER FORM'!B:B,0))),\"\")","v":{"v":15,"d":"15.00"}}]
["UPLOADUSD",{"$f":"IF('ORDER FORM'!$O$7=\"\",\"ENTER-PO\",'ORDER FORM'!$O$7)","v":"ENTER-PO"},"2021 Spring/Summer",{"$f":"IF('ORDER FORM'!$O$9=\"\",TODAY(),'ORDER FORM'!$O$9)","v":"2023-11-02"},710550,"843","L","2","610306139641",{"$f":"IF(IFERROR(INDEX('ORDER FORM'!$I$96:$L$125,MATCH(CONCATENATE(E814,F814),'ORDER FORM'!$A$96:$A$125,0),MATCH(G814,'ORDER FORM'!$I$119:$L$119,0)),\"\")=0,\"\",IFERROR(INDEX('ORDER FORM'!$I$96:$L$125,MATCH(CONCATENATE(E814,F814),'ORDER FORM'!$A$96:A$125,0),MATCH(G814,'ORDER FORM'!$I$119:$L$119,0)),\"\"))","v":""},{"$f":"IFERROR(IFERROR(INDEX('ORDER FORM'!N:N,MATCH(IMPORT!E814,'ORDER FORM'!B:B,0)),INDEX('ORDER FORM'!N:N,MATCH(TRIM(IMPORT!E814),'ORDER FORM'!B:B,0))),\"\")","v":{"v":15,"d":"15.00"}}]
["UPLOADUSD",{"$f":"IF('ORDER FORM'!$O$7=\"\",\"ENTER-PO\",'ORDER FORM'!$O$7)","v":"ENTER-PO"},"2021 Spring/Summer",{"$f":"IF('ORDER FORM'!$O$9=\"\",TODAY(),'ORDER FORM'!$O$9)","v":"2023-11-02"},710550,"843","XL","2","610306139658",{"$f":"IF(IFERROR(INDEX('ORDER FORM'!$I$96:$L$125,MATCH(CONCATENATE(E815,F815),'ORDER FORM'!$A$96:$A$125,0),MATCH(G815,'ORDER FORM'!$I$119:$L$119,0)),\"\")=0,\"\",IFERROR(INDEX('ORDER FORM'!$I$96:$L$125,MATCH(CONCATENATE(E815,F815),'ORDER FORM'!$A$96:A$125,0),MATCH(G815,'ORDER FORM'!$I$119:$L$119,0)),\"\"))","v":""},{"$f":"IFERROR(IFERROR(INDEX('ORDER FORM'!N:N,MATCH(IMPORT!E815,'ORDER FORM'!B:B,0)),INDEX('ORDER FORM'!N:N,MATCH(TRIM(IMPORT!E815),'ORDER FORM'!B:B,0))),\"\")","v":{"v":15,"d":"15.00"}}]
["UPLOADUSD",{"$f":"IF('ORDER FORM'!$O$7=\"\",\"ENTER-PO\",'ORDER FORM'!$O$7)","v":"ENTER-PO"},"2021 Spring/Summer",{"$f":"IF('ORDER FORM'!$O$9=\"\",TODAY(),'ORDER FORM'!$O$9)","v":"2023-11-02"},710550,"852","S","2","610306143921",{"$f":"IF(IFERROR(INDEX('ORDER FORM'!$I$96:$L$125,MATCH(CONCATENATE(E816,F816),'ORDER FORM'!$A$96:$A$125,0),MATCH(G816,'ORDER FORM'!$I$119:$L$119,0)),\"\")=0,\"\",IFERROR(INDEX('ORDER FORM'!$I$96:$L$125,MATCH(CONCATENATE(E816,F816),'ORDER FORM'!$A$96:A$125,0),MATCH(G816,'ORDER FORM'!$I$119:$L$119,0)),\"\"))","v":""},{"$f":"IFERROR(IFERROR(INDEX('ORDER FORM'!N:N,MATCH(IMPORT!E816,'ORDER FORM'!B:B,0)),INDEX('ORDER FORM'!N:N,MATCH(TRIM(IMPORT!E816),'ORDER FORM'!B:B,0))),\"\")","v":{"v":15,"d":"15.00"}}]
["UPLOADUSD",{"$f":"IF('ORDER FORM'!$O$7=\"\",\"ENTER-PO\",'ORDER FORM'!$O$7)","v":"ENTER-PO"},"2021 Spring/Summer",{"$f":"IF('ORDER FORM'!$O$9=\"\",TODAY(),'ORDER FORM'!$O$9)","v":"2023-11-02"},710550,"852","M","2","610306143938",{"$f":"IF(IFERROR(INDEX('ORDER FORM'!$I$96:$L$125,MATCH(CONCATENATE(E817,F817),'ORDER FORM'!$A$96:$A$125,0),MATCH(G817,'ORDER FORM'!$I$119:$L$119,0)),\"\")=0,\"\",IFERROR(INDEX('ORDER FORM'!$I$96:$L$125,MATCH(CONCATENATE(E817,F817),'ORDER FORM'!$A$96:A$125,0),MATCH(G817,'ORDER FORM'!$I$119:$L$119,0)),\"\"))","v":""},{"$f":"IFERROR(IFERROR(INDEX('ORDER FORM'!N:N,MATCH(IMPORT!E817,'ORDER FORM'!B:B,0)),INDEX('ORDER FORM'!N:N,MATCH(TRIM(IMPORT!E817),'ORDER FORM'!B:B,0))),\"\")","v":{"v":15,"d":"15.00"}}]
["UPLOADUSD",{"$f":"IF('ORDER FORM'!$O$7=\"\",\"ENTER-PO\",'ORDER FORM'!$O$7)","v":"ENTER-PO"},"2021 Spring/Summer",{"$f":"IF('ORDER FORM'!$O$9=\"\",TODAY(),'ORDER FORM'!$O$9)","v":"2023-11-02"},710550,"852","L","2","610306143945",{"$f":"IF(IFERROR(INDEX('ORDER FORM'!$I$96:$L$125,MATCH(CONCATENATE(E818,F818),'ORDER FORM'!$A$96:$A$125,0),MATCH(G818,'ORDER FORM'!$I$119:$L$119,0)),\"\")=0,\"\",IFERROR(INDEX('ORDER FORM'!$I$96:$L$125,MATCH(CONCATENATE(E818,F818),'ORDER FORM'!$A$96:A$125,0),MATCH(G818,'ORDER FORM'!$I$119:$L$119,0)),\"\"))","v":""},{"$f":"IFERROR(IFERROR(INDEX('ORDER FORM'!N:N,MATCH(IMPORT!E818,'ORDER FORM'!B:B,0)),INDEX('ORDER FORM'!N:N,MATCH(TRIM(IMPORT!E818),'ORDER FORM'!B:B,0))),\"\")","v":{"v":15,"d":"15.00"}}]
["UPLOADUSD",{"$f":"IF('ORDER FORM'!$O$7=\"\",\"ENTER-PO\",'ORDER FORM'!$O$7)","v":"ENTER-PO"},"2021 Spring/Summer",{"$f":"IF('ORDER FORM'!$O$9=\"\",TODAY(),'ORDER FORM'!$O$9)","v":"2023-11-02"},710550,"852","XL","2","610306143952",{"$f":"IF(IFERROR(INDEX('ORDER FORM'!$I$96:$L$125,MATCH(CONCATENATE(E819,F819),'ORDER FORM'!$A$96:$A$125,0),MATCH(G819,'ORDER FORM'!$I$119:$L$119,0)),\"\")=0,\"\",IFERROR(INDEX('ORDER FORM'!$I$96:$L$125,MATCH(CONCATENATE(E819,F819),'ORDER FORM'!$A$96:A$125,0),MATCH(G819,'ORDER FORM'!$I$119:$L$119,0)),\"\"))","v":""},{"$f":"IFERROR(IFERROR(INDEX('ORDER FORM'!N:N,MATCH(IMPORT!E819,'ORDER FORM'!B:B,0)),INDEX('ORDER FORM'!N:N,MATCH(TRIM(IMPORT!E819),'ORDER FORM'!B:B,0))),\"\")","v":{"v":15,"d":"15.00"}}]
["UPLOADUSD",{"$f":"IF('ORDER FORM'!$O$7=\"\",\"ENTER-PO\",'ORDER FORM'!$O$7)","v":"ENTER-PO"},"2021 Spring/Summer",{"$f":"IF('ORDER FORM'!$O$9=\"\",TODAY(),'ORDER FORM'!$O$9)","v":"2023-11-02"},710556,"003","S","2","610306139412",{"$f":"IF(IFERROR(INDEX('ORDER FORM'!$I$96:$L$125,MATCH(CONCATENATE(E820,F820),'ORDER FORM'!$A$96:$A$125,0),MATCH(G820,'ORDER FORM'!$I$119:$L$119,0)),\"\")=0,\"\",IFERROR(INDEX('ORDER FORM'!$I$96:$L$125,MATCH(CONCATENATE(E820,F820),'ORDER FORM'!$A$96:A$125,0),MATCH(G820,'ORDER FORM'!$I$119:$L$119,0)),\"\"))","v":""},{"$f":"IFERROR(IFERROR(INDEX('ORDER FORM'!N:N,MATCH(IMPORT!E820,'ORDER FORM'!B:B,0)),INDEX('ORDER FORM'!N:N,MATCH(TRIM(IMPORT!E820),'ORDER FORM'!B:B,0))),\"\")","v":""}]
["UPLOADUSD",{"$f":"IF('ORDER FORM'!$O$7=\"\",\"ENTER-PO\",'ORDER FORM'!$O$7)","v":"ENTER-PO"},"2021 Spring/Summer",{"$f":"IF('ORDER FORM'!$O$9=\"\",TODAY(),'ORDER FORM'!$O$9)","v":"2023-11-02"},710556,"003","M","2","610306139429",{"$f":"IF(IFERROR(INDEX('ORDER FORM'!$I$96:$L$125,MATCH(CONCATENATE(E821,F821),'ORDER FORM'!$A$96:$A$125,0),MATCH(G821,'ORDER FORM'!$I$119:$L$119,0)),\"\")=0,\"\",IFERROR(INDEX('ORDER FORM'!$I$96:$L$125,MATCH(CONCATENATE(E821,F821),'ORDER FORM'!$A$96:A$125,0),MATCH(G821,'ORDER FORM'!$I$119:$L$119,0)),\"\"))","v":""},{"$f":"IFERROR(IFERROR(INDEX('ORDER FORM'!N:N,MATCH(IMPORT!E821,'ORDER FORM'!B:B,0)),INDEX('ORDER FORM'!N:N,MATCH(TRIM(IMPORT!E821),'ORDER FORM'!B:B,0))),\"\")","v":""}]
["UPLOADUSD",{"$f":"IF('ORDER FORM'!$O$7=\"\",\"ENTER-PO\",'ORDER FORM'!$O$7)","v":"ENTER-PO"},"2021 Spring/Summer",{"$f":"IF('ORDER FORM'!$O$9=\"\",TODAY(),'ORDER FORM'!$O$9)","v":"2023-11-02"},710556,"003","L","2","610306139436",{"$f":"IF(IFERROR(INDEX('ORDER FORM'!$I$96:$L$125,MATCH(CONCATENATE(E822,F822),'ORDER FORM'!$A$96:$A$125,0),MATCH(G822,'ORDER FORM'!$I$119:$L$119,0)),\"\")=0,\"\",IFERROR(INDEX('ORDER FORM'!$I$96:$L$125,MATCH(CONCATENATE(E822,F822),'ORDER FORM'!$A$96:A$125,0),MATCH(G822,'ORDER FORM'!$I$119:$L$119,0)),\"\"))","v":""},{"$f":"IFERROR(IFERROR(INDEX('ORDER FORM'!N:N,MATCH(IMPORT!E822,'ORDER FORM'!B:B,0)),INDEX('ORDER FORM'!N:N,MATCH(TRIM(IMPORT!E822),'ORDER FORM'!B:B,0))),\"\")","v":""}]
["UPLOADUSD",{"$f":"IF('ORDER FORM'!$O$7=\"\",\"ENTER-PO\",'ORDER FORM'!$O$7)","v":"ENTER-PO"},"2021 Spring/Summer",{"$f":"IF('ORDER FORM'!$O$9=\"\",TODAY(),'ORDER FORM'!$O$9)","v":"2023-11-02"},710556,"003","XL","2","610306139443",{"$f":"IF(IFERROR(INDEX('ORDER FORM'!$I$96:$L$125,MATCH(CONCATENATE(E823,F823),'ORDER FORM'!$A$96:$A$125,0),MATCH(G823,'ORDER FORM'!$I$119:$L$119,0)),\"\")=0,\"\",IFERROR(INDEX('ORDER FORM'!$I$96:$L$125,MATCH(CONCATENATE(E823,F823),'ORDER FORM'!$A$96:A$125,0),MATCH(G823,'ORDER FORM'!$I$119:$L$119,0)),\"\"))","v":""},{"$f":"IFERROR(IFERROR(INDEX('ORDER FORM'!N:N,MATCH(IMPORT!E823,'ORDER FORM'!B:B,0)),INDEX('ORDER FORM'!N:N,MATCH(TRIM(IMPORT!E823),'ORDER FORM'!B:B,0))),\"\")","v":""}]
["UPLOADUSD",{"$f":"IF('ORDER FORM'!$O$7=\"\",\"ENTER-PO\",'ORDER FORM'!$O$7)","v":"ENTER-PO"},"2021 Spring/Summer",{"$f":"IF('ORDER FORM'!$O$9=\"\",TODAY(),'ORDER FORM'!$O$9)","v":"2023-11-02"},710556,"133","S","2","610306143341",{"$f":"IF(IFERROR(INDEX('ORDER FORM'!$I$96:$L$125,MATCH(CONCATENATE(E824,F824),'ORDER FORM'!$A$96:$A$125,0),MATCH(G824,'ORDER FORM'!$I$119:$L$119,0)),\"\")=0,\"\",IFERROR(INDEX('ORDER FORM'!$I$96:$L$125,MATCH(CONCATENATE(E824,F824),'ORDER FORM'!$A$96:A$125,0),MATCH(G824,'ORDER FORM'!$I$119:$L$119,0)),\"\"))","v":""},{"$f":"IFERROR(IFERROR(INDEX('ORDER FORM'!N:N,MATCH(IMPORT!E824,'ORDER FORM'!B:B,0)),INDEX('ORDER FORM'!N:N,MATCH(TRIM(IMPORT!E824),'ORDER FORM'!B:B,0))),\"\")","v":""}]
["UPLOADUSD",{"$f":"IF('ORDER FORM'!$O$7=\"\",\"ENTER-PO\",'ORDER FORM'!$O$7)","v":"ENTER-PO"},"2021 Spring/Summer",{"$f":"IF('ORDER FORM'!$O$9=\"\",TODAY(),'ORDER FORM'!$O$9)","v":"2023-11-02"},710556,"133","M","2","610306143358",{"$f":"IF(IFERROR(INDEX('ORDER FORM'!$I$96:$L$125,MATCH(CONCATENATE(E825,F825),'ORDER FORM'!$A$96:$A$125,0),MATCH(G825,'ORDER FORM'!$I$119:$L$119,0)),\"\")=0,\"\",IFERROR(INDEX('ORDER FORM'!$I$96:$L$125,MATCH(CONCATENATE(E825,F825),'ORDER FORM'!$A$96:A$125,0),MATCH(G825,'ORDER FORM'!$I$119:$L$119,0)),\"\"))","v":""},{"$f":"IFERROR(IFERROR(INDEX('ORDER FORM'!N:N,MATCH(IMPORT!E825,'ORDER FORM'!B:B,0)),INDEX('ORDER FORM'!N:N,MATCH(TRIM(IMPORT!E825),'ORDER FORM'!B:B,0))),\"\")","v":""}]
["UPLOADUSD",{"$f":"IF('ORDER FORM'!$O$7=\"\",\"ENTER-PO\",'ORDER FORM'!$O$7)","v":"ENTER-PO"},"2021 Spring/Summer",{"$f":"IF('ORDER FORM'!$O$9=\"\",TODAY(),'ORDER FORM'!$O$9)","v":"2023-11-02"},710556,"133","L","2","610306143365",{"$f":"IF(IFERROR(INDEX('ORDER FORM'!$I$96:$L$125,MATCH(CONCATENATE(E826,F826),'ORDER FORM'!$A$96:$A$125,0),MATCH(G826,'ORDER FORM'!$I$119:$L$119,0)),\"\")=0,\"\",IFERROR(INDEX('ORDER FORM'!$I$96:$L$125,MATCH(CONCATENATE(E826,F826),'ORDER FORM'!$A$96:A$125,0),MATCH(G826,'ORDER FORM'!$I$119:$L$119,0)),\"\"))","v":""},{"$f":"IFERROR(IFERROR(INDEX('ORDER FORM'!N:N,MATCH(IMPORT!E826,'ORDER FORM'!B:B,0)),INDEX('ORDER FORM'!N:N,MATCH(TRIM(IMPORT!E826),'ORDER FORM'!B:B,0))),\"\")","v":""}]
["UPLOADUSD",{"$f":"IF('ORDER FORM'!$O$7=\"\",\"ENTER-PO\",'ORDER FORM'!$O$7)","v":"ENTER-PO"},"2021 Spring/Summer",{"$f":"IF('ORDER FORM'!$O$9=\"\",TODAY(),'ORDER FORM'!$O$9)","v":"2023-11-02"},710556,"133","XL","2","610306143372",{"$f":"IF(IFERROR(INDEX('ORDER FORM'!$I$96:$L$125,MATCH(CONCATENATE(E827,F827),'ORDER FORM'!$A$96:$A$125,0),MATCH(G827,'ORDER FORM'!$I$119:$L$119,0)),\"\")=0,\"\",IFERROR(INDEX('ORDER FORM'!$I$96:$L$125,MATCH(CONCATENATE(E827,F827),'ORDER FORM'!$A$96:A$125,0),MATCH(G827,'ORDER FORM'!$I$119:$L$119,0)),\"\"))","v":""},{"$f":"IFERROR(IFERROR(INDEX('ORDER FORM'!N:N,MATCH(IMPORT!E827,'ORDER FORM'!B:B,0)),INDEX('ORDER FORM'!N:N,MATCH(TRIM(IMPORT!E827),'ORDER FORM'!B:B,0))),\"\")","v":""}]
["UPLOADUSD",{"$f":"IF('ORDER FORM'!$O$7=\"\",\"ENTER-PO\",'ORDER FORM'!$O$7)","v":"ENTER-PO"},"2021 Spring/Summer",{"$f":"IF('ORDER FORM'!$O$9=\"\",TODAY(),'ORDER FORM'!$O$9)","v":"2023-11-02"},710556,"822","S","2","610306143303",{"$f":"IF(IFERROR(INDEX('ORDER FORM'!$I$96:$L$125,MATCH(CONCATENATE(E828,F828),'ORDER FORM'!$A$96:$A$125,0),MATCH(G828,'ORDER FORM'!$I$119:$L$119,0)),\"\")=0,\"\",IFERROR(INDEX('ORDER FORM'!$I$96:$L$125,MATCH(CONCATENATE(E828,F828),'ORDER FORM'!$A$96:A$125,0),MATCH(G828,'ORDER FORM'!$I$119:$L$119,0)),\"\"))","v":""},{"$f":"IFERROR(IFERROR(INDEX('ORDER FORM'!N:N,MATCH(IMPORT!E828,'ORDER FORM'!B:B,0)),INDEX('ORDER FORM'!N:N,MATCH(TRIM(IMPORT!E828),'ORDER FORM'!B:B,0))),\"\")","v":""}]
["UPLOADUSD",{"$f":"IF('ORDER FORM'!$O$7=\"\",\"ENTER-PO\",'ORDER FORM'!$O$7)","v":"ENTER-PO"},"2021 Spring/Summer",{"$f":"IF('ORDER FORM'!$O$9=\"\",TODAY(),'ORDER FORM'!$O$9)","v":"2023-11-02"},710556,"822","M","2","610306143310",{"$f":"IF(IFERROR(INDEX('ORDER FORM'!$I$96:$L$125,MATCH(CONCATENATE(E829,F829),'ORDER FORM'!$A$96:$A$125,0),MATCH(G829,'ORDER FORM'!$I$119:$L$119,0)),\"\")=0,\"\",IFERROR(INDEX('ORDER FORM'!$I$96:$L$125,MATCH(CONCATENATE(E829,F829),'ORDER FORM'!$A$96:A$125,0),MATCH(G829,'ORDER FORM'!$I$119:$L$119,0)),\"\"))","v":""},{"$f":"IFERROR(IFERROR(INDEX('ORDER FORM'!N:N,MATCH(IMPORT!E829,'ORDER FORM'!B:B,0)),INDEX('ORDER FORM'!N:N,MATCH(TRIM(IMPORT!E829),'ORDER FORM'!B:B,0))),\"\")","v":""}]
["UPLOADUSD",{"$f":"IF('ORDER FORM'!$O$7=\"\",\"ENTER-PO\",'ORDER FORM'!$O$7)","v":"ENTER-PO"},"2021 Spring/Summer",{"$f":"IF('ORDER FORM'!$O$9=\"\",TODAY(),'ORDER FORM'!$O$9)","v":"2023-11-02"},710556,"822","L","2","610306143327",{"$f":"IF(IFERROR(INDEX('ORDER FORM'!$I$96:$L$125,MATCH(CONCATENATE(E830,F830),'ORDER FORM'!$A$96:$A$125,0),MATCH(G830,'ORDER FORM'!$I$119:$L$119,0)),\"\")=0,\"\",IFERROR(INDEX('ORDER FORM'!$I$96:$L$125,MATCH(CONCATENATE(E830,F830),'ORDER FORM'!$A$96:A$125,0),MATCH(G830,'ORDER FORM'!$I$119:$L$119,0)),\"\"))","v":""},{"$f":"IFERROR(IFERROR(INDEX('ORDER FORM'!N:N,MATCH(IMPORT!E830,'ORDER FORM'!B:B,0)),INDEX('ORDER FORM'!N:N,MATCH(TRIM(IMPORT!E830),'ORDER FORM'!B:B,0))),\"\")","v":""}]
["UPLOADUSD",{"$f":"IF('ORDER FORM'!$O$7=\"\",\"ENTER-PO\",'ORDER FORM'!$O$7)","v":"ENTER-PO"},"2021 Spring/Summer",{"$f":"IF('ORDER FORM'!$O$9=\"\",TODAY(),'ORDER FORM'!$O$9)","v":"2023-11-02"},710556,"822","XL","2","610306143334",{"$f":"IF(IFERROR(INDEX('ORDER FORM'!$I$96:$L$125,MATCH(CONCATENATE(E831,F831),'ORDER FORM'!$A$96:$A$125,0),MATCH(G831,'ORDER FORM'!$I$119:$L$119,0)),\"\")=0,\"\",IFERROR(INDEX('ORDER FORM'!$I$96:$L$125,MATCH(CONCATENATE(E831,F831),'ORDER FORM'!$A$96:A$125,0),MATCH(G831,'ORDER FORM'!$I$119:$L$119,0)),\"\"))","v":""},{"$f":"IFERROR(IFERROR(INDEX('ORDER FORM'!N:N,MATCH(IMPORT!E831,'ORDER FORM'!B:B,0)),INDEX('ORDER FORM'!N:N,MATCH(TRIM(IMPORT!E831),'ORDER FORM'!B:B,0))),\"\")","v":""}]
["UPLOADUSD",{"$f":"IF('ORDER FORM'!$O$7=\"\",\"ENTER-PO\",'ORDER FORM'!$O$7)","v":"ENTER-PO"},"2021 Spring/Summer",{"$f":"IF('ORDER FORM'!$O$9=\"\",TODAY(),'ORDER FORM'!$O$9)","v":"2023-11-02"},710556,"843","S","2","610306139450",{"$f":"IF(IFERROR(INDEX('ORDER FORM'!$I$96:$L$125,MATCH(CONCATENATE(E832,F832),'ORDER FORM'!$A$96:$A$125,0),MATCH(G832,'ORDER FORM'!$I$119:$L$119,0)),\"\")=0,\"\",IFERROR(INDEX('ORDER FORM'!$I$96:$L$125,MATCH(CONCATENATE(E832,F832),'ORDER FORM'!$A$96:A$125,0),MATCH(G832,'ORDER FORM'!$I$119:$L$119,0)),\"\"))","v":""},{"$f":"IFERROR(IFERROR(INDEX('ORDER FORM'!N:N,MATCH(IMPORT!E832,'ORDER FORM'!B:B,0)),INDEX('ORDER FORM'!N:N,MATCH(TRIM(IMPORT!E832),'ORDER FORM'!B:B,0))),\"\")","v":""}]
["UPLOADUSD",{"$f":"IF('ORDER FORM'!$O$7=\"\",\"ENTER-PO\",'ORDER FORM'!$O$7)","v":"ENTER-PO"},"2021 Spring/Summer",{"$f":"IF('ORDER FORM'!$O$9=\"\",TODAY(),'ORDER FORM'!$O$9)","v":"2023-11-02"},710556,"843","M","2","610306139467",{"$f":"IF(IFERROR(INDEX('ORDER FORM'!$I$96:$L$125,MATCH(CONCATENATE(E833,F833),'ORDER FORM'!$A$96:$A$125,0),MATCH(G833,'ORDER FORM'!$I$119:$L$119,0)),\"\")=0,\"\",IFERROR(INDEX('ORDER FORM'!$I$96:$L$125,MATCH(CONCATENATE(E833,F833),'ORDER FORM'!$A$96:A$125,0),MATCH(G833,'ORDER FORM'!$I$119:$L$119,0)),\"\"))","v":""},{"$f":"IFERROR(IFERROR(INDEX('ORDER FORM'!N:N,MATCH(IMPORT!E833,'ORDER FORM'!B:B,0)),INDEX('ORDER FORM'!N:N,MATCH(TRIM(IMPORT!E833),'ORDER FORM'!B:B,0))),\"\")","v":""}]
["UPLOADUSD",{"$f":"IF('ORDER FORM'!$O$7=\"\",\"ENTER-PO\",'ORDER FORM'!$O$7)","v":"ENTER-PO"},"2021 Spring/Summer",{"$f":"IF('ORDER FORM'!$O$9=\"\",TODAY(),'ORDER FORM'!$O$9)","v":"2023-11-02"},710556,"843","L","2","610306139474",{"$f":"IF(IFERROR(INDEX('ORDER FORM'!$I$96:$L$125,MATCH(CONCATENATE(E834,F834),'ORDER FORM'!$A$96:$A$125,0),MATCH(G834,'ORDER FORM'!$I$119:$L$119,0)),\"\")=0,\"\",IFERROR(INDEX('ORDER FORM'!$I$96:$L$125,MATCH(CONCATENATE(E834,F834),'ORDER FORM'!$A$96:A$125,0),MATCH(G834,'ORDER FORM'!$I$119:$L$119,0)),\"\"))","v":""},{"$f":"IFERROR(IFERROR(INDEX('ORDER FORM'!N:N,MATCH(IMPORT!E834,'ORDER FORM'!B:B,0)),INDEX('ORDER FORM'!N:N,MATCH(TRIM(IMPORT!E834),'ORDER FORM'!B:B,0))),\"\")","v":""}]
["UPLOADUSD",{"$f":"IF('ORDER FORM'!$O$7=\"\",\"ENTER-PO\",'ORDER FORM'!$O$7)","v":"ENTER-PO"},"2021 Spring/Summer",{"$f":"IF('ORDER FORM'!$O$9=\"\",TODAY(),'ORDER FORM'!$O$9)","v":"2023-11-02"},710556,"843","XL","2","610306139481",{"$f":"IF(IFERROR(INDEX('ORDER FORM'!$I$96:$L$125,MATCH(CONCATENATE(E835,F835),'ORDER FORM'!$A$96:$A$125,0),MATCH(G835,'ORDER FORM'!$I$119:$L$119,0)),\"\")=0,\"\",IFERROR(INDEX('ORDER FORM'!$I$96:$L$125,MATCH(CONCATENATE(E835,F835),'ORDER FORM'!$A$96:A$125,0),MATCH(G835,'ORDER FORM'!$I$119:$L$119,0)),\"\"))","v":""},{"$f":"IFERROR(IFERROR(INDEX('ORDER FORM'!N:N,MATCH(IMPORT!E835,'ORDER FORM'!B:B,0)),INDEX('ORDER FORM'!N:N,MATCH(TRIM(IMPORT!E835),'ORDER FORM'!B:B,0))),\"\")","v":""}]
["UPLOADUSD",{"$f":"IF('ORDER FORM'!$O$7=\"\",\"ENTER-PO\",'ORDER FORM'!$O$7)","v":"ENTER-PO"},"2021 Spring/Summer",{"$f":"IF('ORDER FORM'!$O$9=\"\",TODAY(),'ORDER FORM'!$O$9)","v":"2023-11-02"},710558,"006","M","2","610306139764",{"$f":"IF(IFERROR(INDEX('ORDER FORM'!$I$96:$L$125,MATCH(CONCATENATE(E836,F836),'ORDER FORM'!$A$96:$A$125,0),MATCH(G836,'ORDER FORM'!$I$119:$L$119,0)),\"\")=0,\"\",IFERROR(INDEX('ORDER FORM'!$I$96:$L$125,MATCH(CONCATENATE(E836,F836),'ORDER FORM'!$A$96:A$125,0),MATCH(G836,'ORDER FORM'!$I$119:$L$119,0)),\"\"))","v":""},{"$f":"IFERROR(IFERROR(INDEX('ORDER FORM'!N:N,MATCH(IMPORT!E836,'ORDER FORM'!B:B,0)),INDEX('ORDER FORM'!N:N,MATCH(TRIM(IMPORT!E836),'ORDER FORM'!B:B,0))),\"\")","v":{"v":12,"d":"12.00"}}]
["UPLOADUSD",{"$f":"IF('ORDER FORM'!$O$7=\"\",\"ENTER-PO\",'ORDER FORM'!$O$7)","v":"ENTER-PO"},"2021 Spring/Summer",{"$f":"IF('ORDER FORM'!$O$9=\"\",TODAY(),'ORDER FORM'!$O$9)","v":"2023-11-02"},710558,"006","L","2","610306139771",{"$f":"IF(IFERROR(INDEX('ORDER FORM'!$I$96:$L$125,MATCH(CONCATENATE(E837,F837),'ORDER FORM'!$A$96:$A$125,0),MATCH(G837,'ORDER FORM'!$I$119:$L$119,0)),\"\")=0,\"\",IFERROR(INDEX('ORDER FORM'!$I$96:$L$125,MATCH(CONCATENATE(E837,F837),'ORDER FORM'!$A$96:A$125,0),MATCH(G837,'ORDER FORM'!$I$119:$L$119,0)),\"\"))","v":""},{"$f":"IFERROR(IFERROR(INDEX('ORDER FORM'!N:N,MATCH(IMPORT!E837,'ORDER FORM'!B:B,0)),INDEX('ORDER FORM'!N:N,MATCH(TRIM(IMPORT!E837),'ORDER FORM'!B:B,0))),\"\")","v":{"v":12,"d":"12.00"}}]
["UPLOADUSD",{"$f":"IF('ORDER FORM'!$O$7=\"\",\"ENTER-PO\",'ORDER FORM'!$O$7)","v":"ENTER-PO"},"2021 Spring/Summer",{"$f":"IF('ORDER FORM'!$O$9=\"\",TODAY(),'ORDER FORM'!$O$9)","v":"2023-11-02"},710558,"006","XL","2","610306139788",{"$f":"IF(IFERROR(INDEX('ORDER FORM'!$I$96:$L$125,MATCH(CONCATENATE(E838,F838),'ORDER FORM'!$A$96:$A$125,0),MATCH(G838,'ORDER FORM'!$I$119:$L$119,0)),\"\")=0,\"\",IFERROR(INDEX('ORDER FORM'!$I$96:$L$125,MATCH(CONCATENATE(E838,F838),'ORDER FORM'!$A$96:A$125,0),MATCH(G838,'ORDER FORM'!$I$119:$L$119,0)),\"\"))","v":""},{"$f":"IFERROR(IFERROR(INDEX('ORDER FORM'!N:N,MATCH(IMPORT!E838,'ORDER FORM'!B:B,0)),INDEX('ORDER FORM'!N:N,MATCH(TRIM(IMPORT!E838),'ORDER FORM'!B:B,0))),\"\")","v":{"v":12,"d":"12.00"}}]
["UPLOADUSD",{"$f":"IF('ORDER FORM'!$O$7=\"\",\"ENTER-PO\",'ORDER FORM'!$O$7)","v":"ENTER-PO"},"2021 Spring/Summer",{"$f":"IF('ORDER FORM'!$O$9=\"\",TODAY(),'ORDER FORM'!$O$9)","v":"2023-11-02"},710558,"063","XXS","2","610306113351",{"$f":"IF(IFERROR(INDEX('ORDER FORM'!$I$96:$L$125,MATCH(CONCATENATE(E839,F839),'ORDER FORM'!$A$96:$A$125,0),MATCH(G839,'ORDER FORM'!$I$119:$L$119,0)),\"\")=0,\"\",IFERROR(INDEX('ORDER FORM'!$I$96:$L$125,MATCH(CONCATENATE(E839,F839),'ORDER FORM'!$A$96:A$125,0),MATCH(G839,'ORDER FORM'!$I$119:$L$119,0)),\"\"))","v":""},{"$f":"IFERROR(IFERROR(INDEX('ORDER FORM'!N:N,MATCH(IMPORT!E839,'ORDER FORM'!B:B,0)),INDEX('ORDER FORM'!N:N,MATCH(TRIM(IMPORT!E839),'ORDER FORM'!B:B,0))),\"\")","v":{"v":12,"d":"12.00"}}]
[{"$f":"IF(IF($B$1=0,\"ENTER ACCOUNT\",$B$1)=\"\",\"UPLOADUSD\",IF($B$1=0,\"ENTER ACCOUNT\",$B$1))","v":"UPLOADUSD"},{"$f":"IF('ORDER FORM'!$O$7=\"\",\"ENTER-PO\",'ORDER FORM'!$O$7)","v":"ENTER-PO"},{"$f":"$D$1","v":"2021 Spring/Summer"},{"$f":"IF('ORDER FORM'!$O$9=\"\",TODAY(),'ORDER FORM'!$O$9)","v":"2023-11-02"},710558,"063","XS","2","610306113344",{"$f":"IF(IFERROR(INDEX('ORDER FORM'!$I$96:$L$125,MATCH(CONCATENATE(E840,F840),'ORDER FORM'!$A$96:$A$125,0),MATCH(G840,'ORDER FORM'!$I$119:$L$119,0)),\"\")=0,\"\",IFERROR(INDEX('ORDER FORM'!$I$96:$L$125,MATCH(CONCATENATE(E840,F840),'ORDER FORM'!$A$96:A$125,0),MATCH(G840,'ORDER FORM'!$I$119:$L$119,0)),\"\"))","v":""},{"$f":"IFERROR(IFERROR(INDEX('ORDER FORM'!N:N,MATCH(IMPORT!E840,'ORDER FORM'!B:B,0)),INDEX('ORDER FORM'!N:N,MATCH(TRIM(IMPORT!E840),'ORDER FORM'!B:B,0))),\"\")","v":{"v":12,"d":"12.00"}}]
["UPLOADUSD",{"$f":"IF('ORDER FORM'!$O$7=\"\",\"ENTER-PO\",'ORDER FORM'!$O$7)","v":"ENTER-PO"},"2021 Spring/Summer",{"$f":"IF('ORDER FORM'!$O$9=\"\",TODAY(),'ORDER FORM'!$O$9)","v":"2023-11-02"},710558,"063","S","2","610306113269",{"$f":"IF(IFERROR(INDEX('ORDER FORM'!$I$96:$L$125,MATCH(CONCATENATE(E841,F841),'ORDER FORM'!$A$96:$A$125,0),MATCH(G841,'ORDER FORM'!$I$119:$L$119,0)),\"\")=0,\"\",IFERROR(INDEX('ORDER FORM'!$I$96:$L$125,MATCH(CONCATENATE(E841,F841),'ORDER FORM'!$A$96:A$125,0),MATCH(G841,'ORDER FORM'!$I$119:$L$119,0)),\"\"))","v":""},{"$f":"IFERROR(IFERROR(INDEX('ORDER FORM'!N:N,MATCH(IMPORT!E841,'ORDER FORM'!B:B,0)),INDEX('ORDER FORM'!N:N,MATCH(TRIM(IMPORT!E841),'ORDER FORM'!B:B,0))),\"\")","v":{"v":12,"d":"12.00"}}]
["UPLOADUSD",{"$f":"IF('ORDER FORM'!$O$7=\"\",\"ENTER-PO\",'ORDER FORM'!$O$7)","v":"ENTER-PO"},"2021 Spring/Summer",{"$f":"IF('ORDER FORM'!$O$9=\"\",TODAY(),'ORDER FORM'!$O$9)","v":"2023-11-02"},710558,"063","M","2","610306143969",{"$f":"IF(IFERROR(INDEX('ORDER FORM'!$I$96:$L$125,MATCH(CONCATENATE(E842,F842),'ORDER FORM'!$A$96:$A$125,0),MATCH(G842,'ORDER FORM'!$I$119:$L$119,0)),\"\")=0,\"\",IFERROR(INDEX('ORDER FORM'!$I$96:$L$125,MATCH(CONCATENATE(E842,F842),'ORDER FORM'!$A$96:A$125,0),MATCH(G842,'ORDER FORM'!$I$119:$L$119,0)),\"\"))","v":""},{"$f":"IFERROR(IFERROR(INDEX('ORDER FORM'!N:N,MATCH(IMPORT!E842,'ORDER FORM'!B:B,0)),INDEX('ORDER FORM'!N:N,MATCH(TRIM(IMPORT!E842),'ORDER FORM'!B:B,0))),\"\")","v":{"v":12,"d":"12.00"}}]
["UPLOADUSD",{"$f":"IF('ORDER FORM'!$O$7=\"\",\"ENTER-PO\",'ORDER FORM'!$O$7)","v":"ENTER-PO"},"2021 Spring/Summer",{"$f":"IF('ORDER FORM'!$O$9=\"\",TODAY(),'ORDER FORM'!$O$9)","v":"2023-11-02"},710558,"063","L","2","610306143976",{"$f":"IF(IFERROR(INDEX('ORDER FORM'!$I$96:$L$125,MATCH(CONCATENATE(E843,F843),'ORDER FORM'!$A$96:$A$125,0),MATCH(G843,'ORDER FORM'!$I$119:$L$119,0)),\"\")=0,\"\",IFERROR(INDEX('ORDER FORM'!$I$96:$L$125,MATCH(CONCATENATE(E843,F843),'ORDER FORM'!$A$96:A$125,0),MATCH(G843,'ORDER FORM'!$I$119:$L$119,0)),\"\"))","v":""},{"$f":"IFERROR(IFERROR(INDEX('ORDER FORM'!N:N,MATCH(IMPORT!E843,'ORDER FORM'!B:B,0)),INDEX('ORDER FORM'!N:N,MATCH(TRIM(IMPORT!E843),'ORDER FORM'!B:B,0))),\"\")","v":{"v":12,"d":"12.00"}}]
["UPLOADUSD",{"$f":"IF('ORDER FORM'!$O$7=\"\",\"ENTER-PO\",'ORDER FORM'!$O$7)","v":"ENTER-PO"},"2021 Spring/Summer",{"$f":"IF('ORDER FORM'!$O$9=\"\",TODAY(),'ORDER FORM'!$O$9)","v":"2023-11-02"},710558,"063","XL","2","610306143983",{"$f":"IF(IFERROR(INDEX('ORDER FORM'!$I$96:$L$125,MATCH(CONCATENATE(E844,F844),'ORDER FORM'!$A$96:$A$125,0),MATCH(G844,'ORDER FORM'!$I$119:$L$119,0)),\"\")=0,\"\",IFERROR(INDEX('ORDER FORM'!$I$96:$L$125,MATCH(CONCATENATE(E844,F844),'ORDER FORM'!$A$96:A$125,0),MATCH(G844,'ORDER FORM'!$I$119:$L$119,0)),\"\"))","v":""},{"$f":"IFERROR(IFERROR(INDEX('ORDER FORM'!N:N,MATCH(IMPORT!E844,'ORDER FORM'!B:B,0)),INDEX('ORDER FORM'!N:N,MATCH(TRIM(IMPORT!E844),'ORDER FORM'!B:B,0))),\"\")","v":{"v":12,"d":"12.00"}}]
["UPLOADUSD",{"$f":"IF('ORDER FORM'!$O$7=\"\",\"ENTER-PO\",'ORDER FORM'!$O$7)","v":"ENTER-PO"},"2021 Spring/Summer",{"$f":"IF('ORDER FORM'!$O$9=\"\",TODAY(),'ORDER FORM'!$O$9)","v":"2023-11-02"},710558,"076","M","2","610306139795",{"$f":"IF(IFERROR(INDEX('ORDER FORM'!$I$96:$L$125,MATCH(CONCATENATE(E845,F845),'ORDER FORM'!$A$96:$A$125,0),MATCH(G845,'ORDER FORM'!$I$119:$L$119,0)),\"\")=0,\"\",IFERROR(INDEX('ORDER FORM'!$I$96:$L$125,MATCH(CONCATENATE(E845,F845),'ORDER FORM'!$A$96:A$125,0),MATCH(G845,'ORDER FORM'!$I$119:$L$119,0)),\"\"))","v":""},{"$f":"IFERROR(IFERROR(INDEX('ORDER FORM'!N:N,MATCH(IMPORT!E845,'ORDER FORM'!B:B,0)),INDEX('ORDER FORM'!N:N,MATCH(TRIM(IMPORT!E845),'ORDER FORM'!B:B,0))),\"\")","v":{"v":12,"d":"12.00"}}]
["UPLOADUSD",{"$f":"IF('ORDER FORM'!$O$7=\"\",\"ENTER-PO\",'ORDER FORM'!$O$7)","v":"ENTER-PO"},"2021 Spring/Summer",{"$f":"IF('ORDER FORM'!$O$9=\"\",TODAY(),'ORDER FORM'!$O$9)","v":"2023-11-02"},710558,"076","L","2","610306139801",{"$f":"IF(IFERROR(INDEX('ORDER FORM'!$I$96:$L$125,MATCH(CONCATENATE(E846,F846),'ORDER FORM'!$A$96:$A$125,0),MATCH(G846,'ORDER FORM'!$I$119:$L$119,0)),\"\")=0,\"\",IFERROR(INDEX('ORDER FORM'!$I$96:$L$125,MATCH(CONCATENATE(E846,F846),'ORDER FORM'!$A$96:A$125,0),MATCH(G846,'ORDER FORM'!$I$119:$L$119,0)),\"\"))","v":""},{"$f":"IFERROR(IFERROR(INDEX('ORDER FORM'!N:N,MATCH(IMPORT!E846,'ORDER FORM'!B:B,0)),INDEX('ORDER FORM'!N:N,MATCH(TRIM(IMPORT!E846),'ORDER FORM'!B:B,0))),\"\")","v":{"v":12,"d":"12.00"}}]
["UPLOADUSD",{"$f":"IF('ORDER FORM'!$O$7=\"\",\"ENTER-PO\",'ORDER FORM'!$O$7)","v":"ENTER-PO"},"2021 Spring/Summer",{"$f":"IF('ORDER FORM'!$O$9=\"\",TODAY(),'ORDER FORM'!$O$9)","v":"2023-11-02"},710558,"076","XL","2","610306139818",{"$f":"IF(IFERROR(INDEX('ORDER FORM'!$I$96:$L$125,MATCH(CONCATENATE(E847,F847),'ORDER FORM'!$A$96:$A$125,0),MATCH(G847,'ORDER FORM'!$I$119:$L$119,0)),\"\")=0,\"\",IFERROR(INDEX('ORDER FORM'!$I$96:$L$125,MATCH(CONCATENATE(E847,F847),'ORDER FORM'!$A$96:A$125,0),MATCH(G847,'ORDER FORM'!$I$119:$L$119,0)),\"\"))","v":""},{"$f":"IFERROR(IFERROR(INDEX('ORDER FORM'!N:N,MATCH(IMPORT!E847,'ORDER FORM'!B:B,0)),INDEX('ORDER FORM'!N:N,MATCH(TRIM(IMPORT!E847),'ORDER FORM'!B:B,0))),\"\")","v":{"v":12,"d":"12.00"}}]
["UPLOADUSD",{"$f":"IF('ORDER FORM'!$O$7=\"\",\"ENTER-PO\",'ORDER FORM'!$O$7)","v":"ENTER-PO"},"2021 Spring/Summer",{"$f":"IF('ORDER FORM'!$O$9=\"\",TODAY(),'ORDER FORM'!$O$9)","v":"2023-11-02"},710559,"845","S","2","610306140005",{"$f":"IF(IFERROR(INDEX('ORDER FORM'!$I$96:$L$125,MATCH(CONCATENATE(E848,F848),'ORDER FORM'!$A$96:$A$125,0),MATCH(G848,'ORDER FORM'!$I$119:$L$119,0)),\"\")=0,\"\",IFERROR(INDEX('ORDER FORM'!$I$96:$L$125,MATCH(CONCATENATE(E848,F848),'ORDER FORM'!$A$96:A$125,0),MATCH(G848,'ORDER FORM'!$I$119:$L$119,0)),\"\"))","v":""},{"$f":"IFERROR(IFERROR(INDEX('ORDER FORM'!N:N,MATCH(IMPORT!E848,'ORDER FORM'!B:B,0)),INDEX('ORDER FORM'!N:N,MATCH(TRIM(IMPORT!E848),'ORDER FORM'!B:B,0))),\"\")","v":{"v":14,"d":"14.00"}}]
["UPLOADUSD",{"$f":"IF('ORDER FORM'!$O$7=\"\",\"ENTER-PO\",'ORDER FORM'!$O$7)","v":"ENTER-PO"},"2021 Spring/Summer",{"$f":"IF('ORDER FORM'!$O$9=\"\",TODAY(),'ORDER FORM'!$O$9)","v":"2023-11-02"},710559,"845","M","2","610306140012",{"$f":"IF(IFERROR(INDEX('ORDER FORM'!$I$96:$L$125,MATCH(CONCATENATE(E849,F849),'ORDER FORM'!$A$96:$A$125,0),MATCH(G849,'ORDER FORM'!$I$119:$L$119,0)),\"\")=0,\"\",IFERROR(INDEX('ORDER FORM'!$I$96:$L$125,MATCH(CONCATENATE(E849,F849),'ORDER FORM'!$A$96:A$125,0),MATCH(G849,'ORDER FORM'!$I$119:$L$119,0)),\"\"))","v":""},{"$f":"IFERROR(IFERROR(INDEX('ORDER FORM'!N:N,MATCH(IMPORT!E849,'ORDER FORM'!B:B,0)),INDEX('ORDER FORM'!N:N,MATCH(TRIM(IMPORT!E849),'ORDER FORM'!B:B,0))),\"\")","v":{"v":14,"d":"14.00"}}]
["UPLOADUSD",{"$f":"IF('ORDER FORM'!$O$7=\"\",\"ENTER-PO\",'ORDER FORM'!$O$7)","v":"ENTER-PO"},"2021 Spring/Summer",{"$f":"IF('ORDER FORM'!$O$9=\"\",TODAY(),'ORDER FORM'!$O$9)","v":"2023-11-02"},710559,"845","L","2","610306140029",{"$f":"IF(IFERROR(INDEX('ORDER FORM'!$I$96:$L$125,MATCH(CONCATENATE(E850,F850),'ORDER FORM'!$A$96:$A$125,0),MATCH(G850,'ORDER FORM'!$I$119:$L$119,0)),\"\")=0,\"\",IFERROR(INDEX('ORDER FORM'!$I$96:$L$125,MATCH(CONCATENATE(E850,F850),'ORDER FORM'!$A$96:A$125,0),MATCH(G850,'ORDER FORM'!$I$119:$L$119,0)),\"\"))","v":""},{"$f":"IFERROR(IFERROR(INDEX('ORDER FORM'!N:N,MATCH(IMPORT!E850,'ORDER FORM'!B:B,0)),INDEX('ORDER FORM'!N:N,MATCH(TRIM(IMPORT!E850),'ORDER FORM'!B:B,0))),\"\")","v":{"v":14,"d":"14.00"}}]
["UPLOADUSD",{"$f":"IF('ORDER FORM'!$O$7=\"\",\"ENTER-PO\",'ORDER FORM'!$O$7)","v":"ENTER-PO"},"2021 Spring/Summer",{"$f":"IF('ORDER FORM'!$O$9=\"\",TODAY(),'ORDER FORM'!$O$9)","v":"2023-11-02"},710559,"845","XL","2","610306140036",{"$f":"IF(IFERROR(INDEX('ORDER FORM'!$I$96:$L$125,MATCH(CONCATENATE(E851,F851),'ORDER FORM'!$A$96:$A$125,0),MATCH(G851,'ORDER FORM'!$I$119:$L$119,0)),\"\")=0,\"\",IFERROR(INDEX('ORDER FORM'!$I$96:$L$125,MATCH(CONCATENATE(E851,F851),'ORDER FORM'!$A$96:A$125,0),MATCH(G851,'ORDER FORM'!$I$119:$L$119,0)),\"\"))","v":""},{"$f":"IFERROR(IFERROR(INDEX('ORDER FORM'!N:N,MATCH(IMPORT!E851,'ORDER FORM'!B:B,0)),INDEX('ORDER FORM'!N:N,MATCH(TRIM(IMPORT!E851),'ORDER FORM'!B:B,0))),\"\")","v":{"v":14,"d":"14.00"}}]
["UPLOADUSD",{"$f":"IF('ORDER FORM'!$O$7=\"\",\"ENTER-PO\",'ORDER FORM'!$O$7)","v":"ENTER-PO"},"2021 Spring/Summer",{"$f":"IF('ORDER FORM'!$O$9=\"\",TODAY(),'ORDER FORM'!$O$9)","v":"2023-11-02"},710566,"352","S","2","610306140043",{"$f":"IF(IFERROR(INDEX('ORDER FORM'!$I$96:$L$125,MATCH(CONCATENATE(E852,F852),'ORDER FORM'!$A$96:$A$125,0),MATCH(G852,'ORDER FORM'!$I$119:$L$119,0)),\"\")=0,\"\",IFERROR(INDEX('ORDER FORM'!$I$96:$L$125,MATCH(CONCATENATE(E852,F852),'ORDER FORM'!$A$96:A$125,0),MATCH(G852,'ORDER FORM'!$I$119:$L$119,0)),\"\"))","v":""},{"$f":"IFERROR(IFERROR(INDEX('ORDER FORM'!N:N,MATCH(IMPORT!E852,'ORDER FORM'!B:B,0)),INDEX('ORDER FORM'!N:N,MATCH(TRIM(IMPORT!E852),'ORDER FORM'!B:B,0))),\"\")","v":{"v":14,"d":"14.00"}}]
["UPLOADUSD",{"$f":"IF('ORDER FORM'!$O$7=\"\",\"ENTER-PO\",'ORDER FORM'!$O$7)","v":"ENTER-PO"},"2021 Spring/Summer",{"$f":"IF('ORDER FORM'!$O$9=\"\",TODAY(),'ORDER FORM'!$O$9)","v":"2023-11-02"},710566,"352","M","2","610306140050",{"$f":"IF(IFERROR(INDEX('ORDER FORM'!$I$96:$L$125,MATCH(CONCATENATE(E853,F853),'ORDER FORM'!$A$96:$A$125,0),MATCH(G853,'ORDER FORM'!$I$119:$L$119,0)),\"\")=0,\"\",IFERROR(INDEX('ORDER FORM'!$I$96:$L$125,MATCH(CONCATENATE(E853,F853),'ORDER FORM'!$A$96:A$125,0),MATCH(G853,'ORDER FORM'!$I$119:$L$119,0)),\"\"))","v":""},{"$f":"IFERROR(IFERROR(INDEX('ORDER FORM'!N:N,MATCH(IMPORT!E853,'ORDER FORM'!B:B,0)),INDEX('ORDER FORM'!N:N,MATCH(TRIM(IMPORT!E853),'ORDER FORM'!B:B,0))),\"\")","v":{"v":14,"d":"14.00"}}]
["UPLOADUSD",{"$f":"IF('ORDER FORM'!$O$7=\"\",\"ENTER-PO\",'ORDER FORM'!$O$7)","v":"ENTER-PO"},"2021 Spring/Summer",{"$f":"IF('ORDER FORM'!$O$9=\"\",TODAY(),'ORDER FORM'!$O$9)","v":"2023-11-02"},710566,"352","L","2","610306140067",{"$f":"IF(IFERROR(INDEX('ORDER FORM'!$I$96:$L$125,MATCH(CONCATENATE(E854,F854),'ORDER FORM'!$A$96:$A$125,0),MATCH(G854,'ORDER FORM'!$I$119:$L$119,0)),\"\")=0,\"\",IFERROR(INDEX('ORDER FORM'!$I$96:$L$125,MATCH(CONCATENATE(E854,F854),'ORDER FORM'!$A$96:A$125,0),MATCH(G854,'ORDER FORM'!$I$119:$L$119,0)),\"\"))","v":""},{"$f":"IFERROR(IFERROR(INDEX('ORDER FORM'!N:N,MATCH(IMPORT!E854,'ORDER FORM'!B:B,0)),INDEX('ORDER FORM'!N:N,MATCH(TRIM(IMPORT!E854),'ORDER FORM'!B:B,0))),\"\")","v":{"v":14,"d":"14.00"}}]
["UPLOADUSD",{"$f":"IF('ORDER FORM'!$O$7=\"\",\"ENTER-PO\",'ORDER FORM'!$O$7)","v":"ENTER-PO"},"2021 Spring/Summer",{"$f":"IF('ORDER FORM'!$O$9=\"\",TODAY(),'ORDER FORM'!$O$9)","v":"2023-11-02"},710566,"845","S","2","610306140074",{"$f":"IF(IFERROR(INDEX('ORDER FORM'!$I$96:$L$125,MATCH(CONCATENATE(E855,F855),'ORDER FORM'!$A$96:$A$125,0),MATCH(G855,'ORDER FORM'!$I$119:$L$119,0)),\"\")=0,\"\",IFERROR(INDEX('ORDER FORM'!$I$96:$L$125,MATCH(CONCATENATE(E855,F855),'ORDER FORM'!$A$96:A$125,0),MATCH(G855,'ORDER FORM'!$I$119:$L$119,0)),\"\"))","v":""},{"$f":"IFERROR(IFERROR(INDEX('ORDER FORM'!N:N,MATCH(IMPORT!E855,'ORDER FORM'!B:B,0)),INDEX('ORDER FORM'!N:N,MATCH(TRIM(IMPORT!E855),'ORDER FORM'!B:B,0))),\"\")","v":{"v":14,"d":"14.00"}}]
["UPLOADUSD",{"$f":"IF('ORDER FORM'!$O$7=\"\",\"ENTER-PO\",'ORDER FORM'!$O$7)","v":"ENTER-PO"},"2021 Spring/Summer",{"$f":"IF('ORDER FORM'!$O$9=\"\",TODAY(),'ORDER FORM'!$O$9)","v":"2023-11-02"},710566,"845","M","2","610306140081",{"$f":"IF(IFERROR(INDEX('ORDER FORM'!$I$96:$L$125,MATCH(CONCATENATE(E856,F856),'ORDER FORM'!$A$96:$A$125,0),MATCH(G856,'ORDER FORM'!$I$119:$L$119,0)),\"\")=0,\"\",IFERROR(INDEX('ORDER FORM'!$I$96:$L$125,MATCH(CONCATENATE(E856,F856),'ORDER FORM'!$A$96:A$125,0),MATCH(G856,'ORDER FORM'!$I$119:$L$119,0)),\"\"))","v":""},{"$f":"IFERROR(IFERROR(INDEX('ORDER FORM'!N:N,MATCH(IMPORT!E856,'ORDER FORM'!B:B,0)),INDEX('ORDER FORM'!N:N,MATCH(TRIM(IMPORT!E856),'ORDER FORM'!B:B,0))),\"\")","v":{"v":14,"d":"14.00"}}]
["UPLOADUSD",{"$f":"IF('ORDER FORM'!$O$7=\"\",\"ENTER-PO\",'ORDER FORM'!$O$7)","v":"ENTER-PO"},"2021 Spring/Summer",{"$f":"IF('ORDER FORM'!$O$9=\"\",TODAY(),'ORDER FORM'!$O$9)","v":"2023-11-02"},710566,"845","L","2","610306140098",{"$f":"IF(IFERROR(INDEX('ORDER FORM'!$I$96:$L$125,MATCH(CONCATENATE(E857,F857),'ORDER FORM'!$A$96:$A$125,0),MATCH(G857,'ORDER FORM'!$I$119:$L$119,0)),\"\")=0,\"\",IFERROR(INDEX('ORDER FORM'!$I$96:$L$125,MATCH(CONCATENATE(E857,F857),'ORDER FORM'!$A$96:A$125,0),MATCH(G857,'ORDER FORM'!$I$119:$L$119,0)),\"\"))","v":""},{"$f":"IFERROR(IFERROR(INDEX('ORDER FORM'!N:N,MATCH(IMPORT!E857,'ORDER FORM'!B:B,0)),INDEX('ORDER FORM'!N:N,MATCH(TRIM(IMPORT!E857),'ORDER FORM'!B:B,0))),\"\")","v":{"v":14,"d":"14.00"}}]
["UPLOADUSD",{"$f":"IF('ORDER FORM'!$O$7=\"\",\"ENTER-PO\",'ORDER FORM'!$O$7)","v":"ENTER-PO"},"2021 Spring/Summer",{"$f":"IF('ORDER FORM'!$O$9=\"\",TODAY(),'ORDER FORM'!$O$9)","v":"2023-11-02"},710569,"035","S","2","610306139276",{"$f":"IF(IFERROR(INDEX('ORDER FORM'!$I$96:$L$125,MATCH(CONCATENATE(E858,F858),'ORDER FORM'!$A$96:$A$125,0),MATCH(G858,'ORDER FORM'!$I$119:$L$119,0)),\"\")=0,\"\",IFERROR(INDEX('ORDER FORM'!$I$96:$L$125,MATCH(CONCATENATE(E858,F858),'ORDER FORM'!$A$96:A$125,0),MATCH(G858,'ORDER FORM'!$I$119:$L$119,0)),\"\"))","v":""},{"$f":"IFERROR(IFERROR(INDEX('ORDER FORM'!N:N,MATCH(IMPORT!E858,'ORDER FORM'!B:B,0)),INDEX('ORDER FORM'!N:N,MATCH(TRIM(IMPORT!E858),'ORDER FORM'!B:B,0))),\"\")","v":""}]
["UPLOADUSD",{"$f":"IF('ORDER FORM'!$O$7=\"\",\"ENTER-PO\",'ORDER FORM'!$O$7)","v":"ENTER-PO"},"2021 Spring/Summer",{"$f":"IF('ORDER FORM'!$O$9=\"\",TODAY(),'ORDER FORM'!$O$9)","v":"2023-11-02"},710569,"035","M","2","610306139283",{"$f":"IF(IFERROR(INDEX('ORDER FORM'!$I$96:$L$125,MATCH(CONCATENATE(E859,F859),'ORDER FORM'!$A$96:$A$125,0),MATCH(G859,'ORDER FORM'!$I$119:$L$119,0)),\"\")=0,\"\",IFERROR(INDEX('ORDER FORM'!$I$96:$L$125,MATCH(CONCATENATE(E859,F859),'ORDER FORM'!$A$96:A$125,0),MATCH(G859,'ORDER FORM'!$I$119:$L$119,0)),\"\"))","v":""},{"$f":"IFERROR(IFERROR(INDEX('ORDER FORM'!N:N,MATCH(IMPORT!E859,'ORDER FORM'!B:B,0)),INDEX('ORDER FORM'!N:N,MATCH(TRIM(IMPORT!E859),'ORDER FORM'!B:B,0))),\"\")","v":""}]
["UPLOADUSD",{"$f":"IF('ORDER FORM'!$O$7=\"\",\"ENTER-PO\",'ORDER FORM'!$O$7)","v":"ENTER-PO"},"2021 Spring/Summer",{"$f":"IF('ORDER FORM'!$O$9=\"\",TODAY(),'ORDER FORM'!$O$9)","v":"2023-11-02"},710569,"035","L","2","610306139290",{"$f":"IF(IFERROR(INDEX('ORDER FORM'!$I$96:$L$125,MATCH(CONCATENATE(E860,F860),'ORDER FORM'!$A$96:$A$125,0),MATCH(G860,'ORDER FORM'!$I$119:$L$119,0)),\"\")=0,\"\",IFERROR(INDEX('ORDER FORM'!$I$96:$L$125,MATCH(CONCATENATE(E860,F860),'ORDER FORM'!$A$96:A$125,0),MATCH(G860,'ORDER FORM'!$I$119:$L$119,0)),\"\"))","v":""},{"$f":"IFERROR(IFERROR(INDEX('ORDER FORM'!N:N,MATCH(IMPORT!E860,'ORDER FORM'!B:B,0)),INDEX('ORDER FORM'!N:N,MATCH(TRIM(IMPORT!E860),'ORDER FORM'!B:B,0))),\"\")","v":""}]
["UPLOADUSD",{"$f":"IF('ORDER FORM'!$O$7=\"\",\"ENTER-PO\",'ORDER FORM'!$O$7)","v":"ENTER-PO"},"2021 Spring/Summer",{"$f":"IF('ORDER FORM'!$O$9=\"\",TODAY(),'ORDER FORM'!$O$9)","v":"2023-11-02"},710569,"035","XL","2","610306139306",{"$f":"IF(IFERROR(INDEX('ORDER FORM'!$I$96:$L$125,MATCH(CONCATENATE(E861,F861),'ORDER FORM'!$A$96:$A$125,0),MATCH(G861,'ORDER FORM'!$I$119:$L$119,0)),\"\")=0,\"\",IFERROR(INDEX('ORDER FORM'!$I$96:$L$125,MATCH(CONCATENATE(E861,F861),'ORDER FORM'!$A$96:A$125,0),MATCH(G861,'ORDER FORM'!$I$119:$L$119,0)),\"\"))","v":""},{"$f":"IFERROR(IFERROR(INDEX('ORDER FORM'!N:N,MATCH(IMPORT!E861,'ORDER FORM'!B:B,0)),INDEX('ORDER FORM'!N:N,MATCH(TRIM(IMPORT!E861),'ORDER FORM'!B:B,0))),\"\")","v":""}]
["UPLOADUSD",{"$f":"IF('ORDER FORM'!$O$7=\"\",\"ENTER-PO\",'ORDER FORM'!$O$7)","v":"ENTER-PO"},"2021 Spring/Summer",{"$f":"IF('ORDER FORM'!$O$9=\"\",TODAY(),'ORDER FORM'!$O$9)","v":"2023-11-02"},710569,"036","S","2","610306139313",{"$f":"IF(IFERROR(INDEX('ORDER FORM'!$I$96:$L$125,MATCH(CONCATENATE(E862,F862),'ORDER FORM'!$A$96:$A$125,0),MATCH(G862,'ORDER FORM'!$I$119:$L$119,0)),\"\")=0,\"\",IFERROR(INDEX('ORDER FORM'!$I$96:$L$125,MATCH(CONCATENATE(E862,F862),'ORDER FORM'!$A$96:A$125,0),MATCH(G862,'ORDER FORM'!$I$119:$L$119,0)),\"\"))","v":""},{"$f":"IFERROR(IFERROR(INDEX('ORDER FORM'!N:N,MATCH(IMPORT!E862,'ORDER FORM'!B:B,0)),INDEX('ORDER FORM'!N:N,MATCH(TRIM(IMPORT!E862),'ORDER FORM'!B:B,0))),\"\")","v":""}]
["UPLOADUSD",{"$f":"IF('ORDER FORM'!$O$7=\"\",\"ENTER-PO\",'ORDER FORM'!$O$7)","v":"ENTER-PO"},"2021 Spring/Summer",{"$f":"IF('ORDER FORM'!$O$9=\"\",TODAY(),'ORDER FORM'!$O$9)","v":"2023-11-02"},710569,"036","M","2","610306139320",{"$f":"IF(IFERROR(INDEX('ORDER FORM'!$I$96:$L$125,MATCH(CONCATENATE(E863,F863),'ORDER FORM'!$A$96:$A$125,0),MATCH(G863,'ORDER FORM'!$I$119:$L$119,0)),\"\")=0,\"\",IFERROR(INDEX('ORDER FORM'!$I$96:$L$125,MATCH(CONCATENATE(E863,F863),'ORDER FORM'!$A$96:A$125,0),MATCH(G863,'ORDER FORM'!$I$119:$L$119,0)),\"\"))","v":""},{"$f":"IFERROR(IFERROR(INDEX('ORDER FORM'!N:N,MATCH(IMPORT!E863,'ORDER FORM'!B:B,0)),INDEX('ORDER FORM'!N:N,MATCH(TRIM(IMPORT!E863),'ORDER FORM'!B:B,0))),\"\")","v":""}]
["UPLOADUSD",{"$f":"IF('ORDER FORM'!$O$7=\"\",\"ENTER-PO\",'ORDER FORM'!$O$7)","v":"ENTER-PO"},"2021 Spring/Summer",{"$f":"IF('ORDER FORM'!$O$9=\"\",TODAY(),'ORDER FORM'!$O$9)","v":"2023-11-02"},710569,"036","L","2","610306139337",{"$f":"IF(IFERROR(INDEX('ORDER FORM'!$I$96:$L$125,MATCH(CONCATENATE(E864,F864),'ORDER FORM'!$A$96:$A$125,0),MATCH(G864,'ORDER FORM'!$I$119:$L$119,0)),\"\")=0,\"\",IFERROR(INDEX('ORDER FORM'!$I$96:$L$125,MATCH(CONCATENATE(E864,F864),'ORDER FORM'!$A$96:A$125,0),MATCH(G864,'ORDER FORM'!$I$119:$L$119,0)),\"\"))","v":""},{"$f":"IFERROR(IFERROR(INDEX('ORDER FORM'!N:N,MATCH(IMPORT!E864,'ORDER FORM'!B:B,0)),INDEX('ORDER FORM'!N:N,MATCH(TRIM(IMPORT!E864),'ORDER FORM'!B:B,0))),\"\")","v":""}]
["UPLOADUSD",{"$f":"IF('ORDER FORM'!$O$7=\"\",\"ENTER-PO\",'ORDER FORM'!$O$7)","v":"ENTER-PO"},"2021 Spring/Summer",{"$f":"IF('ORDER FORM'!$O$9=\"\",TODAY(),'ORDER FORM'!$O$9)","v":"2023-11-02"},710569,"036","XL","2","610306139344",{"$f":"IF(IFERROR(INDEX('ORDER FORM'!$I$96:$L$125,MATCH(CONCATENATE(E865,F865),'ORDER FORM'!$A$96:$A$125,0),MATCH(G865,'ORDER FORM'!$I$119:$L$119,0)),\"\")=0,\"\",IFERROR(INDEX('ORDER FORM'!$I$96:$L$125,MATCH(CONCATENATE(E865,F865),'ORDER FORM'!$A$96:A$125,0),MATCH(G865,'ORDER FORM'!$I$119:$L$119,0)),\"\"))","v":""},{"$f":"IFERROR(IFERROR(INDEX('ORDER FORM'!N:N,MATCH(IMPORT!E865,'ORDER FORM'!B:B,0)),INDEX('ORDER FORM'!N:N,MATCH(TRIM(IMPORT!E865),'ORDER FORM'!B:B,0))),\"\")","v":""}]
["UPLOADUSD",{"$f":"IF('ORDER FORM'!$O$7=\"\",\"ENTER-PO\",'ORDER FORM'!$O$7)","v":"ENTER-PO"},"2021 Spring/Summer",{"$f":"IF('ORDER FORM'!$O$9=\"\",TODAY(),'ORDER FORM'!$O$9)","v":"2023-11-02"},710596,"017","S","2","610306137180",{"$f":"IF(IFERROR(INDEX('ORDER FORM'!$I$96:$L$125,MATCH(CONCATENATE(E866,F866),'ORDER FORM'!$A$96:$A$125,0),MATCH(G866,'ORDER FORM'!$I$119:$L$119,0)),\"\")=0,\"\",IFERROR(INDEX('ORDER FORM'!$I$96:$L$125,MATCH(CONCATENATE(E866,F866),'ORDER FORM'!$A$96:A$125,0),MATCH(G866,'ORDER FORM'!$I$119:$L$119,0)),\"\"))","v":""},{"$f":"IFERROR(IFERROR(INDEX('ORDER FORM'!N:N,MATCH(IMPORT!E866,'ORDER FORM'!B:B,0)),INDEX('ORDER FORM'!N:N,MATCH(TRIM(IMPORT!E866),'ORDER FORM'!B:B,0))),\"\")","v":{"v":14,"d":"14.00"}}]
["UPLOADUSD",{"$f":"IF('ORDER FORM'!$O$7=\"\",\"ENTER-PO\",'ORDER FORM'!$O$7)","v":"ENTER-PO"},"2021 Spring/Summer",{"$f":"IF('ORDER FORM'!$O$9=\"\",TODAY(),'ORDER FORM'!$O$9)","v":"2023-11-02"},710596,"017","M","2","610306137197",{"$f":"IF(IFERROR(INDEX('ORDER FORM'!$I$96:$L$125,MATCH(CONCATENATE(E867,F867),'ORDER FORM'!$A$96:$A$125,0),MATCH(G867,'ORDER FORM'!$I$119:$L$119,0)),\"\")=0,\"\",IFERROR(INDEX('ORDER FORM'!$I$96:$L$125,MATCH(CONCATENATE(E867,F867),'ORDER FORM'!$A$96:A$125,0),MATCH(G867,'ORDER FORM'!$I$119:$L$119,0)),\"\"))","v":""},{"$f":"IFERROR(IFERROR(INDEX('ORDER FORM'!N:N,MATCH(IMPORT!E867,'ORDER FORM'!B:B,0)),INDEX('ORDER FORM'!N:N,MATCH(TRIM(IMPORT!E867),'ORDER FORM'!B:B,0))),\"\")","v":{"v":14,"d":"14.00"}}]
["UPLOADUSD",{"$f":"IF('ORDER FORM'!$O$7=\"\",\"ENTER-PO\",'ORDER FORM'!$O$7)","v":"ENTER-PO"},"2021 Spring/Summer",{"$f":"IF('ORDER FORM'!$O$9=\"\",TODAY(),'ORDER FORM'!$O$9)","v":"2023-11-02"},710596,"017","L","2","610306137203",{"$f":"IF(IFERROR(INDEX('ORDER FORM'!$I$96:$L$125,MATCH(CONCATENATE(E868,F868),'ORDER FORM'!$A$96:$A$125,0),MATCH(G868,'ORDER FORM'!$I$119:$L$119,0)),\"\")=0,\"\",IFERROR(INDEX('ORDER FORM'!$I$96:$L$125,MATCH(CONCATENATE(E868,F868),'ORDER FORM'!$A$96:A$125,0),MATCH(G868,'ORDER FORM'!$I$119:$L$119,0)),\"\"))","v":""},{"$f":"IFERROR(IFERROR(INDEX('ORDER FORM'!N:N,MATCH(IMPORT!E868,'ORDER FORM'!B:B,0)),INDEX('ORDER FORM'!N:N,MATCH(TRIM(IMPORT!E868),'ORDER FORM'!B:B,0))),\"\")","v":{"v":14,"d":"14.00"}}]
["UPLOADUSD",{"$f":"IF('ORDER FORM'!$O$7=\"\",\"ENTER-PO\",'ORDER FORM'!$O$7)","v":"ENTER-PO"},"2021 Spring/Summer",{"$f":"IF('ORDER FORM'!$O$9=\"\",TODAY(),'ORDER FORM'!$O$9)","v":"2023-11-02"},710596,"017","XL","2","610306137210",{"$f":"IF(IFERROR(INDEX('ORDER FORM'!$I$96:$L$125,MATCH(CONCATENATE(E869,F869),'ORDER FORM'!$A$96:$A$125,0),MATCH(G869,'ORDER FORM'!$I$119:$L$119,0)),\"\")=0,\"\",IFERROR(INDEX('ORDER FORM'!$I$96:$L$125,MATCH(CONCATENATE(E869,F869),'ORDER FORM'!$A$96:A$125,0),MATCH(G869,'ORDER FORM'!$I$119:$L$119,0)),\"\"))","v":""},{"$f":"IFERROR(IFERROR(INDEX('ORDER FORM'!N:N,MATCH(IMPORT!E869,'ORDER FORM'!B:B,0)),INDEX('ORDER FORM'!N:N,MATCH(TRIM(IMPORT!E869),'ORDER FORM'!B:B,0))),\"\")","v":{"v":14,"d":"14.00"}}]
["UPLOADUSD",{"$f":"IF('ORDER FORM'!$O$7=\"\",\"ENTER-PO\",'ORDER FORM'!$O$7)","v":"ENTER-PO"},"2021 Spring/Summer",{"$f":"IF('ORDER FORM'!$O$9=\"\",TODAY(),'ORDER FORM'!$O$9)","v":"2023-11-02"},710596,"420","S","2","610306137227",{"$f":"IF(IFERROR(INDEX('ORDER FORM'!$I$96:$L$125,MATCH(CONCATENATE(E870,F870),'ORDER FORM'!$A$96:$A$125,0),MATCH(G870,'ORDER FORM'!$I$119:$L$119,0)),\"\")=0,\"\",IFERROR(INDEX('ORDER FORM'!$I$96:$L$125,MATCH(CONCATENATE(E870,F870),'ORDER FORM'!$A$96:A$125,0),MATCH(G870,'ORDER FORM'!$I$119:$L$119,0)),\"\"))","v":""},{"$f":"IFERROR(IFERROR(INDEX('ORDER FORM'!N:N,MATCH(IMPORT!E870,'ORDER FORM'!B:B,0)),INDEX('ORDER FORM'!N:N,MATCH(TRIM(IMPORT!E870),'ORDER FORM'!B:B,0))),\"\")","v":{"v":14,"d":"14.00"}}]
["UPLOADUSD",{"$f":"IF('ORDER FORM'!$O$7=\"\",\"ENTER-PO\",'ORDER FORM'!$O$7)","v":"ENTER-PO"},"2021 Spring/Summer",{"$f":"IF('ORDER FORM'!$O$9=\"\",TODAY(),'ORDER FORM'!$O$9)","v":"2023-11-02"},710596,"420","M","2","610306137234",{"$f":"IF(IFERROR(INDEX('ORDER FORM'!$I$96:$L$125,MATCH(CONCATENATE(E871,F871),'ORDER FORM'!$A$96:$A$125,0),MATCH(G871,'ORDER FORM'!$I$119:$L$119,0)),\"\")=0,\"\",IFERROR(INDEX('ORDER FORM'!$I$96:$L$125,MATCH(CONCATENATE(E871,F871),'ORDER FORM'!$A$96:A$125,0),MATCH(G871,'ORDER FORM'!$I$119:$L$119,0)),\"\"))","v":""},{"$f":"IFERROR(IFERROR(INDEX('ORDER FORM'!N:N,MATCH(IMPORT!E871,'ORDER FORM'!B:B,0)),INDEX('ORDER FORM'!N:N,MATCH(TRIM(IMPORT!E871),'ORDER FORM'!B:B,0))),\"\")","v":{"v":14,"d":"14.00"}}]
["UPLOADUSD",{"$f":"IF('ORDER FORM'!$O$7=\"\",\"ENTER-PO\",'ORDER FORM'!$O$7)","v":"ENTER-PO"},"2021 Spring/Summer",{"$f":"IF('ORDER FORM'!$O$9=\"\",TODAY(),'ORDER FORM'!$O$9)","v":"2023-11-02"},710596,"420","L","2","610306137241",{"$f":"IF(IFERROR(INDEX('ORDER FORM'!$I$96:$L$125,MATCH(CONCATENATE(E872,F872),'ORDER FORM'!$A$96:$A$125,0),MATCH(G872,'ORDER FORM'!$I$119:$L$119,0)),\"\")=0,\"\",IFERROR(INDEX('ORDER FORM'!$I$96:$L$125,MATCH(CONCATENATE(E872,F872),'ORDER FORM'!$A$96:A$125,0),MATCH(G872,'ORDER FORM'!$I$119:$L$119,0)),\"\"))","v":""},{"$f":"IFERROR(IFERROR(INDEX('ORDER FORM'!N:N,MATCH(IMPORT!E872,'ORDER FORM'!B:B,0)),INDEX('ORDER FORM'!N:N,MATCH(TRIM(IMPORT!E872),'ORDER FORM'!B:B,0))),\"\")","v":{"v":14,"d":"14.00"}}]
["UPLOADUSD",{"$f":"IF('ORDER FORM'!$O$7=\"\",\"ENTER-PO\",'ORDER FORM'!$O$7)","v":"ENTER-PO"},"2021 Spring/Summer",{"$f":"IF('ORDER FORM'!$O$9=\"\",TODAY(),'ORDER FORM'!$O$9)","v":"2023-11-02"},710596,"420","XL","2","610306137258",{"$f":"IF(IFERROR(INDEX('ORDER FORM'!$I$96:$L$125,MATCH(CONCATENATE(E873,F873),'ORDER FORM'!$A$96:$A$125,0),MATCH(G873,'ORDER FORM'!$I$119:$L$119,0)),\"\")=0,\"\",IFERROR(INDEX('ORDER FORM'!$I$96:$L$125,MATCH(CONCATENATE(E873,F873),'ORDER FORM'!$A$96:A$125,0),MATCH(G873,'ORDER FORM'!$I$119:$L$119,0)),\"\"))","v":""},{"$f":"IFERROR(IFERROR(INDEX('ORDER FORM'!N:N,MATCH(IMPORT!E873,'ORDER FORM'!B:B,0)),INDEX('ORDER FORM'!N:N,MATCH(TRIM(IMPORT!E873),'ORDER FORM'!B:B,0))),\"\")","v":{"v":14,"d":"14.00"}}]
["UPLOADUSD",{"$f":"IF('ORDER FORM'!$O$7=\"\",\"ENTER-PO\",'ORDER FORM'!$O$7)","v":"ENTER-PO"},"2021 Spring/Summer",{"$f":"IF('ORDER FORM'!$O$9=\"\",TODAY(),'ORDER FORM'!$O$9)","v":"2023-11-02"},710596,"832","S","2","610306137302",{"$f":"IF(IFERROR(INDEX('ORDER FORM'!$I$96:$L$125,MATCH(CONCATENATE(E874,F874),'ORDER FORM'!$A$96:$A$125,0),MATCH(G874,'ORDER FORM'!$I$119:$L$119,0)),\"\")=0,\"\",IFERROR(INDEX('ORDER FORM'!$I$96:$L$125,MATCH(CONCATENATE(E874,F874),'ORDER FORM'!$A$96:A$125,0),MATCH(G874,'ORDER FORM'!$I$119:$L$119,0)),\"\"))","v":""},{"$f":"IFERROR(IFERROR(INDEX('ORDER FORM'!N:N,MATCH(IMPORT!E874,'ORDER FORM'!B:B,0)),INDEX('ORDER FORM'!N:N,MATCH(TRIM(IMPORT!E874),'ORDER FORM'!B:B,0))),\"\")","v":{"v":14,"d":"14.00"}}]
["UPLOADUSD",{"$f":"IF('ORDER FORM'!$O$7=\"\",\"ENTER-PO\",'ORDER FORM'!$O$7)","v":"ENTER-PO"},"2021 Spring/Summer",{"$f":"IF('ORDER FORM'!$O$9=\"\",TODAY(),'ORDER FORM'!$O$9)","v":"2023-11-02"},710596,"832","M","2","610306137319",{"$f":"IF(IFERROR(INDEX('ORDER FORM'!$I$96:$L$125,MATCH(CONCATENATE(E875,F875),'ORDER FORM'!$A$96:$A$125,0),MATCH(G875,'ORDER FORM'!$I$119:$L$119,0)),\"\")=0,\"\",IFERROR(INDEX('ORDER FORM'!$I$96:$L$125,MATCH(CONCATENATE(E875,F875),'ORDER FORM'!$A$96:A$125,0),MATCH(G875,'ORDER FORM'!$I$119:$L$119,0)),\"\"))","v":""},{"$f":"IFERROR(IFERROR(INDEX('ORDER FORM'!N:N,MATCH(IMPORT!E875,'ORDER FORM'!B:B,0)),INDEX('ORDER FORM'!N:N,MATCH(TRIM(IMPORT!E875),'ORDER FORM'!B:B,0))),\"\")","v":{"v":14,"d":"14.00"}}]
["UPLOADUSD",{"$f":"IF('ORDER FORM'!$O$7=\"\",\"ENTER-PO\",'ORDER FORM'!$O$7)","v":"ENTER-PO"},"2021 Spring/Summer",{"$f":"IF('ORDER FORM'!$O$9=\"\",TODAY(),'ORDER FORM'!$O$9)","v":"2023-11-02"},710596,"832","L","2","610306137326",{"$f":"IF(IFERROR(INDEX('ORDER FORM'!$I$96:$L$125,MATCH(CONCATENATE(E876,F876),'ORDER FORM'!$A$96:$A$125,0),MATCH(G876,'ORDER FORM'!$I$119:$L$119,0)),\"\")=0,\"\",IFERROR(INDEX('ORDER FORM'!$I$96:$L$125,MATCH(CONCATENATE(E876,F876),'ORDER FORM'!$A$96:A$125,0),MATCH(G876,'ORDER FORM'!$I$119:$L$119,0)),\"\"))","v":""},{"$f":"IFERROR(IFERROR(INDEX('ORDER FORM'!N:N,MATCH(IMPORT!E876,'ORDER FORM'!B:B,0)),INDEX('ORDER FORM'!N:N,MATCH(TRIM(IMPORT!E876),'ORDER FORM'!B:B,0))),\"\")","v":{"v":14,"d":"14.00"}}]
["UPLOADUSD",{"$f":"IF('ORDER FORM'!$O$7=\"\",\"ENTER-PO\",'ORDER FORM'!$O$7)","v":"ENTER-PO"},"2021 Spring/Summer",{"$f":"IF('ORDER FORM'!$O$9=\"\",TODAY(),'ORDER FORM'!$O$9)","v":"2023-11-02"},710596,"832","XL","2","610306137333",{"$f":"IF(IFERROR(INDEX('ORDER FORM'!$I$96:$L$125,MATCH(CONCATENATE(E877,F877),'ORDER FORM'!$A$96:$A$125,0),MATCH(G877,'ORDER FORM'!$I$119:$L$119,0)),\"\")=0,\"\",IFERROR(INDEX('ORDER FORM'!$I$96:$L$125,MATCH(CONCATENATE(E877,F877),'ORDER FORM'!$A$96:A$125,0),MATCH(G877,'ORDER FORM'!$I$119:$L$119,0)),\"\"))","v":""},{"$f":"IFERROR(IFERROR(INDEX('ORDER FORM'!N:N,MATCH(IMPORT!E877,'ORDER FORM'!B:B,0)),INDEX('ORDER FORM'!N:N,MATCH(TRIM(IMPORT!E877),'ORDER FORM'!B:B,0))),\"\")","v":{"v":14,"d":"14.00"}}]
["UPLOADUSD",{"$f":"IF('ORDER FORM'!$O$7=\"\",\"ENTER-PO\",'ORDER FORM'!$O$7)","v":"ENTER-PO"},"2021 Spring/Summer",{"$f":"IF('ORDER FORM'!$O$9=\"\",TODAY(),'ORDER FORM'!$O$9)","v":"2023-11-02"},710597,"305","M","2","610306136282",{"$f":"IF(IFERROR(INDEX('ORDER FORM'!$I$96:$L$125,MATCH(CONCATENATE(E878,F878),'ORDER FORM'!$A$96:$A$125,0),MATCH(G878,'ORDER FORM'!$I$119:$L$119,0)),\"\")=0,\"\",IFERROR(INDEX('ORDER FORM'!$I$96:$L$125,MATCH(CONCATENATE(E878,F878),'ORDER FORM'!$A$96:A$125,0),MATCH(G878,'ORDER FORM'!$I$119:$L$119,0)),\"\"))","v":""},{"$f":"IFERROR(IFERROR(INDEX('ORDER FORM'!N:N,MATCH(IMPORT!E878,'ORDER FORM'!B:B,0)),INDEX('ORDER FORM'!N:N,MATCH(TRIM(IMPORT!E878),'ORDER FORM'!B:B,0))),\"\")","v":""}]
["UPLOADUSD",{"$f":"IF('ORDER FORM'!$O$7=\"\",\"ENTER-PO\",'ORDER FORM'!$O$7)","v":"ENTER-PO"},"2021 Spring/Summer",{"$f":"IF('ORDER FORM'!$O$9=\"\",TODAY(),'ORDER FORM'!$O$9)","v":"2023-11-02"},710597,"305","L","2","610306136299",{"$f":"IF(IFERROR(INDEX('ORDER FORM'!$I$96:$L$125,MATCH(CONCATENATE(E879,F879),'ORDER FORM'!$A$96:$A$125,0),MATCH(G879,'ORDER FORM'!$I$119:$L$119,0)),\"\")=0,\"\",IFERROR(INDEX('ORDER FORM'!$I$96:$L$125,MATCH(CONCATENATE(E879,F879),'ORDER FORM'!$A$96:A$125,0),MATCH(G879,'ORDER FORM'!$I$119:$L$119,0)),\"\"))","v":""},{"$f":"IFERROR(IFERROR(INDEX('ORDER FORM'!N:N,MATCH(IMPORT!E879,'ORDER FORM'!B:B,0)),INDEX('ORDER FORM'!N:N,MATCH(TRIM(IMPORT!E879),'ORDER FORM'!B:B,0))),\"\")","v":""}]
["UPLOADUSD",{"$f":"IF('ORDER FORM'!$O$7=\"\",\"ENTER-PO\",'ORDER FORM'!$O$7)","v":"ENTER-PO"},"2021 Spring/Summer",{"$f":"IF('ORDER FORM'!$O$9=\"\",TODAY(),'ORDER FORM'!$O$9)","v":"2023-11-02"},710597,"305","XL","2","610306136305",{"$f":"IF(IFERROR(INDEX('ORDER FORM'!$I$96:$L$125,MATCH(CONCATENATE(E880,F880),'ORDER FORM'!$A$96:$A$125,0),MATCH(G880,'ORDER FORM'!$I$119:$L$119,0)),\"\")=0,\"\",IFERROR(INDEX('ORDER FORM'!$I$96:$L$125,MATCH(CONCATENATE(E880,F880),'ORDER FORM'!$A$96:A$125,0),MATCH(G880,'ORDER FORM'!$I$119:$L$119,0)),\"\"))","v":""},{"$f":"IFERROR(IFERROR(INDEX('ORDER FORM'!N:N,MATCH(IMPORT!E880,'ORDER FORM'!B:B,0)),INDEX('ORDER FORM'!N:N,MATCH(TRIM(IMPORT!E880),'ORDER FORM'!B:B,0))),\"\")","v":""}]
["UPLOADUSD",{"$f":"IF('ORDER FORM'!$O$7=\"\",\"ENTER-PO\",'ORDER FORM'!$O$7)","v":"ENTER-PO"},"2021 Spring/Summer",{"$f":"IF('ORDER FORM'!$O$9=\"\",TODAY(),'ORDER FORM'!$O$9)","v":"2023-11-02"},710597,"450","M","2","610306136312",{"$f":"IF(IFERROR(INDEX('ORDER FORM'!$I$96:$L$125,MATCH(CONCATENATE(E881,F881),'ORDER FORM'!$A$96:$A$125,0),MATCH(G881,'ORDER FORM'!$I$119:$L$119,0)),\"\")=0,\"\",IFERROR(INDEX('ORDER FORM'!$I$96:$L$125,MATCH(CONCATENATE(E881,F881),'ORDER FORM'!$A$96:A$125,0),MATCH(G881,'ORDER FORM'!$I$119:$L$119,0)),\"\"))","v":""},{"$f":"IFERROR(IFERROR(INDEX('ORDER FORM'!N:N,MATCH(IMPORT!E881,'ORDER FORM'!B:B,0)),INDEX('ORDER FORM'!N:N,MATCH(TRIM(IMPORT!E881),'ORDER FORM'!B:B,0))),\"\")","v":""}]
["UPLOADUSD",{"$f":"IF('ORDER FORM'!$O$7=\"\",\"ENTER-PO\",'ORDER FORM'!$O$7)","v":"ENTER-PO"},"2021 Spring/Summer",{"$f":"IF('ORDER FORM'!$O$9=\"\",TODAY(),'ORDER FORM'!$O$9)","v":"2023-11-02"},710597,"450","L","2","610306136329",{"$f":"IF(IFERROR(INDEX('ORDER FORM'!$I$96:$L$125,MATCH(CONCATENATE(E882,F882),'ORDER FORM'!$A$96:$A$125,0),MATCH(G882,'ORDER FORM'!$I$119:$L$119,0)),\"\")=0,\"\",IFERROR(INDEX('ORDER FORM'!$I$96:$L$125,MATCH(CONCATENATE(E882,F882),'ORDER FORM'!$A$96:A$125,0),MATCH(G882,'ORDER FORM'!$I$119:$L$119,0)),\"\"))","v":""},{"$f":"IFERROR(IFERROR(INDEX('ORDER FORM'!N:N,MATCH(IMPORT!E882,'ORDER FORM'!B:B,0)),INDEX('ORDER FORM'!N:N,MATCH(TRIM(IMPORT!E882),'ORDER FORM'!B:B,0))),\"\")","v":""}]
["UPLOADUSD",{"$f":"IF('ORDER FORM'!$O$7=\"\",\"ENTER-PO\",'ORDER FORM'!$O$7)","v":"ENTER-PO"},"2021 Spring/Summer",{"$f":"IF('ORDER FORM'!$O$9=\"\",TODAY(),'ORDER FORM'!$O$9)","v":"2023-11-02"},710597,"450","XL","2","610306136336",{"$f":"IF(IFERROR(INDEX('ORDER FORM'!$I$96:$L$125,MATCH(CONCATENATE(E883,F883),'ORDER FORM'!$A$96:$A$125,0),MATCH(G883,'ORDER FORM'!$I$119:$L$119,0)),\"\")=0,\"\",IFERROR(INDEX('ORDER FORM'!$I$96:$L$125,MATCH(CONCATENATE(E883,F883),'ORDER FORM'!$A$96:A$125,0),MATCH(G883,'ORDER FORM'!$I$119:$L$119,0)),\"\"))","v":""},{"$f":"IFERROR(IFERROR(INDEX('ORDER FORM'!N:N,MATCH(IMPORT!E883,'ORDER FORM'!B:B,0)),INDEX('ORDER FORM'!N:N,MATCH(TRIM(IMPORT!E883),'ORDER FORM'!B:B,0))),\"\")","v":""}]
["UPLOADUSD",{"$f":"IF('ORDER FORM'!$O$7=\"\",\"ENTER-PO\",'ORDER FORM'!$O$7)","v":"ENTER-PO"},"2021 Spring/Summer",{"$f":"IF('ORDER FORM'!$O$9=\"\",TODAY(),'ORDER FORM'!$O$9)","v":"2023-11-02"},710597,"845","M","2","610306136343",{"$f":"IF(IFERROR(INDEX('ORDER FORM'!$I$96:$L$125,MATCH(CONCATENATE(E884,F884),'ORDER FORM'!$A$96:$A$125,0),MATCH(G884,'ORDER FORM'!$I$119:$L$119,0)),\"\")=0,\"\",IFERROR(INDEX('ORDER FORM'!$I$96:$L$125,MATCH(CONCATENATE(E884,F884),'ORDER FORM'!$A$96:A$125,0),MATCH(G884,'ORDER FORM'!$I$119:$L$119,0)),\"\"))","v":""},{"$f":"IFERROR(IFERROR(INDEX('ORDER FORM'!N:N,MATCH(IMPORT!E884,'ORDER FORM'!B:B,0)),INDEX('ORDER FORM'!N:N,MATCH(TRIM(IMPORT!E884),'ORDER FORM'!B:B,0))),\"\")","v":""}]
["UPLOADUSD",{"$f":"IF('ORDER FORM'!$O$7=\"\",\"ENTER-PO\",'ORDER FORM'!$O$7)","v":"ENTER-PO"},"2021 Spring/Summer",{"$f":"IF('ORDER FORM'!$O$9=\"\",TODAY(),'ORDER FORM'!$O$9)","v":"2023-11-02"},710597,"845","L","2","610306136350",{"$f":"IF(IFERROR(INDEX('ORDER FORM'!$I$96:$L$125,MATCH(CONCATENATE(E885,F885),'ORDER FORM'!$A$96:$A$125,0),MATCH(G885,'ORDER FORM'!$I$119:$L$119,0)),\"\")=0,\"\",IFERROR(INDEX('ORDER FORM'!$I$96:$L$125,MATCH(CONCATENATE(E885,F885),'ORDER FORM'!$A$96:A$125,0),MATCH(G885,'ORDER FORM'!$I$119:$L$119,0)),\"\"))","v":""},{"$f":"IFERROR(IFERROR(INDEX('ORDER FORM'!N:N,MATCH(IMPORT!E885,'ORDER FORM'!B:B,0)),INDEX('ORDER FORM'!N:N,MATCH(TRIM(IMPORT!E885),'ORDER FORM'!B:B,0))),\"\")","v":""}]
["UPLOADUSD",{"$f":"IF('ORDER FORM'!$O$7=\"\",\"ENTER-PO\",'ORDER FORM'!$O$7)","v":"ENTER-PO"},"2021 Spring/Summer",{"$f":"IF('ORDER FORM'!$O$9=\"\",TODAY(),'ORDER FORM'!$O$9)","v":"2023-11-02"},710597,"845","XL","2","610306136367",{"$f":"IF(IFERROR(INDEX('ORDER FORM'!$I$96:$L$125,MATCH(CONCATENATE(E886,F886),'ORDER FORM'!$A$96:$A$125,0),MATCH(G886,'ORDER FORM'!$I$119:$L$119,0)),\"\")=0,\"\",IFERROR(INDEX('ORDER FORM'!$I$96:$L$125,MATCH(CONCATENATE(E886,F886),'ORDER FORM'!$A$96:A$125,0),MATCH(G886,'ORDER FORM'!$I$119:$L$119,0)),\"\"))","v":""},{"$f":"IFERROR(IFERROR(INDEX('ORDER FORM'!N:N,MATCH(IMPORT!E886,'ORDER FORM'!B:B,0)),INDEX('ORDER FORM'!N:N,MATCH(TRIM(IMPORT!E886),'ORDER FORM'!B:B,0))),\"\")","v":""}]
["UPLOADUSD",{"$f":"IF('ORDER FORM'!$O$7=\"\",\"ENTER-PO\",'ORDER FORM'!$O$7)","v":"ENTER-PO"},"2021 Spring/Summer",{"$f":"IF('ORDER FORM'!$O$9=\"\",TODAY(),'ORDER FORM'!$O$9)","v":"2023-11-02"},710605,"402","S","2","610306138859",{"$f":"IF(IFERROR(INDEX('ORDER FORM'!$I$96:$L$125,MATCH(CONCATENATE(E887,F887),'ORDER FORM'!$A$96:$A$125,0),MATCH(G887,'ORDER FORM'!$I$119:$L$119,0)),\"\")=0,\"\",IFERROR(INDEX('ORDER FORM'!$I$96:$L$125,MATCH(CONCATENATE(E887,F887),'ORDER FORM'!$A$96:A$125,0),MATCH(G887,'ORDER FORM'!$I$119:$L$119,0)),\"\"))","v":""},{"$f":"IFERROR(IFERROR(INDEX('ORDER FORM'!N:N,MATCH(IMPORT!E887,'ORDER FORM'!B:B,0)),INDEX('ORDER FORM'!N:N,MATCH(TRIM(IMPORT!E887),'ORDER FORM'!B:B,0))),\"\")","v":{"v":14,"d":"14.00"}}]
["UPLOADUSD",{"$f":"IF('ORDER FORM'!$O$7=\"\",\"ENTER-PO\",'ORDER FORM'!$O$7)","v":"ENTER-PO"},"2021 Spring/Summer",{"$f":"IF('ORDER FORM'!$O$9=\"\",TODAY(),'ORDER FORM'!$O$9)","v":"2023-11-02"},710605,"402","M","2","610306138866",{"$f":"IF(IFERROR(INDEX('ORDER FORM'!$I$96:$L$125,MATCH(CONCATENATE(E888,F888),'ORDER FORM'!$A$96:$A$125,0),MATCH(G888,'ORDER FORM'!$I$119:$L$119,0)),\"\")=0,\"\",IFERROR(INDEX('ORDER FORM'!$I$96:$L$125,MATCH(CONCATENATE(E888,F888),'ORDER FORM'!$A$96:A$125,0),MATCH(G888,'ORDER FORM'!$I$119:$L$119,0)),\"\"))","v":""},{"$f":"IFERROR(IFERROR(INDEX('ORDER FORM'!N:N,MATCH(IMPORT!E888,'ORDER FORM'!B:B,0)),INDEX('ORDER FORM'!N:N,MATCH(TRIM(IMPORT!E888),'ORDER FORM'!B:B,0))),\"\")","v":{"v":14,"d":"14.00"}}]
["UPLOADUSD",{"$f":"IF('ORDER FORM'!$O$7=\"\",\"ENTER-PO\",'ORDER FORM'!$O$7)","v":"ENTER-PO"},"2021 Spring/Summer",{"$f":"IF('ORDER FORM'!$O$9=\"\",TODAY(),'ORDER FORM'!$O$9)","v":"2023-11-02"},710605,"402","L","2","610306138873",{"$f":"IF(IFERROR(INDEX('ORDER FORM'!$I$96:$L$125,MATCH(CONCATENATE(E889,F889),'ORDER FORM'!$A$96:$A$125,0),MATCH(G889,'ORDER FORM'!$I$119:$L$119,0)),\"\")=0,\"\",IFERROR(INDEX('ORDER FORM'!$I$96:$L$125,MATCH(CONCATENATE(E889,F889),'ORDER FORM'!$A$96:A$125,0),MATCH(G889,'ORDER FORM'!$I$119:$L$119,0)),\"\"))","v":""},{"$f":"IFERROR(IFERROR(INDEX('ORDER FORM'!N:N,MATCH(IMPORT!E889,'ORDER FORM'!B:B,0)),INDEX('ORDER FORM'!N:N,MATCH(TRIM(IMPORT!E889),'ORDER FORM'!B:B,0))),\"\")","v":{"v":14,"d":"14.00"}}]
["UPLOADUSD",{"$f":"IF('ORDER FORM'!$O$7=\"\",\"ENTER-PO\",'ORDER FORM'!$O$7)","v":"ENTER-PO"},"2021 Spring/Summer",{"$f":"IF('ORDER FORM'!$O$9=\"\",TODAY(),'ORDER FORM'!$O$9)","v":"2023-11-02"},710605,"445","S","2","610306138880",{"$f":"IF(IFERROR(INDEX('ORDER FORM'!$I$96:$L$125,MATCH(CONCATENATE(E890,F890),'ORDER FORM'!$A$96:$A$125,0),MATCH(G890,'ORDER FORM'!$I$119:$L$119,0)),\"\")=0,\"\",IFERROR(INDEX('ORDER FORM'!$I$96:$L$125,MATCH(CONCATENATE(E890,F890),'ORDER FORM'!$A$96:A$125,0),MATCH(G890,'ORDER FORM'!$I$119:$L$119,0)),\"\"))","v":""},{"$f":"IFERROR(IFERROR(INDEX('ORDER FORM'!N:N,MATCH(IMPORT!E890,'ORDER FORM'!B:B,0)),INDEX('ORDER FORM'!N:N,MATCH(TRIM(IMPORT!E890),'ORDER FORM'!B:B,0))),\"\")","v":{"v":14,"d":"14.00"}}]
["UPLOADUSD",{"$f":"IF('ORDER FORM'!$O$7=\"\",\"ENTER-PO\",'ORDER FORM'!$O$7)","v":"ENTER-PO"},"2021 Spring/Summer",{"$f":"IF('ORDER FORM'!$O$9=\"\",TODAY(),'ORDER FORM'!$O$9)","v":"2023-11-02"},710605,"445","M","2","610306138897",{"$f":"IF(IFERROR(INDEX('ORDER FORM'!$I$96:$L$125,MATCH(CONCATENATE(E891,F891),'ORDER FORM'!$A$96:$A$125,0),MATCH(G891,'ORDER FORM'!$I$119:$L$119,0)),\"\")=0,\"\",IFERROR(INDEX('ORDER FORM'!$I$96:$L$125,MATCH(CONCATENATE(E891,F891),'ORDER FORM'!$A$96:A$125,0),MATCH(G891,'ORDER FORM'!$I$119:$L$119,0)),\"\"))","v":""},{"$f":"IFERROR(IFERROR(INDEX('ORDER FORM'!N:N,MATCH(IMPORT!E891,'ORDER FORM'!B:B,0)),INDEX('ORDER FORM'!N:N,MATCH(TRIM(IMPORT!E891),'ORDER FORM'!B:B,0))),\"\")","v":{"v":14,"d":"14.00"}}]
["UPLOADUSD",{"$f":"IF('ORDER FORM'!$O$7=\"\",\"ENTER-PO\",'ORDER FORM'!$O$7)","v":"ENTER-PO"},"2021 Spring/Summer",{"$f":"IF('ORDER FORM'!$O$9=\"\",TODAY(),'ORDER FORM'!$O$9)","v":"2023-11-02"},710605,"445","L","2","610306138903",{"$f":"IF(IFERROR(INDEX('ORDER FORM'!$I$96:$L$125,MATCH(CONCATENATE(E892,F892),'ORDER FORM'!$A$96:$A$125,0),MATCH(G892,'ORDER FORM'!$I$119:$L$119,0)),\"\")=0,\"\",IFERROR(INDEX('ORDER FORM'!$I$96:$L$125,MATCH(CONCATENATE(E892,F892),'ORDER FORM'!$A$96:A$125,0),MATCH(G892,'ORDER FORM'!$I$119:$L$119,0)),\"\"))","v":""},{"$f":"IFERROR(IFERROR(INDEX('ORDER FORM'!N:N,MATCH(IMPORT!E892,'ORDER FORM'!B:B,0)),INDEX('ORDER FORM'!N:N,MATCH(TRIM(IMPORT!E892),'ORDER FORM'!B:B,0))),\"\")","v":{"v":14,"d":"14.00"}}]
["UPLOADUSD",{"$f":"IF('ORDER FORM'!$O$7=\"\",\"ENTER-PO\",'ORDER FORM'!$O$7)","v":"ENTER-PO"},"2021 Spring/Summer",{"$f":"IF('ORDER FORM'!$O$9=\"\",TODAY(),'ORDER FORM'!$O$9)","v":"2023-11-02"},710606,"812","S","2","610306137937",{"$f":"IF(IFERROR(INDEX('ORDER FORM'!$I$96:$L$125,MATCH(CONCATENATE(E893,F893),'ORDER FORM'!$A$96:$A$125,0),MATCH(G893,'ORDER FORM'!$I$119:$L$119,0)),\"\")=0,\"\",IFERROR(INDEX('ORDER FORM'!$I$96:$L$125,MATCH(CONCATENATE(E893,F893),'ORDER FORM'!$A$96:A$125,0),MATCH(G893,'ORDER FORM'!$I$119:$L$119,0)),\"\"))","v":""},{"$f":"IFERROR(IFERROR(INDEX('ORDER FORM'!N:N,MATCH(IMPORT!E893,'ORDER FORM'!B:B,0)),INDEX('ORDER FORM'!N:N,MATCH(TRIM(IMPORT!E893),'ORDER FORM'!B:B,0))),\"\")","v":""}]
["UPLOADUSD",{"$f":"IF('ORDER FORM'!$O$7=\"\",\"ENTER-PO\",'ORDER FORM'!$O$7)","v":"ENTER-PO"},"2021 Spring/Summer",{"$f":"IF('ORDER FORM'!$O$9=\"\",TODAY(),'ORDER FORM'!$O$9)","v":"2023-11-02"},710606,"812","M","2","610306137944",{"$f":"IF(IFERROR(INDEX('ORDER FORM'!$I$96:$L$125,MATCH(CONCATENATE(E894,F894),'ORDER FORM'!$A$96:$A$125,0),MATCH(G894,'ORDER FORM'!$I$119:$L$119,0)),\"\")=0,\"\",IFERROR(INDEX('ORDER FORM'!$I$96:$L$125,MATCH(CONCATENATE(E894,F894),'ORDER FORM'!$A$96:A$125,0),MATCH(G894,'ORDER FORM'!$I$119:$L$119,0)),\"\"))","v":""},{"$f":"IFERROR(IFERROR(INDEX('ORDER FORM'!N:N,MATCH(IMPORT!E894,'ORDER FORM'!B:B,0)),INDEX('ORDER FORM'!N:N,MATCH(TRIM(IMPORT!E894),'ORDER FORM'!B:B,0))),\"\")","v":""}]
["UPLOADUSD",{"$f":"IF('ORDER FORM'!$O$7=\"\",\"ENTER-PO\",'ORDER FORM'!$O$7)","v":"ENTER-PO"},"2021 Spring/Summer",{"$f":"IF('ORDER FORM'!$O$9=\"\",TODAY(),'ORDER FORM'!$O$9)","v":"2023-11-02"},710606,"812","L","2","610306137951",{"$f":"IF(IFERROR(INDEX('ORDER FORM'!$I$96:$L$125,MATCH(CONCATENATE(E895,F895),'ORDER FORM'!$A$96:$A$125,0),MATCH(G895,'ORDER FORM'!$I$119:$L$119,0)),\"\")=0,\"\",IFERROR(INDEX('ORDER FORM'!$I$96:$L$125,MATCH(CONCATENATE(E895,F895),'ORDER FORM'!$A$96:A$125,0),MATCH(G895,'ORDER FORM'!$I$119:$L$119,0)),\"\"))","v":""},{"$f":"IFERROR(IFERROR(INDEX('ORDER FORM'!N:N,MATCH(IMPORT!E895,'ORDER FORM'!B:B,0)),INDEX('ORDER FORM'!N:N,MATCH(TRIM(IMPORT!E895),'ORDER FORM'!B:B,0))),\"\")","v":""}]
["UPLOADUSD",{"$f":"IF('ORDER FORM'!$O$7=\"\",\"ENTER-PO\",'ORDER FORM'!$O$7)","v":"ENTER-PO"},"2021 Spring/Summer",{"$f":"IF('ORDER FORM'!$O$9=\"\",TODAY(),'ORDER FORM'!$O$9)","v":"2023-11-02"},710608,"814","S","2","610306136749",{"$f":"IF(IFERROR(INDEX('ORDER FORM'!$I$96:$L$125,MATCH(CONCATENATE(E896,F896),'ORDER FORM'!$A$96:$A$125,0),MATCH(G896,'ORDER FORM'!$I$119:$L$119,0)),\"\")=0,\"\",IFERROR(INDEX('ORDER FORM'!$I$96:$L$125,MATCH(CONCATENATE(E896,F896),'ORDER FORM'!$A$96:A$125,0),MATCH(G896,'ORDER FORM'!$I$119:$L$119,0)),\"\"))","v":""},{"$f":"IFERROR(IFERROR(INDEX('ORDER FORM'!N:N,MATCH(IMPORT!E896,'ORDER FORM'!B:B,0)),INDEX('ORDER FORM'!N:N,MATCH(TRIM(IMPORT!E896),'ORDER FORM'!B:B,0))),\"\")","v":{"v":12.5,"d":"12.50"}}]
["UPLOADUSD",{"$f":"IF('ORDER FORM'!$O$7=\"\",\"ENTER-PO\",'ORDER FORM'!$O$7)","v":"ENTER-PO"},"2021 Spring/Summer",{"$f":"IF('ORDER FORM'!$O$9=\"\",TODAY(),'ORDER FORM'!$O$9)","v":"2023-11-02"},710608,"814","M","2","610306136756",{"$f":"IF(IFERROR(INDEX('ORDER FORM'!$I$96:$L$125,MATCH(CONCATENATE(E897,F897),'ORDER FORM'!$A$96:$A$125,0),MATCH(G897,'ORDER FORM'!$I$119:$L$119,0)),\"\")=0,\"\",IFERROR(INDEX('ORDER FORM'!$I$96:$L$125,MATCH(CONCATENATE(E897,F897),'ORDER FORM'!$A$96:A$125,0),MATCH(G897,'ORDER FORM'!$I$119:$L$119,0)),\"\"))","v":""},{"$f":"IFERROR(IFERROR(INDEX('ORDER FORM'!N:N,MATCH(IMPORT!E897,'ORDER FORM'!B:B,0)),INDEX('ORDER FORM'!N:N,MATCH(TRIM(IMPORT!E897),'ORDER FORM'!B:B,0))),\"\")","v":{"v":12.5,"d":"12.50"}}]
["UPLOADUSD",{"$f":"IF('ORDER FORM'!$O$7=\"\",\"ENTER-PO\",'ORDER FORM'!$O$7)","v":"ENTER-PO"},"2021 Spring/Summer",{"$f":"IF('ORDER FORM'!$O$9=\"\",TODAY(),'ORDER FORM'!$O$9)","v":"2023-11-02"},710608,"814","L","2","610306136763",{"$f":"IF(IFERROR(INDEX('ORDER FORM'!$I$96:$L$125,MATCH(CONCATENATE(E898,F898),'ORDER FORM'!$A$96:$A$125,0),MATCH(G898,'ORDER FORM'!$I$119:$L$119,0)),\"\")=0,\"\",IFERROR(INDEX('ORDER FORM'!$I$96:$L$125,MATCH(CONCATENATE(E898,F898),'ORDER FORM'!$A$96:A$125,0),MATCH(G898,'ORDER FORM'!$I$119:$L$119,0)),\"\"))","v":""},{"$f":"IFERROR(IFERROR(INDEX('ORDER FORM'!N:N,MATCH(IMPORT!E898,'ORDER FORM'!B:B,0)),INDEX('ORDER FORM'!N:N,MATCH(TRIM(IMPORT!E898),'ORDER FORM'!B:B,0))),\"\")","v":{"v":12.5,"d":"12.50"}}]
["UPLOADUSD",{"$f":"IF('ORDER FORM'!$O$7=\"\",\"ENTER-PO\",'ORDER FORM'!$O$7)","v":"ENTER-PO"},"2021 Spring/Summer",{"$f":"IF('ORDER FORM'!$O$9=\"\",TODAY(),'ORDER FORM'!$O$9)","v":"2023-11-02"},710608,"830","S","2","610306136770",{"$f":"IF(IFERROR(INDEX('ORDER FORM'!$I$96:$L$125,MATCH(CONCATENATE(E899,F899),'ORDER FORM'!$A$96:$A$125,0),MATCH(G899,'ORDER FORM'!$I$119:$L$119,0)),\"\")=0,\"\",IFERROR(INDEX('ORDER FORM'!$I$96:$L$125,MATCH(CONCATENATE(E899,F899),'ORDER FORM'!$A$96:A$125,0),MATCH(G899,'ORDER FORM'!$I$119:$L$119,0)),\"\"))","v":""},{"$f":"IFERROR(IFERROR(INDEX('ORDER FORM'!N:N,MATCH(IMPORT!E899,'ORDER FORM'!B:B,0)),INDEX('ORDER FORM'!N:N,MATCH(TRIM(IMPORT!E899),'ORDER FORM'!B:B,0))),\"\")","v":{"v":12.5,"d":"12.50"}}]
["UPLOADUSD",{"$f":"IF('ORDER FORM'!$O$7=\"\",\"ENTER-PO\",'ORDER FORM'!$O$7)","v":"ENTER-PO"},"2021 Spring/Summer",{"$f":"IF('ORDER FORM'!$O$9=\"\",TODAY(),'ORDER FORM'!$O$9)","v":"2023-11-02"},710608,"830","M","2","610306136787",{"$f":"IF(IFERROR(INDEX('ORDER FORM'!$I$96:$L$125,MATCH(CONCATENATE(E900,F900),'ORDER FORM'!$A$96:$A$125,0),MATCH(G900,'ORDER FORM'!$I$119:$L$119,0)),\"\")=0,\"\",IFERROR(INDEX('ORDER FORM'!$I$96:$L$125,MATCH(CONCATENATE(E900,F900),'ORDER FORM'!$A$96:A$125,0),MATCH(G900,'ORDER FORM'!$I$119:$L$119,0)),\"\"))","v":""},{"$f":"IFERROR(IFERROR(INDEX('ORDER FORM'!N:N,MATCH(IMPORT!E900,'ORDER FORM'!B:B,0)),INDEX('ORDER FORM'!N:N,MATCH(TRIM(IMPORT!E900),'ORDER FORM'!B:B,0))),\"\")","v":{"v":12.5,"d":"12.50"}}]
["UPLOADUSD",{"$f":"IF('ORDER FORM'!$O$7=\"\",\"ENTER-PO\",'ORDER FORM'!$O$7)","v":"ENTER-PO"},"2021 Spring/Summer",{"$f":"IF('ORDER FORM'!$O$9=\"\",TODAY(),'ORDER FORM'!$O$9)","v":"2023-11-02"},710608,"830","L","2","610306136794",{"$f":"IF(IFERROR(INDEX('ORDER FORM'!$I$96:$L$125,MATCH(CONCATENATE(E901,F901),'ORDER FORM'!$A$96:$A$125,0),MATCH(G901,'ORDER FORM'!$I$119:$L$119,0)),\"\")=0,\"\",IFERROR(INDEX('ORDER FORM'!$I$96:$L$125,MATCH(CONCATENATE(E901,F901),'ORDER FORM'!$A$96:A$125,0),MATCH(G901,'ORDER FORM'!$I$119:$L$119,0)),\"\"))","v":""},{"$f":"IFERROR(IFERROR(INDEX('ORDER FORM'!N:N,MATCH(IMPORT!E901,'ORDER FORM'!B:B,0)),INDEX('ORDER FORM'!N:N,MATCH(TRIM(IMPORT!E901),'ORDER FORM'!B:B,0))),\"\")","v":{"v":12.5,"d":"12.50"}}]
["UPLOADUSD",{"$f":"IF('ORDER FORM'!$O$7=\"\",\"ENTER-PO\",'ORDER FORM'!$O$7)","v":"ENTER-PO"},"2021 Spring/Summer",{"$f":"IF('ORDER FORM'!$O$9=\"\",TODAY(),'ORDER FORM'!$O$9)","v":"2023-11-02"},710610,"814","S","2","610306137869",{"$f":"IF(IFERROR(INDEX('ORDER FORM'!$I$96:$L$125,MATCH(CONCATENATE(E902,F902),'ORDER FORM'!$A$96:$A$125,0),MATCH(G902,'ORDER FORM'!$I$119:$L$119,0)),\"\")=0,\"\",IFERROR(INDEX('ORDER FORM'!$I$96:$L$125,MATCH(CONCATENATE(E902,F902),'ORDER FORM'!$A$96:A$125,0),MATCH(G902,'ORDER FORM'!$I$119:$L$119,0)),\"\"))","v":""},{"$f":"IFERROR(IFERROR(INDEX('ORDER FORM'!N:N,MATCH(IMPORT!E902,'ORDER FORM'!B:B,0)),INDEX('ORDER FORM'!N:N,MATCH(TRIM(IMPORT!E902),'ORDER FORM'!B:B,0))),\"\")","v":""}]
["UPLOADUSD",{"$f":"IF('ORDER FORM'!$O$7=\"\",\"ENTER-PO\",'ORDER FORM'!$O$7)","v":"ENTER-PO"},"2021 Spring/Summer",{"$f":"IF('ORDER FORM'!$O$9=\"\",TODAY(),'ORDER FORM'!$O$9)","v":"2023-11-02"},710610,"814","M","2","610306137876",{"$f":"IF(IFERROR(INDEX('ORDER FORM'!$I$96:$L$125,MATCH(CONCATENATE(E903,F903),'ORDER FORM'!$A$96:$A$125,0),MATCH(G903,'ORDER FORM'!$I$119:$L$119,0)),\"\")=0,\"\",IFERROR(INDEX('ORDER FORM'!$I$96:$L$125,MATCH(CONCATENATE(E903,F903),'ORDER FORM'!$A$96:A$125,0),MATCH(G903,'ORDER FORM'!$I$119:$L$119,0)),\"\"))","v":""},{"$f":"IFERROR(IFERROR(INDEX('ORDER FORM'!N:N,MATCH(IMPORT!E903,'ORDER FORM'!B:B,0)),INDEX('ORDER FORM'!N:N,MATCH(TRIM(IMPORT!E903),'ORDER FORM'!B:B,0))),\"\")","v":""}]
[{"$f":"IF(IF($B$1=0,\"ENTER ACCOUNT\",$B$1)=\"\",\"UPLOADUSD\",IF($B$1=0,\"ENTER ACCOUNT\",$B$1))","v":"UPLOADUSD"},{"$f":"IF('ORDER FORM'!$O$7=\"\",\"ENTER-PO\",'ORDER FORM'!$O$7)","v":"ENTER-PO"},{"$f":"$D$1","v":"2021 Spring/Summer"},{"$f":"IF('ORDER FORM'!$O$9=\"\",TODAY(),'ORDER FORM'!$O$9)","v":"2023-11-02"},710610,"814","L","2","610306137883",{"$f":"IF(IFERROR(INDEX('ORDER FORM'!$I$96:$L$125,MATCH(CONCATENATE(E904,F904),'ORDER FORM'!$A$96:$A$125,0),MATCH(G904,'ORDER FORM'!$I$119:$L$119,0)),\"\")=0,\"\",IFERROR(INDEX('ORDER FORM'!$I$96:$L$125,MATCH(CONCATENATE(E904,F904),'ORDER FORM'!$A$96:A$125,0),MATCH(G904,'ORDER FORM'!$I$119:$L$119,0)),\"\"))","v":""},{"$f":"IFERROR(IFERROR(INDEX('ORDER FORM'!N:N,MATCH(IMPORT!E904,'ORDER FORM'!B:B,0)),INDEX('ORDER FORM'!N:N,MATCH(TRIM(IMPORT!E904),'ORDER FORM'!B:B,0))),\"\")","v":""}]
["UPLOADUSD",{"$f":"IF('ORDER FORM'!$O$7=\"\",\"ENTER-PO\",'ORDER FORM'!$O$7)","v":"ENTER-PO"},"2021 Spring/Summer",{"$f":"IF('ORDER FORM'!$O$9=\"\",TODAY(),'ORDER FORM'!$O$9)","v":"2023-11-02"},710612,"846","S","2","610306138491",{"$f":"IF(IFERROR(INDEX('ORDER FORM'!$I$96:$L$125,MATCH(CONCATENATE(E905,F905),'ORDER FORM'!$A$96:$A$125,0),MATCH(G905,'ORDER FORM'!$I$119:$L$119,0)),\"\")=0,\"\",IFERROR(INDEX('ORDER FORM'!$I$96:$L$125,MATCH(CONCATENATE(E905,F905),'ORDER FORM'!$A$96:A$125,0),MATCH(G905,'ORDER FORM'!$I$119:$L$119,0)),\"\"))","v":""},{"$f":"IFERROR(IFERROR(INDEX('ORDER FORM'!N:N,MATCH(IMPORT!E905,'ORDER FORM'!B:B,0)),INDEX('ORDER FORM'!N:N,MATCH(TRIM(IMPORT!E905),'ORDER FORM'!B:B,0))),\"\")","v":""}]
["UPLOADUSD",{"$f":"IF('ORDER FORM'!$O$7=\"\",\"ENTER-PO\",'ORDER FORM'!$O$7)","v":"ENTER-PO"},"2021 Spring/Summer",{"$f":"IF('ORDER FORM'!$O$9=\"\",TODAY(),'ORDER FORM'!$O$9)","v":"2023-11-02"},710612,"846","M","2","610306138507",{"$f":"IF(IFERROR(INDEX('ORDER FORM'!$I$96:$L$125,MATCH(CONCATENATE(E906,F906),'ORDER FORM'!$A$96:$A$125,0),MATCH(G906,'ORDER FORM'!$I$119:$L$119,0)),\"\")=0,\"\",IFERROR(INDEX('ORDER FORM'!$I$96:$L$125,MATCH(CONCATENATE(E906,F906),'ORDER FORM'!$A$96:A$125,0),MATCH(G906,'ORDER FORM'!$I$119:$L$119,0)),\"\"))","v":""},{"$f":"IFERROR(IFERROR(INDEX('ORDER FORM'!N:N,MATCH(IMPORT!E906,'ORDER FORM'!B:B,0)),INDEX('ORDER FORM'!N:N,MATCH(TRIM(IMPORT!E906),'ORDER FORM'!B:B,0))),\"\")","v":""}]
["UPLOADUSD",{"$f":"IF('ORDER FORM'!$O$7=\"\",\"ENTER-PO\",'ORDER FORM'!$O$7)","v":"ENTER-PO"},"2021 Spring/Summer",{"$f":"IF('ORDER FORM'!$O$9=\"\",TODAY(),'ORDER FORM'!$O$9)","v":"2023-11-02"},710612,"846","L","2","610306138514",{"$f":"IF(IFERROR(INDEX('ORDER FORM'!$I$96:$L$125,MATCH(CONCATENATE(E907,F907),'ORDER FORM'!$A$96:$A$125,0),MATCH(G907,'ORDER FORM'!$I$119:$L$119,0)),\"\")=0,\"\",IFERROR(INDEX('ORDER FORM'!$I$96:$L$125,MATCH(CONCATENATE(E907,F907),'ORDER FORM'!$A$96:A$125,0),MATCH(G907,'ORDER FORM'!$I$119:$L$119,0)),\"\"))","v":""},{"$f":"IFERROR(IFERROR(INDEX('ORDER FORM'!N:N,MATCH(IMPORT!E907,'ORDER FORM'!B:B,0)),INDEX('ORDER FORM'!N:N,MATCH(TRIM(IMPORT!E907),'ORDER FORM'!B:B,0))),\"\")","v":""}]
["UPLOADUSD",{"$f":"IF('ORDER FORM'!$O$7=\"\",\"ENTER-PO\",'ORDER FORM'!$O$7)","v":"ENTER-PO"},"2021 Spring/Summer",{"$f":"IF('ORDER FORM'!$O$9=\"\",TODAY(),'ORDER FORM'!$O$9)","v":"2023-11-02"},710616,"350","S","2","610306138088",{"$f":"IF(IFERROR(INDEX('ORDER FORM'!$I$96:$L$125,MATCH(CONCATENATE(E908,F908),'ORDER FORM'!$A$96:$A$125,0),MATCH(G908,'ORDER FORM'!$I$119:$L$119,0)),\"\")=0,\"\",IFERROR(INDEX('ORDER FORM'!$I$96:$L$125,MATCH(CONCATENATE(E908,F908),'ORDER FORM'!$A$96:A$125,0),MATCH(G908,'ORDER FORM'!$I$119:$L$119,0)),\"\"))","v":""},{"$f":"IFERROR(IFERROR(INDEX('ORDER FORM'!N:N,MATCH(IMPORT!E908,'ORDER FORM'!B:B,0)),INDEX('ORDER FORM'!N:N,MATCH(TRIM(IMPORT!E908),'ORDER FORM'!B:B,0))),\"\")","v":""}]
["UPLOADUSD",{"$f":"IF('ORDER FORM'!$O$7=\"\",\"ENTER-PO\",'ORDER FORM'!$O$7)","v":"ENTER-PO"},"2021 Spring/Summer",{"$f":"IF('ORDER FORM'!$O$9=\"\",TODAY(),'ORDER FORM'!$O$9)","v":"2023-11-02"},710616,"350","M","2","610306138095",{"$f":"IF(IFERROR(INDEX('ORDER FORM'!$I$96:$L$125,MATCH(CONCATENATE(E909,F909),'ORDER FORM'!$A$96:$A$125,0),MATCH(G909,'ORDER FORM'!$I$119:$L$119,0)),\"\")=0,\"\",IFERROR(INDEX('ORDER FORM'!$I$96:$L$125,MATCH(CONCATENATE(E909,F909),'ORDER FORM'!$A$96:A$125,0),MATCH(G909,'ORDER FORM'!$I$119:$L$119,0)),\"\"))","v":""},{"$f":"IFERROR(IFERROR(INDEX('ORDER FORM'!N:N,MATCH(IMPORT!E909,'ORDER FORM'!B:B,0)),INDEX('ORDER FORM'!N:N,MATCH(TRIM(IMPORT!E909),'ORDER FORM'!B:B,0))),\"\")","v":""}]
["UPLOADUSD",{"$f":"IF('ORDER FORM'!$O$7=\"\",\"ENTER-PO\",'ORDER FORM'!$O$7)","v":"ENTER-PO"},"2021 Spring/Summer",{"$f":"IF('ORDER FORM'!$O$9=\"\",TODAY(),'ORDER FORM'!$O$9)","v":"2023-11-02"},710616,"350","L","2","610306138101",{"$f":"IF(IFERROR(INDEX('ORDER FORM'!$I$96:$L$125,MATCH(CONCATENATE(E910,F910),'ORDER FORM'!$A$96:$A$125,0),MATCH(G910,'ORDER FORM'!$I$119:$L$119,0)),\"\")=0,\"\",IFERROR(INDEX('ORDER FORM'!$I$96:$L$125,MATCH(CONCATENATE(E910,F910),'ORDER FORM'!$A$96:A$125,0),MATCH(G910,'ORDER FORM'!$I$119:$L$119,0)),\"\"))","v":""},{"$f":"IFERROR(IFERROR(INDEX('ORDER FORM'!N:N,MATCH(IMPORT!E910,'ORDER FORM'!B:B,0)),INDEX('ORDER FORM'!N:N,MATCH(TRIM(IMPORT!E910),'ORDER FORM'!B:B,0))),\"\")","v":""}]
["UPLOADUSD",{"$f":"IF('ORDER FORM'!$O$7=\"\",\"ENTER-PO\",'ORDER FORM'!$O$7)","v":"ENTER-PO"},"2021 Spring/Summer",{"$f":"IF('ORDER FORM'!$O$9=\"\",TODAY(),'ORDER FORM'!$O$9)","v":"2023-11-02"},710616,"424","S","2","610306138118",{"$f":"IF(IFERROR(INDEX('ORDER FORM'!$I$96:$L$125,MATCH(CONCATENATE(E911,F911),'ORDER FORM'!$A$96:$A$125,0),MATCH(G911,'ORDER FORM'!$I$119:$L$119,0)),\"\")=0,\"\",IFERROR(INDEX('ORDER FORM'!$I$96:$L$125,MATCH(CONCATENATE(E911,F911),'ORDER FORM'!$A$96:A$125,0),MATCH(G911,'ORDER FORM'!$I$119:$L$119,0)),\"\"))","v":""},{"$f":"IFERROR(IFERROR(INDEX('ORDER FORM'!N:N,MATCH(IMPORT!E911,'ORDER FORM'!B:B,0)),INDEX('ORDER FORM'!N:N,MATCH(TRIM(IMPORT!E911),'ORDER FORM'!B:B,0))),\"\")","v":""}]
["UPLOADUSD",{"$f":"IF('ORDER FORM'!$O$7=\"\",\"ENTER-PO\",'ORDER FORM'!$O$7)","v":"ENTER-PO"},"2021 Spring/Summer",{"$f":"IF('ORDER FORM'!$O$9=\"\",TODAY(),'ORDER FORM'!$O$9)","v":"2023-11-02"},710616,"424","M","2","610306138125",{"$f":"IF(IFERROR(INDEX('ORDER FORM'!$I$96:$L$125,MATCH(CONCATENATE(E912,F912),'ORDER FORM'!$A$96:$A$125,0),MATCH(G912,'ORDER FORM'!$I$119:$L$119,0)),\"\")=0,\"\",IFERROR(INDEX('ORDER FORM'!$I$96:$L$125,MATCH(CONCATENATE(E912,F912),'ORDER FORM'!$A$96:A$125,0),MATCH(G912,'ORDER FORM'!$I$119:$L$119,0)),\"\"))","v":""},{"$f":"IFERROR(IFERROR(INDEX('ORDER FORM'!N:N,MATCH(IMPORT!E912,'ORDER FORM'!B:B,0)),INDEX('ORDER FORM'!N:N,MATCH(TRIM(IMPORT!E912),'ORDER FORM'!B:B,0))),\"\")","v":""}]
["UPLOADUSD",{"$f":"IF('ORDER FORM'!$O$7=\"\",\"ENTER-PO\",'ORDER FORM'!$O$7)","v":"ENTER-PO"},"2021 Spring/Summer",{"$f":"IF('ORDER FORM'!$O$9=\"\",TODAY(),'ORDER FORM'!$O$9)","v":"2023-11-02"},710616,"424","L","2","610306138132",{"$f":"IF(IFERROR(INDEX('ORDER FORM'!$I$96:$L$125,MATCH(CONCATENATE(E913,F913),'ORDER FORM'!$A$96:$A$125,0),MATCH(G913,'ORDER FORM'!$I$119:$L$119,0)),\"\")=0,\"\",IFERROR(INDEX('ORDER FORM'!$I$96:$L$125,MATCH(CONCATENATE(E913,F913),'ORDER FORM'!$A$96:A$125,0),MATCH(G913,'ORDER FORM'!$I$119:$L$119,0)),\"\"))","v":""},{"$f":"IFERROR(IFERROR(INDEX('ORDER FORM'!N:N,MATCH(IMPORT!E913,'ORDER FORM'!B:B,0)),INDEX('ORDER FORM'!N:N,MATCH(TRIM(IMPORT!E913),'ORDER FORM'!B:B,0))),\"\")","v":""}]
["UPLOADUSD",{"$f":"IF('ORDER FORM'!$O$7=\"\",\"ENTER-PO\",'ORDER FORM'!$O$7)","v":"ENTER-PO"},"2021 Spring/Summer",{"$f":"IF('ORDER FORM'!$O$9=\"\",TODAY(),'ORDER FORM'!$O$9)","v":"2023-11-02"},710616,"720","S","2","610306138149",{"$f":"IF(IFERROR(INDEX('ORDER FORM'!$I$96:$L$125,MATCH(CONCATENATE(E914,F914),'ORDER FORM'!$A$96:$A$125,0),MATCH(G914,'ORDER FORM'!$I$119:$L$119,0)),\"\")=0,\"\",IFERROR(INDEX('ORDER FORM'!$I$96:$L$125,MATCH(CONCATENATE(E914,F914),'ORDER FORM'!$A$96:A$125,0),MATCH(G914,'ORDER FORM'!$I$119:$L$119,0)),\"\"))","v":""},{"$f":"IFERROR(IFERROR(INDEX('ORDER FORM'!N:N,MATCH(IMPORT!E914,'ORDER FORM'!B:B,0)),INDEX('ORDER FORM'!N:N,MATCH(TRIM(IMPORT!E914),'ORDER FORM'!B:B,0))),\"\")","v":""}]
["UPLOADUSD",{"$f":"IF('ORDER FORM'!$O$7=\"\",\"ENTER-PO\",'ORDER FORM'!$O$7)","v":"ENTER-PO"},"2021 Spring/Summer",{"$f":"IF('ORDER FORM'!$O$9=\"\",TODAY(),'ORDER FORM'!$O$9)","v":"2023-11-02"},710616,"720","M","2","610306138156",{"$f":"IF(IFERROR(INDEX('ORDER FORM'!$I$96:$L$125,MATCH(CONCATENATE(E915,F915),'ORDER FORM'!$A$96:$A$125,0),MATCH(G915,'ORDER FORM'!$I$119:$L$119,0)),\"\")=0,\"\",IFERROR(INDEX('ORDER FORM'!$I$96:$L$125,MATCH(CONCATENATE(E915,F915),'ORDER FORM'!$A$96:A$125,0),MATCH(G915,'ORDER FORM'!$I$119:$L$119,0)),\"\"))","v":""},{"$f":"IFERROR(IFERROR(INDEX('ORDER FORM'!N:N,MATCH(IMPORT!E915,'ORDER FORM'!B:B,0)),INDEX('ORDER FORM'!N:N,MATCH(TRIM(IMPORT!E915),'ORDER FORM'!B:B,0))),\"\")","v":""}]
["UPLOADUSD",{"$f":"IF('ORDER FORM'!$O$7=\"\",\"ENTER-PO\",'ORDER FORM'!$O$7)","v":"ENTER-PO"},"2021 Spring/Summer",{"$f":"IF('ORDER FORM'!$O$9=\"\",TODAY(),'ORDER FORM'!$O$9)","v":"2023-11-02"},710616,"720","L","2","610306138163",{"$f":"IF(IFERROR(INDEX('ORDER FORM'!$I$96:$L$125,MATCH(CONCATENATE(E916,F916),'ORDER FORM'!$A$96:$A$125,0),MATCH(G916,'ORDER FORM'!$I$119:$L$119,0)),\"\")=0,\"\",IFERROR(INDEX('ORDER FORM'!$I$96:$L$125,MATCH(CONCATENATE(E916,F916),'ORDER FORM'!$A$96:A$125,0),MATCH(G916,'ORDER FORM'!$I$119:$L$119,0)),\"\"))","v":""},{"$f":"IFERROR(IFERROR(INDEX('ORDER FORM'!N:N,MATCH(IMPORT!E916,'ORDER FORM'!B:B,0)),INDEX('ORDER FORM'!N:N,MATCH(TRIM(IMPORT!E916),'ORDER FORM'!B:B,0))),\"\")","v":""}]
["UPLOADUSD",{"$f":"IF('ORDER FORM'!$O$7=\"\",\"ENTER-PO\",'ORDER FORM'!$O$7)","v":"ENTER-PO"},"2021 Spring/Summer",{"$f":"IF('ORDER FORM'!$O$9=\"\",TODAY(),'ORDER FORM'!$O$9)","v":"2023-11-02"},710619,"438","S","2","610306137555",{"$f":"IF(IFERROR(INDEX('ORDER FORM'!$I$96:$L$125,MATCH(CONCATENATE(E917,F917),'ORDER FORM'!$A$96:$A$125,0),MATCH(G917,'ORDER FORM'!$I$119:$L$119,0)),\"\")=0,\"\",IFERROR(INDEX('ORDER FORM'!$I$96:$L$125,MATCH(CONCATENATE(E917,F917),'ORDER FORM'!$A$96:A$125,0),MATCH(G917,'ORDER FORM'!$I$119:$L$119,0)),\"\"))","v":""},{"$f":"IFERROR(IFERROR(INDEX('ORDER FORM'!N:N,MATCH(IMPORT!E917,'ORDER FORM'!B:B,0)),INDEX('ORDER FORM'!N:N,MATCH(TRIM(IMPORT!E917),'ORDER FORM'!B:B,0))),\"\")","v":""}]
["UPLOADUSD",{"$f":"IF('ORDER FORM'!$O$7=\"\",\"ENTER-PO\",'ORDER FORM'!$O$7)","v":"ENTER-PO"},"2021 Spring/Summer",{"$f":"IF('ORDER FORM'!$O$9=\"\",TODAY(),'ORDER FORM'!$O$9)","v":"2023-11-02"},710619,"438","M","2","610306137562",{"$f":"IF(IFERROR(INDEX('ORDER FORM'!$I$96:$L$125,MATCH(CONCATENATE(E918,F918),'ORDER FORM'!$A$96:$A$125,0),MATCH(G918,'ORDER FORM'!$I$119:$L$119,0)),\"\")=0,\"\",IFERROR(INDEX('ORDER FORM'!$I$96:$L$125,MATCH(CONCATENATE(E918,F918),'ORDER FORM'!$A$96:A$125,0),MATCH(G918,'ORDER FORM'!$I$119:$L$119,0)),\"\"))","v":""},{"$f":"IFERROR(IFERROR(INDEX('ORDER FORM'!N:N,MATCH(IMPORT!E918,'ORDER FORM'!B:B,0)),INDEX('ORDER FORM'!N:N,MATCH(TRIM(IMPORT!E918),'ORDER FORM'!B:B,0))),\"\")","v":""}]
["UPLOADUSD",{"$f":"IF('ORDER FORM'!$O$7=\"\",\"ENTER-PO\",'ORDER FORM'!$O$7)","v":"ENTER-PO"},"2021 Spring/Summer",{"$f":"IF('ORDER FORM'!$O$9=\"\",TODAY(),'ORDER FORM'!$O$9)","v":"2023-11-02"},710619,"438","L","2","610306137579",{"$f":"IF(IFERROR(INDEX('ORDER FORM'!$I$96:$L$125,MATCH(CONCATENATE(E919,F919),'ORDER FORM'!$A$96:$A$125,0),MATCH(G919,'ORDER FORM'!$I$119:$L$119,0)),\"\")=0,\"\",IFERROR(INDEX('ORDER FORM'!$I$96:$L$125,MATCH(CONCATENATE(E919,F919),'ORDER FORM'!$A$96:A$125,0),MATCH(G919,'ORDER FORM'!$I$119:$L$119,0)),\"\"))","v":""},{"$f":"IFERROR(IFERROR(INDEX('ORDER FORM'!N:N,MATCH(IMPORT!E919,'ORDER FORM'!B:B,0)),INDEX('ORDER FORM'!N:N,MATCH(TRIM(IMPORT!E919),'ORDER FORM'!B:B,0))),\"\")","v":""}]
["UPLOADUSD",{"$f":"IF('ORDER FORM'!$O$7=\"\",\"ENTER-PO\",'ORDER FORM'!$O$7)","v":"ENTER-PO"},"2021 Spring/Summer",{"$f":"IF('ORDER FORM'!$O$9=\"\",TODAY(),'ORDER FORM'!$O$9)","v":"2023-11-02"},710619,"929","S","2","610306137586",{"$f":"IF(IFERROR(INDEX('ORDER FORM'!$I$96:$L$125,MATCH(CONCATENATE(E920,F920),'ORDER FORM'!$A$96:$A$125,0),MATCH(G920,'ORDER FORM'!$I$119:$L$119,0)),\"\")=0,\"\",IFERROR(INDEX('ORDER FORM'!$I$96:$L$125,MATCH(CONCATENATE(E920,F920),'ORDER FORM'!$A$96:A$125,0),MATCH(G920,'ORDER FORM'!$I$119:$L$119,0)),\"\"))","v":""},{"$f":"IFERROR(IFERROR(INDEX('ORDER FORM'!N:N,MATCH(IMPORT!E920,'ORDER FORM'!B:B,0)),INDEX('ORDER FORM'!N:N,MATCH(TRIM(IMPORT!E920),'ORDER FORM'!B:B,0))),\"\")","v":""}]
["UPLOADUSD",{"$f":"IF('ORDER FORM'!$O$7=\"\",\"ENTER-PO\",'ORDER FORM'!$O$7)","v":"ENTER-PO"},"2021 Spring/Summer",{"$f":"IF('ORDER FORM'!$O$9=\"\",TODAY(),'ORDER FORM'!$O$9)","v":"2023-11-02"},710619,"929","M","2","610306137593",{"$f":"IF(IFERROR(INDEX('ORDER FORM'!$I$96:$L$125,MATCH(CONCATENATE(E921,F921),'ORDER FORM'!$A$96:$A$125,0),MATCH(G921,'ORDER FORM'!$I$119:$L$119,0)),\"\")=0,\"\",IFERROR(INDEX('ORDER FORM'!$I$96:$L$125,MATCH(CONCATENATE(E921,F921),'ORDER FORM'!$A$96:A$125,0),MATCH(G921,'ORDER FORM'!$I$119:$L$119,0)),\"\"))","v":""},{"$f":"IFERROR(IFERROR(INDEX('ORDER FORM'!N:N,MATCH(IMPORT!E921,'ORDER FORM'!B:B,0)),INDEX('ORDER FORM'!N:N,MATCH(TRIM(IMPORT!E921),'ORDER FORM'!B:B,0))),\"\")","v":""}]
["UPLOADUSD",{"$f":"IF('ORDER FORM'!$O$7=\"\",\"ENTER-PO\",'ORDER FORM'!$O$7)","v":"ENTER-PO"},"2021 Spring/Summer",{"$f":"IF('ORDER FORM'!$O$9=\"\",TODAY(),'ORDER FORM'!$O$9)","v":"2023-11-02"},710619,"929","L","2","610306137609",{"$f":"IF(IFERROR(INDEX('ORDER FORM'!$I$96:$L$125,MATCH(CONCATENATE(E922,F922),'ORDER FORM'!$A$96:$A$125,0),MATCH(G922,'ORDER FORM'!$I$119:$L$119,0)),\"\")=0,\"\",IFERROR(INDEX('ORDER FORM'!$I$96:$L$125,MATCH(CONCATENATE(E922,F922),'ORDER FORM'!$A$96:A$125,0),MATCH(G922,'ORDER FORM'!$I$119:$L$119,0)),\"\"))","v":""},{"$f":"IFERROR(IFERROR(INDEX('ORDER FORM'!N:N,MATCH(IMPORT!E922,'ORDER FORM'!B:B,0)),INDEX('ORDER FORM'!N:N,MATCH(TRIM(IMPORT!E922),'ORDER FORM'!B:B,0))),\"\")","v":""}]
["UPLOADUSD",{"$f":"IF('ORDER FORM'!$O$7=\"\",\"ENTER-PO\",'ORDER FORM'!$O$7)","v":"ENTER-PO"},"2021 Spring/Summer",{"$f":"IF('ORDER FORM'!$O$9=\"\",TODAY(),'ORDER FORM'!$O$9)","v":"2023-11-02"},710620,"390","S","2","610306136916",{"$f":"IF(IFERROR(INDEX('ORDER FORM'!$I$96:$L$125,MATCH(CONCATENATE(E923,F923),'ORDER FORM'!$A$96:$A$125,0),MATCH(G923,'ORDER FORM'!$I$119:$L$119,0)),\"\")=0,\"\",IFERROR(INDEX('ORDER FORM'!$I$96:$L$125,MATCH(CONCATENATE(E923,F923),'ORDER FORM'!$A$96:A$125,0),MATCH(G923,'ORDER FORM'!$I$119:$L$119,0)),\"\"))","v":""},{"$f":"IFERROR(IFERROR(INDEX('ORDER FORM'!N:N,MATCH(IMPORT!E923,'ORDER FORM'!B:B,0)),INDEX('ORDER FORM'!N:N,MATCH(TRIM(IMPORT!E923),'ORDER FORM'!B:B,0))),\"\")","v":""}]
["UPLOADUSD",{"$f":"IF('ORDER FORM'!$O$7=\"\",\"ENTER-PO\",'ORDER FORM'!$O$7)","v":"ENTER-PO"},"2021 Spring/Summer",{"$f":"IF('ORDER FORM'!$O$9=\"\",TODAY(),'ORDER FORM'!$O$9)","v":"2023-11-02"},710620,"390","M","2","610306136923",{"$f":"IF(IFERROR(INDEX('ORDER FORM'!$I$96:$L$125,MATCH(CONCATENATE(E924,F924),'ORDER FORM'!$A$96:$A$125,0),MATCH(G924,'ORDER FORM'!$I$119:$L$119,0)),\"\")=0,\"\",IFERROR(INDEX('ORDER FORM'!$I$96:$L$125,MATCH(CONCATENATE(E924,F924),'ORDER FORM'!$A$96:A$125,0),MATCH(G924,'ORDER FORM'!$I$119:$L$119,0)),\"\"))","v":""},{"$f":"IFERROR(IFERROR(INDEX('ORDER FORM'!N:N,MATCH(IMPORT!E924,'ORDER FORM'!B:B,0)),INDEX('ORDER FORM'!N:N,MATCH(TRIM(IMPORT!E924),'ORDER FORM'!B:B,0))),\"\")","v":""}]
["UPLOADUSD",{"$f":"IF('ORDER FORM'!$O$7=\"\",\"ENTER-PO\",'ORDER FORM'!$O$7)","v":"ENTER-PO"},"2021 Spring/Summer",{"$f":"IF('ORDER FORM'!$O$9=\"\",TODAY(),'ORDER FORM'!$O$9)","v":"2023-11-02"},710620,"390","L","2","610306136930",{"$f":"IF(IFERROR(INDEX('ORDER FORM'!$I$96:$L$125,MATCH(CONCATENATE(E925,F925),'ORDER FORM'!$A$96:$A$125,0),MATCH(G925,'ORDER FORM'!$I$119:$L$119,0)),\"\")=0,\"\",IFERROR(INDEX('ORDER FORM'!$I$96:$L$125,MATCH(CONCATENATE(E925,F925),'ORDER FORM'!$A$96:A$125,0),MATCH(G925,'ORDER FORM'!$I$119:$L$119,0)),\"\"))","v":""},{"$f":"IFERROR(IFERROR(INDEX('ORDER FORM'!N:N,MATCH(IMPORT!E925,'ORDER FORM'!B:B,0)),INDEX('ORDER FORM'!N:N,MATCH(TRIM(IMPORT!E925),'ORDER FORM'!B:B,0))),\"\")","v":""}]
["UPLOADUSD",{"$f":"IF('ORDER FORM'!$O$7=\"\",\"ENTER-PO\",'ORDER FORM'!$O$7)","v":"ENTER-PO"},"2021 Spring/Summer",{"$f":"IF('ORDER FORM'!$O$9=\"\",TODAY(),'ORDER FORM'!$O$9)","v":"2023-11-02"},710620,"923","S","2","610306136947",{"$f":"IF(IFERROR(INDEX('ORDER FORM'!$I$96:$L$125,MATCH(CONCATENATE(E926,F926),'ORDER FORM'!$A$96:$A$125,0),MATCH(G926,'ORDER FORM'!$I$119:$L$119,0)),\"\")=0,\"\",IFERROR(INDEX('ORDER FORM'!$I$96:$L$125,MATCH(CONCATENATE(E926,F926),'ORDER FORM'!$A$96:A$125,0),MATCH(G926,'ORDER FORM'!$I$119:$L$119,0)),\"\"))","v":""},{"$f":"IFERROR(IFERROR(INDEX('ORDER FORM'!N:N,MATCH(IMPORT!E926,'ORDER FORM'!B:B,0)),INDEX('ORDER FORM'!N:N,MATCH(TRIM(IMPORT!E926),'ORDER FORM'!B:B,0))),\"\")","v":""}]
["UPLOADUSD",{"$f":"IF('ORDER FORM'!$O$7=\"\",\"ENTER-PO\",'ORDER FORM'!$O$7)","v":"ENTER-PO"},"2021 Spring/Summer",{"$f":"IF('ORDER FORM'!$O$9=\"\",TODAY(),'ORDER FORM'!$O$9)","v":"2023-11-02"},710620,"923","M","2","610306136954",{"$f":"IF(IFERROR(INDEX('ORDER FORM'!$I$96:$L$125,MATCH(CONCATENATE(E927,F927),'ORDER FORM'!$A$96:$A$125,0),MATCH(G927,'ORDER FORM'!$I$119:$L$119,0)),\"\")=0,\"\",IFERROR(INDEX('ORDER FORM'!$I$96:$L$125,MATCH(CONCATENATE(E927,F927),'ORDER FORM'!$A$96:A$125,0),MATCH(G927,'ORDER FORM'!$I$119:$L$119,0)),\"\"))","v":""},{"$f":"IFERROR(IFERROR(INDEX('ORDER FORM'!N:N,MATCH(IMPORT!E927,'ORDER FORM'!B:B,0)),INDEX('ORDER FORM'!N:N,MATCH(TRIM(IMPORT!E927),'ORDER FORM'!B:B,0))),\"\")","v":""}]
["UPLOADUSD",{"$f":"IF('ORDER FORM'!$O$7=\"\",\"ENTER-PO\",'ORDER FORM'!$O$7)","v":"ENTER-PO"},"2021 Spring/Summer",{"$f":"IF('ORDER FORM'!$O$9=\"\",TODAY(),'ORDER FORM'!$O$9)","v":"2023-11-02"},710620,"923","L","2","610306136961",{"$f":"IF(IFERROR(INDEX('ORDER FORM'!$I$96:$L$125,MATCH(CONCATENATE(E928,F928),'ORDER FORM'!$A$96:$A$125,0),MATCH(G928,'ORDER FORM'!$I$119:$L$119,0)),\"\")=0,\"\",IFERROR(INDEX('ORDER FORM'!$I$96:$L$125,MATCH(CONCATENATE(E928,F928),'ORDER FORM'!$A$96:A$125,0),MATCH(G928,'ORDER FORM'!$I$119:$L$119,0)),\"\"))","v":""},{"$f":"IFERROR(IFERROR(INDEX('ORDER FORM'!N:N,MATCH(IMPORT!E928,'ORDER FORM'!B:B,0)),INDEX('ORDER FORM'!N:N,MATCH(TRIM(IMPORT!E928),'ORDER FORM'!B:B,0))),\"\")","v":""}]
["UPLOADUSD",{"$f":"IF('ORDER FORM'!$O$7=\"\",\"ENTER-PO\",'ORDER FORM'!$O$7)","v":"ENTER-PO"},"2021 Spring/Summer",{"$f":"IF('ORDER FORM'!$O$9=\"\",TODAY(),'ORDER FORM'!$O$9)","v":"2023-11-02"},710623,"450","S","2","610306137128",{"$f":"IF(IFERROR(INDEX('ORDER FORM'!$I$96:$L$125,MATCH(CONCATENATE(E929,F929),'ORDER FORM'!$A$96:$A$125,0),MATCH(G929,'ORDER FORM'!$I$119:$L$119,0)),\"\")=0,\"\",IFERROR(INDEX('ORDER FORM'!$I$96:$L$125,MATCH(CONCATENATE(E929,F929),'ORDER FORM'!$A$96:A$125,0),MATCH(G929,'ORDER FORM'!$I$119:$L$119,0)),\"\"))","v":""},{"$f":"IFERROR(IFERROR(INDEX('ORDER FORM'!N:N,MATCH(IMPORT!E929,'ORDER FORM'!B:B,0)),INDEX('ORDER FORM'!N:N,MATCH(TRIM(IMPORT!E929),'ORDER FORM'!B:B,0))),\"\")","v":{"v":19.5,"d":"19.50"}}]
["UPLOADUSD",{"$f":"IF('ORDER FORM'!$O$7=\"\",\"ENTER-PO\",'ORDER FORM'!$O$7)","v":"ENTER-PO"},"2021 Spring/Summer",{"$f":"IF('ORDER FORM'!$O$9=\"\",TODAY(),'ORDER FORM'!$O$9)","v":"2023-11-02"},710623,"450","M","2","610306137135",{"$f":"IF(IFERROR(INDEX('ORDER FORM'!$I$96:$L$125,MATCH(CONCATENATE(E930,F930),'ORDER FORM'!$A$96:$A$125,0),MATCH(G930,'ORDER FORM'!$I$119:$L$119,0)),\"\")=0,\"\",IFERROR(INDEX('ORDER FORM'!$I$96:$L$125,MATCH(CONCATENATE(E930,F930),'ORDER FORM'!$A$96:A$125,0),MATCH(G930,'ORDER FORM'!$I$119:$L$119,0)),\"\"))","v":""},{"$f":"IFERROR(IFERROR(INDEX('ORDER FORM'!N:N,MATCH(IMPORT!E930,'ORDER FORM'!B:B,0)),INDEX('ORDER FORM'!N:N,MATCH(TRIM(IMPORT!E930),'ORDER FORM'!B:B,0))),\"\")","v":{"v":19.5,"d":"19.50"}}]
["UPLOADUSD",{"$f":"IF('ORDER FORM'!$O$7=\"\",\"ENTER-PO\",'ORDER FORM'!$O$7)","v":"ENTER-PO"},"2021 Spring/Summer",{"$f":"IF('ORDER FORM'!$O$9=\"\",TODAY(),'ORDER FORM'!$O$9)","v":"2023-11-02"},710623,"450","L","2","610306137142",{"$f":"IF(IFERROR(INDEX('ORDER FORM'!$I$96:$L$125,MATCH(CONCATENATE(E931,F931),'ORDER FORM'!$A$96:$A$125,0),MATCH(G931,'ORDER FORM'!$I$119:$L$119,0)),\"\")=0,\"\",IFERROR(INDEX('ORDER FORM'!$I$96:$L$125,MATCH(CONCATENATE(E931,F931),'ORDER FORM'!$A$96:A$125,0),MATCH(G931,'ORDER FORM'!$I$119:$L$119,0)),\"\"))","v":""},{"$f":"IFERROR(IFERROR(INDEX('ORDER FORM'!N:N,MATCH(IMPORT!E931,'ORDER FORM'!B:B,0)),INDEX('ORDER FORM'!N:N,MATCH(TRIM(IMPORT!E931),'ORDER FORM'!B:B,0))),\"\")","v":{"v":19.5,"d":"19.50"}}]
["UPLOADUSD",{"$f":"IF('ORDER FORM'!$O$7=\"\",\"ENTER-PO\",'ORDER FORM'!$O$7)","v":"ENTER-PO"},"2021 Spring/Summer",{"$f":"IF('ORDER FORM'!$O$9=\"\",TODAY(),'ORDER FORM'!$O$9)","v":"2023-11-02"},710623,"801","S","2","610306137159",{"$f":"IF(IFERROR(INDEX('ORDER FORM'!$I$96:$L$125,MATCH(CONCATENATE(E932,F932),'ORDER FORM'!$A$96:$A$125,0),MATCH(G932,'ORDER FORM'!$I$119:$L$119,0)),\"\")=0,\"\",IFERROR(INDEX('ORDER FORM'!$I$96:$L$125,MATCH(CONCATENATE(E932,F932),'ORDER FORM'!$A$96:A$125,0),MATCH(G932,'ORDER FORM'!$I$119:$L$119,0)),\"\"))","v":""},{"$f":"IFERROR(IFERROR(INDEX('ORDER FORM'!N:N,MATCH(IMPORT!E932,'ORDER FORM'!B:B,0)),INDEX('ORDER FORM'!N:N,MATCH(TRIM(IMPORT!E932),'ORDER FORM'!B:B,0))),\"\")","v":{"v":19.5,"d":"19.50"}}]
["UPLOADUSD",{"$f":"IF('ORDER FORM'!$O$7=\"\",\"ENTER-PO\",'ORDER FORM'!$O$7)","v":"ENTER-PO"},"2021 Spring/Summer",{"$f":"IF('ORDER FORM'!$O$9=\"\",TODAY(),'ORDER FORM'!$O$9)","v":"2023-11-02"},710623,"801","M","2","610306137166",{"$f":"IF(IFERROR(INDEX('ORDER FORM'!$I$96:$L$125,MATCH(CONCATENATE(E933,F933),'ORDER FORM'!$A$96:$A$125,0),MATCH(G933,'ORDER FORM'!$I$119:$L$119,0)),\"\")=0,\"\",IFERROR(INDEX('ORDER FORM'!$I$96:$L$125,MATCH(CONCATENATE(E933,F933),'ORDER FORM'!$A$96:A$125,0),MATCH(G933,'ORDER FORM'!$I$119:$L$119,0)),\"\"))","v":""},{"$f":"IFERROR(IFERROR(INDEX('ORDER FORM'!N:N,MATCH(IMPORT!E933,'ORDER FORM'!B:B,0)),INDEX('ORDER FORM'!N:N,MATCH(TRIM(IMPORT!E933),'ORDER FORM'!B:B,0))),\"\")","v":{"v":19.5,"d":"19.50"}}]
["UPLOADUSD",{"$f":"IF('ORDER FORM'!$O$7=\"\",\"ENTER-PO\",'ORDER FORM'!$O$7)","v":"ENTER-PO"},"2021 Spring/Summer",{"$f":"IF('ORDER FORM'!$O$9=\"\",TODAY(),'ORDER FORM'!$O$9)","v":"2023-11-02"},710623,"801","L","2","610306137173",{"$f":"IF(IFERROR(INDEX('ORDER FORM'!$I$96:$L$125,MATCH(CONCATENATE(E934,F934),'ORDER FORM'!$A$96:$A$125,0),MATCH(G934,'ORDER FORM'!$I$119:$L$119,0)),\"\")=0,\"\",IFERROR(INDEX('ORDER FORM'!$I$96:$L$125,MATCH(CONCATENATE(E934,F934),'ORDER FORM'!$A$96:A$125,0),MATCH(G934,'ORDER FORM'!$I$119:$L$119,0)),\"\"))","v":""},{"$f":"IFERROR(IFERROR(INDEX('ORDER FORM'!N:N,MATCH(IMPORT!E934,'ORDER FORM'!B:B,0)),INDEX('ORDER FORM'!N:N,MATCH(TRIM(IMPORT!E934),'ORDER FORM'!B:B,0))),\"\")","v":{"v":19.5,"d":"19.50"}}]
["UPLOADUSD",{"$f":"IF('ORDER FORM'!$O$7=\"\",\"ENTER-PO\",'ORDER FORM'!$O$7)","v":"ENTER-PO"},"2021 Spring/Summer",{"$f":"IF('ORDER FORM'!$O$9=\"\",TODAY(),'ORDER FORM'!$O$9)","v":"2023-11-02"},710627,"095","S","2","610306137388",{"$f":"IF(IFERROR(INDEX('ORDER FORM'!$I$96:$L$125,MATCH(CONCATENATE(E935,F935),'ORDER FORM'!$A$96:$A$125,0),MATCH(G935,'ORDER FORM'!$I$119:$L$119,0)),\"\")=0,\"\",IFERROR(INDEX('ORDER FORM'!$I$96:$L$125,MATCH(CONCATENATE(E935,F935),'ORDER FORM'!$A$96:A$125,0),MATCH(G935,'ORDER FORM'!$I$119:$L$119,0)),\"\"))","v":""},{"$f":"IFERROR(IFERROR(INDEX('ORDER FORM'!N:N,MATCH(IMPORT!E935,'ORDER FORM'!B:B,0)),INDEX('ORDER FORM'!N:N,MATCH(TRIM(IMPORT!E935),'ORDER FORM'!B:B,0))),\"\")","v":{"v":14,"d":"14.00"}}]
["UPLOADUSD",{"$f":"IF('ORDER FORM'!$O$7=\"\",\"ENTER-PO\",'ORDER FORM'!$O$7)","v":"ENTER-PO"},"2021 Spring/Summer",{"$f":"IF('ORDER FORM'!$O$9=\"\",TODAY(),'ORDER FORM'!$O$9)","v":"2023-11-02"},710627,"095","M","2","610306137395",{"$f":"IF(IFERROR(INDEX('ORDER FORM'!$I$96:$L$125,MATCH(CONCATENATE(E936,F936),'ORDER FORM'!$A$96:$A$125,0),MATCH(G936,'ORDER FORM'!$I$119:$L$119,0)),\"\")=0,\"\",IFERROR(INDEX('ORDER FORM'!$I$96:$L$125,MATCH(CONCATENATE(E936,F936),'ORDER FORM'!$A$96:A$125,0),MATCH(G936,'ORDER FORM'!$I$119:$L$119,0)),\"\"))","v":""},{"$f":"IFERROR(IFERROR(INDEX('ORDER FORM'!N:N,MATCH(IMPORT!E936,'ORDER FORM'!B:B,0)),INDEX('ORDER FORM'!N:N,MATCH(TRIM(IMPORT!E936),'ORDER FORM'!B:B,0))),\"\")","v":{"v":14,"d":"14.00"}}]
["UPLOADUSD",{"$f":"IF('ORDER FORM'!$O$7=\"\",\"ENTER-PO\",'ORDER FORM'!$O$7)","v":"ENTER-PO"},"2021 Spring/Summer",{"$f":"IF('ORDER FORM'!$O$9=\"\",TODAY(),'ORDER FORM'!$O$9)","v":"2023-11-02"},710627,"095","L","2","610306137401",{"$f":"IF(IFERROR(INDEX('ORDER FORM'!$I$96:$L$125,MATCH(CONCATENATE(E937,F937),'ORDER FORM'!$A$96:$A$125,0),MATCH(G937,'ORDER FORM'!$I$119:$L$119,0)),\"\")=0,\"\",IFERROR(INDEX('ORDER FORM'!$I$96:$L$125,MATCH(CONCATENATE(E937,F937),'ORDER FORM'!$A$96:A$125,0),MATCH(G937,'ORDER FORM'!$I$119:$L$119,0)),\"\"))","v":""},{"$f":"IFERROR(IFERROR(INDEX('ORDER FORM'!N:N,MATCH(IMPORT!E937,'ORDER FORM'!B:B,0)),INDEX('ORDER FORM'!N:N,MATCH(TRIM(IMPORT!E937),'ORDER FORM'!B:B,0))),\"\")","v":{"v":14,"d":"14.00"}}]
["UPLOADUSD",{"$f":"IF('ORDER FORM'!$O$7=\"\",\"ENTER-PO\",'ORDER FORM'!$O$7)","v":"ENTER-PO"},"2021 Spring/Summer",{"$f":"IF('ORDER FORM'!$O$9=\"\",TODAY(),'ORDER FORM'!$O$9)","v":"2023-11-02"},710627,"436","S","2","610306137418",{"$f":"IF(IFERROR(INDEX('ORDER FORM'!$I$96:$L$125,MATCH(CONCATENATE(E938,F938),'ORDER FORM'!$A$96:$A$125,0),MATCH(G938,'ORDER FORM'!$I$119:$L$119,0)),\"\")=0,\"\",IFERROR(INDEX('ORDER FORM'!$I$96:$L$125,MATCH(CONCATENATE(E938,F938),'ORDER FORM'!$A$96:A$125,0),MATCH(G938,'ORDER FORM'!$I$119:$L$119,0)),\"\"))","v":""},{"$f":"IFERROR(IFERROR(INDEX('ORDER FORM'!N:N,MATCH(IMPORT!E938,'ORDER FORM'!B:B,0)),INDEX('ORDER FORM'!N:N,MATCH(TRIM(IMPORT!E938),'ORDER FORM'!B:B,0))),\"\")","v":{"v":14,"d":"14.00"}}]
["UPLOADUSD",{"$f":"IF('ORDER FORM'!$O$7=\"\",\"ENTER-PO\",'ORDER FORM'!$O$7)","v":"ENTER-PO"},"2021 Spring/Summer",{"$f":"IF('ORDER FORM'!$O$9=\"\",TODAY(),'ORDER FORM'!$O$9)","v":"2023-11-02"},710627,"436","M","2","610306137425",{"$f":"IF(IFERROR(INDEX('ORDER FORM'!$I$96:$L$125,MATCH(CONCATENATE(E939,F939),'ORDER FORM'!$A$96:$A$125,0),MATCH(G939,'ORDER FORM'!$I$119:$L$119,0)),\"\")=0,\"\",IFERROR(INDEX('ORDER FORM'!$I$96:$L$125,MATCH(CONCATENATE(E939,F939),'ORDER FORM'!$A$96:A$125,0),MATCH(G939,'ORDER FORM'!$I$119:$L$119,0)),\"\"))","v":""},{"$f":"IFERROR(IFERROR(INDEX('ORDER FORM'!N:N,MATCH(IMPORT!E939,'ORDER FORM'!B:B,0)),INDEX('ORDER FORM'!N:N,MATCH(TRIM(IMPORT!E939),'ORDER FORM'!B:B,0))),\"\")","v":{"v":14,"d":"14.00"}}]
["UPLOADUSD",{"$f":"IF('ORDER FORM'!$O$7=\"\",\"ENTER-PO\",'ORDER FORM'!$O$7)","v":"ENTER-PO"},"2021 Spring/Summer",{"$f":"IF('ORDER FORM'!$O$9=\"\",TODAY(),'ORDER FORM'!$O$9)","v":"2023-11-02"},710627,"436","L","2","610306137432",{"$f":"IF(IFERROR(INDEX('ORDER FORM'!$I$96:$L$125,MATCH(CONCATENATE(E940,F940),'ORDER FORM'!$A$96:$A$125,0),MATCH(G940,'ORDER FORM'!$I$119:$L$119,0)),\"\")=0,\"\",IFERROR(INDEX('ORDER FORM'!$I$96:$L$125,MATCH(CONCATENATE(E940,F940),'ORDER FORM'!$A$96:A$125,0),MATCH(G940,'ORDER FORM'!$I$119:$L$119,0)),\"\"))","v":""},{"$f":"IFERROR(IFERROR(INDEX('ORDER FORM'!N:N,MATCH(IMPORT!E940,'ORDER FORM'!B:B,0)),INDEX('ORDER FORM'!N:N,MATCH(TRIM(IMPORT!E940),'ORDER FORM'!B:B,0))),\"\")","v":{"v":14,"d":"14.00"}}]
["UPLOADUSD",{"$f":"IF('ORDER FORM'!$O$7=\"\",\"ENTER-PO\",'ORDER FORM'!$O$7)","v":"ENTER-PO"},"2021 Spring/Summer",{"$f":"IF('ORDER FORM'!$O$9=\"\",TODAY(),'ORDER FORM'!$O$9)","v":"2023-11-02"},710627,"926","S","2","610306137449",{"$f":"IF(IFERROR(INDEX('ORDER FORM'!$I$96:$L$125,MATCH(CONCATENATE(E941,F941),'ORDER FORM'!$A$96:$A$125,0),MATCH(G941,'ORDER FORM'!$I$119:$L$119,0)),\"\")=0,\"\",IFERROR(INDEX('ORDER FORM'!$I$96:$L$125,MATCH(CONCATENATE(E941,F941),'ORDER FORM'!$A$96:A$125,0),MATCH(G941,'ORDER FORM'!$I$119:$L$119,0)),\"\"))","v":""},{"$f":"IFERROR(IFERROR(INDEX('ORDER FORM'!N:N,MATCH(IMPORT!E941,'ORDER FORM'!B:B,0)),INDEX('ORDER FORM'!N:N,MATCH(TRIM(IMPORT!E941),'ORDER FORM'!B:B,0))),\"\")","v":{"v":14,"d":"14.00"}}]
["UPLOADUSD",{"$f":"IF('ORDER FORM'!$O$7=\"\",\"ENTER-PO\",'ORDER FORM'!$O$7)","v":"ENTER-PO"},"2021 Spring/Summer",{"$f":"IF('ORDER FORM'!$O$9=\"\",TODAY(),'ORDER FORM'!$O$9)","v":"2023-11-02"},710627,"926","M","2","610306137456",{"$f":"IF(IFERROR(INDEX('ORDER FORM'!$I$96:$L$125,MATCH(CONCATENATE(E942,F942),'ORDER FORM'!$A$96:$A$125,0),MATCH(G942,'ORDER FORM'!$I$119:$L$119,0)),\"\")=0,\"\",IFERROR(INDEX('ORDER FORM'!$I$96:$L$125,MATCH(CONCATENATE(E942,F942),'ORDER FORM'!$A$96:A$125,0),MATCH(G942,'ORDER FORM'!$I$119:$L$119,0)),\"\"))","v":""},{"$f":"IFERROR(IFERROR(INDEX('ORDER FORM'!N:N,MATCH(IMPORT!E942,'ORDER FORM'!B:B,0)),INDEX('ORDER FORM'!N:N,MATCH(TRIM(IMPORT!E942),'ORDER FORM'!B:B,0))),\"\")","v":{"v":14,"d":"14.00"}}]
["UPLOADUSD",{"$f":"IF('ORDER FORM'!$O$7=\"\",\"ENTER-PO\",'ORDER FORM'!$O$7)","v":"ENTER-PO"},"2021 Spring/Summer",{"$f":"IF('ORDER FORM'!$O$9=\"\",TODAY(),'ORDER FORM'!$O$9)","v":"2023-11-02"},710627,"926","L","2","610306137463",{"$f":"IF(IFERROR(INDEX('ORDER FORM'!$I$96:$L$125,MATCH(CONCATENATE(E943,F943),'ORDER FORM'!$A$96:$A$125,0),MATCH(G943,'ORDER FORM'!$I$119:$L$119,0)),\"\")=0,\"\",IFERROR(INDEX('ORDER FORM'!$I$96:$L$125,MATCH(CONCATENATE(E943,F943),'ORDER FORM'!$A$96:A$125,0),MATCH(G943,'ORDER FORM'!$I$119:$L$119,0)),\"\"))","v":""},{"$f":"IFERROR(IFERROR(INDEX('ORDER FORM'!N:N,MATCH(IMPORT!E943,'ORDER FORM'!B:B,0)),INDEX('ORDER FORM'!N:N,MATCH(TRIM(IMPORT!E943),'ORDER FORM'!B:B,0))),\"\")","v":{"v":14,"d":"14.00"}}]
["UPLOADUSD",{"$f":"IF('ORDER FORM'!$O$7=\"\",\"ENTER-PO\",'ORDER FORM'!$O$7)","v":"ENTER-PO"},"2021 Spring/Summer",{"$f":"IF('ORDER FORM'!$O$9=\"\",TODAY(),'ORDER FORM'!$O$9)","v":"2023-11-02"},710628,"350","S","2","610306137753",{"$f":"IF(IFERROR(INDEX('ORDER FORM'!$I$96:$L$125,MATCH(CONCATENATE(E944,F944),'ORDER FORM'!$A$96:$A$125,0),MATCH(G944,'ORDER FORM'!$I$119:$L$119,0)),\"\")=0,\"\",IFERROR(INDEX('ORDER FORM'!$I$96:$L$125,MATCH(CONCATENATE(E944,F944),'ORDER FORM'!$A$96:A$125,0),MATCH(G944,'ORDER FORM'!$I$119:$L$119,0)),\"\"))","v":""},{"$f":"IFERROR(IFERROR(INDEX('ORDER FORM'!N:N,MATCH(IMPORT!E944,'ORDER FORM'!B:B,0)),INDEX('ORDER FORM'!N:N,MATCH(TRIM(IMPORT!E944),'ORDER FORM'!B:B,0))),\"\")","v":""}]
["UPLOADUSD",{"$f":"IF('ORDER FORM'!$O$7=\"\",\"ENTER-PO\",'ORDER FORM'!$O$7)","v":"ENTER-PO"},"2021 Spring/Summer",{"$f":"IF('ORDER FORM'!$O$9=\"\",TODAY(),'ORDER FORM'!$O$9)","v":"2023-11-02"},710628,"350","M","2","610306137760",{"$f":"IF(IFERROR(INDEX('ORDER FORM'!$I$96:$L$125,MATCH(CONCATENATE(E945,F945),'ORDER FORM'!$A$96:$A$125,0),MATCH(G945,'ORDER FORM'!$I$119:$L$119,0)),\"\")=0,\"\",IFERROR(INDEX('ORDER FORM'!$I$96:$L$125,MATCH(CONCATENATE(E945,F945),'ORDER FORM'!$A$96:A$125,0),MATCH(G945,'ORDER FORM'!$I$119:$L$119,0)),\"\"))","v":""},{"$f":"IFERROR(IFERROR(INDEX('ORDER FORM'!N:N,MATCH(IMPORT!E945,'ORDER FORM'!B:B,0)),INDEX('ORDER FORM'!N:N,MATCH(TRIM(IMPORT!E945),'ORDER FORM'!B:B,0))),\"\")","v":""}]
["UPLOADUSD",{"$f":"IF('ORDER FORM'!$O$7=\"\",\"ENTER-PO\",'ORDER FORM'!$O$7)","v":"ENTER-PO"},"2021 Spring/Summer",{"$f":"IF('ORDER FORM'!$O$9=\"\",TODAY(),'ORDER FORM'!$O$9)","v":"2023-11-02"},710628,"350","L","2","610306137777",{"$f":"IF(IFERROR(INDEX('ORDER FORM'!$I$96:$L$125,MATCH(CONCATENATE(E946,F946),'ORDER FORM'!$A$96:$A$125,0),MATCH(G946,'ORDER FORM'!$I$119:$L$119,0)),\"\")=0,\"\",IFERROR(INDEX('ORDER FORM'!$I$96:$L$125,MATCH(CONCATENATE(E946,F946),'ORDER FORM'!$A$96:A$125,0),MATCH(G946,'ORDER FORM'!$I$119:$L$119,0)),\"\"))","v":""},{"$f":"IFERROR(IFERROR(INDEX('ORDER FORM'!N:N,MATCH(IMPORT!E946,'ORDER FORM'!B:B,0)),INDEX('ORDER FORM'!N:N,MATCH(TRIM(IMPORT!E946),'ORDER FORM'!B:B,0))),\"\")","v":""}]
["UPLOADUSD",{"$f":"IF('ORDER FORM'!$O$7=\"\",\"ENTER-PO\",'ORDER FORM'!$O$7)","v":"ENTER-PO"},"2021 Spring/Summer",{"$f":"IF('ORDER FORM'!$O$9=\"\",TODAY(),'ORDER FORM'!$O$9)","v":"2023-11-02"},710635,"303","S","2","610306138255",{"$f":"IF(IFERROR(INDEX('ORDER FORM'!$I$96:$L$125,MATCH(CONCATENATE(E947,F947),'ORDER FORM'!$A$96:$A$125,0),MATCH(G947,'ORDER FORM'!$I$119:$L$119,0)),\"\")=0,\"\",IFERROR(INDEX('ORDER FORM'!$I$96:$L$125,MATCH(CONCATENATE(E947,F947),'ORDER FORM'!$A$96:A$125,0),MATCH(G947,'ORDER FORM'!$I$119:$L$119,0)),\"\"))","v":""},{"$f":"IFERROR(IFERROR(INDEX('ORDER FORM'!N:N,MATCH(IMPORT!E947,'ORDER FORM'!B:B,0)),INDEX('ORDER FORM'!N:N,MATCH(TRIM(IMPORT!E947),'ORDER FORM'!B:B,0))),\"\")","v":""}]
["UPLOADUSD",{"$f":"IF('ORDER FORM'!$O$7=\"\",\"ENTER-PO\",'ORDER FORM'!$O$7)","v":"ENTER-PO"},"2021 Spring/Summer",{"$f":"IF('ORDER FORM'!$O$9=\"\",TODAY(),'ORDER FORM'!$O$9)","v":"2023-11-02"},710635,"303","M","2","610306138262",{"$f":"IF(IFERROR(INDEX('ORDER FORM'!$I$96:$L$125,MATCH(CONCATENATE(E948,F948),'ORDER FORM'!$A$96:$A$125,0),MATCH(G948,'ORDER FORM'!$I$119:$L$119,0)),\"\")=0,\"\",IFERROR(INDEX('ORDER FORM'!$I$96:$L$125,MATCH(CONCATENATE(E948,F948),'ORDER FORM'!$A$96:A$125,0),MATCH(G948,'ORDER FORM'!$I$119:$L$119,0)),\"\"))","v":""},{"$f":"IFERROR(IFERROR(INDEX('ORDER FORM'!N:N,MATCH(IMPORT!E948,'ORDER FORM'!B:B,0)),INDEX('ORDER FORM'!N:N,MATCH(TRIM(IMPORT!E948),'ORDER FORM'!B:B,0))),\"\")","v":""}]
["UPLOADUSD",{"$f":"IF('ORDER FORM'!$O$7=\"\",\"ENTER-PO\",'ORDER FORM'!$O$7)","v":"ENTER-PO"},"2021 Spring/Summer",{"$f":"IF('ORDER FORM'!$O$9=\"\",TODAY(),'ORDER FORM'!$O$9)","v":"2023-11-02"},710635,"303","L","2","610306138279",{"$f":"IF(IFERROR(INDEX('ORDER FORM'!$I$96:$L$125,MATCH(CONCATENATE(E949,F949),'ORDER FORM'!$A$96:$A$125,0),MATCH(G949,'ORDER FORM'!$I$119:$L$119,0)),\"\")=0,\"\",IFERROR(INDEX('ORDER FORM'!$I$96:$L$125,MATCH(CONCATENATE(E949,F949),'ORDER FORM'!$A$96:A$125,0),MATCH(G949,'ORDER FORM'!$I$119:$L$119,0)),\"\"))","v":""},{"$f":"IFERROR(IFERROR(INDEX('ORDER FORM'!N:N,MATCH(IMPORT!E949,'ORDER FORM'!B:B,0)),INDEX('ORDER FORM'!N:N,MATCH(TRIM(IMPORT!E949),'ORDER FORM'!B:B,0))),\"\")","v":""}]
["UPLOADUSD",{"$f":"IF('ORDER FORM'!$O$7=\"\",\"ENTER-PO\",'ORDER FORM'!$O$7)","v":"ENTER-PO"},"2021 Spring/Summer",{"$f":"IF('ORDER FORM'!$O$9=\"\",TODAY(),'ORDER FORM'!$O$9)","v":"2023-11-02"},710635,"413","S","2","610306138286",{"$f":"IF(IFERROR(INDEX('ORDER FORM'!$I$96:$L$125,MATCH(CONCATENATE(E950,F950),'ORDER FORM'!$A$96:$A$125,0),MATCH(G950,'ORDER FORM'!$I$119:$L$119,0)),\"\")=0,\"\",IFERROR(INDEX('ORDER FORM'!$I$96:$L$125,MATCH(CONCATENATE(E950,F950),'ORDER FORM'!$A$96:A$125,0),MATCH(G950,'ORDER FORM'!$I$119:$L$119,0)),\"\"))","v":""},{"$f":"IFERROR(IFERROR(INDEX('ORDER FORM'!N:N,MATCH(IMPORT!E950,'ORDER FORM'!B:B,0)),INDEX('ORDER FORM'!N:N,MATCH(TRIM(IMPORT!E950),'ORDER FORM'!B:B,0))),\"\")","v":""}]
["UPLOADUSD",{"$f":"IF('ORDER FORM'!$O$7=\"\",\"ENTER-PO\",'ORDER FORM'!$O$7)","v":"ENTER-PO"},"2021 Spring/Summer",{"$f":"IF('ORDER FORM'!$O$9=\"\",TODAY(),'ORDER FORM'!$O$9)","v":"2023-11-02"},710635,"413","M","2","610306138293",{"$f":"IF(IFERROR(INDEX('ORDER FORM'!$I$96:$L$125,MATCH(CONCATENATE(E951,F951),'ORDER FORM'!$A$96:$A$125,0),MATCH(G951,'ORDER FORM'!$I$119:$L$119,0)),\"\")=0,\"\",IFERROR(INDEX('ORDER FORM'!$I$96:$L$125,MATCH(CONCATENATE(E951,F951),'ORDER FORM'!$A$96:A$125,0),MATCH(G951,'ORDER FORM'!$I$119:$L$119,0)),\"\"))","v":""},{"$f":"IFERROR(IFERROR(INDEX('ORDER FORM'!N:N,MATCH(IMPORT!E951,'ORDER FORM'!B:B,0)),INDEX('ORDER FORM'!N:N,MATCH(TRIM(IMPORT!E951),'ORDER FORM'!B:B,0))),\"\")","v":""}]
["UPLOADUSD",{"$f":"IF('ORDER FORM'!$O$7=\"\",\"ENTER-PO\",'ORDER FORM'!$O$7)","v":"ENTER-PO"},"2021 Spring/Summer",{"$f":"IF('ORDER FORM'!$O$9=\"\",TODAY(),'ORDER FORM'!$O$9)","v":"2023-11-02"},710635,"413","L","2","610306138309",{"$f":"IF(IFERROR(INDEX('ORDER FORM'!$I$96:$L$125,MATCH(CONCATENATE(E952,F952),'ORDER FORM'!$A$96:$A$125,0),MATCH(G952,'ORDER FORM'!$I$119:$L$119,0)),\"\")=0,\"\",IFERROR(INDEX('ORDER FORM'!$I$96:$L$125,MATCH(CONCATENATE(E952,F952),'ORDER FORM'!$A$96:A$125,0),MATCH(G952,'ORDER FORM'!$I$119:$L$119,0)),\"\"))","v":""},{"$f":"IFERROR(IFERROR(INDEX('ORDER FORM'!N:N,MATCH(IMPORT!E952,'ORDER FORM'!B:B,0)),INDEX('ORDER FORM'!N:N,MATCH(TRIM(IMPORT!E952),'ORDER FORM'!B:B,0))),\"\")","v":""}]
["UPLOADUSD",{"$f":"IF('ORDER FORM'!$O$7=\"\",\"ENTER-PO\",'ORDER FORM'!$O$7)","v":"ENTER-PO"},"2021 Spring/Summer",{"$f":"IF('ORDER FORM'!$O$9=\"\",TODAY(),'ORDER FORM'!$O$9)","v":"2023-11-02"},710636,"303","S","2","610306138392",{"$f":"IF(IFERROR(INDEX('ORDER FORM'!$I$96:$L$125,MATCH(CONCATENATE(E953,F953),'ORDER FORM'!$A$96:$A$125,0),MATCH(G953,'ORDER FORM'!$I$119:$L$119,0)),\"\")=0,\"\",IFERROR(INDEX('ORDER FORM'!$I$96:$L$125,MATCH(CONCATENATE(E953,F953),'ORDER FORM'!$A$96:A$125,0),MATCH(G953,'ORDER FORM'!$I$119:$L$119,0)),\"\"))","v":""},{"$f":"IFERROR(IFERROR(INDEX('ORDER FORM'!N:N,MATCH(IMPORT!E953,'ORDER FORM'!B:B,0)),INDEX('ORDER FORM'!N:N,MATCH(TRIM(IMPORT!E953),'ORDER FORM'!B:B,0))),\"\")","v":""}]
["UPLOADUSD",{"$f":"IF('ORDER FORM'!$O$7=\"\",\"ENTER-PO\",'ORDER FORM'!$O$7)","v":"ENTER-PO"},"2021 Spring/Summer",{"$f":"IF('ORDER FORM'!$O$9=\"\",TODAY(),'ORDER FORM'!$O$9)","v":"2023-11-02"},710636,"303","M","2","610306138408",{"$f":"IF(IFERROR(INDEX('ORDER FORM'!$I$96:$L$125,MATCH(CONCATENATE(E954,F954),'ORDER FORM'!$A$96:$A$125,0),MATCH(G954,'ORDER FORM'!$I$119:$L$119,0)),\"\")=0,\"\",IFERROR(INDEX('ORDER FORM'!$I$96:$L$125,MATCH(CONCATENATE(E954,F954),'ORDER FORM'!$A$96:A$125,0),MATCH(G954,'ORDER FORM'!$I$119:$L$119,0)),\"\"))","v":""},{"$f":"IFERROR(IFERROR(INDEX('ORDER FORM'!N:N,MATCH(IMPORT!E954,'ORDER FORM'!B:B,0)),INDEX('ORDER FORM'!N:N,MATCH(TRIM(IMPORT!E954),'ORDER FORM'!B:B,0))),\"\")","v":""}]
["UPLOADUSD",{"$f":"IF('ORDER FORM'!$O$7=\"\",\"ENTER-PO\",'ORDER FORM'!$O$7)","v":"ENTER-PO"},"2021 Spring/Summer",{"$f":"IF('ORDER FORM'!$O$9=\"\",TODAY(),'ORDER FORM'!$O$9)","v":"2023-11-02"},710636,"303","L","2","610306138415",{"$f":"IF(IFERROR(INDEX('ORDER FORM'!$I$96:$L$125,MATCH(CONCATENATE(E955,F955),'ORDER FORM'!$A$96:$A$125,0),MATCH(G955,'ORDER FORM'!$I$119:$L$119,0)),\"\")=0,\"\",IFERROR(INDEX('ORDER FORM'!$I$96:$L$125,MATCH(CONCATENATE(E955,F955),'ORDER FORM'!$A$96:A$125,0),MATCH(G955,'ORDER FORM'!$I$119:$L$119,0)),\"\"))","v":""},{"$f":"IFERROR(IFERROR(INDEX('ORDER FORM'!N:N,MATCH(IMPORT!E955,'ORDER FORM'!B:B,0)),INDEX('ORDER FORM'!N:N,MATCH(TRIM(IMPORT!E955),'ORDER FORM'!B:B,0))),\"\")","v":""}]
["UPLOADUSD",{"$f":"IF('ORDER FORM'!$O$7=\"\",\"ENTER-PO\",'ORDER FORM'!$O$7)","v":"ENTER-PO"},"2021 Spring/Summer",{"$f":"IF('ORDER FORM'!$O$9=\"\",TODAY(),'ORDER FORM'!$O$9)","v":"2023-11-02"},710636,"413","S","2","610306138422",{"$f":"IF(IFERROR(INDEX('ORDER FORM'!$I$96:$L$125,MATCH(CONCATENATE(E956,F956),'ORDER FORM'!$A$96:$A$125,0),MATCH(G956,'ORDER FORM'!$I$119:$L$119,0)),\"\")=0,\"\",IFERROR(INDEX('ORDER FORM'!$I$96:$L$125,MATCH(CONCATENATE(E956,F956),'ORDER FORM'!$A$96:A$125,0),MATCH(G956,'ORDER FORM'!$I$119:$L$119,0)),\"\"))","v":""},{"$f":"IFERROR(IFERROR(INDEX('ORDER FORM'!N:N,MATCH(IMPORT!E956,'ORDER FORM'!B:B,0)),INDEX('ORDER FORM'!N:N,MATCH(TRIM(IMPORT!E956),'ORDER FORM'!B:B,0))),\"\")","v":""}]
["UPLOADUSD",{"$f":"IF('ORDER FORM'!$O$7=\"\",\"ENTER-PO\",'ORDER FORM'!$O$7)","v":"ENTER-PO"},"2021 Spring/Summer",{"$f":"IF('ORDER FORM'!$O$9=\"\",TODAY(),'ORDER FORM'!$O$9)","v":"2023-11-02"},710636,"413","M","2","610306138439",{"$f":"IF(IFERROR(INDEX('ORDER FORM'!$I$96:$L$125,MATCH(CONCATENATE(E957,F957),'ORDER FORM'!$A$96:$A$125,0),MATCH(G957,'ORDER FORM'!$I$119:$L$119,0)),\"\")=0,\"\",IFERROR(INDEX('ORDER FORM'!$I$96:$L$125,MATCH(CONCATENATE(E957,F957),'ORDER FORM'!$A$96:A$125,0),MATCH(G957,'ORDER FORM'!$I$119:$L$119,0)),\"\"))","v":""},{"$f":"IFERROR(IFERROR(INDEX('ORDER FORM'!N:N,MATCH(IMPORT!E957,'ORDER FORM'!B:B,0)),INDEX('ORDER FORM'!N:N,MATCH(TRIM(IMPORT!E957),'ORDER FORM'!B:B,0))),\"\")","v":""}]
["UPLOADUSD",{"$f":"IF('ORDER FORM'!$O$7=\"\",\"ENTER-PO\",'ORDER FORM'!$O$7)","v":"ENTER-PO"},"2021 Spring/Summer",{"$f":"IF('ORDER FORM'!$O$9=\"\",TODAY(),'ORDER FORM'!$O$9)","v":"2023-11-02"},710636,"413","L","2","610306138446",{"$f":"IF(IFERROR(INDEX('ORDER FORM'!$I$96:$L$125,MATCH(CONCATENATE(E958,F958),'ORDER FORM'!$A$96:$A$125,0),MATCH(G958,'ORDER FORM'!$I$119:$L$119,0)),\"\")=0,\"\",IFERROR(INDEX('ORDER FORM'!$I$96:$L$125,MATCH(CONCATENATE(E958,F958),'ORDER FORM'!$A$96:A$125,0),MATCH(G958,'ORDER FORM'!$I$119:$L$119,0)),\"\"))","v":""},{"$f":"IFERROR(IFERROR(INDEX('ORDER FORM'!N:N,MATCH(IMPORT!E958,'ORDER FORM'!B:B,0)),INDEX('ORDER FORM'!N:N,MATCH(TRIM(IMPORT!E958),'ORDER FORM'!B:B,0))),\"\")","v":""}]
["UPLOADUSD",{"$f":"IF('ORDER FORM'!$O$7=\"\",\"ENTER-PO\",'ORDER FORM'!$O$7)","v":"ENTER-PO"},"2021 Spring/Summer",{"$f":"IF('ORDER FORM'!$O$9=\"\",TODAY(),'ORDER FORM'!$O$9)","v":"2023-11-02"},710637,"007","S","2","610306139702",{"$f":"IF(IFERROR(INDEX('ORDER FORM'!$I$96:$L$125,MATCH(CONCATENATE(E959,F959),'ORDER FORM'!$A$96:$A$125,0),MATCH(G959,'ORDER FORM'!$I$119:$L$119,0)),\"\")=0,\"\",IFERROR(INDEX('ORDER FORM'!$I$96:$L$125,MATCH(CONCATENATE(E959,F959),'ORDER FORM'!$A$96:A$125,0),MATCH(G959,'ORDER FORM'!$I$119:$L$119,0)),\"\"))","v":""},{"$f":"IFERROR(IFERROR(INDEX('ORDER FORM'!N:N,MATCH(IMPORT!E959,'ORDER FORM'!B:B,0)),INDEX('ORDER FORM'!N:N,MATCH(TRIM(IMPORT!E959),'ORDER FORM'!B:B,0))),\"\")","v":{"v":15,"d":"15.00"}}]
["UPLOADUSD",{"$f":"IF('ORDER FORM'!$O$7=\"\",\"ENTER-PO\",'ORDER FORM'!$O$7)","v":"ENTER-PO"},"2021 Spring/Summer",{"$f":"IF('ORDER FORM'!$O$9=\"\",TODAY(),'ORDER FORM'!$O$9)","v":"2023-11-02"},710637,"007","M","2","610306139719",{"$f":"IF(IFERROR(INDEX('ORDER FORM'!$I$96:$L$125,MATCH(CONCATENATE(E960,F960),'ORDER FORM'!$A$96:$A$125,0),MATCH(G960,'ORDER FORM'!$I$119:$L$119,0)),\"\")=0,\"\",IFERROR(INDEX('ORDER FORM'!$I$96:$L$125,MATCH(CONCATENATE(E960,F960),'ORDER FORM'!$A$96:A$125,0),MATCH(G960,'ORDER FORM'!$I$119:$L$119,0)),\"\"))","v":""},{"$f":"IFERROR(IFERROR(INDEX('ORDER FORM'!N:N,MATCH(IMPORT!E960,'ORDER FORM'!B:B,0)),INDEX('ORDER FORM'!N:N,MATCH(TRIM(IMPORT!E960),'ORDER FORM'!B:B,0))),\"\")","v":{"v":15,"d":"15.00"}}]
["UPLOADUSD",{"$f":"IF('ORDER FORM'!$O$7=\"\",\"ENTER-PO\",'ORDER FORM'!$O$7)","v":"ENTER-PO"},"2021 Spring/Summer",{"$f":"IF('ORDER FORM'!$O$9=\"\",TODAY(),'ORDER FORM'!$O$9)","v":"2023-11-02"},710637,"007","L","2","610306139726",{"$f":"IF(IFERROR(INDEX('ORDER FORM'!$I$96:$L$125,MATCH(CONCATENATE(E961,F961),'ORDER FORM'!$A$96:$A$125,0),MATCH(G961,'ORDER FORM'!$I$119:$L$119,0)),\"\")=0,\"\",IFERROR(INDEX('ORDER FORM'!$I$96:$L$125,MATCH(CONCATENATE(E961,F961),'ORDER FORM'!$A$96:A$125,0),MATCH(G961,'ORDER FORM'!$I$119:$L$119,0)),\"\"))","v":""},{"$f":"IFERROR(IFERROR(INDEX('ORDER FORM'!N:N,MATCH(IMPORT!E961,'ORDER FORM'!B:B,0)),INDEX('ORDER FORM'!N:N,MATCH(TRIM(IMPORT!E961),'ORDER FORM'!B:B,0))),\"\")","v":{"v":15,"d":"15.00"}}]
["UPLOADUSD",{"$f":"IF('ORDER FORM'!$O$7=\"\",\"ENTER-PO\",'ORDER FORM'!$O$7)","v":"ENTER-PO"},"2021 Spring/Summer",{"$f":"IF('ORDER FORM'!$O$9=\"\",TODAY(),'ORDER FORM'!$O$9)","v":"2023-11-02"},710637,"138","S","2","610306143570",{"$f":"IF(IFERROR(INDEX('ORDER FORM'!$I$96:$L$125,MATCH(CONCATENATE(E962,F962),'ORDER FORM'!$A$96:$A$125,0),MATCH(G962,'ORDER FORM'!$I$119:$L$119,0)),\"\")=0,\"\",IFERROR(INDEX('ORDER FORM'!$I$96:$L$125,MATCH(CONCATENATE(E962,F962),'ORDER FORM'!$A$96:A$125,0),MATCH(G962,'ORDER FORM'!$I$119:$L$119,0)),\"\"))","v":""},{"$f":"IFERROR(IFERROR(INDEX('ORDER FORM'!N:N,MATCH(IMPORT!E962,'ORDER FORM'!B:B,0)),INDEX('ORDER FORM'!N:N,MATCH(TRIM(IMPORT!E962),'ORDER FORM'!B:B,0))),\"\")","v":{"v":15,"d":"15.00"}}]
["UPLOADUSD",{"$f":"IF('ORDER FORM'!$O$7=\"\",\"ENTER-PO\",'ORDER FORM'!$O$7)","v":"ENTER-PO"},"2021 Spring/Summer",{"$f":"IF('ORDER FORM'!$O$9=\"\",TODAY(),'ORDER FORM'!$O$9)","v":"2023-11-02"},710637,"138","M","2","610306143587",{"$f":"IF(IFERROR(INDEX('ORDER FORM'!$I$96:$L$125,MATCH(CONCATENATE(E963,F963),'ORDER FORM'!$A$96:$A$125,0),MATCH(G963,'ORDER FORM'!$I$119:$L$119,0)),\"\")=0,\"\",IFERROR(INDEX('ORDER FORM'!$I$96:$L$125,MATCH(CONCATENATE(E963,F963),'ORDER FORM'!$A$96:A$125,0),MATCH(G963,'ORDER FORM'!$I$119:$L$119,0)),\"\"))","v":""},{"$f":"IFERROR(IFERROR(INDEX('ORDER FORM'!N:N,MATCH(IMPORT!E963,'ORDER FORM'!B:B,0)),INDEX('ORDER FORM'!N:N,MATCH(TRIM(IMPORT!E963),'ORDER FORM'!B:B,0))),\"\")","v":{"v":15,"d":"15.00"}}]
["UPLOADUSD",{"$f":"IF('ORDER FORM'!$O$7=\"\",\"ENTER-PO\",'ORDER FORM'!$O$7)","v":"ENTER-PO"},"2021 Spring/Summer",{"$f":"IF('ORDER FORM'!$O$9=\"\",TODAY(),'ORDER FORM'!$O$9)","v":"2023-11-02"},710637,"138","L","2","610306143594",{"$f":"IF(IFERROR(INDEX('ORDER FORM'!$I$96:$L$125,MATCH(CONCATENATE(E964,F964),'ORDER FORM'!$A$96:$A$125,0),MATCH(G964,'ORDER FORM'!$I$119:$L$119,0)),\"\")=0,\"\",IFERROR(INDEX('ORDER FORM'!$I$96:$L$125,MATCH(CONCATENATE(E964,F964),'ORDER FORM'!$A$96:A$125,0),MATCH(G964,'ORDER FORM'!$I$119:$L$119,0)),\"\"))","v":""},{"$f":"IFERROR(IFERROR(INDEX('ORDER FORM'!N:N,MATCH(IMPORT!E964,'ORDER FORM'!B:B,0)),INDEX('ORDER FORM'!N:N,MATCH(TRIM(IMPORT!E964),'ORDER FORM'!B:B,0))),\"\")","v":{"v":15,"d":"15.00"}}]
["UPLOADUSD",{"$f":"IF('ORDER FORM'!$O$7=\"\",\"ENTER-PO\",'ORDER FORM'!$O$7)","v":"ENTER-PO"},"2021 Spring/Summer",{"$f":"IF('ORDER FORM'!$O$9=\"\",TODAY(),'ORDER FORM'!$O$9)","v":"2023-11-02"},710637,"852","S","2","610306139733",{"$f":"IF(IFERROR(INDEX('ORDER FORM'!$I$96:$L$125,MATCH(CONCATENATE(E965,F965),'ORDER FORM'!$A$96:$A$125,0),MATCH(G965,'ORDER FORM'!$I$119:$L$119,0)),\"\")=0,\"\",IFERROR(INDEX('ORDER FORM'!$I$96:$L$125,MATCH(CONCATENATE(E965,F965),'ORDER FORM'!$A$96:A$125,0),MATCH(G965,'ORDER FORM'!$I$119:$L$119,0)),\"\"))","v":""},{"$f":"IFERROR(IFERROR(INDEX('ORDER FORM'!N:N,MATCH(IMPORT!E965,'ORDER FORM'!B:B,0)),INDEX('ORDER FORM'!N:N,MATCH(TRIM(IMPORT!E965),'ORDER FORM'!B:B,0))),\"\")","v":{"v":15,"d":"15.00"}}]
["UPLOADUSD",{"$f":"IF('ORDER FORM'!$O$7=\"\",\"ENTER-PO\",'ORDER FORM'!$O$7)","v":"ENTER-PO"},"2021 Spring/Summer",{"$f":"IF('ORDER FORM'!$O$9=\"\",TODAY(),'ORDER FORM'!$O$9)","v":"2023-11-02"},710637,"852","M","2","610306139740",{"$f":"IF(IFERROR(INDEX('ORDER FORM'!$I$96:$L$125,MATCH(CONCATENATE(E966,F966),'ORDER FORM'!$A$96:$A$125,0),MATCH(G966,'ORDER FORM'!$I$119:$L$119,0)),\"\")=0,\"\",IFERROR(INDEX('ORDER FORM'!$I$96:$L$125,MATCH(CONCATENATE(E966,F966),'ORDER FORM'!$A$96:A$125,0),MATCH(G966,'ORDER FORM'!$I$119:$L$119,0)),\"\"))","v":""},{"$f":"IFERROR(IFERROR(INDEX('ORDER FORM'!N:N,MATCH(IMPORT!E966,'ORDER FORM'!B:B,0)),INDEX('ORDER FORM'!N:N,MATCH(TRIM(IMPORT!E966),'ORDER FORM'!B:B,0))),\"\")","v":{"v":15,"d":"15.00"}}]
["UPLOADUSD",{"$f":"IF('ORDER FORM'!$O$7=\"\",\"ENTER-PO\",'ORDER FORM'!$O$7)","v":"ENTER-PO"},"2021 Spring/Summer",{"$f":"IF('ORDER FORM'!$O$9=\"\",TODAY(),'ORDER FORM'!$O$9)","v":"2023-11-02"},710637,"852","L","2","610306139757",{"$f":"IF(IFERROR(INDEX('ORDER FORM'!$I$96:$L$125,MATCH(CONCATENATE(E967,F967),'ORDER FORM'!$A$96:$A$125,0),MATCH(G967,'ORDER FORM'!$I$119:$L$119,0)),\"\")=0,\"\",IFERROR(INDEX('ORDER FORM'!$I$96:$L$125,MATCH(CONCATENATE(E967,F967),'ORDER FORM'!$A$96:A$125,0),MATCH(G967,'ORDER FORM'!$I$119:$L$119,0)),\"\"))","v":""},{"$f":"IFERROR(IFERROR(INDEX('ORDER FORM'!N:N,MATCH(IMPORT!E967,'ORDER FORM'!B:B,0)),INDEX('ORDER FORM'!N:N,MATCH(TRIM(IMPORT!E967),'ORDER FORM'!B:B,0))),\"\")","v":{"v":15,"d":"15.00"}}]
[{"$f":"IF(IF($B$1=0,\"ENTER ACCOUNT\",$B$1)=\"\",\"UPLOADUSD\",IF($B$1=0,\"ENTER ACCOUNT\",$B$1))","v":"UPLOADUSD"},{"$f":"IF('ORDER FORM'!$O$7=\"\",\"ENTER-PO\",'ORDER FORM'!$O$7)","v":"ENTER-PO"},{"$f":"$D$1","v":"2021 Spring/Summer"},{"$f":"IF('ORDER FORM'!$O$9=\"\",TODAY(),'ORDER FORM'!$O$9)","v":"2023-11-02"},710638,"004","S","2","610306139498",{"$f":"IF(IFERROR(INDEX('ORDER FORM'!$I$96:$L$125,MATCH(CONCATENATE(E968,F968),'ORDER FORM'!$A$96:$A$125,0),MATCH(G968,'ORDER FORM'!$I$119:$L$119,0)),\"\")=0,\"\",IFERROR(INDEX('ORDER FORM'!$I$96:$L$125,MATCH(CONCATENATE(E968,F968),'ORDER FORM'!$A$96:A$125,0),MATCH(G968,'ORDER FORM'!$I$119:$L$119,0)),\"\"))","v":""},{"$f":"IFERROR(IFERROR(INDEX('ORDER FORM'!N:N,MATCH(IMPORT!E968,'ORDER FORM'!B:B,0)),INDEX('ORDER FORM'!N:N,MATCH(TRIM(IMPORT!E968),'ORDER FORM'!B:B,0))),\"\")","v":""}]
["UPLOADUSD",{"$f":"IF('ORDER FORM'!$O$7=\"\",\"ENTER-PO\",'ORDER FORM'!$O$7)","v":"ENTER-PO"},"2021 Spring/Summer",{"$f":"IF('ORDER FORM'!$O$9=\"\",TODAY(),'ORDER FORM'!$O$9)","v":"2023-11-02"},710638,"004","M","2","610306139504",{"$f":"IF(IFERROR(INDEX('ORDER FORM'!$I$96:$L$125,MATCH(CONCATENATE(E969,F969),'ORDER FORM'!$A$96:$A$125,0),MATCH(G969,'ORDER FORM'!$I$119:$L$119,0)),\"\")=0,\"\",IFERROR(INDEX('ORDER FORM'!$I$96:$L$125,MATCH(CONCATENATE(E969,F969),'ORDER FORM'!$A$96:A$125,0),MATCH(G969,'ORDER FORM'!$I$119:$L$119,0)),\"\"))","v":""},{"$f":"IFERROR(IFERROR(INDEX('ORDER FORM'!N:N,MATCH(IMPORT!E969,'ORDER FORM'!B:B,0)),INDEX('ORDER FORM'!N:N,MATCH(TRIM(IMPORT!E969),'ORDER FORM'!B:B,0))),\"\")","v":""}]
["UPLOADUSD",{"$f":"IF('ORDER FORM'!$O$7=\"\",\"ENTER-PO\",'ORDER FORM'!$O$7)","v":"ENTER-PO"},"2021 Spring/Summer",{"$f":"IF('ORDER FORM'!$O$9=\"\",TODAY(),'ORDER FORM'!$O$9)","v":"2023-11-02"},710638,"004","L","2","610306139511",{"$f":"IF(IFERROR(INDEX('ORDER FORM'!$I$96:$L$125,MATCH(CONCATENATE(E970,F970),'ORDER FORM'!$A$96:$A$125,0),MATCH(G970,'ORDER FORM'!$I$119:$L$119,0)),\"\")=0,\"\",IFERROR(INDEX('ORDER FORM'!$I$96:$L$125,MATCH(CONCATENATE(E970,F970),'ORDER FORM'!$A$96:A$125,0),MATCH(G970,'ORDER FORM'!$I$119:$L$119,0)),\"\"))","v":""},{"$f":"IFERROR(IFERROR(INDEX('ORDER FORM'!N:N,MATCH(IMPORT!E970,'ORDER FORM'!B:B,0)),INDEX('ORDER FORM'!N:N,MATCH(TRIM(IMPORT!E970),'ORDER FORM'!B:B,0))),\"\")","v":""}]
["UPLOADUSD",{"$f":"IF('ORDER FORM'!$O$7=\"\",\"ENTER-PO\",'ORDER FORM'!$O$7)","v":"ENTER-PO"},"2021 Spring/Summer",{"$f":"IF('ORDER FORM'!$O$9=\"\",TODAY(),'ORDER FORM'!$O$9)","v":"2023-11-02"},710638,"005","S","2","610306139528",{"$f":"IF(IFERROR(INDEX('ORDER FORM'!$I$96:$L$125,MATCH(CONCATENATE(E971,F971),'ORDER FORM'!$A$96:$A$125,0),MATCH(G971,'ORDER FORM'!$I$119:$L$119,0)),\"\")=0,\"\",IFERROR(INDEX('ORDER FORM'!$I$96:$L$125,MATCH(CONCATENATE(E971,F971),'ORDER FORM'!$A$96:A$125,0),MATCH(G971,'ORDER FORM'!$I$119:$L$119,0)),\"\"))","v":""},{"$f":"IFERROR(IFERROR(INDEX('ORDER FORM'!N:N,MATCH(IMPORT!E971,'ORDER FORM'!B:B,0)),INDEX('ORDER FORM'!N:N,MATCH(TRIM(IMPORT!E971),'ORDER FORM'!B:B,0))),\"\")","v":""}]
["UPLOADUSD",{"$f":"IF('ORDER FORM'!$O$7=\"\",\"ENTER-PO\",'ORDER FORM'!$O$7)","v":"ENTER-PO"},"2021 Spring/Summer",{"$f":"IF('ORDER FORM'!$O$9=\"\",TODAY(),'ORDER FORM'!$O$9)","v":"2023-11-02"},710638,"005","M","2","610306139535",{"$f":"IF(IFERROR(INDEX('ORDER FORM'!$I$96:$L$125,MATCH(CONCATENATE(E972,F972),'ORDER FORM'!$A$96:$A$125,0),MATCH(G972,'ORDER FORM'!$I$119:$L$119,0)),\"\")=0,\"\",IFERROR(INDEX('ORDER FORM'!$I$96:$L$125,MATCH(CONCATENATE(E972,F972),'ORDER FORM'!$A$96:A$125,0),MATCH(G972,'ORDER FORM'!$I$119:$L$119,0)),\"\"))","v":""},{"$f":"IFERROR(IFERROR(INDEX('ORDER FORM'!N:N,MATCH(IMPORT!E972,'ORDER FORM'!B:B,0)),INDEX('ORDER FORM'!N:N,MATCH(TRIM(IMPORT!E972),'ORDER FORM'!B:B,0))),\"\")","v":""}]
["UPLOADUSD",{"$f":"IF('ORDER FORM'!$O$7=\"\",\"ENTER-PO\",'ORDER FORM'!$O$7)","v":"ENTER-PO"},"2021 Spring/Summer",{"$f":"IF('ORDER FORM'!$O$9=\"\",TODAY(),'ORDER FORM'!$O$9)","v":"2023-11-02"},710638,"005","L","2","610306139542",{"$f":"IF(IFERROR(INDEX('ORDER FORM'!$I$96:$L$125,MATCH(CONCATENATE(E973,F973),'ORDER FORM'!$A$96:$A$125,0),MATCH(G973,'ORDER FORM'!$I$119:$L$119,0)),\"\")=0,\"\",IFERROR(INDEX('ORDER FORM'!$I$96:$L$125,MATCH(CONCATENATE(E973,F973),'ORDER FORM'!$A$96:A$125,0),MATCH(G973,'ORDER FORM'!$I$119:$L$119,0)),\"\"))","v":""},{"$f":"IFERROR(IFERROR(INDEX('ORDER FORM'!N:N,MATCH(IMPORT!E973,'ORDER FORM'!B:B,0)),INDEX('ORDER FORM'!N:N,MATCH(TRIM(IMPORT!E973),'ORDER FORM'!B:B,0))),\"\")","v":""}]
["UPLOADUSD",{"$f":"IF('ORDER FORM'!$O$7=\"\",\"ENTER-PO\",'ORDER FORM'!$O$7)","v":"ENTER-PO"},"2021 Spring/Summer",{"$f":"IF('ORDER FORM'!$O$9=\"\",TODAY(),'ORDER FORM'!$O$9)","v":"2023-11-02"},710638,"077","S","2","610306139559",{"$f":"IF(IFERROR(INDEX('ORDER FORM'!$I$96:$L$125,MATCH(CONCATENATE(E974,F974),'ORDER FORM'!$A$96:$A$125,0),MATCH(G974,'ORDER FORM'!$I$119:$L$119,0)),\"\")=0,\"\",IFERROR(INDEX('ORDER FORM'!$I$96:$L$125,MATCH(CONCATENATE(E974,F974),'ORDER FORM'!$A$96:A$125,0),MATCH(G974,'ORDER FORM'!$I$119:$L$119,0)),\"\"))","v":""},{"$f":"IFERROR(IFERROR(INDEX('ORDER FORM'!N:N,MATCH(IMPORT!E974,'ORDER FORM'!B:B,0)),INDEX('ORDER FORM'!N:N,MATCH(TRIM(IMPORT!E974),'ORDER FORM'!B:B,0))),\"\")","v":""}]
["UPLOADUSD",{"$f":"IF('ORDER FORM'!$O$7=\"\",\"ENTER-PO\",'ORDER FORM'!$O$7)","v":"ENTER-PO"},"2021 Spring/Summer",{"$f":"IF('ORDER FORM'!$O$9=\"\",TODAY(),'ORDER FORM'!$O$9)","v":"2023-11-02"},710638,"077","M","2","610306139566",{"$f":"IF(IFERROR(INDEX('ORDER FORM'!$I$96:$L$125,MATCH(CONCATENATE(E975,F975),'ORDER FORM'!$A$96:$A$125,0),MATCH(G975,'ORDER FORM'!$I$119:$L$119,0)),\"\")=0,\"\",IFERROR(INDEX('ORDER FORM'!$I$96:$L$125,MATCH(CONCATENATE(E975,F975),'ORDER FORM'!$A$96:A$125,0),MATCH(G975,'ORDER FORM'!$I$119:$L$119,0)),\"\"))","v":""},{"$f":"IFERROR(IFERROR(INDEX('ORDER FORM'!N:N,MATCH(IMPORT!E975,'ORDER FORM'!B:B,0)),INDEX('ORDER FORM'!N:N,MATCH(TRIM(IMPORT!E975),'ORDER FORM'!B:B,0))),\"\")","v":""}]
["UPLOADUSD",{"$f":"IF('ORDER FORM'!$O$7=\"\",\"ENTER-PO\",'ORDER FORM'!$O$7)","v":"ENTER-PO"},"2021 Spring/Summer",{"$f":"IF('ORDER FORM'!$O$9=\"\",TODAY(),'ORDER FORM'!$O$9)","v":"2023-11-02"},710638,"077","L","2","610306139573",{"$f":"IF(IFERROR(INDEX('ORDER FORM'!$I$96:$L$125,MATCH(CONCATENATE(E976,F976),'ORDER FORM'!$A$96:$A$125,0),MATCH(G976,'ORDER FORM'!$I$119:$L$119,0)),\"\")=0,\"\",IFERROR(INDEX('ORDER FORM'!$I$96:$L$125,MATCH(CONCATENATE(E976,F976),'ORDER FORM'!$A$96:A$125,0),MATCH(G976,'ORDER FORM'!$I$119:$L$119,0)),\"\"))","v":""},{"$f":"IFERROR(IFERROR(INDEX('ORDER FORM'!N:N,MATCH(IMPORT!E976,'ORDER FORM'!B:B,0)),INDEX('ORDER FORM'!N:N,MATCH(TRIM(IMPORT!E976),'ORDER FORM'!B:B,0))),\"\")","v":""}]
["UPLOADUSD",{"$f":"IF('ORDER FORM'!$O$7=\"\",\"ENTER-PO\",'ORDER FORM'!$O$7)","v":"ENTER-PO"},"2021 Spring/Summer",{"$f":"IF('ORDER FORM'!$O$9=\"\",TODAY(),'ORDER FORM'!$O$9)","v":"2023-11-02"},710638,"134","S","2","610306143389",{"$f":"IF(IFERROR(INDEX('ORDER FORM'!$I$96:$L$125,MATCH(CONCATENATE(E977,F977),'ORDER FORM'!$A$96:$A$125,0),MATCH(G977,'ORDER FORM'!$I$119:$L$119,0)),\"\")=0,\"\",IFERROR(INDEX('ORDER FORM'!$I$96:$L$125,MATCH(CONCATENATE(E977,F977),'ORDER FORM'!$A$96:A$125,0),MATCH(G977,'ORDER FORM'!$I$119:$L$119,0)),\"\"))","v":""},{"$f":"IFERROR(IFERROR(INDEX('ORDER FORM'!N:N,MATCH(IMPORT!E977,'ORDER FORM'!B:B,0)),INDEX('ORDER FORM'!N:N,MATCH(TRIM(IMPORT!E977),'ORDER FORM'!B:B,0))),\"\")","v":""}]
["UPLOADUSD",{"$f":"IF('ORDER FORM'!$O$7=\"\",\"ENTER-PO\",'ORDER FORM'!$O$7)","v":"ENTER-PO"},"2021 Spring/Summer",{"$f":"IF('ORDER FORM'!$O$9=\"\",TODAY(),'ORDER FORM'!$O$9)","v":"2023-11-02"},710638,"134","M","2","610306143396",{"$f":"IF(IFERROR(INDEX('ORDER FORM'!$I$96:$L$125,MATCH(CONCATENATE(E978,F978),'ORDER FORM'!$A$96:$A$125,0),MATCH(G978,'ORDER FORM'!$I$119:$L$119,0)),\"\")=0,\"\",IFERROR(INDEX('ORDER FORM'!$I$96:$L$125,MATCH(CONCATENATE(E978,F978),'ORDER FORM'!$A$96:A$125,0),MATCH(G978,'ORDER FORM'!$I$119:$L$119,0)),\"\"))","v":""},{"$f":"IFERROR(IFERROR(INDEX('ORDER FORM'!N:N,MATCH(IMPORT!E978,'ORDER FORM'!B:B,0)),INDEX('ORDER FORM'!N:N,MATCH(TRIM(IMPORT!E978),'ORDER FORM'!B:B,0))),\"\")","v":""}]
["UPLOADUSD",{"$f":"IF('ORDER FORM'!$O$7=\"\",\"ENTER-PO\",'ORDER FORM'!$O$7)","v":"ENTER-PO"},"2021 Spring/Summer",{"$f":"IF('ORDER FORM'!$O$9=\"\",TODAY(),'ORDER FORM'!$O$9)","v":"2023-11-02"},710638,"134","L","2","610306143402",{"$f":"IF(IFERROR(INDEX('ORDER FORM'!$I$96:$L$125,MATCH(CONCATENATE(E979,F979),'ORDER FORM'!$A$96:$A$125,0),MATCH(G979,'ORDER FORM'!$I$119:$L$119,0)),\"\")=0,\"\",IFERROR(INDEX('ORDER FORM'!$I$96:$L$125,MATCH(CONCATENATE(E979,F979),'ORDER FORM'!$A$96:A$125,0),MATCH(G979,'ORDER FORM'!$I$119:$L$119,0)),\"\"))","v":""},{"$f":"IFERROR(IFERROR(INDEX('ORDER FORM'!N:N,MATCH(IMPORT!E979,'ORDER FORM'!B:B,0)),INDEX('ORDER FORM'!N:N,MATCH(TRIM(IMPORT!E979),'ORDER FORM'!B:B,0))),\"\")","v":""}]
["UPLOADUSD",{"$f":"IF('ORDER FORM'!$O$7=\"\",\"ENTER-PO\",'ORDER FORM'!$O$7)","v":"ENTER-PO"},"2021 Spring/Summer",{"$f":"IF('ORDER FORM'!$O$9=\"\",TODAY(),'ORDER FORM'!$O$9)","v":"2023-11-02"},710638,"823","S","2","610306143419",{"$f":"IF(IFERROR(INDEX('ORDER FORM'!$I$96:$L$125,MATCH(CONCATENATE(E980,F980),'ORDER FORM'!$A$96:$A$125,0),MATCH(G980,'ORDER FORM'!$I$119:$L$119,0)),\"\")=0,\"\",IFERROR(INDEX('ORDER FORM'!$I$96:$L$125,MATCH(CONCATENATE(E980,F980),'ORDER FORM'!$A$96:A$125,0),MATCH(G980,'ORDER FORM'!$I$119:$L$119,0)),\"\"))","v":""},{"$f":"IFERROR(IFERROR(INDEX('ORDER FORM'!N:N,MATCH(IMPORT!E980,'ORDER FORM'!B:B,0)),INDEX('ORDER FORM'!N:N,MATCH(TRIM(IMPORT!E980),'ORDER FORM'!B:B,0))),\"\")","v":""}]
["UPLOADUSD",{"$f":"IF('ORDER FORM'!$O$7=\"\",\"ENTER-PO\",'ORDER FORM'!$O$7)","v":"ENTER-PO"},"2021 Spring/Summer",{"$f":"IF('ORDER FORM'!$O$9=\"\",TODAY(),'ORDER FORM'!$O$9)","v":"2023-11-02"},710638,"823","M","2","610306143426",{"$f":"IF(IFERROR(INDEX('ORDER FORM'!$I$96:$L$125,MATCH(CONCATENATE(E981,F981),'ORDER FORM'!$A$96:$A$125,0),MATCH(G981,'ORDER FORM'!$I$119:$L$119,0)),\"\")=0,\"\",IFERROR(INDEX('ORDER FORM'!$I$96:$L$125,MATCH(CONCATENATE(E981,F981),'ORDER FORM'!$A$96:A$125,0),MATCH(G981,'ORDER FORM'!$I$119:$L$119,0)),\"\"))","v":""},{"$f":"IFERROR(IFERROR(INDEX('ORDER FORM'!N:N,MATCH(IMPORT!E981,'ORDER FORM'!B:B,0)),INDEX('ORDER FORM'!N:N,MATCH(TRIM(IMPORT!E981),'ORDER FORM'!B:B,0))),\"\")","v":""}]
["UPLOADUSD",{"$f":"IF('ORDER FORM'!$O$7=\"\",\"ENTER-PO\",'ORDER FORM'!$O$7)","v":"ENTER-PO"},"2021 Spring/Summer",{"$f":"IF('ORDER FORM'!$O$9=\"\",TODAY(),'ORDER FORM'!$O$9)","v":"2023-11-02"},710638,"823","L","2","610306143433",{"$f":"IF(IFERROR(INDEX('ORDER FORM'!$I$96:$L$125,MATCH(CONCATENATE(E982,F982),'ORDER FORM'!$A$96:$A$125,0),MATCH(G982,'ORDER FORM'!$I$119:$L$119,0)),\"\")=0,\"\",IFERROR(INDEX('ORDER FORM'!$I$96:$L$125,MATCH(CONCATENATE(E982,F982),'ORDER FORM'!$A$96:A$125,0),MATCH(G982,'ORDER FORM'!$I$119:$L$119,0)),\"\"))","v":""},{"$f":"IFERROR(IFERROR(INDEX('ORDER FORM'!N:N,MATCH(IMPORT!E982,'ORDER FORM'!B:B,0)),INDEX('ORDER FORM'!N:N,MATCH(TRIM(IMPORT!E982),'ORDER FORM'!B:B,0))),\"\")","v":""}]
["UPLOADUSD",{"$f":"IF('ORDER FORM'!$O$7=\"\",\"ENTER-PO\",'ORDER FORM'!$O$7)","v":"ENTER-PO"},"2021 Spring/Summer",{"$f":"IF('ORDER FORM'!$O$9=\"\",TODAY(),'ORDER FORM'!$O$9)","v":"2023-11-02"},710639,"044","S","2","610306139351",{"$f":"IF(IFERROR(INDEX('ORDER FORM'!$I$96:$L$125,MATCH(CONCATENATE(E983,F983),'ORDER FORM'!$A$96:$A$125,0),MATCH(G983,'ORDER FORM'!$I$119:$L$119,0)),\"\")=0,\"\",IFERROR(INDEX('ORDER FORM'!$I$96:$L$125,MATCH(CONCATENATE(E983,F983),'ORDER FORM'!$A$96:A$125,0),MATCH(G983,'ORDER FORM'!$I$119:$L$119,0)),\"\"))","v":""},{"$f":"IFERROR(IFERROR(INDEX('ORDER FORM'!N:N,MATCH(IMPORT!E983,'ORDER FORM'!B:B,0)),INDEX('ORDER FORM'!N:N,MATCH(TRIM(IMPORT!E983),'ORDER FORM'!B:B,0))),\"\")","v":""}]
["UPLOADUSD",{"$f":"IF('ORDER FORM'!$O$7=\"\",\"ENTER-PO\",'ORDER FORM'!$O$7)","v":"ENTER-PO"},"2021 Spring/Summer",{"$f":"IF('ORDER FORM'!$O$9=\"\",TODAY(),'ORDER FORM'!$O$9)","v":"2023-11-02"},710639,"044","M","2","610306139368",{"$f":"IF(IFERROR(INDEX('ORDER FORM'!$I$96:$L$125,MATCH(CONCATENATE(E984,F984),'ORDER FORM'!$A$96:$A$125,0),MATCH(G984,'ORDER FORM'!$I$119:$L$119,0)),\"\")=0,\"\",IFERROR(INDEX('ORDER FORM'!$I$96:$L$125,MATCH(CONCATENATE(E984,F984),'ORDER FORM'!$A$96:A$125,0),MATCH(G984,'ORDER FORM'!$I$119:$L$119,0)),\"\"))","v":""},{"$f":"IFERROR(IFERROR(INDEX('ORDER FORM'!N:N,MATCH(IMPORT!E984,'ORDER FORM'!B:B,0)),INDEX('ORDER FORM'!N:N,MATCH(TRIM(IMPORT!E984),'ORDER FORM'!B:B,0))),\"\")","v":""}]
["UPLOADUSD",{"$f":"IF('ORDER FORM'!$O$7=\"\",\"ENTER-PO\",'ORDER FORM'!$O$7)","v":"ENTER-PO"},"2021 Spring/Summer",{"$f":"IF('ORDER FORM'!$O$9=\"\",TODAY(),'ORDER FORM'!$O$9)","v":"2023-11-02"},710639,"044","L","2","610306139375",{"$f":"IF(IFERROR(INDEX('ORDER FORM'!$I$96:$L$125,MATCH(CONCATENATE(E985,F985),'ORDER FORM'!$A$96:$A$125,0),MATCH(G985,'ORDER FORM'!$I$119:$L$119,0)),\"\")=0,\"\",IFERROR(INDEX('ORDER FORM'!$I$96:$L$125,MATCH(CONCATENATE(E985,F985),'ORDER FORM'!$A$96:A$125,0),MATCH(G985,'ORDER FORM'!$I$119:$L$119,0)),\"\"))","v":""},{"$f":"IFERROR(IFERROR(INDEX('ORDER FORM'!N:N,MATCH(IMPORT!E985,'ORDER FORM'!B:B,0)),INDEX('ORDER FORM'!N:N,MATCH(TRIM(IMPORT!E985),'ORDER FORM'!B:B,0))),\"\")","v":""}]
["UPLOADUSD",{"$f":"IF('ORDER FORM'!$O$7=\"\",\"ENTER-PO\",'ORDER FORM'!$O$7)","v":"ENTER-PO"},"2021 Spring/Summer",{"$f":"IF('ORDER FORM'!$O$9=\"\",TODAY(),'ORDER FORM'!$O$9)","v":"2023-11-02"},710639,"046","S","2","610306139382",{"$f":"IF(IFERROR(INDEX('ORDER FORM'!$I$96:$L$125,MATCH(CONCATENATE(E986,F986),'ORDER FORM'!$A$96:$A$125,0),MATCH(G986,'ORDER FORM'!$I$119:$L$119,0)),\"\")=0,\"\",IFERROR(INDEX('ORDER FORM'!$I$96:$L$125,MATCH(CONCATENATE(E986,F986),'ORDER FORM'!$A$96:A$125,0),MATCH(G986,'ORDER FORM'!$I$119:$L$119,0)),\"\"))","v":""},{"$f":"IFERROR(IFERROR(INDEX('ORDER FORM'!N:N,MATCH(IMPORT!E986,'ORDER FORM'!B:B,0)),INDEX('ORDER FORM'!N:N,MATCH(TRIM(IMPORT!E986),'ORDER FORM'!B:B,0))),\"\")","v":""}]
["UPLOADUSD",{"$f":"IF('ORDER FORM'!$O$7=\"\",\"ENTER-PO\",'ORDER FORM'!$O$7)","v":"ENTER-PO"},"2021 Spring/Summer",{"$f":"IF('ORDER FORM'!$O$9=\"\",TODAY(),'ORDER FORM'!$O$9)","v":"2023-11-02"},710639,"046","M","2","610306139399",{"$f":"IF(IFERROR(INDEX('ORDER FORM'!$I$96:$L$125,MATCH(CONCATENATE(E987,F987),'ORDER FORM'!$A$96:$A$125,0),MATCH(G987,'ORDER FORM'!$I$119:$L$119,0)),\"\")=0,\"\",IFERROR(INDEX('ORDER FORM'!$I$96:$L$125,MATCH(CONCATENATE(E987,F987),'ORDER FORM'!$A$96:A$125,0),MATCH(G987,'ORDER FORM'!$I$119:$L$119,0)),\"\"))","v":""},{"$f":"IFERROR(IFERROR(INDEX('ORDER FORM'!N:N,MATCH(IMPORT!E987,'ORDER FORM'!B:B,0)),INDEX('ORDER FORM'!N:N,MATCH(TRIM(IMPORT!E987),'ORDER FORM'!B:B,0))),\"\")","v":""}]
["UPLOADUSD",{"$f":"IF('ORDER FORM'!$O$7=\"\",\"ENTER-PO\",'ORDER FORM'!$O$7)","v":"ENTER-PO"},"2021 Spring/Summer",{"$f":"IF('ORDER FORM'!$O$9=\"\",TODAY(),'ORDER FORM'!$O$9)","v":"2023-11-02"},710639,"046","L","2","610306139405",{"$f":"IF(IFERROR(INDEX('ORDER FORM'!$I$96:$L$125,MATCH(CONCATENATE(E988,F988),'ORDER FORM'!$A$96:$A$125,0),MATCH(G988,'ORDER FORM'!$I$119:$L$119,0)),\"\")=0,\"\",IFERROR(INDEX('ORDER FORM'!$I$96:$L$125,MATCH(CONCATENATE(E988,F988),'ORDER FORM'!$A$96:A$125,0),MATCH(G988,'ORDER FORM'!$I$119:$L$119,0)),\"\"))","v":""},{"$f":"IFERROR(IFERROR(INDEX('ORDER FORM'!N:N,MATCH(IMPORT!E988,'ORDER FORM'!B:B,0)),INDEX('ORDER FORM'!N:N,MATCH(TRIM(IMPORT!E988),'ORDER FORM'!B:B,0))),\"\")","v":""}]
["UPLOADUSD",{"$f":"IF('ORDER FORM'!$O$7=\"\",\"ENTER-PO\",'ORDER FORM'!$O$7)","v":"ENTER-PO"},"2021 Spring/Summer",{"$f":"IF('ORDER FORM'!$O$9=\"\",TODAY(),'ORDER FORM'!$O$9)","v":"2023-11-02"},710640,"035","S","2","610306140241",{"$f":"IF(IFERROR(INDEX('ORDER FORM'!$I$96:$L$125,MATCH(CONCATENATE(E989,F989),'ORDER FORM'!$A$96:$A$125,0),MATCH(G989,'ORDER FORM'!$I$119:$L$119,0)),\"\")=0,\"\",IFERROR(INDEX('ORDER FORM'!$I$96:$L$125,MATCH(CONCATENATE(E989,F989),'ORDER FORM'!$A$96:A$125,0),MATCH(G989,'ORDER FORM'!$I$119:$L$119,0)),\"\"))","v":""},{"$f":"IFERROR(IFERROR(INDEX('ORDER FORM'!N:N,MATCH(IMPORT!E989,'ORDER FORM'!B:B,0)),INDEX('ORDER FORM'!N:N,MATCH(TRIM(IMPORT!E989),'ORDER FORM'!B:B,0))),\"\")","v":""}]
["UPLOADUSD",{"$f":"IF('ORDER FORM'!$O$7=\"\",\"ENTER-PO\",'ORDER FORM'!$O$7)","v":"ENTER-PO"},"2021 Spring/Summer",{"$f":"IF('ORDER FORM'!$O$9=\"\",TODAY(),'ORDER FORM'!$O$9)","v":"2023-11-02"},710640,"035","M","2","610306140258",{"$f":"IF(IFERROR(INDEX('ORDER FORM'!$I$96:$L$125,MATCH(CONCATENATE(E990,F990),'ORDER FORM'!$A$96:$A$125,0),MATCH(G990,'ORDER FORM'!$I$119:$L$119,0)),\"\")=0,\"\",IFERROR(INDEX('ORDER FORM'!$I$96:$L$125,MATCH(CONCATENATE(E990,F990),'ORDER FORM'!$A$96:A$125,0),MATCH(G990,'ORDER FORM'!$I$119:$L$119,0)),\"\"))","v":""},{"$f":"IFERROR(IFERROR(INDEX('ORDER FORM'!N:N,MATCH(IMPORT!E990,'ORDER FORM'!B:B,0)),INDEX('ORDER FORM'!N:N,MATCH(TRIM(IMPORT!E990),'ORDER FORM'!B:B,0))),\"\")","v":""}]
["UPLOADUSD",{"$f":"IF('ORDER FORM'!$O$7=\"\",\"ENTER-PO\",'ORDER FORM'!$O$7)","v":"ENTER-PO"},"2021 Spring/Summer",{"$f":"IF('ORDER FORM'!$O$9=\"\",TODAY(),'ORDER FORM'!$O$9)","v":"2023-11-02"},710640,"035","L","2","610306140265",{"$f":"IF(IFERROR(INDEX('ORDER FORM'!$I$96:$L$125,MATCH(CONCATENATE(E991,F991),'ORDER FORM'!$A$96:$A$125,0),MATCH(G991,'ORDER FORM'!$I$119:$L$119,0)),\"\")=0,\"\",IFERROR(INDEX('ORDER FORM'!$I$96:$L$125,MATCH(CONCATENATE(E991,F991),'ORDER FORM'!$A$96:A$125,0),MATCH(G991,'ORDER FORM'!$I$119:$L$119,0)),\"\"))","v":""},{"$f":"IFERROR(IFERROR(INDEX('ORDER FORM'!N:N,MATCH(IMPORT!E991,'ORDER FORM'!B:B,0)),INDEX('ORDER FORM'!N:N,MATCH(TRIM(IMPORT!E991),'ORDER FORM'!B:B,0))),\"\")","v":""}]
["UPLOADUSD",{"$f":"IF('ORDER FORM'!$O$7=\"\",\"ENTER-PO\",'ORDER FORM'!$O$7)","v":"ENTER-PO"},"2021 Spring/Summer",{"$f":"IF('ORDER FORM'!$O$9=\"\",TODAY(),'ORDER FORM'!$O$9)","v":"2023-11-02"},710641,"040","S","2","610306139184",{"$f":"IF(IFERROR(INDEX('ORDER FORM'!$I$96:$L$125,MATCH(CONCATENATE(E992,F992),'ORDER FORM'!$A$96:$A$125,0),MATCH(G992,'ORDER FORM'!$I$119:$L$119,0)),\"\")=0,\"\",IFERROR(INDEX('ORDER FORM'!$I$96:$L$125,MATCH(CONCATENATE(E992,F992),'ORDER FORM'!$A$96:A$125,0),MATCH(G992,'ORDER FORM'!$I$119:$L$119,0)),\"\"))","v":""},{"$f":"IFERROR(IFERROR(INDEX('ORDER FORM'!N:N,MATCH(IMPORT!E992,'ORDER FORM'!B:B,0)),INDEX('ORDER FORM'!N:N,MATCH(TRIM(IMPORT!E992),'ORDER FORM'!B:B,0))),\"\")","v":""}]
["UPLOADUSD",{"$f":"IF('ORDER FORM'!$O$7=\"\",\"ENTER-PO\",'ORDER FORM'!$O$7)","v":"ENTER-PO"},"2021 Spring/Summer",{"$f":"IF('ORDER FORM'!$O$9=\"\",TODAY(),'ORDER FORM'!$O$9)","v":"2023-11-02"},710641,"040","M","2","610306139191",{"$f":"IF(IFERROR(INDEX('ORDER FORM'!$I$96:$L$125,MATCH(CONCATENATE(E993,F993),'ORDER FORM'!$A$96:$A$125,0),MATCH(G993,'ORDER FORM'!$I$119:$L$119,0)),\"\")=0,\"\",IFERROR(INDEX('ORDER FORM'!$I$96:$L$125,MATCH(CONCATENATE(E993,F993),'ORDER FORM'!$A$96:A$125,0),MATCH(G993,'ORDER FORM'!$I$119:$L$119,0)),\"\"))","v":""},{"$f":"IFERROR(IFERROR(INDEX('ORDER FORM'!N:N,MATCH(IMPORT!E993,'ORDER FORM'!B:B,0)),INDEX('ORDER FORM'!N:N,MATCH(TRIM(IMPORT!E993),'ORDER FORM'!B:B,0))),\"\")","v":""}]
["UPLOADUSD",{"$f":"IF('ORDER FORM'!$O$7=\"\",\"ENTER-PO\",'ORDER FORM'!$O$7)","v":"ENTER-PO"},"2021 Spring/Summer",{"$f":"IF('ORDER FORM'!$O$9=\"\",TODAY(),'ORDER FORM'!$O$9)","v":"2023-11-02"},710641,"040","L","2","610306139207",{"$f":"IF(IFERROR(INDEX('ORDER FORM'!$I$96:$L$125,MATCH(CONCATENATE(E994,F994),'ORDER FORM'!$A$96:$A$125,0),MATCH(G994,'ORDER FORM'!$I$119:$L$119,0)),\"\")=0,\"\",IFERROR(INDEX('ORDER FORM'!$I$96:$L$125,MATCH(CONCATENATE(E994,F994),'ORDER FORM'!$A$96:A$125,0),MATCH(G994,'ORDER FORM'!$I$119:$L$119,0)),\"\"))","v":""},{"$f":"IFERROR(IFERROR(INDEX('ORDER FORM'!N:N,MATCH(IMPORT!E994,'ORDER FORM'!B:B,0)),INDEX('ORDER FORM'!N:N,MATCH(TRIM(IMPORT!E994),'ORDER FORM'!B:B,0))),\"\")","v":""}]
["UPLOADUSD",{"$f":"IF('ORDER FORM'!$O$7=\"\",\"ENTER-PO\",'ORDER FORM'!$O$7)","v":"ENTER-PO"},"2021 Spring/Summer",{"$f":"IF('ORDER FORM'!$O$9=\"\",TODAY(),'ORDER FORM'!$O$9)","v":"2023-11-02"},710641,"141","S","2","610306143853",{"$f":"IF(IFERROR(INDEX('ORDER FORM'!$I$96:$L$125,MATCH(CONCATENATE(E995,F995),'ORDER FORM'!$A$96:$A$125,0),MATCH(G995,'ORDER FORM'!$I$119:$L$119,0)),\"\")=0,\"\",IFERROR(INDEX('ORDER FORM'!$I$96:$L$125,MATCH(CONCATENATE(E995,F995),'ORDER FORM'!$A$96:A$125,0),MATCH(G995,'ORDER FORM'!$I$119:$L$119,0)),\"\"))","v":""},{"$f":"IFERROR(IFERROR(INDEX('ORDER FORM'!N:N,MATCH(IMPORT!E995,'ORDER FORM'!B:B,0)),INDEX('ORDER FORM'!N:N,MATCH(TRIM(IMPORT!E995),'ORDER FORM'!B:B,0))),\"\")","v":""}]
["UPLOADUSD",{"$f":"IF('ORDER FORM'!$O$7=\"\",\"ENTER-PO\",'ORDER FORM'!$O$7)","v":"ENTER-PO"},"2021 Spring/Summer",{"$f":"IF('ORDER FORM'!$O$9=\"\",TODAY(),'ORDER FORM'!$O$9)","v":"2023-11-02"},710641,"141","M","2","610306143860",{"$f":"IF(IFERROR(INDEX('ORDER FORM'!$I$96:$L$125,MATCH(CONCATENATE(E996,F996),'ORDER FORM'!$A$96:$A$125,0),MATCH(G996,'ORDER FORM'!$I$119:$L$119,0)),\"\")=0,\"\",IFERROR(INDEX('ORDER FORM'!$I$96:$L$125,MATCH(CONCATENATE(E996,F996),'ORDER FORM'!$A$96:A$125,0),MATCH(G996,'ORDER FORM'!$I$119:$L$119,0)),\"\"))","v":""},{"$f":"IFERROR(IFERROR(INDEX('ORDER FORM'!N:N,MATCH(IMPORT!E996,'ORDER FORM'!B:B,0)),INDEX('ORDER FORM'!N:N,MATCH(TRIM(IMPORT!E996),'ORDER FORM'!B:B,0))),\"\")","v":""}]
["UPLOADUSD",{"$f":"IF('ORDER FORM'!$O$7=\"\",\"ENTER-PO\",'ORDER FORM'!$O$7)","v":"ENTER-PO"},"2021 Spring/Summer",{"$f":"IF('ORDER FORM'!$O$9=\"\",TODAY(),'ORDER FORM'!$O$9)","v":"2023-11-02"},710641,"141","L","2","610306143877",{"$f":"IF(IFERROR(INDEX('ORDER FORM'!$I$96:$L$125,MATCH(CONCATENATE(E997,F997),'ORDER FORM'!$A$96:$A$125,0),MATCH(G997,'ORDER FORM'!$I$119:$L$119,0)),\"\")=0,\"\",IFERROR(INDEX('ORDER FORM'!$I$96:$L$125,MATCH(CONCATENATE(E997,F997),'ORDER FORM'!$A$96:A$125,0),MATCH(G997,'ORDER FORM'!$I$119:$L$119,0)),\"\"))","v":""},{"$f":"IFERROR(IFERROR(INDEX('ORDER FORM'!N:N,MATCH(IMPORT!E997,'ORDER FORM'!B:B,0)),INDEX('ORDER FORM'!N:N,MATCH(TRIM(IMPORT!E997),'ORDER FORM'!B:B,0))),\"\")","v":""}]
["UPLOADUSD",{"$f":"IF('ORDER FORM'!$O$7=\"\",\"ENTER-PO\",'ORDER FORM'!$O$7)","v":"ENTER-PO"},"2021 Spring/Summer",{"$f":"IF('ORDER FORM'!$O$9=\"\",TODAY(),'ORDER FORM'!$O$9)","v":"2023-11-02"},710641,"351","S","2","610306139245",{"$f":"IF(IFERROR(INDEX('ORDER FORM'!$I$96:$L$125,MATCH(CONCATENATE(E998,F998),'ORDER FORM'!$A$96:$A$125,0),MATCH(G998,'ORDER FORM'!$I$119:$L$119,0)),\"\")=0,\"\",IFERROR(INDEX('ORDER FORM'!$I$96:$L$125,MATCH(CONCATENATE(E998,F998),'ORDER FORM'!$A$96:A$125,0),MATCH(G998,'ORDER FORM'!$I$119:$L$119,0)),\"\"))","v":""},{"$f":"IFERROR(IFERROR(INDEX('ORDER FORM'!N:N,MATCH(IMPORT!E998,'ORDER FORM'!B:B,0)),INDEX('ORDER FORM'!N:N,MATCH(TRIM(IMPORT!E998),'ORDER FORM'!B:B,0))),\"\")","v":""}]
["UPLOADUSD",{"$f":"IF('ORDER FORM'!$O$7=\"\",\"ENTER-PO\",'ORDER FORM'!$O$7)","v":"ENTER-PO"},"2021 Spring/Summer",{"$f":"IF('ORDER FORM'!$O$9=\"\",TODAY(),'ORDER FORM'!$O$9)","v":"2023-11-02"},710641,"351","M","2","610306139252",{"$f":"IF(IFERROR(INDEX('ORDER FORM'!$I$96:$L$125,MATCH(CONCATENATE(E999,F999),'ORDER FORM'!$A$96:$A$125,0),MATCH(G999,'ORDER FORM'!$I$119:$L$119,0)),\"\")=0,\"\",IFERROR(INDEX('ORDER FORM'!$I$96:$L$125,MATCH(CONCATENATE(E999,F999),'ORDER FORM'!$A$96:A$125,0),MATCH(G999,'ORDER FORM'!$I$119:$L$119,0)),\"\"))","v":""},{"$f":"IFERROR(IFERROR(INDEX('ORDER FORM'!N:N,MATCH(IMPORT!E999,'ORDER FORM'!B:B,0)),INDEX('ORDER FORM'!N:N,MATCH(TRIM(IMPORT!E999),'ORDER FORM'!B:B,0))),\"\")","v":""}]
["UPLOADUSD",{"$f":"IF('ORDER FORM'!$O$7=\"\",\"ENTER-PO\",'ORDER FORM'!$O$7)","v":"ENTER-PO"},"2021 Spring/Summer",{"$f":"IF('ORDER FORM'!$O$9=\"\",TODAY(),'ORDER FORM'!$O$9)","v":"2023-11-02"},710641,"351","L","2","610306139269",{"$f":"IF(IFERROR(INDEX('ORDER FORM'!$I$96:$L$125,MATCH(CONCATENATE(E1000,F1000),'ORDER FORM'!$A$96:$A$125,0),MATCH(G1000,'ORDER FORM'!$I$119:$L$119,0)),\"\")=0,\"\",IFERROR(INDEX('ORDER FORM'!$I$96:$L$125,MATCH(CONCATENATE(E1000,F1000),'ORDER FORM'!$A$96:A$125,0),MATCH(G1000,'ORDER FORM'!$I$119:$L$119,0)),\"\"))","v":""},{"$f":"IFERROR(IFERROR(INDEX('ORDER FORM'!N:N,MATCH(IMPORT!E1000,'ORDER FORM'!B:B,0)),INDEX('ORDER FORM'!N:N,MATCH(TRIM(IMPORT!E1000),'ORDER FORM'!B:B,0))),\"\")","v":""}]
["UPLOADUSD",{"$f":"IF('ORDER FORM'!$O$7=\"\",\"ENTER-PO\",'ORDER FORM'!$O$7)","v":"ENTER-PO"},"2021 Spring/Summer",{"$f":"IF('ORDER FORM'!$O$9=\"\",TODAY(),'ORDER FORM'!$O$9)","v":"2023-11-02"},710644,"352","S","2","610306136138",{"$f":"IF(IFERROR(INDEX('ORDER FORM'!$I$96:$L$125,MATCH(CONCATENATE(E1001,F1001),'ORDER FORM'!$A$96:$A$125,0),MATCH(G1001,'ORDER FORM'!$I$119:$L$119,0)),\"\")=0,\"\",IFERROR(INDEX('ORDER FORM'!$I$96:$L$125,MATCH(CONCATENATE(E1001,F1001),'ORDER FORM'!$A$96:A$125,0),MATCH(G1001,'ORDER FORM'!$I$119:$L$119,0)),\"\"))","v":""},{"$f":"IFERROR(IFERROR(INDEX('ORDER FORM'!N:N,MATCH(IMPORT!E1001,'ORDER FORM'!B:B,0)),INDEX('ORDER FORM'!N:N,MATCH(TRIM(IMPORT!E1001),'ORDER FORM'!B:B,0))),\"\")","v":{"v":14,"d":"14.00"}}]
["UPLOADUSD",{"$f":"IF('ORDER FORM'!$O$7=\"\",\"ENTER-PO\",'ORDER FORM'!$O$7)","v":"ENTER-PO"},"2021 Spring/Summer",{"$f":"IF('ORDER FORM'!$O$9=\"\",TODAY(),'ORDER FORM'!$O$9)","v":"2023-11-02"},710644,"352","M","2","610306136145",{"$f":"IF(IFERROR(INDEX('ORDER FORM'!$I$96:$L$125,MATCH(CONCATENATE(E1002,F1002),'ORDER FORM'!$A$96:$A$125,0),MATCH(G1002,'ORDER FORM'!$I$119:$L$119,0)),\"\")=0,\"\",IFERROR(INDEX('ORDER FORM'!$I$96:$L$125,MATCH(CONCATENATE(E1002,F1002),'ORDER FORM'!$A$96:A$125,0),MATCH(G1002,'ORDER FORM'!$I$119:$L$119,0)),\"\"))","v":""},{"$f":"IFERROR(IFERROR(INDEX('ORDER FORM'!N:N,MATCH(IMPORT!E1002,'ORDER FORM'!B:B,0)),INDEX('ORDER FORM'!N:N,MATCH(TRIM(IMPORT!E1002),'ORDER FORM'!B:B,0))),\"\")","v":{"v":14,"d":"14.00"}}]
["UPLOADUSD",{"$f":"IF('ORDER FORM'!$O$7=\"\",\"ENTER-PO\",'ORDER FORM'!$O$7)","v":"ENTER-PO"},"2021 Spring/Summer",{"$f":"IF('ORDER FORM'!$O$9=\"\",TODAY(),'ORDER FORM'!$O$9)","v":"2023-11-02"},710644,"352","L","2","610306136152",{"$f":"IF(IFERROR(INDEX('ORDER FORM'!$I$96:$L$125,MATCH(CONCATENATE(E1003,F1003),'ORDER FORM'!$A$96:$A$125,0),MATCH(G1003,'ORDER FORM'!$I$119:$L$119,0)),\"\")=0,\"\",IFERROR(INDEX('ORDER FORM'!$I$96:$L$125,MATCH(CONCATENATE(E1003,F1003),'ORDER FORM'!$A$96:A$125,0),MATCH(G1003,'ORDER FORM'!$I$119:$L$119,0)),\"\"))","v":""},{"$f":"IFERROR(IFERROR(INDEX('ORDER FORM'!N:N,MATCH(IMPORT!E1003,'ORDER FORM'!B:B,0)),INDEX('ORDER FORM'!N:N,MATCH(TRIM(IMPORT!E1003),'ORDER FORM'!B:B,0))),\"\")","v":{"v":14,"d":"14.00"}}]
["UPLOADUSD",{"$f":"IF('ORDER FORM'!$O$7=\"\",\"ENTER-PO\",'ORDER FORM'!$O$7)","v":"ENTER-PO"},"2021 Spring/Summer",{"$f":"IF('ORDER FORM'!$O$9=\"\",TODAY(),'ORDER FORM'!$O$9)","v":"2023-11-02"},710644,"401","S","2","610306136169",{"$f":"IF(IFERROR(INDEX('ORDER FORM'!$I$96:$L$125,MATCH(CONCATENATE(E1004,F1004),'ORDER FORM'!$A$96:$A$125,0),MATCH(G1004,'ORDER FORM'!$I$119:$L$119,0)),\"\")=0,\"\",IFERROR(INDEX('ORDER FORM'!$I$96:$L$125,MATCH(CONCATENATE(E1004,F1004),'ORDER FORM'!$A$96:A$125,0),MATCH(G1004,'ORDER FORM'!$I$119:$L$119,0)),\"\"))","v":""},{"$f":"IFERROR(IFERROR(INDEX('ORDER FORM'!N:N,MATCH(IMPORT!E1004,'ORDER FORM'!B:B,0)),INDEX('ORDER FORM'!N:N,MATCH(TRIM(IMPORT!E1004),'ORDER FORM'!B:B,0))),\"\")","v":{"v":14,"d":"14.00"}}]
["UPLOADUSD",{"$f":"IF('ORDER FORM'!$O$7=\"\",\"ENTER-PO\",'ORDER FORM'!$O$7)","v":"ENTER-PO"},"2021 Spring/Summer",{"$f":"IF('ORDER FORM'!$O$9=\"\",TODAY(),'ORDER FORM'!$O$9)","v":"2023-11-02"},710644,"401","M","2","610306136176",{"$f":"IF(IFERROR(INDEX('ORDER FORM'!$I$96:$L$125,MATCH(CONCATENATE(E1005,F1005),'ORDER FORM'!$A$96:$A$125,0),MATCH(G1005,'ORDER FORM'!$I$119:$L$119,0)),\"\")=0,\"\",IFERROR(INDEX('ORDER FORM'!$I$96:$L$125,MATCH(CONCATENATE(E1005,F1005),'ORDER FORM'!$A$96:A$125,0),MATCH(G1005,'ORDER FORM'!$I$119:$L$119,0)),\"\"))","v":""},{"$f":"IFERROR(IFERROR(INDEX('ORDER FORM'!N:N,MATCH(IMPORT!E1005,'ORDER FORM'!B:B,0)),INDEX('ORDER FORM'!N:N,MATCH(TRIM(IMPORT!E1005),'ORDER FORM'!B:B,0))),\"\")","v":{"v":14,"d":"14.00"}}]
["UPLOADUSD",{"$f":"IF('ORDER FORM'!$O$7=\"\",\"ENTER-PO\",'ORDER FORM'!$O$7)","v":"ENTER-PO"},"2021 Spring/Summer",{"$f":"IF('ORDER FORM'!$O$9=\"\",TODAY(),'ORDER FORM'!$O$9)","v":"2023-11-02"},710644,"401","L","2","610306136183",{"$f":"IF(IFERROR(INDEX('ORDER FORM'!$I$96:$L$125,MATCH(CONCATENATE(E1006,F1006),'ORDER FORM'!$A$96:$A$125,0),MATCH(G1006,'ORDER FORM'!$I$119:$L$119,0)),\"\")=0,\"\",IFERROR(INDEX('ORDER FORM'!$I$96:$L$125,MATCH(CONCATENATE(E1006,F1006),'ORDER FORM'!$A$96:A$125,0),MATCH(G1006,'ORDER FORM'!$I$119:$L$119,0)),\"\"))","v":""},{"$f":"IFERROR(IFERROR(INDEX('ORDER FORM'!N:N,MATCH(IMPORT!E1006,'ORDER FORM'!B:B,0)),INDEX('ORDER FORM'!N:N,MATCH(TRIM(IMPORT!E1006),'ORDER FORM'!B:B,0))),\"\")","v":{"v":14,"d":"14.00"}}]
["UPLOADUSD",{"$f":"IF('ORDER FORM'!$O$7=\"\",\"ENTER-PO\",'ORDER FORM'!$O$7)","v":"ENTER-PO"},"2021 Spring/Summer",{"$f":"IF('ORDER FORM'!$O$9=\"\",TODAY(),'ORDER FORM'!$O$9)","v":"2023-11-02"},710644,"809","S","2","610306136190",{"$f":"IF(IFERROR(INDEX('ORDER FORM'!$I$96:$L$125,MATCH(CONCATENATE(E1007,F1007),'ORDER FORM'!$A$96:$A$125,0),MATCH(G1007,'ORDER FORM'!$I$119:$L$119,0)),\"\")=0,\"\",IFERROR(INDEX('ORDER FORM'!$I$96:$L$125,MATCH(CONCATENATE(E1007,F1007),'ORDER FORM'!$A$96:A$125,0),MATCH(G1007,'ORDER FORM'!$I$119:$L$119,0)),\"\"))","v":""},{"$f":"IFERROR(IFERROR(INDEX('ORDER FORM'!N:N,MATCH(IMPORT!E1007,'ORDER FORM'!B:B,0)),INDEX('ORDER FORM'!N:N,MATCH(TRIM(IMPORT!E1007),'ORDER FORM'!B:B,0))),\"\")","v":{"v":14,"d":"14.00"}}]
["UPLOADUSD",{"$f":"IF('ORDER FORM'!$O$7=\"\",\"ENTER-PO\",'ORDER FORM'!$O$7)","v":"ENTER-PO"},"2021 Spring/Summer",{"$f":"IF('ORDER FORM'!$O$9=\"\",TODAY(),'ORDER FORM'!$O$9)","v":"2023-11-02"},710644,"809","M","2","610306136206",{"$f":"IF(IFERROR(INDEX('ORDER FORM'!$I$96:$L$125,MATCH(CONCATENATE(E1008,F1008),'ORDER FORM'!$A$96:$A$125,0),MATCH(G1008,'ORDER FORM'!$I$119:$L$119,0)),\"\")=0,\"\",IFERROR(INDEX('ORDER FORM'!$I$96:$L$125,MATCH(CONCATENATE(E1008,F1008),'ORDER FORM'!$A$96:A$125,0),MATCH(G1008,'ORDER FORM'!$I$119:$L$119,0)),\"\"))","v":""},{"$f":"IFERROR(IFERROR(INDEX('ORDER FORM'!N:N,MATCH(IMPORT!E1008,'ORDER FORM'!B:B,0)),INDEX('ORDER FORM'!N:N,MATCH(TRIM(IMPORT!E1008),'ORDER FORM'!B:B,0))),\"\")","v":{"v":14,"d":"14.00"}}]
["UPLOADUSD",{"$f":"IF('ORDER FORM'!$O$7=\"\",\"ENTER-PO\",'ORDER FORM'!$O$7)","v":"ENTER-PO"},"2021 Spring/Summer",{"$f":"IF('ORDER FORM'!$O$9=\"\",TODAY(),'ORDER FORM'!$O$9)","v":"2023-11-02"},710644,"809","L","2","610306136213",{"$f":"IF(IFERROR(INDEX('ORDER FORM'!$I$96:$L$125,MATCH(CONCATENATE(E1009,F1009),'ORDER FORM'!$A$96:$A$125,0),MATCH(G1009,'ORDER FORM'!$I$119:$L$119,0)),\"\")=0,\"\",IFERROR(INDEX('ORDER FORM'!$I$96:$L$125,MATCH(CONCATENATE(E1009,F1009),'ORDER FORM'!$A$96:A$125,0),MATCH(G1009,'ORDER FORM'!$I$119:$L$119,0)),\"\"))","v":""},{"$f":"IFERROR(IFERROR(INDEX('ORDER FORM'!N:N,MATCH(IMPORT!E1009,'ORDER FORM'!B:B,0)),INDEX('ORDER FORM'!N:N,MATCH(TRIM(IMPORT!E1009),'ORDER FORM'!B:B,0))),\"\")","v":{"v":14,"d":"14.00"}}]
["UPLOADUSD",{"$f":"IF('ORDER FORM'!$O$7=\"\",\"ENTER-PO\",'ORDER FORM'!$O$7)","v":"ENTER-PO"},"2021 Spring/Summer",{"$f":"IF('ORDER FORM'!$O$9=\"\",TODAY(),'ORDER FORM'!$O$9)","v":"2023-11-02"},710652,"016","S","2","610306136534",{"$f":"IF(IFERROR(INDEX('ORDER FORM'!$I$96:$L$125,MATCH(CONCATENATE(E1010,F1010),'ORDER FORM'!$A$96:$A$125,0),MATCH(G1010,'ORDER FORM'!$I$119:$L$119,0)),\"\")=0,\"\",IFERROR(INDEX('ORDER FORM'!$I$96:$L$125,MATCH(CONCATENATE(E1010,F1010),'ORDER FORM'!$A$96:A$125,0),MATCH(G1010,'ORDER FORM'!$I$119:$L$119,0)),\"\"))","v":""},{"$f":"IFERROR(IFERROR(INDEX('ORDER FORM'!N:N,MATCH(IMPORT!E1010,'ORDER FORM'!B:B,0)),INDEX('ORDER FORM'!N:N,MATCH(TRIM(IMPORT!E1010),'ORDER FORM'!B:B,0))),\"\")","v":{"v":13.5,"d":"13.50"}}]
["UPLOADUSD",{"$f":"IF('ORDER FORM'!$O$7=\"\",\"ENTER-PO\",'ORDER FORM'!$O$7)","v":"ENTER-PO"},"2021 Spring/Summer",{"$f":"IF('ORDER FORM'!$O$9=\"\",TODAY(),'ORDER FORM'!$O$9)","v":"2023-11-02"},710652,"016","M","2","610306136541",{"$f":"IF(IFERROR(INDEX('ORDER FORM'!$I$96:$L$125,MATCH(CONCATENATE(E1011,F1011),'ORDER FORM'!$A$96:$A$125,0),MATCH(G1011,'ORDER FORM'!$I$119:$L$119,0)),\"\")=0,\"\",IFERROR(INDEX('ORDER FORM'!$I$96:$L$125,MATCH(CONCATENATE(E1011,F1011),'ORDER FORM'!$A$96:A$125,0),MATCH(G1011,'ORDER FORM'!$I$119:$L$119,0)),\"\"))","v":""},{"$f":"IFERROR(IFERROR(INDEX('ORDER FORM'!N:N,MATCH(IMPORT!E1011,'ORDER FORM'!B:B,0)),INDEX('ORDER FORM'!N:N,MATCH(TRIM(IMPORT!E1011),'ORDER FORM'!B:B,0))),\"\")","v":{"v":13.5,"d":"13.50"}}]
["UPLOADUSD",{"$f":"IF('ORDER FORM'!$O$7=\"\",\"ENTER-PO\",'ORDER FORM'!$O$7)","v":"ENTER-PO"},"2021 Spring/Summer",{"$f":"IF('ORDER FORM'!$O$9=\"\",TODAY(),'ORDER FORM'!$O$9)","v":"2023-11-02"},710652,"016","L","2","610306136558",{"$f":"IF(IFERROR(INDEX('ORDER FORM'!$I$96:$L$125,MATCH(CONCATENATE(E1012,F1012),'ORDER FORM'!$A$96:$A$125,0),MATCH(G1012,'ORDER FORM'!$I$119:$L$119,0)),\"\")=0,\"\",IFERROR(INDEX('ORDER FORM'!$I$96:$L$125,MATCH(CONCATENATE(E1012,F1012),'ORDER FORM'!$A$96:A$125,0),MATCH(G1012,'ORDER FORM'!$I$119:$L$119,0)),\"\"))","v":""},{"$f":"IFERROR(IFERROR(INDEX('ORDER FORM'!N:N,MATCH(IMPORT!E1012,'ORDER FORM'!B:B,0)),INDEX('ORDER FORM'!N:N,MATCH(TRIM(IMPORT!E1012),'ORDER FORM'!B:B,0))),\"\")","v":{"v":13.5,"d":"13.50"}}]
["UPLOADUSD",{"$f":"IF('ORDER FORM'!$O$7=\"\",\"ENTER-PO\",'ORDER FORM'!$O$7)","v":"ENTER-PO"},"2021 Spring/Summer",{"$f":"IF('ORDER FORM'!$O$9=\"\",TODAY(),'ORDER FORM'!$O$9)","v":"2023-11-02"},710652,"120","S","2","610306142566",{"$f":"IF(IFERROR(INDEX('ORDER FORM'!$I$96:$L$125,MATCH(CONCATENATE(E1013,F1013),'ORDER FORM'!$A$96:$A$125,0),MATCH(G1013,'ORDER FORM'!$I$119:$L$119,0)),\"\")=0,\"\",IFERROR(INDEX('ORDER FORM'!$I$96:$L$125,MATCH(CONCATENATE(E1013,F1013),'ORDER FORM'!$A$96:A$125,0),MATCH(G1013,'ORDER FORM'!$I$119:$L$119,0)),\"\"))","v":""},{"$f":"IFERROR(IFERROR(INDEX('ORDER FORM'!N:N,MATCH(IMPORT!E1013,'ORDER FORM'!B:B,0)),INDEX('ORDER FORM'!N:N,MATCH(TRIM(IMPORT!E1013),'ORDER FORM'!B:B,0))),\"\")","v":{"v":13.5,"d":"13.50"}}]
["UPLOADUSD",{"$f":"IF('ORDER FORM'!$O$7=\"\",\"ENTER-PO\",'ORDER FORM'!$O$7)","v":"ENTER-PO"},"2021 Spring/Summer",{"$f":"IF('ORDER FORM'!$O$9=\"\",TODAY(),'ORDER FORM'!$O$9)","v":"2023-11-02"},710652,"120","M","2","610306142573",{"$f":"IF(IFERROR(INDEX('ORDER FORM'!$I$96:$L$125,MATCH(CONCATENATE(E1014,F1014),'ORDER FORM'!$A$96:$A$125,0),MATCH(G1014,'ORDER FORM'!$I$119:$L$119,0)),\"\")=0,\"\",IFERROR(INDEX('ORDER FORM'!$I$96:$L$125,MATCH(CONCATENATE(E1014,F1014),'ORDER FORM'!$A$96:A$125,0),MATCH(G1014,'ORDER FORM'!$I$119:$L$119,0)),\"\"))","v":""},{"$f":"IFERROR(IFERROR(INDEX('ORDER FORM'!N:N,MATCH(IMPORT!E1014,'ORDER FORM'!B:B,0)),INDEX('ORDER FORM'!N:N,MATCH(TRIM(IMPORT!E1014),'ORDER FORM'!B:B,0))),\"\")","v":{"v":13.5,"d":"13.50"}}]
["UPLOADUSD",{"$f":"IF('ORDER FORM'!$O$7=\"\",\"ENTER-PO\",'ORDER FORM'!$O$7)","v":"ENTER-PO"},"2021 Spring/Summer",{"$f":"IF('ORDER FORM'!$O$9=\"\",TODAY(),'ORDER FORM'!$O$9)","v":"2023-11-02"},710652,"120","L","2","610306142580",{"$f":"IF(IFERROR(INDEX('ORDER FORM'!$I$96:$L$125,MATCH(CONCATENATE(E1015,F1015),'ORDER FORM'!$A$96:$A$125,0),MATCH(G1015,'ORDER FORM'!$I$119:$L$119,0)),\"\")=0,\"\",IFERROR(INDEX('ORDER FORM'!$I$96:$L$125,MATCH(CONCATENATE(E1015,F1015),'ORDER FORM'!$A$96:A$125,0),MATCH(G1015,'ORDER FORM'!$I$119:$L$119,0)),\"\"))","v":""},{"$f":"IFERROR(IFERROR(INDEX('ORDER FORM'!N:N,MATCH(IMPORT!E1015,'ORDER FORM'!B:B,0)),INDEX('ORDER FORM'!N:N,MATCH(TRIM(IMPORT!E1015),'ORDER FORM'!B:B,0))),\"\")","v":{"v":13.5,"d":"13.50"}}]
["UPLOADUSD",{"$f":"IF('ORDER FORM'!$O$7=\"\",\"ENTER-PO\",'ORDER FORM'!$O$7)","v":"ENTER-PO"},"2021 Spring/Summer",{"$f":"IF('ORDER FORM'!$O$9=\"\",TODAY(),'ORDER FORM'!$O$9)","v":"2023-11-02"},710652,"370","S","2","610306136565",{"$f":"IF(IFERROR(INDEX('ORDER FORM'!$I$96:$L$125,MATCH(CONCATENATE(E1016,F1016),'ORDER FORM'!$A$96:$A$125,0),MATCH(G1016,'ORDER FORM'!$I$119:$L$119,0)),\"\")=0,\"\",IFERROR(INDEX('ORDER FORM'!$I$96:$L$125,MATCH(CONCATENATE(E1016,F1016),'ORDER FORM'!$A$96:A$125,0),MATCH(G1016,'ORDER FORM'!$I$119:$L$119,0)),\"\"))","v":""},{"$f":"IFERROR(IFERROR(INDEX('ORDER FORM'!N:N,MATCH(IMPORT!E1016,'ORDER FORM'!B:B,0)),INDEX('ORDER FORM'!N:N,MATCH(TRIM(IMPORT!E1016),'ORDER FORM'!B:B,0))),\"\")","v":{"v":13.5,"d":"13.50"}}]
["UPLOADUSD",{"$f":"IF('ORDER FORM'!$O$7=\"\",\"ENTER-PO\",'ORDER FORM'!$O$7)","v":"ENTER-PO"},"2021 Spring/Summer",{"$f":"IF('ORDER FORM'!$O$9=\"\",TODAY(),'ORDER FORM'!$O$9)","v":"2023-11-02"},710652,"370","M","2","610306136572",{"$f":"IF(IFERROR(INDEX('ORDER FORM'!$I$96:$L$125,MATCH(CONCATENATE(E1017,F1017),'ORDER FORM'!$A$96:$A$125,0),MATCH(G1017,'ORDER FORM'!$I$119:$L$119,0)),\"\")=0,\"\",IFERROR(INDEX('ORDER FORM'!$I$96:$L$125,MATCH(CONCATENATE(E1017,F1017),'ORDER FORM'!$A$96:A$125,0),MATCH(G1017,'ORDER FORM'!$I$119:$L$119,0)),\"\"))","v":""},{"$f":"IFERROR(IFERROR(INDEX('ORDER FORM'!N:N,MATCH(IMPORT!E1017,'ORDER FORM'!B:B,0)),INDEX('ORDER FORM'!N:N,MATCH(TRIM(IMPORT!E1017),'ORDER FORM'!B:B,0))),\"\")","v":{"v":13.5,"d":"13.50"}}]
["UPLOADUSD",{"$f":"IF('ORDER FORM'!$O$7=\"\",\"ENTER-PO\",'ORDER FORM'!$O$7)","v":"ENTER-PO"},"2021 Spring/Summer",{"$f":"IF('ORDER FORM'!$O$9=\"\",TODAY(),'ORDER FORM'!$O$9)","v":"2023-11-02"},710652,"370","L","2","610306136589",{"$f":"IF(IFERROR(INDEX('ORDER FORM'!$I$96:$L$125,MATCH(CONCATENATE(E1018,F1018),'ORDER FORM'!$A$96:$A$125,0),MATCH(G1018,'ORDER FORM'!$I$119:$L$119,0)),\"\")=0,\"\",IFERROR(INDEX('ORDER FORM'!$I$96:$L$125,MATCH(CONCATENATE(E1018,F1018),'ORDER FORM'!$A$96:A$125,0),MATCH(G1018,'ORDER FORM'!$I$119:$L$119,0)),\"\"))","v":""},{"$f":"IFERROR(IFERROR(INDEX('ORDER FORM'!N:N,MATCH(IMPORT!E1018,'ORDER FORM'!B:B,0)),INDEX('ORDER FORM'!N:N,MATCH(TRIM(IMPORT!E1018),'ORDER FORM'!B:B,0))),\"\")","v":{"v":13.5,"d":"13.50"}}]
["UPLOADUSD",{"$f":"IF('ORDER FORM'!$O$7=\"\",\"ENTER-PO\",'ORDER FORM'!$O$7)","v":"ENTER-PO"},"2021 Spring/Summer",{"$f":"IF('ORDER FORM'!$O$9=\"\",TODAY(),'ORDER FORM'!$O$9)","v":"2023-11-02"},710126,"157","S","2",610306144492,{"$f":"IF(IFERROR(INDEX('ORDER FORM'!$I$96:$L$125,MATCH(CONCATENATE(E1019,F1019),'ORDER FORM'!$A$96:$A$125,0),MATCH(G1019,'ORDER FORM'!$I$119:$L$119,0)),\"\")=0,\"\",IFERROR(INDEX('ORDER FORM'!$I$96:$L$125,MATCH(CONCATENATE(E1019,F1019),'ORDER FORM'!$A$96:A$125,0),MATCH(G1019,'ORDER FORM'!$I$119:$L$119,0)),\"\"))","v":""},{"$f":"IFERROR(IFERROR(INDEX('ORDER FORM'!N:N,MATCH(IMPORT!E1019,'ORDER FORM'!B:B,0)),INDEX('ORDER FORM'!N:N,MATCH(TRIM(IMPORT!E1019),'ORDER FORM'!B:B,0))),\"\")","v":""}]
["UPLOADUSD",{"$f":"IF('ORDER FORM'!$O$7=\"\",\"ENTER-PO\",'ORDER FORM'!$O$7)","v":"ENTER-PO"},"2021 Spring/Summer",{"$f":"IF('ORDER FORM'!$O$9=\"\",TODAY(),'ORDER FORM'!$O$9)","v":"2023-11-02"},710126,"157","M","2",610306144508,{"$f":"IF(IFERROR(INDEX('ORDER FORM'!$I$96:$L$125,MATCH(CONCATENATE(E1020,F1020),'ORDER FORM'!$A$96:$A$125,0),MATCH(G1020,'ORDER FORM'!$I$119:$L$119,0)),\"\")=0,\"\",IFERROR(INDEX('ORDER FORM'!$I$96:$L$125,MATCH(CONCATENATE(E1020,F1020),'ORDER FORM'!$A$96:A$125,0),MATCH(G1020,'ORDER FORM'!$I$119:$L$119,0)),\"\"))","v":""},{"$f":"IFERROR(IFERROR(INDEX('ORDER FORM'!N:N,MATCH(IMPORT!E1020,'ORDER FORM'!B:B,0)),INDEX('ORDER FORM'!N:N,MATCH(TRIM(IMPORT!E1020),'ORDER FORM'!B:B,0))),\"\")","v":""}]
["UPLOADUSD",{"$f":"IF('ORDER FORM'!$O$7=\"\",\"ENTER-PO\",'ORDER FORM'!$O$7)","v":"ENTER-PO"},"2021 Spring/Summer",{"$f":"IF('ORDER FORM'!$O$9=\"\",TODAY(),'ORDER FORM'!$O$9)","v":"2023-11-02"},710126,"157","L","2",610306144515,{"$f":"IF(IFERROR(INDEX('ORDER FORM'!$I$96:$L$125,MATCH(CONCATENATE(E1021,F1021),'ORDER FORM'!$A$96:$A$125,0),MATCH(G1021,'ORDER FORM'!$I$119:$L$119,0)),\"\")=0,\"\",IFERROR(INDEX('ORDER FORM'!$I$96:$L$125,MATCH(CONCATENATE(E1021,F1021),'ORDER FORM'!$A$96:A$125,0),MATCH(G1021,'ORDER FORM'!$I$119:$L$119,0)),\"\"))","v":""},{"$f":"IFERROR(IFERROR(INDEX('ORDER FORM'!N:N,MATCH(IMPORT!E1021,'ORDER FORM'!B:B,0)),INDEX('ORDER FORM'!N:N,MATCH(TRIM(IMPORT!E1021),'ORDER FORM'!B:B,0))),\"\")","v":""}]
["UPLOADUSD",{"$f":"IF('ORDER FORM'!$O$7=\"\",\"ENTER-PO\",'ORDER FORM'!$O$7)","v":"ENTER-PO"},"2021 Spring/Summer",{"$f":"IF('ORDER FORM'!$O$9=\"\",TODAY(),'ORDER FORM'!$O$9)","v":"2023-11-02"},710127,"007","S","2",610306144522,{"$f":"IF(IFERROR(INDEX('ORDER FORM'!$I$96:$L$125,MATCH(CONCATENATE(E1022,F1022),'ORDER FORM'!$A$96:$A$125,0),MATCH(G1022,'ORDER FORM'!$I$119:$L$119,0)),\"\")=0,\"\",IFERROR(INDEX('ORDER FORM'!$I$96:$L$125,MATCH(CONCATENATE(E1022,F1022),'ORDER FORM'!$A$96:A$125,0),MATCH(G1022,'ORDER FORM'!$I$119:$L$119,0)),\"\"))","v":""},{"$f":"IFERROR(IFERROR(INDEX('ORDER FORM'!N:N,MATCH(IMPORT!E1022,'ORDER FORM'!B:B,0)),INDEX('ORDER FORM'!N:N,MATCH(TRIM(IMPORT!E1022),'ORDER FORM'!B:B,0))),\"\")","v":""}]
["UPLOADUSD",{"$f":"IF('ORDER FORM'!$O$7=\"\",\"ENTER-PO\",'ORDER FORM'!$O$7)","v":"ENTER-PO"},"2021 Spring/Summer",{"$f":"IF('ORDER FORM'!$O$9=\"\",TODAY(),'ORDER FORM'!$O$9)","v":"2023-11-02"},710127,"007","M","2",610306144539,{"$f":"IF(IFERROR(INDEX('ORDER FORM'!$I$96:$L$125,MATCH(CONCATENATE(E1023,F1023),'ORDER FORM'!$A$96:$A$125,0),MATCH(G1023,'ORDER FORM'!$I$119:$L$119,0)),\"\")=0,\"\",IFERROR(INDEX('ORDER FORM'!$I$96:$L$125,MATCH(CONCATENATE(E1023,F1023),'ORDER FORM'!$A$96:A$125,0),MATCH(G1023,'ORDER FORM'!$I$119:$L$119,0)),\"\"))","v":""},{"$f":"IFERROR(IFERROR(INDEX('ORDER FORM'!N:N,MATCH(IMPORT!E1023,'ORDER FORM'!B:B,0)),INDEX('ORDER FORM'!N:N,MATCH(TRIM(IMPORT!E1023),'ORDER FORM'!B:B,0))),\"\")","v":""}]
["UPLOADUSD",{"$f":"IF('ORDER FORM'!$O$7=\"\",\"ENTER-PO\",'ORDER FORM'!$O$7)","v":"ENTER-PO"},"2021 Spring/Summer",{"$f":"IF('ORDER FORM'!$O$9=\"\",TODAY(),'ORDER FORM'!$O$9)","v":"2023-11-02"},710127,"007","L","2",610306144546,{"$f":"IF(IFERROR(INDEX('ORDER FORM'!$I$96:$L$125,MATCH(CONCATENATE(E1024,F1024),'ORDER FORM'!$A$96:$A$125,0),MATCH(G1024,'ORDER FORM'!$I$119:$L$119,0)),\"\")=0,\"\",IFERROR(INDEX('ORDER FORM'!$I$96:$L$125,MATCH(CONCATENATE(E1024,F1024),'ORDER FORM'!$A$96:A$125,0),MATCH(G1024,'ORDER FORM'!$I$119:$L$119,0)),\"\"))","v":""},{"$f":"IFERROR(IFERROR(INDEX('ORDER FORM'!N:N,MATCH(IMPORT!E1024,'ORDER FORM'!B:B,0)),INDEX('ORDER FORM'!N:N,MATCH(TRIM(IMPORT!E1024),'ORDER FORM'!B:B,0))),\"\")","v":""}]
["UPLOADUSD",{"$f":"IF('ORDER FORM'!$O$7=\"\",\"ENTER-PO\",'ORDER FORM'!$O$7)","v":"ENTER-PO"},"2021 Spring/Summer",{"$f":"IF('ORDER FORM'!$O$9=\"\",TODAY(),'ORDER FORM'!$O$9)","v":"2023-11-02"},710128,"158","S","2",610306144553,{"$f":"IF(IFERROR(INDEX('ORDER FORM'!$I$96:$L$125,MATCH(CONCATENATE(E1025,F1025),'ORDER FORM'!$A$96:$A$125,0),MATCH(G1025,'ORDER FORM'!$I$119:$L$119,0)),\"\")=0,\"\",IFERROR(INDEX('ORDER FORM'!$I$96:$L$125,MATCH(CONCATENATE(E1025,F1025),'ORDER FORM'!$A$96:A$125,0),MATCH(G1025,'ORDER FORM'!$I$119:$L$119,0)),\"\"))","v":""},{"$f":"IFERROR(IFERROR(INDEX('ORDER FORM'!N:N,MATCH(IMPORT!E1025,'ORDER FORM'!B:B,0)),INDEX('ORDER FORM'!N:N,MATCH(TRIM(IMPORT!E1025),'ORDER FORM'!B:B,0))),\"\")","v":""}]
["UPLOADUSD",{"$f":"IF('ORDER FORM'!$O$7=\"\",\"ENTER-PO\",'ORDER FORM'!$O$7)","v":"ENTER-PO"},"2021 Spring/Summer",{"$f":"IF('ORDER FORM'!$O$9=\"\",TODAY(),'ORDER FORM'!$O$9)","v":"2023-11-02"},710128,"158","M","2",610306144560,{"$f":"IF(IFERROR(INDEX('ORDER FORM'!$I$96:$L$125,MATCH(CONCATENATE(E1026,F1026),'ORDER FORM'!$A$96:$A$125,0),MATCH(G1026,'ORDER FORM'!$I$119:$L$119,0)),\"\")=0,\"\",IFERROR(INDEX('ORDER FORM'!$I$96:$L$125,MATCH(CONCATENATE(E1026,F1026),'ORDER FORM'!$A$96:A$125,0),MATCH(G1026,'ORDER FORM'!$I$119:$L$119,0)),\"\"))","v":""},{"$f":"IFERROR(IFERROR(INDEX('ORDER FORM'!N:N,MATCH(IMPORT!E1026,'ORDER FORM'!B:B,0)),INDEX('ORDER FORM'!N:N,MATCH(TRIM(IMPORT!E1026),'ORDER FORM'!B:B,0))),\"\")","v":""}]
["UPLOADUSD",{"$f":"IF('ORDER FORM'!$O$7=\"\",\"ENTER-PO\",'ORDER FORM'!$O$7)","v":"ENTER-PO"},"2021 Spring/Summer",{"$f":"IF('ORDER FORM'!$O$9=\"\",TODAY(),'ORDER FORM'!$O$9)","v":"2023-11-02"},710128,"158","L","2",610306144577,{"$f":"IF(IFERROR(INDEX('ORDER FORM'!$I$96:$L$125,MATCH(CONCATENATE(E1027,F1027),'ORDER FORM'!$A$96:$A$125,0),MATCH(G1027,'ORDER FORM'!$I$119:$L$119,0)),\"\")=0,\"\",IFERROR(INDEX('ORDER FORM'!$I$96:$L$125,MATCH(CONCATENATE(E1027,F1027),'ORDER FORM'!$A$96:A$125,0),MATCH(G1027,'ORDER FORM'!$I$119:$L$119,0)),\"\"))","v":""},{"$f":"IFERROR(IFERROR(INDEX('ORDER FORM'!N:N,MATCH(IMPORT!E1027,'ORDER FORM'!B:B,0)),INDEX('ORDER FORM'!N:N,MATCH(TRIM(IMPORT!E1027),'ORDER FORM'!B:B,0))),\"\")","v":""}]
["UPLOADUSD",{"$f":"IF('ORDER FORM'!$O$7=\"\",\"ENTER-PO\",'ORDER FORM'!$O$7)","v":"ENTER-PO"},"2021 Spring/Summer",{"$f":"IF('ORDER FORM'!$O$9=\"\",TODAY(),'ORDER FORM'!$O$9)","v":"2023-11-02"},710690,"303","S","2","610306138613",{"$f":"IF(IFERROR(INDEX('ORDER FORM'!$I$96:$L$125,MATCH(CONCATENATE(E1028,F1028),'ORDER FORM'!$A$96:$A$125,0),MATCH(G1028,'ORDER FORM'!$I$119:$L$119,0)),\"\")=0,\"\",IFERROR(INDEX('ORDER FORM'!$I$96:$L$125,MATCH(CONCATENATE(E1028,F1028),'ORDER FORM'!$A$96:A$125,0),MATCH(G1028,'ORDER FORM'!$I$119:$L$119,0)),\"\"))","v":""},{"$f":"IFERROR(IFERROR(INDEX('ORDER FORM'!N:N,MATCH(IMPORT!E1028,'ORDER FORM'!B:B,0)),INDEX('ORDER FORM'!N:N,MATCH(TRIM(IMPORT!E1028),'ORDER FORM'!B:B,0))),\"\")","v":""}]
["UPLOADUSD",{"$f":"IF('ORDER FORM'!$O$7=\"\",\"ENTER-PO\",'ORDER FORM'!$O$7)","v":"ENTER-PO"},"2021 Spring/Summer",{"$f":"IF('ORDER FORM'!$O$9=\"\",TODAY(),'ORDER FORM'!$O$9)","v":"2023-11-02"},710690,"303","M","2","610306138620",{"$f":"IF(IFERROR(INDEX('ORDER FORM'!$I$96:$L$125,MATCH(CONCATENATE(E1029,F1029),'ORDER FORM'!$A$96:$A$125,0),MATCH(G1029,'ORDER FORM'!$I$119:$L$119,0)),\"\")=0,\"\",IFERROR(INDEX('ORDER FORM'!$I$96:$L$125,MATCH(CONCATENATE(E1029,F1029),'ORDER FORM'!$A$96:A$125,0),MATCH(G1029,'ORDER FORM'!$I$119:$L$119,0)),\"\"))","v":""},{"$f":"IFERROR(IFERROR(INDEX('ORDER FORM'!N:N,MATCH(IMPORT!E1029,'ORDER FORM'!B:B,0)),INDEX('ORDER FORM'!N:N,MATCH(TRIM(IMPORT!E1029),'ORDER FORM'!B:B,0))),\"\")","v":""}]
["UPLOADUSD",{"$f":"IF('ORDER FORM'!$O$7=\"\",\"ENTER-PO\",'ORDER FORM'!$O$7)","v":"ENTER-PO"},"2021 Spring/Summer",{"$f":"IF('ORDER FORM'!$O$9=\"\",TODAY(),'ORDER FORM'!$O$9)","v":"2023-11-02"},710690,"303","L","2","610306138637",{"$f":"IF(IFERROR(INDEX('ORDER FORM'!$I$96:$L$125,MATCH(CONCATENATE(E1030,F1030),'ORDER FORM'!$A$96:$A$125,0),MATCH(G1030,'ORDER FORM'!$I$119:$L$119,0)),\"\")=0,\"\",IFERROR(INDEX('ORDER FORM'!$I$96:$L$125,MATCH(CONCATENATE(E1030,F1030),'ORDER FORM'!$A$96:A$125,0),MATCH(G1030,'ORDER FORM'!$I$119:$L$119,0)),\"\"))","v":""},{"$f":"IFERROR(IFERROR(INDEX('ORDER FORM'!N:N,MATCH(IMPORT!E1030,'ORDER FORM'!B:B,0)),INDEX('ORDER FORM'!N:N,MATCH(TRIM(IMPORT!E1030),'ORDER FORM'!B:B,0))),\"\")","v":""}]
["UPLOADUSD",{"$f":"IF('ORDER FORM'!$O$7=\"\",\"ENTER-PO\",'ORDER FORM'!$O$7)","v":"ENTER-PO"},"2021 Spring/Summer",{"$f":"IF('ORDER FORM'!$O$9=\"\",TODAY(),'ORDER FORM'!$O$9)","v":"2023-11-02"},710690,"413","S","2","610306138644",{"$f":"IF(IFERROR(INDEX('ORDER FORM'!$I$96:$L$125,MATCH(CONCATENATE(E1031,F1031),'ORDER FORM'!$A$96:$A$125,0),MATCH(G1031,'ORDER FORM'!$I$119:$L$119,0)),\"\")=0,\"\",IFERROR(INDEX('ORDER FORM'!$I$96:$L$125,MATCH(CONCATENATE(E1031,F1031),'ORDER FORM'!$A$96:A$125,0),MATCH(G1031,'ORDER FORM'!$I$119:$L$119,0)),\"\"))","v":""},{"$f":"IFERROR(IFERROR(INDEX('ORDER FORM'!N:N,MATCH(IMPORT!E1031,'ORDER FORM'!B:B,0)),INDEX('ORDER FORM'!N:N,MATCH(TRIM(IMPORT!E1031),'ORDER FORM'!B:B,0))),\"\")","v":""}]
["UPLOADUSD",{"$f":"IF('ORDER FORM'!$O$7=\"\",\"ENTER-PO\",'ORDER FORM'!$O$7)","v":"ENTER-PO"},"2021 Spring/Summer",{"$f":"IF('ORDER FORM'!$O$9=\"\",TODAY(),'ORDER FORM'!$O$9)","v":"2023-11-02"},710690,"413","M","2","610306138651",{"$f":"IF(IFERROR(INDEX('ORDER FORM'!$I$96:$L$125,MATCH(CONCATENATE(E1032,F1032),'ORDER FORM'!$A$96:$A$125,0),MATCH(G1032,'ORDER FORM'!$I$119:$L$119,0)),\"\")=0,\"\",IFERROR(INDEX('ORDER FORM'!$I$96:$L$125,MATCH(CONCATENATE(E1032,F1032),'ORDER FORM'!$A$96:A$125,0),MATCH(G1032,'ORDER FORM'!$I$119:$L$119,0)),\"\"))","v":""},{"$f":"IFERROR(IFERROR(INDEX('ORDER FORM'!N:N,MATCH(IMPORT!E1032,'ORDER FORM'!B:B,0)),INDEX('ORDER FORM'!N:N,MATCH(TRIM(IMPORT!E1032),'ORDER FORM'!B:B,0))),\"\")","v":""}]
["UPLOADUSD",{"$f":"IF('ORDER FORM'!$O$7=\"\",\"ENTER-PO\",'ORDER FORM'!$O$7)","v":"ENTER-PO"},"2021 Spring/Summer",{"$f":"IF('ORDER FORM'!$O$9=\"\",TODAY(),'ORDER FORM'!$O$9)","v":"2023-11-02"},710690,"413","L","2","610306138668",{"$f":"IF(IFERROR(INDEX('ORDER FORM'!$I$96:$L$125,MATCH(CONCATENATE(E1033,F1033),'ORDER FORM'!$A$96:$A$125,0),MATCH(G1033,'ORDER FORM'!$I$119:$L$119,0)),\"\")=0,\"\",IFERROR(INDEX('ORDER FORM'!$I$96:$L$125,MATCH(CONCATENATE(E1033,F1033),'ORDER FORM'!$A$96:A$125,0),MATCH(G1033,'ORDER FORM'!$I$119:$L$119,0)),\"\"))","v":""},{"$f":"IFERROR(IFERROR(INDEX('ORDER FORM'!N:N,MATCH(IMPORT!E1033,'ORDER FORM'!B:B,0)),INDEX('ORDER FORM'!N:N,MATCH(TRIM(IMPORT!E1033),'ORDER FORM'!B:B,0))),\"\")","v":""}]
["UPLOADUSD",{"$f":"IF('ORDER FORM'!$O$7=\"\",\"ENTER-PO\",'ORDER FORM'!$O$7)","v":"ENTER-PO"},"2021 Spring/Summer",{"$f":"IF('ORDER FORM'!$O$9=\"\",TODAY(),'ORDER FORM'!$O$9)","v":"2023-11-02"},710690,"801","S","2","610306148681",{"$f":"IF(IFERROR(INDEX('ORDER FORM'!$I$96:$L$125,MATCH(CONCATENATE(E1034,F1034),'ORDER FORM'!$A$96:$A$125,0),MATCH(G1034,'ORDER FORM'!$I$119:$L$119,0)),\"\")=0,\"\",IFERROR(INDEX('ORDER FORM'!$I$96:$L$125,MATCH(CONCATENATE(E1034,F1034),'ORDER FORM'!$A$96:A$125,0),MATCH(G1034,'ORDER FORM'!$I$119:$L$119,0)),\"\"))","v":""},{"$f":"IFERROR(IFERROR(INDEX('ORDER FORM'!N:N,MATCH(IMPORT!E1034,'ORDER FORM'!B:B,0)),INDEX('ORDER FORM'!N:N,MATCH(TRIM(IMPORT!E1034),'ORDER FORM'!B:B,0))),\"\")","v":""}]
["UPLOADUSD",{"$f":"IF('ORDER FORM'!$O$7=\"\",\"ENTER-PO\",'ORDER FORM'!$O$7)","v":"ENTER-PO"},"2021 Spring/Summer",{"$f":"IF('ORDER FORM'!$O$9=\"\",TODAY(),'ORDER FORM'!$O$9)","v":"2023-11-02"},710690,"801","M","2","610306148698",{"$f":"IF(IFERROR(INDEX('ORDER FORM'!$I$96:$L$125,MATCH(CONCATENATE(E1035,F1035),'ORDER FORM'!$A$96:$A$125,0),MATCH(G1035,'ORDER FORM'!$I$119:$L$119,0)),\"\")=0,\"\",IFERROR(INDEX('ORDER FORM'!$I$96:$L$125,MATCH(CONCATENATE(E1035,F1035),'ORDER FORM'!$A$96:A$125,0),MATCH(G1035,'ORDER FORM'!$I$119:$L$119,0)),\"\"))","v":""},{"$f":"IFERROR(IFERROR(INDEX('ORDER FORM'!N:N,MATCH(IMPORT!E1035,'ORDER FORM'!B:B,0)),INDEX('ORDER FORM'!N:N,MATCH(TRIM(IMPORT!E1035),'ORDER FORM'!B:B,0))),\"\")","v":""}]
["UPLOADUSD",{"$f":"IF('ORDER FORM'!$O$7=\"\",\"ENTER-PO\",'ORDER FORM'!$O$7)","v":"ENTER-PO"},"2021 Spring/Summer",{"$f":"IF('ORDER FORM'!$O$9=\"\",TODAY(),'ORDER FORM'!$O$9)","v":"2023-11-02"},710690,"801","L","2","610306148735",{"$f":"IF(IFERROR(INDEX('ORDER FORM'!$I$96:$L$125,MATCH(CONCATENATE(E1036,F1036),'ORDER FORM'!$A$96:$A$125,0),MATCH(G1036,'ORDER FORM'!$I$119:$L$119,0)),\"\")=0,\"\",IFERROR(INDEX('ORDER FORM'!$I$96:$L$125,MATCH(CONCATENATE(E1036,F1036),'ORDER FORM'!$A$96:A$125,0),MATCH(G1036,'ORDER FORM'!$I$119:$L$119,0)),\"\"))","v":""},{"$f":"IFERROR(IFERROR(INDEX('ORDER FORM'!N:N,MATCH(IMPORT!E1036,'ORDER FORM'!B:B,0)),INDEX('ORDER FORM'!N:N,MATCH(TRIM(IMPORT!E1036),'ORDER FORM'!B:B,0))),\"\")","v":""}]
["UPLOADUSD",{"$f":"IF('ORDER FORM'!$O$7=\"\",\"ENTER-PO\",'ORDER FORM'!$O$7)","v":"ENTER-PO"},"2021 Spring/Summer",{"$f":"IF('ORDER FORM'!$O$9=\"\",TODAY(),'ORDER FORM'!$O$9)","v":"2023-11-02"},710690,"845","S","2","610306138675",{"$f":"IF(IFERROR(INDEX('ORDER FORM'!$I$96:$L$125,MATCH(CONCATENATE(E1037,F1037),'ORDER FORM'!$A$96:$A$125,0),MATCH(G1037,'ORDER FORM'!$I$119:$L$119,0)),\"\")=0,\"\",IFERROR(INDEX('ORDER FORM'!$I$96:$L$125,MATCH(CONCATENATE(E1037,F1037),'ORDER FORM'!$A$96:A$125,0),MATCH(G1037,'ORDER FORM'!$I$119:$L$119,0)),\"\"))","v":""},{"$f":"IFERROR(IFERROR(INDEX('ORDER FORM'!N:N,MATCH(IMPORT!E1037,'ORDER FORM'!B:B,0)),INDEX('ORDER FORM'!N:N,MATCH(TRIM(IMPORT!E1037),'ORDER FORM'!B:B,0))),\"\")","v":""}]
["UPLOADUSD",{"$f":"IF('ORDER FORM'!$O$7=\"\",\"ENTER-PO\",'ORDER FORM'!$O$7)","v":"ENTER-PO"},"2021 Spring/Summer",{"$f":"IF('ORDER FORM'!$O$9=\"\",TODAY(),'ORDER FORM'!$O$9)","v":"2023-11-02"},710690,"845","M","2","610306138682",{"$f":"IF(IFERROR(INDEX('ORDER FORM'!$I$96:$L$125,MATCH(CONCATENATE(E1038,F1038),'ORDER FORM'!$A$96:$A$125,0),MATCH(G1038,'ORDER FORM'!$I$119:$L$119,0)),\"\")=0,\"\",IFERROR(INDEX('ORDER FORM'!$I$96:$L$125,MATCH(CONCATENATE(E1038,F1038),'ORDER FORM'!$A$96:A$125,0),MATCH(G1038,'ORDER FORM'!$I$119:$L$119,0)),\"\"))","v":""},{"$f":"IFERROR(IFERROR(INDEX('ORDER FORM'!N:N,MATCH(IMPORT!E1038,'ORDER FORM'!B:B,0)),INDEX('ORDER FORM'!N:N,MATCH(TRIM(IMPORT!E1038),'ORDER FORM'!B:B,0))),\"\")","v":""}]
["UPLOADUSD",{"$f":"IF('ORDER FORM'!$O$7=\"\",\"ENTER-PO\",'ORDER FORM'!$O$7)","v":"ENTER-PO"},"2021 Spring/Summer",{"$f":"IF('ORDER FORM'!$O$9=\"\",TODAY(),'ORDER FORM'!$O$9)","v":"2023-11-02"},710690,"845","L","2","610306138699",{"$f":"IF(IFERROR(INDEX('ORDER FORM'!$I$96:$L$125,MATCH(CONCATENATE(E1039,F1039),'ORDER FORM'!$A$96:$A$125,0),MATCH(G1039,'ORDER FORM'!$I$119:$L$119,0)),\"\")=0,\"\",IFERROR(INDEX('ORDER FORM'!$I$96:$L$125,MATCH(CONCATENATE(E1039,F1039),'ORDER FORM'!$A$96:A$125,0),MATCH(G1039,'ORDER FORM'!$I$119:$L$119,0)),\"\"))","v":""},{"$f":"IFERROR(IFERROR(INDEX('ORDER FORM'!N:N,MATCH(IMPORT!E1039,'ORDER FORM'!B:B,0)),INDEX('ORDER FORM'!N:N,MATCH(TRIM(IMPORT!E1039),'ORDER FORM'!B:B,0))),\"\")","v":""}]